{"text_format":"1","workbook":"xlsx","n_sheets":11,"sheets":["СОДЕРЖАНИЕ","Исходные данные","План продаж","БДДС","БДР","Баланс","Налоги","Анализ эффективности","Анализ чувствительности NPV","расчет прямых ТЗР","Спровочник"],"not_rendered":{"charts":15,"images":0,"macros":1,"external_links":0,"defined_names":33,"comments":3,"pivot_tables":0},"unopened":[],"bounds":{"document_bytes":16777216,"sheet_cells":100000,"rows_first":2000,"rows_last":500,"rows_between":2000,"halvings":0,"cell_chars":16384,"cell_head_chars":4096},"cells_cut":0,"cells_raw":0,"read":"whole","date_system":"1900"}

{"sheet":"СОДЕРЖАНИЕ","index":0,"n_rows":62,"n_cols":3,"rows_kept":62,"cut":false,"hidden":false,"merged":[]}
["ФИНАНСОВАЯ МОДЕЛЬ МАЛОГО БИЗНЕСА ДЛЯ СИСТЕМЫ НАЛОГООБЛАЖЕНИЯ УСН"]
[]
["№ п/п","Наименование","Примечание"]
[1,"ВВОД ИСХОДНЫХ ДАННЫХ"]
[" 1.1",{"$f":"'Исходные данные'!B3","v":"ИНФОРМАЦИЯ О КОМПАНИИ"}]
[" 1.2",{"$f":"'Исходные данные'!B11","v":"ПРОДУКТОВАЯ ЛИНЕЙКА"}]
[" 1.3",{"$f":"'Исходные данные'!B36","v":"ВОРОНКА ПРОДАЖ, РАСЧЕТ РЕКЛАМНОГО БЮДЖЕТА"}]
[" 1.4",{"$f":"'Исходные данные'!B52","v":"ПЛАН ПРОДАЖ В ЕДИНИЦАХ ИЗМЕРЕНИЯ"}]
[" 1.5",{"$f":"'Исходные данные'!B81","v":"ГРАФИК ВЫХОДА НА ЦЕЛЕВЫЕ ПРОДАЖИ"}]
[" 1.6",{"$f":"'Исходные данные'!B87","v":"ШТАТНОЕ РАСПИСАНИЕ"}]
[" 1.7",{"$f":"'Исходные данные'!B130","v":"УСЛОВНО-ПОСТОЯННЫЕ РАСХОДЫ"}]
[" 1.8",{"$f":"'Исходные данные'!B148","v":"РАСХОДЫ ПО ФРАНШИЗЕ"}]
[" 1.9",{"$f":"'Исходные данные'!B154","v":"ЭКВАЙРИНГ"}]
[" 1.10",{"$f":"'Исходные данные'!B163","v":"ИНВЕСТИЦИОННЫЕ ИЗДЕРЖКИ В НУЛЕВОЙ ПЕРИОД (до старта продаж)"}]
[" 1.11",{"$f":"'Исходные данные'!B204","v":"ИСТОЧНИКИ ФИНАНСИРОВАНИЯ ИНВЕСТИЦИОННОГО ПРОЕКТА"}]
[" 1.12",{"$f":"'Исходные данные'!B218","v":"ОСТАТОК СВОБОДНЫХ ДЕНЕЖНЫХ СРЕДСТВ"}]
[" 1.13",{"$f":"'Исходные данные'!B242","v":"ГРАФИК ПОГАШЕНИЯ КРЕДИТА И ЗАЙМА"}]
[" 1.14",{"$f":"'Исходные данные'!B249","v":"ГРАФИК ИНВЕСТИРОВАНИЯ"}]
[" 1.15",{"$f":"'Исходные данные'!B275","v":"СТАВКИ ДИСКОНТИРОВАНИЯ, СТАВКА РЕИНВЕСТИРОВАНИЯ"}]
[" 1.16",{"$f":"'Исходные данные'!B284","v":"НАЛОГОВОЕ ОКРУЖЕНИЕ"}]
[2,{"$f":"'План продаж'!A1","v":"ПЛАН ПРОДАЖ"}]
[" 2.1",{"$f":"'План продаж'!B3","v":"ВЫРУЧКА ПО МЕСЯЦАМ ЗА 60 МЕСЯЦЕВ"}]
[" 2.2",{"$f":"'План продаж'!B54","v":"ВЫРУЧКА ПО КВАРТАЛАМ ЗА 6 ЛЕТ"}]
[" 2.3",{"$f":"'План продаж'!B104","v":"ВЫРУЧКА ПО ГОДАМ ЗА 6 ЛЕТ"}]
[" 2.4",{"$f":"'План продаж'!$B$152","v":"ПЛАН ПРОДАЖ В ГРАФИКАХ"}]
[3,{"$f":"БДДС!A1","v":"БЮДЖЕТ ДВИЖЕНИЯ ДЕНЕЖНЫХ СРЕДСТВ (БДДС)"}]
[" 3.1",{"$f":"БДДС!A12","v":"Остаток ДС на начало периода"}]
[" 3.2",{"$f":"БДДС!A14","v":"Поступление от операционной деятельности"}]
[" 3.3",{"$f":"БДДС!A15","v":"Операционные расходы"}]
[" 3.4",{"$f":"БДДС!A42","v":"Чистый операционный поток"}]
[" 3.5",{"$f":"БДДС!A44","v":"Финансовые поступления"}]
[" 3.6",{"$f":"БДДС!A49","v":"Финансовые расходы"}]
[" 3.7",{"$f":"БДДС!A54","v":"Чистый финансовый поток"}]
[" 3.8",{"$f":"БДДС!A56","v":"Инвестиционные поступления"}]
[" 3.9",{"$f":"БДДС!A58","v":"Инвестиционные и разовые платежи"}]
[" 3.10",{"$f":"БДДС!A71","v":"Остаток ДС на конец периода"}]
[" 3.11",{"$f":"БДДС!A73","v":"БДДС ПО КВАРТАЛАМ"}]
[" 3.12",{"$f":"БДДС!A94","v":"БДДС ПО ГОДАМ"}]
[" 3.13","ОСТАТОК ДС ПО КВАРТАЛАМ (график)"]
[4,{"$f":"БДР!A1","v":"БЮДЖЕТ ДОХОДОВ И РАСХОДОВ (БДР)"}]
[" 4.1",{"$f":"БДР!A3","v":"БДР ПО МЕСЯЦАМ"}]
[" 4.2",{"$f":"БДР!A148","v":"БДР ПО ГОДАМ И КВАРТАЛАМ"}]
[" 4.3",{"$f":"БДР!A167","v":"СТРУКТУРА РАСХОДОВ"}]
[" 4.4",{"$f":"БДР!A191","v":"ДИНАМИКА ДОХОДОВ И РАСХОДОВ (график)"}]
[5,{"$f":"Баланс!A1","v":"УПРАВЛЕНЧЕСКИЙ БАЛАНС"}]
[" 5.1",{"$f":"Баланс!A3","v":"БАЛАНС ПО МЕСЯЦАМ"}]
[" 5.2",{"$f":"Баланс!A28","v":"БАЛАНС ПО КВАРТАЛАМ"}]
[6,{"$f":"Налоги!A1","v":"ОТЧИСЛЕНИЯ В БЮДЖЕТ"}]
[" 6.1",{"$f":"Налоги!A13","v":"К НАЧИСЛЕНИЮ ЗА ПЕРИОД"}]
[" 6.2",{"$f":"Налоги!A23","v":"К УПЛАТЕ ЗА ПЕРИОД"}]
[7,{"$f":"'Анализ эффективности'!A1","v":"АНАЛИЗ ЭФФЕКТИВНОСТИ"}]
[" 7.1",{"$f":"'Анализ эффективности'!A3","v":"ПОКАЗАТЕЛИ ЭКОНОМИЧЕСКОЙ ЭФФЕКТИВНОСТИ"}]
[" 7.2",{"$f":"'Анализ эффективности'!A31","v":"РАСЧЁТ СРОКОВ ОКУПАЕМОСТИ"}]
[" 7.3",{"$f":"'Анализ эффективности'!A51","v":"ВНУТРЕННЯЯ НОРМА РЕНТАБЕЛЬНОСТИ, ДОХОДНОСТИ (IRR)"}]
[" 7.4",{"$f":"'Анализ эффективности'!A57","v":"МОДИФИЦИРОВАННАЯ ВНУТРЕННЯЯ НОРМА ДОХОДНОСТИ (MIRR)"}]
[" 7.5",{"$f":"'Анализ эффективности'!A67","v":"СРОК ВОЗВРАТА КРЕДИТА"}]
[" 7.6",{"$f":"'Анализ эффективности'!A79","v":"РЕНТАБЕЛЬНОСТЬ ПРОДАЖ"}]
[8,"АНАЛИЗ ЧУВСТВИТЕЛЬНОСТИ NPV"]
[" 8.1",{"$f":"'Анализ чувствительности NPV'!A5","v":"АНАЛИЗ ЧУВСТВИТЕЛЬНОСТИ ЧИСТОГО ПРИВЕДЕННОГО ДОХОДА (NPV) К ЦЕНЕ"}]
[" 8.2",{"$f":"'Анализ чувствительности NPV'!A33","v":"АНАЛИЗ ЧУВСТВИТЕЛЬНОСТИ ЧИСТОГО ПРИВЕДЕННОГО ДОХОДА (NPV) К ОБЪЕМУ ВЫРУЧКИ"}]
[9,{"$f":"'расчет прямых ТЗР'!A1","v":"РАСЧЕТ СУММЫ ЗАКУПКИ ТОВАРА И ТЗР"}]
[10,{"$f":"Спровочник!A1","v":"ТАБЛИЦЫ СПИСКОВ"}]

{"sheet":"Исходные данные","index":1,"n_rows":302,"n_cols":27,"rows_kept":302,"cut":false,"hidden":false,"merged":[[199,0,199,1],[194,3,194,5],[198,3,198,5],[199,3,199,5],[251,0,251,2],[253,0,253,2],[220,1,226,1],[252,0,252,2],[281,0,281,1],[281,3,281,5],[256,0,256,2],[271,0,271,1],[272,0,272,1],[205,4,205,6],[206,4,206,6],[207,4,207,6],[209,4,209,6],[270,0,270,1],[7,2,7,3],[37,1,37,3],[38,1,38,3],[39,1,39,3],[75,4,75,5],[70,4,70,5],[71,4,71,5],[72,4,72,5],[73,4,73,5],[74,4,74,5],[43,1,43,3],[45,1,45,3],[46,1,46,3],[59,4,59,5],[49,1,49,3],[4,0,4,1],[5,0,5,1],[6,0,6,1],[7,0,7,1],[88,4,88,5],[88,6,89,6],[88,7,89,7],[88,2,89,2],[88,3,89,3],[88,0,89,0],[40,1,40,3],[47,1,47,3],[48,1,48,3],[55,4,55,5],[56,4,56,5],[8,0,8,1],[12,0,13,0],[41,1,41,3],[42,1,42,3],[67,4,67,5],[66,4,66,5],[4,2,4,3],[5,2,5,3],[6,2,6,3],[186,7,186,9],[188,3,188,5],[190,3,190,5],[191,3,191,5],[193,3,193,5],[192,3,192,5],[189,3,189,5],[90,4,90,5],[69,4,69,5],[149,3,149,5],[151,3,151,5],[150,3,150,5],[182,7,182,9],[177,7,177,9],[178,7,178,9],[179,7,179,9],[180,7,180,9],[181,7,181,9],[183,7,183,9],[184,7,184,9],[185,7,185,9],[53,25,54,25],[53,1,54,1],[53,3,54,3],[53,6,53,18],[53,4,54,5],[173,7,173,9],[174,7,174,9],[175,7,175,9],[176,7,176,9],[164,7,164,9],[165,7,165,9],[166,7,166,9],[167,7,167,9],[168,7,168,9],[78,0,78,1],[164,0,165,0],[169,7,169,9],[170,7,170,9],[171,7,171,9],[172,7,172,9],[68,4,68,5],[53,24,54,24],[65,4,65,5],[60,4,60,5],[53,0,55,0],[53,2,54,2],[276,3,276,5],[277,3,277,5],[278,3,278,5],[279,3,279,5],[246,0,246,1],[279,0,279,1],[208,4,208,6],[61,4,61,5],[62,4,62,5],[63,4,63,5],[64,4,64,5],[57,4,57,5],[58,4,58,5],[197,3,197,5],[155,0,157,0],[155,1,156,1],[155,2,156,2],[160,0,160,1],[77,0,77,1],[88,1,89,1],[186,0,186,1],[188,0,189,0],[76,0,76,1],[144,0,144,1],[195,3,195,5],[196,3,196,5],[257,0,257,2],[254,0,254,2],[44,1,44,3],[255,0,255,2],[145,0,145,1],[131,1,132,1],[131,0,133,0],[76,4,76,5],[77,4,77,5],[78,4,78,5],[131,2,132,2],[110,0,111,0],[110,1,111,1],[110,2,110,13],[112,2,112,12],[82,0,83,0],[82,1,83,1],[82,2,82,13],[106,0,106,1],[107,0,107,1]]}
["ВВОД ИСХОДНЫХ ДАННЫХ"]
[]
[null,"ИНФОРМАЦИЯ О КОМПАНИИ"]
[]
["Организационно-правовая форма",null,"ИП"]
["Наименование организации",null,"Шаверма (уличный формат)"]
["Сфера деятельности",null,"Общественное питание"]
["Система нологооблажения",null,"УСН доходы"]
["Старт продаж",null,"Май",2021,null,null,null,null,null,null,null,null,null,null,null,null,null,null,null,null,null,null,null,null,{"$f":"CONCATENATE(C9,\" \",D9)","v":"Май 2021"}]
[]
[null,"ПРОДУКТОВАЯ ЛИНЕЙКА"]
[]
["№ п/п","Категория тлвара","Единица измерения","Отпускная цена, руб/ед","Прямые расходы, руб/ед","\nЗакупочная  стоимость товаров","\nТранспортно-заготовительные расходы (ТЗР), %","\nСдельная зарплата gross, %","\nСтраховые отчисления, %","Маржа, %","Торговая наценка, %"]
[null,"Укажите категории товаров которые планируете продавать",null,"Укажите среднюю цену по категориям","формула","Укажите среднюю закупочную цену по категории","Укажите средний процент транспортно-заготовительных расходов","формула","формула","формула","формула"]
[1,"Шаурма","шт",140,{"$f":"F15*(1+G15)+D15*(H15+I15)","v":81.214000000000013},70,0.03,{"$f":"IFERROR($G$108,0)","v":0.05},{"$f":"H15*$C$288","v":1.5100000000000002E-2},{"$f":"(IF(AND(E15<>0,D15<E15),\"проверте отпускную цену\",IFERROR(1-E15/D15,0)))","v":0.41989999999999994},{"$f":"IFERROR(D15/F15-1,0)","v":1},null,null,null,null,null,null,null,null,null,null,null,null,null,{"$f":"IFERROR((G15*F15)/D15,0)","v":1.5000000000000001E-2}]
[{"$f":"A15+1","v":2},"Кофе","шт",100,{"$f":"F16*(1+G16)+D16*(H16+I16)","v":51.96},{"$f":"45","v":45},0.01,0.05,1.5100000000000002E-2,0.48039999999999994,{"$f":"IFERROR(D16/F16-1,0)","v":1.2222222222222223},null,null,null,null,null,null,null,null,null,null,null,null,null,4.5000000000000005E-3]
[{"$f":"A16+1","v":3},"Хот-дог","шт",100,57.01,{"$f":"50","v":50},0.01,0.05,1.5100000000000002E-2,0.42990000000000006,1,null,null,null,null,null,null,null,null,null,null,null,null,null,5.0000000000000001E-3]
[4,"Газированный напиток","шт",60,43.905999999999999,{"$f":"40","v":40},0,0.05,1.5100000000000002E-2,0.26823333333333332,0.5,null,null,null,null,null,null,null,null,null,null,null,null,null,0]
[5,"Чай","шт",40,17.754000000000001,{"$f":"15","v":15},0.01,0.05,1.5100000000000002E-2,0.55614999999999992,1.6666666666666665,null,null,null,null,null,null,null,null,null,null,null,null,null,3.7499999999999999E-3]
[6,null,"шт",0,0,null,null,0.05,1.5100000000000002E-2,0,0,null,null,null,null,null,null,null,null,null,null,null,null,null,0]
[7,null,"шт",0,0,null,null,0.05,1.5100000000000002E-2,0,0,null,null,null,null,null,null,null,null,null,null,null,null,null,0]
[8,null,"шт",0,0,null,null,0.05,1.5100000000000002E-2,0,0,null,null,null,null,null,null,null,null,null,null,null,null,null,0]
[9,null,"шт",0,0,null,null,0.05,1.5100000000000002E-2,0,0,null,null,null,null,null,null,null,null,null,null,null,null,null,0]
[10,null,"шт",0,0,null,null,0.05,1.5100000000000002E-2,0,0,null,null,null,null,null,null,null,null,null,null,null,null,null,0]
[11,null,"шт",0,0,null,null,0.05,1.5100000000000002E-2,0,0,null,null,null,null,null,null,null,null,null,null,null,null,null,0]
[12,null,"шт",0,0,null,null,0.05,1.5100000000000002E-2,0,0,null,null,null,null,null,null,null,null,null,null,null,null,null,0]
[13,null,"шт",0,0,null,null,0.05,1.5100000000000002E-2,0,0,null,null,null,null,null,null,null,null,null,null,null,null,null,0]
[14,null,"шт",0,0,null,null,0.05,1.5100000000000002E-2,0,0,null,null,null,null,null,null,null,null,null,null,null,null,null,0]
[15,null,"шт",0,0,null,null,0.05,1.5100000000000002E-2,0,0,null,null,null,null,null,null,null,null,null,null,null,null,null,0]
[16,null,"шт",0,0,null,null,0.05,1.5100000000000002E-2,0,0,null,null,null,null,null,null,null,null,null,null,null,null,null,0]
[17,null,"шт",0,0,null,null,0.05,1.5100000000000002E-2,0,0,null,null,null,null,null,null,null,null,null,null,null,null,null,0]
[18,null,"шт",0,0,null,null,0.05,1.5100000000000002E-2,0,0,null,null,null,null,null,null,null,null,null,null,null,null,null,0]
[19,null,"шт",0,0,null,null,0.05,1.5100000000000002E-2,0,0,null,null,null,null,null,null,null,null,null,null,null,null,null,0]
[20,null,"шт",0,0,null,null,0.05,1.5100000000000002E-2,0,0,null,null,null,null,null,null,null,null,null,null,null,null,null,0]
[]
[null,"ВОРОНКА ПРОДАЖ, РАСЧЕТ РЕКЛАМНОГО БЮДЖЕТА"]
[]
["№ п/п","Наименование",null,null,"Значение, в месяц","Значение, в день"]
[1,"Показов потенциальным клиентам (количество показов рекламы в соц.сетях, показов объявлений в интернет сервисах, на баннерах и т.д.)",null,null,50000,{"$f":"E39/30","v":1666.6666666666667},null,null,null,null,null,null,null,null,null,null,null,null,null,null,null,null,null,null,{"$f":"E39","v":50000},1,{"$f":"Y39*E46","v":20000000}]
[{"$f":"A39+1","v":2},"Средняя стоимость одного показа, руб.",null,null,1,{"$f":"E40","v":1},null,null,null,null,null,null,null,null,null,null,null,null,null,null,null,null,null,null,{"$f":"E42","v":2500},{"$f":"Y40/Y39","v":0.05},{"$f":"Y40*E46","v":1000000}]
[{"$f":"A40+1","v":3},"Прогнозный процент потенциальных клиентов, которые посетят сайт и (или) в шоурум после просмотра показа (указать долю от показов)",null,null,0.05,{"$f":"E41","v":0.05},null,null,null,null,null,null,null,null,null,null,null,null,null,null,null,null,null,null,{"$f":"E44","v":2250},{"$f":"Y41/Y39","v":4.4999999999999998E-2},{"$f":"Y41*E46","v":900000}]
[4,"Количество потенциальных клиентов, которые посетят сайт и (или) шоурум после просмотра показа",null,null,{"$f":"E41*E39","v":2500},{"$f":"E42/30","v":83.333333333333329}]
[5,"Процент продаж посетителям в месяц (доля от посещений)",null,null,0.9,{"$f":"E43","v":0.9}]
[6,"Прогнозное количество продаж на сайте и (или) в шоуруме в месяц",null,null,{"$f":"E42*E43","v":2250},{"$f":"E44/30","v":75}]
[7,"Конверсия показов",null,null,{"$f":"IFERROR(E44/E39,\"\")","v":4.4999999999999998E-2},{"$f":"E45","v":4.4999999999999998E-2}]
[8,"Прогнозная сумма среднего чека",null,null,400,{"$f":"E46","v":400}]
[9,"Прогнозный среднемесячный объем продаж",null,null,{"$f":"E44*E46","v":900000},{"$f":"E47/30","v":30000}]
[10,"Рекламный бюджет руб/мес",null,null,{"$f":"E40*E39","v":50000},{"$f":"E48/30","v":1666.6666666666667}]
[11,"Рекламный бюджет - доля от выручки",null,null,{"$f":"IFERROR(E48/E47,\"\")","v":5.5555555555555552E-2},{"$f":"IFERROR(F48/F47,\"\")","v":5.5555555555555559E-2}]
[12,"Стоимость привлечения, руб/заказ",null,null,{"$f":"E48/E44","v":22.222222222222221},{"$f":"F48/F44","v":22.222222222222225}]
[]
[null,"ПЛАН ПРОДАЖ В ЕДИНИЦАХ ИЗМЕРЕНИЯ"]
[]
["№ п/п","Наименование продукции (тлвара)","Ед.изм.","Прогнозная доля в продажах за год","Сезонность",null,"Продажи в количестве",null,null,null,null,null,null,null,null,null,null,null,null,null,null,null,null,null,"Код сезонности","Проверка"]
[null,null,null,null,null,null,"Год","Январь","Февраль","Март","Апрель","Май","Июнь","Июль","Август","Сентябрь","Октябрь","Ноябрь","Декабрь"]
[null,null,null,"Укажите доли. Сумма всех долей должна равняться 100%","Выбрать из списка",null,"формула","формула","формула","формула","формула","формула","формула","формула","формула","формула","формула","формула","формула",null,null,null,null,null,"формулы","формула"]
[1,{"$f":"B15","v":"Шаурма"},{"$f":"IF(OR(C15=0,C15=\"\"),\"\",C15)","v":"шт"},0.5,"Равномерно с акцентом на новагодние праздники",null,{"$f":"SUM(H57:S57)","v":38573},{"$f":"IFERROR(ROUND($E$47*$D57/$D15*VLOOKUP($Y57,Спровочник!$A$4:$N$18,3),0),0)","v":3536},{"$f":"IFERROR(ROUND($E$47*$D57/$D15*VLOOKUP($Y57,Спровочник!$A$4:$N$18,4),0),0)","v":2143},{"$f":"IFERROR(ROUND($E$47*$D57/$D15*VLOOKUP($Y57,Спровочник!$A$4:$N$18,5),0),0)","v":2143},{"$f":"IFERROR(ROUND($E$47*$D57/$D15*VLOOKUP($Y57,Спровочник!$A$4:$N$18,6),0),0)","v":2143},{"$f":"IFERROR(ROUND($E$47*$D57/$D15*VLOOKUP($Y57,Спровочник!$A$4:$N$18,7),0),0)","v":2143},{"$f":"IFERROR(ROUND($E$47*$D57/$D15*VLOOKUP($Y57,Спровочник!$A$4:$N$18,8),0),0)","v":2143},{"$f":"IFERROR(ROUND($E$47*$D57/$D15*VLOOKUP($Y57,Спровочник!$A$4:$N$18,9),0),0)","v":2143},{"$f":"IFERROR(ROUND($E$47*$D57/$D15*VLOOKUP($Y57,Спровочник!$A$4:$N$18,10),0),0)","v":2143},{"$f":"IFERROR(ROUND($E$47*$D57/$D15*VLOOKUP($Y57,Спровочник!$A$4:$N$18,11),0),0)","v":2143},{"$f":"IFERROR(ROUND($E$47*$D57/$D15*VLOOKUP($Y57,Спровочник!$A$4:$N$18,12),0),0)","v":2143},{"$f":"IFERROR(ROUND($E$47*$D57/$D15*VLOOKUP($Y57,Спровочник!$A$4:$N$18,13),0),0)","v":4821},{"$f":"IFERROR(ROUND($E$47*$D57/$D15*VLOOKUP($Y57,Спровочник!$A$4:$N$18,14),0),0)","v":10929},null,null,null,null,null,{"$f":"IFERROR(INDEX(Спровочник!$A$4:$A$18,MATCH('Исходные данные'!E57,сезоны,0)),\"\")","v":2},{"$f":"G57-SUM(H57:S57)","v":0}]
[{"$f":"A57+1","v":2},"Кофе","шт",0.25,"Больше зимой чем летом",null,{"$f":"SUM(H58:S58)","v":27000},{"$f":"IFERROR(ROUND($E$47*$D58/$D16*VLOOKUP($Y58,Спровочник!$A$4:$N$18,3),0),0)","v":2700},{"$f":"IFERROR(ROUND($E$47*$D58/$D16*VLOOKUP($Y58,Спровочник!$A$4:$N$18,4),0),0)","v":2700},{"$f":"IFERROR(ROUND($E$47*$D58/$D16*VLOOKUP($Y58,Спровочник!$A$4:$N$18,5),0),0)","v":2250},{"$f":"IFERROR(ROUND($E$47*$D58/$D16*VLOOKUP($Y58,Спровочник!$A$4:$N$18,6),0),0)","v":2250},{"$f":"IFERROR(ROUND($E$47*$D58/$D16*VLOOKUP($Y58,Спровочник!$A$4:$N$18,7),0),0)","v":1980},{"$f":"IFERROR(ROUND($E$47*$D58/$D16*VLOOKUP($Y58,Спровочник!$A$4:$N$18,8),0),0)","v":1980},{"$f":"IFERROR(ROUND($E$47*$D58/$D16*VLOOKUP($Y58,Спровочник!$A$4:$N$18,9),0),0)","v":1980},{"$f":"IFERROR(ROUND($E$47*$D58/$D16*VLOOKUP($Y58,Спровочник!$A$4:$N$18,10),0),0)","v":1980},{"$f":"IFERROR(ROUND($E$47*$D58/$D16*VLOOKUP($Y58,Спровочник!$A$4:$N$18,11),0),0)","v":1980},{"$f":"IFERROR(ROUND($E$47*$D58/$D16*VLOOKUP($Y58,Спровочник!$A$4:$N$18,12),0),0)","v":2250},{"$f":"IFERROR(ROUND($E$47*$D58/$D16*VLOOKUP($Y58,Спровочник!$A$4:$N$18,13),0),0)","v":2250},{"$f":"IFERROR(ROUND($E$47*$D58/$D16*VLOOKUP($Y58,Спровочник!$A$4:$N$18,14),0),0)","v":2700},null,null,null,null,null,{"$f":"IFERROR(INDEX(Спровочник!$A$4:$A$18,MATCH('Исходные данные'!E58,сезоны,0)),\"\")","v":4},0]
[{"$f":"A58+1","v":3},"Хот-дог","шт",0.1,"Равномерно в течении года",null,10800,{"$f":"IFERROR(ROUND($E$47*$D59/$D17*VLOOKUP($Y59,Спровочник!$A$4:$N$18,3),0),0)","v":900},{"$f":"IFERROR(ROUND($E$47*$D59/$D17*VLOOKUP($Y59,Спровочник!$A$4:$N$18,4),0),0)","v":900},{"$f":"IFERROR(ROUND($E$47*$D59/$D17*VLOOKUP($Y59,Спровочник!$A$4:$N$18,5),0),0)","v":900},{"$f":"IFERROR(ROUND($E$47*$D59/$D17*VLOOKUP($Y59,Спровочник!$A$4:$N$18,6),0),0)","v":900},{"$f":"IFERROR(ROUND($E$47*$D59/$D17*VLOOKUP($Y59,Спровочник!$A$4:$N$18,7),0),0)","v":900},{"$f":"IFERROR(ROUND($E$47*$D59/$D17*VLOOKUP($Y59,Спровочник!$A$4:$N$18,8),0),0)","v":900},{"$f":"IFERROR(ROUND($E$47*$D59/$D17*VLOOKUP($Y59,Спровочник!$A$4:$N$18,9),0),0)","v":900},{"$f":"IFERROR(ROUND($E$47*$D59/$D17*VLOOKUP($Y59,Спровочник!$A$4:$N$18,10),0),0)","v":900},{"$f":"IFERROR(ROUND($E$47*$D59/$D17*VLOOKUP($Y59,Спровочник!$A$4:$N$18,11),0),0)","v":900},{"$f":"IFERROR(ROUND($E$47*$D59/$D17*VLOOKUP($Y59,Спровочник!$A$4:$N$18,12),0),0)","v":900},{"$f":"IFERROR(ROUND($E$47*$D59/$D17*VLOOKUP($Y59,Спровочник!$A$4:$N$18,13),0),0)","v":900},{"$f":"IFERROR(ROUND($E$47*$D59/$D17*VLOOKUP($Y59,Спровочник!$A$4:$N$18,14),0),0)","v":900},null,null,null,null,null,{"$f":"IFERROR(INDEX(Спровочник!$A$4:$A$18,MATCH('Исходные данные'!E59,сезоны,0)),\"\")","v":1},0]
[4,"Газированный напиток","шт",0.1,"Больше летом чем зимой",null,18000,{"$f":"IFERROR(ROUND($E$47*$D60/$D18*VLOOKUP($Y60,Спровочник!$A$4:$N$18,3),0),0)","v":1320},{"$f":"IFERROR(ROUND($E$47*$D60/$D18*VLOOKUP($Y60,Спровочник!$A$4:$N$18,4),0),0)","v":1320},{"$f":"IFERROR(ROUND($E$47*$D60/$D18*VLOOKUP($Y60,Спровочник!$A$4:$N$18,5),0),0)","v":1320},{"$f":"IFERROR(ROUND($E$47*$D60/$D18*VLOOKUP($Y60,Спровочник!$A$4:$N$18,6),0),0)","v":1500},{"$f":"IFERROR(ROUND($E$47*$D60/$D18*VLOOKUP($Y60,Спровочник!$A$4:$N$18,7),0),0)","v":1500},{"$f":"IFERROR(ROUND($E$47*$D60/$D18*VLOOKUP($Y60,Спровочник!$A$4:$N$18,8),0),0)","v":1800},{"$f":"IFERROR(ROUND($E$47*$D60/$D18*VLOOKUP($Y60,Спровочник!$A$4:$N$18,9),0),0)","v":1800},{"$f":"IFERROR(ROUND($E$47*$D60/$D18*VLOOKUP($Y60,Спровочник!$A$4:$N$18,10),0),0)","v":1800},{"$f":"IFERROR(ROUND($E$47*$D60/$D18*VLOOKUP($Y60,Спровочник!$A$4:$N$18,11),0),0)","v":1500},{"$f":"IFERROR(ROUND($E$47*$D60/$D18*VLOOKUP($Y60,Спровочник!$A$4:$N$18,12),0),0)","v":1500},{"$f":"IFERROR(ROUND($E$47*$D60/$D18*VLOOKUP($Y60,Спровочник!$A$4:$N$18,13),0),0)","v":1320},{"$f":"IFERROR(ROUND($E$47*$D60/$D18*VLOOKUP($Y60,Спровочник!$A$4:$N$18,14),0),0)","v":1320},null,null,null,null,null,{"$f":"IFERROR(INDEX(Спровочник!$A$4:$A$18,MATCH('Исходные данные'!E60,сезоны,0)),\"\")","v":5},0]
[5,"Чай","шт",0.05,"Равномерно в течении года",null,13500,{"$f":"IFERROR(ROUND($E$47*$D61/$D19*VLOOKUP($Y61,Спровочник!$A$4:$N$18,3),0),0)","v":1125},{"$f":"IFERROR(ROUND($E$47*$D61/$D19*VLOOKUP($Y61,Спровочник!$A$4:$N$18,4),0),0)","v":1125},{"$f":"IFERROR(ROUND($E$47*$D61/$D19*VLOOKUP($Y61,Спровочник!$A$4:$N$18,5),0),0)","v":1125},{"$f":"IFERROR(ROUND($E$47*$D61/$D19*VLOOKUP($Y61,Спровочник!$A$4:$N$18,6),0),0)","v":1125},{"$f":"IFERROR(ROUND($E$47*$D61/$D19*VLOOKUP($Y61,Спровочник!$A$4:$N$18,7),0),0)","v":1125},{"$f":"IFERROR(ROUND($E$47*$D61/$D19*VLOOKUP($Y61,Спровочник!$A$4:$N$18,8),0),0)","v":1125},{"$f":"IFERROR(ROUND($E$47*$D61/$D19*VLOOKUP($Y61,Спровочник!$A$4:$N$18,9),0),0)","v":1125},{"$f":"IFERROR(ROUND($E$47*$D61/$D19*VLOOKUP($Y61,Спровочник!$A$4:$N$18,10),0),0)","v":1125},{"$f":"IFERROR(ROUND($E$47*$D61/$D19*VLOOKUP($Y61,Спровочник!$A$4:$N$18,11),0),0)","v":1125},{"$f":"IFERROR(ROUND($E$47*$D61/$D19*VLOOKUP($Y61,Спровочник!$A$4:$N$18,12),0),0)","v":1125},{"$f":"IFERROR(ROUND($E$47*$D61/$D19*VLOOKUP($Y61,Спровочник!$A$4:$N$18,13),0),0)","v":1125},{"$f":"IFERROR(ROUND($E$47*$D61/$D19*VLOOKUP($Y61,Спровочник!$A$4:$N$18,14),0),0)","v":1125},null,null,null,null,null,{"$f":"IFERROR(INDEX(Спровочник!$A$4:$A$18,MATCH('Исходные данные'!E61,сезоны,0)),\"\")","v":1},0]
[6,0,"шт",null,null,null,0,{"$f":"IFERROR(ROUND($E$47*$D62/$D20*VLOOKUP($Y62,Спровочник!$A$4:$N$18,3),0),0)","v":0},{"$f":"IFERROR(ROUND($E$47*$D62/$D20*VLOOKUP($Y62,Спровочник!$A$4:$N$18,4),0),0)","v":0},{"$f":"IFERROR(ROUND($E$47*$D62/$D20*VLOOKUP($Y62,Спровочник!$A$4:$N$18,5),0),0)","v":0},{"$f":"IFERROR(ROUND($E$47*$D62/$D20*VLOOKUP($Y62,Спровочник!$A$4:$N$18,6),0),0)","v":0},{"$f":"IFERROR(ROUND($E$47*$D62/$D20*VLOOKUP($Y62,Спровочник!$A$4:$N$18,7),0),0)","v":0},{"$f":"IFERROR(ROUND($E$47*$D62/$D20*VLOOKUP($Y62,Спровочник!$A$4:$N$18,8),0),0)","v":0},{"$f":"IFERROR(ROUND($E$47*$D62/$D20*VLOOKUP($Y62,Спровочник!$A$4:$N$18,9),0),0)","v":0},{"$f":"IFERROR(ROUND($E$47*$D62/$D20*VLOOKUP($Y62,Спровочник!$A$4:$N$18,10),0),0)","v":0},{"$f":"IFERROR(ROUND($E$47*$D62/$D20*VLOOKUP($Y62,Спровочник!$A$4:$N$18,11),0),0)","v":0},{"$f":"IFERROR(ROUND($E$47*$D62/$D20*VLOOKUP($Y62,Спровочник!$A$4:$N$18,12),0),0)","v":0},{"$f":"IFERROR(ROUND($E$47*$D62/$D20*VLOOKUP($Y62,Спровочник!$A$4:$N$18,13),0),0)","v":0},{"$f":"IFERROR(ROUND($E$47*$D62/$D20*VLOOKUP($Y62,Спровочник!$A$4:$N$18,14),0),0)","v":0},null,null,null,null,null,{"$f":"IFERROR(INDEX(Спровочник!$A$4:$A$18,MATCH('Исходные данные'!E62,сезоны,0)),\"\")","v":""},0]
[7,0,"шт",null,null,null,0,{"$f":"IFERROR(ROUND($E$47*$D63/$D21*VLOOKUP($Y63,Спровочник!$A$4:$N$18,3),0),0)","v":0},{"$f":"IFERROR(ROUND($E$47*$D63/$D21*VLOOKUP($Y63,Спровочник!$A$4:$N$18,4),0),0)","v":0},{"$f":"IFERROR(ROUND($E$47*$D63/$D21*VLOOKUP($Y63,Спровочник!$A$4:$N$18,5),0),0)","v":0},{"$f":"IFERROR(ROUND($E$47*$D63/$D21*VLOOKUP($Y63,Спровочник!$A$4:$N$18,6),0),0)","v":0},{"$f":"IFERROR(ROUND($E$47*$D63/$D21*VLOOKUP($Y63,Спровочник!$A$4:$N$18,7),0),0)","v":0},{"$f":"IFERROR(ROUND($E$47*$D63/$D21*VLOOKUP($Y63,Спровочник!$A$4:$N$18,8),0),0)","v":0},{"$f":"IFERROR(ROUND($E$47*$D63/$D21*VLOOKUP($Y63,Спровочник!$A$4:$N$18,9),0),0)","v":0},{"$f":"IFERROR(ROUND($E$47*$D63/$D21*VLOOKUP($Y63,Спровочник!$A$4:$N$18,10),0),0)","v":0},{"$f":"IFERROR(ROUND($E$47*$D63/$D21*VLOOKUP($Y63,Спровочник!$A$4:$N$18,11),0),0)","v":0},{"$f":"IFERROR(ROUND($E$47*$D63/$D21*VLOOKUP($Y63,Спровочник!$A$4:$N$18,12),0),0)","v":0},{"$f":"IFERROR(ROUND($E$47*$D63/$D21*VLOOKUP($Y63,Спровочник!$A$4:$N$18,13),0),0)","v":0},{"$f":"IFERROR(ROUND($E$47*$D63/$D21*VLOOKUP($Y63,Спровочник!$A$4:$N$18,14),0),0)","v":0},null,null,null,null,null,{"$f":"IFERROR(INDEX(Спровочник!$A$4:$A$18,MATCH('Исходные данные'!E63,сезоны,0)),\"\")","v":""},0]
[8,0,"шт",null,null,null,0,{"$f":"IFERROR(ROUND($E$47*$D64/$D22*VLOOKUP($Y64,Спровочник!$A$4:$N$18,3),0),0)","v":0},{"$f":"IFERROR(ROUND($E$47*$D64/$D22*VLOOKUP($Y64,Спровочник!$A$4:$N$18,4),0),0)","v":0},{"$f":"IFERROR(ROUND($E$47*$D64/$D22*VLOOKUP($Y64,Спровочник!$A$4:$N$18,5),0),0)","v":0},{"$f":"IFERROR(ROUND($E$47*$D64/$D22*VLOOKUP($Y64,Спровочник!$A$4:$N$18,6),0),0)","v":0},{"$f":"IFERROR(ROUND($E$47*$D64/$D22*VLOOKUP($Y64,Спровочник!$A$4:$N$18,7),0),0)","v":0},{"$f":"IFERROR(ROUND($E$47*$D64/$D22*VLOOKUP($Y64,Спровочник!$A$4:$N$18,8),0),0)","v":0},{"$f":"IFERROR(ROUND($E$47*$D64/$D22*VLOOKUP($Y64,Спровочник!$A$4:$N$18,9),0),0)","v":0},{"$f":"IFERROR(ROUND($E$47*$D64/$D22*VLOOKUP($Y64,Спровочник!$A$4:$N$18,10),0),0)","v":0},{"$f":"IFERROR(ROUND($E$47*$D64/$D22*VLOOKUP($Y64,Спровочник!$A$4:$N$18,11),0),0)","v":0},{"$f":"IFERROR(ROUND($E$47*$D64/$D22*VLOOKUP($Y64,Спровочник!$A$4:$N$18,12),0),0)","v":0},{"$f":"IFERROR(ROUND($E$47*$D64/$D22*VLOOKUP($Y64,Спровочник!$A$4:$N$18,13),0),0)","v":0},{"$f":"IFERROR(ROUND($E$47*$D64/$D22*VLOOKUP($Y64,Спровочник!$A$4:$N$18,14),0),0)","v":0},null,null,null,null,null,{"$f":"IFERROR(INDEX(Спровочник!$A$4:$A$18,MATCH('Исходные данные'!E64,сезоны,0)),\"\")","v":""},0]
[9,0,"шт",null,null,null,0,{"$f":"IFERROR(ROUND($E$47*$D65/$D23*VLOOKUP($Y65,Спровочник!$A$4:$N$18,3),0),0)","v":0},{"$f":"IFERROR(ROUND($E$47*$D65/$D23*VLOOKUP($Y65,Спровочник!$A$4:$N$18,4),0),0)","v":0},{"$f":"IFERROR(ROUND($E$47*$D65/$D23*VLOOKUP($Y65,Спровочник!$A$4:$N$18,5),0),0)","v":0},{"$f":"IFERROR(ROUND($E$47*$D65/$D23*VLOOKUP($Y65,Спровочник!$A$4:$N$18,6),0),0)","v":0},{"$f":"IFERROR(ROUND($E$47*$D65/$D23*VLOOKUP($Y65,Спровочник!$A$4:$N$18,7),0),0)","v":0},{"$f":"IFERROR(ROUND($E$47*$D65/$D23*VLOOKUP($Y65,Спровочник!$A$4:$N$18,8),0),0)","v":0},{"$f":"IFERROR(ROUND($E$47*$D65/$D23*VLOOKUP($Y65,Спровочник!$A$4:$N$18,9),0),0)","v":0},{"$f":"IFERROR(ROUND($E$47*$D65/$D23*VLOOKUP($Y65,Спровочник!$A$4:$N$18,10),0),0)","v":0},{"$f":"IFERROR(ROUND($E$47*$D65/$D23*VLOOKUP($Y65,Спровочник!$A$4:$N$18,11),0),0)","v":0},{"$f":"IFERROR(ROUND($E$47*$D65/$D23*VLOOKUP($Y65,Спровочник!$A$4:$N$18,12),0),0)","v":0},{"$f":"IFERROR(ROUND($E$47*$D65/$D23*VLOOKUP($Y65,Спровочник!$A$4:$N$18,13),0),0)","v":0},{"$f":"IFERROR(ROUND($E$47*$D65/$D23*VLOOKUP($Y65,Спровочник!$A$4:$N$18,14),0),0)","v":0},null,null,null,null,null,{"$f":"IFERROR(INDEX(Спровочник!$A$4:$A$18,MATCH('Исходные данные'!E65,сезоны,0)),\"\")","v":""},0]
[10,0,"шт",null,null,null,0,{"$f":"IFERROR(ROUND($E$47*$D66/$D24*VLOOKUP($Y66,Спровочник!$A$4:$N$18,3),0),0)","v":0},{"$f":"IFERROR(ROUND($E$47*$D66/$D24*VLOOKUP($Y66,Спровочник!$A$4:$N$18,4),0),0)","v":0},{"$f":"IFERROR(ROUND($E$47*$D66/$D24*VLOOKUP($Y66,Спровочник!$A$4:$N$18,5),0),0)","v":0},{"$f":"IFERROR(ROUND($E$47*$D66/$D24*VLOOKUP($Y66,Спровочник!$A$4:$N$18,6),0),0)","v":0},{"$f":"IFERROR(ROUND($E$47*$D66/$D24*VLOOKUP($Y66,Спровочник!$A$4:$N$18,7),0),0)","v":0},{"$f":"IFERROR(ROUND($E$47*$D66/$D24*VLOOKUP($Y66,Спровочник!$A$4:$N$18,8),0),0)","v":0},{"$f":"IFERROR(ROUND($E$47*$D66/$D24*VLOOKUP($Y66,Спровочник!$A$4:$N$18,9),0),0)","v":0},{"$f":"IFERROR(ROUND($E$47*$D66/$D24*VLOOKUP($Y66,Спровочник!$A$4:$N$18,10),0),0)","v":0},{"$f":"IFERROR(ROUND($E$47*$D66/$D24*VLOOKUP($Y66,Спровочник!$A$4:$N$18,11),0),0)","v":0},{"$f":"IFERROR(ROUND($E$47*$D66/$D24*VLOOKUP($Y66,Спровочник!$A$4:$N$18,12),0),0)","v":0},{"$f":"IFERROR(ROUND($E$47*$D66/$D24*VLOOKUP($Y66,Спровочник!$A$4:$N$18,13),0),0)","v":0},{"$f":"IFERROR(ROUND($E$47*$D66/$D24*VLOOKUP($Y66,Спровочник!$A$4:$N$18,14),0),0)","v":0},null,null,null,null,null,{"$f":"IFERROR(INDEX(Спровочник!$A$4:$A$18,MATCH('Исходные данные'!E66,сезоны,0)),\"\")","v":""},0]
[11,0,"шт",null,null,null,0,{"$f":"IFERROR(ROUND($E$47*$D67/$D25*VLOOKUP($Y67,Спровочник!$A$4:$N$18,3),0),0)","v":0},{"$f":"IFERROR(ROUND($E$47*$D67/$D25*VLOOKUP($Y67,Спровочник!$A$4:$N$18,4),0),0)","v":0},{"$f":"IFERROR(ROUND($E$47*$D67/$D25*VLOOKUP($Y67,Спровочник!$A$4:$N$18,5),0),0)","v":0},{"$f":"IFERROR(ROUND($E$47*$D67/$D25*VLOOKUP($Y67,Спровочник!$A$4:$N$18,6),0),0)","v":0},{"$f":"IFERROR(ROUND($E$47*$D67/$D25*VLOOKUP($Y67,Спровочник!$A$4:$N$18,7),0),0)","v":0},{"$f":"IFERROR(ROUND($E$47*$D67/$D25*VLOOKUP($Y67,Спровочник!$A$4:$N$18,8),0),0)","v":0},{"$f":"IFERROR(ROUND($E$47*$D67/$D25*VLOOKUP($Y67,Спровочник!$A$4:$N$18,9),0),0)","v":0},{"$f":"IFERROR(ROUND($E$47*$D67/$D25*VLOOKUP($Y67,Спровочник!$A$4:$N$18,10),0),0)","v":0},{"$f":"IFERROR(ROUND($E$47*$D67/$D25*VLOOKUP($Y67,Спровочник!$A$4:$N$18,11),0),0)","v":0},{"$f":"IFERROR(ROUND($E$47*$D67/$D25*VLOOKUP($Y67,Спровочник!$A$4:$N$18,12),0),0)","v":0},{"$f":"IFERROR(ROUND($E$47*$D67/$D25*VLOOKUP($Y67,Спровочник!$A$4:$N$18,13),0),0)","v":0},{"$f":"IFERROR(ROUND($E$47*$D67/$D25*VLOOKUP($Y67,Спровочник!$A$4:$N$18,14),0),0)","v":0},null,null,null,null,null,{"$f":"IFERROR(INDEX(Спровочник!$A$4:$A$18,MATCH('Исходные данные'!E67,сезоны,0)),\"\")","v":""},0]
[12,0,"шт",null,null,null,0,{"$f":"IFERROR(ROUND($E$47*$D68/$D26*VLOOKUP($Y68,Спровочник!$A$4:$N$18,3),0),0)","v":0},{"$f":"IFERROR(ROUND($E$47*$D68/$D26*VLOOKUP($Y68,Спровочник!$A$4:$N$18,4),0),0)","v":0},{"$f":"IFERROR(ROUND($E$47*$D68/$D26*VLOOKUP($Y68,Спровочник!$A$4:$N$18,5),0),0)","v":0},{"$f":"IFERROR(ROUND($E$47*$D68/$D26*VLOOKUP($Y68,Спровочник!$A$4:$N$18,6),0),0)","v":0},{"$f":"IFERROR(ROUND($E$47*$D68/$D26*VLOOKUP($Y68,Спровочник!$A$4:$N$18,7),0),0)","v":0},{"$f":"IFERROR(ROUND($E$47*$D68/$D26*VLOOKUP($Y68,Спровочник!$A$4:$N$18,8),0),0)","v":0},{"$f":"IFERROR(ROUND($E$47*$D68/$D26*VLOOKUP($Y68,Спровочник!$A$4:$N$18,9),0),0)","v":0},{"$f":"IFERROR(ROUND($E$47*$D68/$D26*VLOOKUP($Y68,Спровочник!$A$4:$N$18,10),0),0)","v":0},{"$f":"IFERROR(ROUND($E$47*$D68/$D26*VLOOKUP($Y68,Спровочник!$A$4:$N$18,11),0),0)","v":0},{"$f":"IFERROR(ROUND($E$47*$D68/$D26*VLOOKUP($Y68,Спровочник!$A$4:$N$18,12),0),0)","v":0},{"$f":"IFERROR(ROUND($E$47*$D68/$D26*VLOOKUP($Y68,Спровочник!$A$4:$N$18,13),0),0)","v":0},{"$f":"IFERROR(ROUND($E$47*$D68/$D26*VLOOKUP($Y68,Спровочник!$A$4:$N$18,14),0),0)","v":0},null,null,null,null,null,{"$f":"IFERROR(INDEX(Спровочник!$A$4:$A$18,MATCH('Исходные данные'!E68,сезоны,0)),\"\")","v":""},0]
[13,0,"шт",null,null,null,0,{"$f":"IFERROR(ROUND($E$47*$D69/$D27*VLOOKUP($Y69,Спровочник!$A$4:$N$18,3),0),0)","v":0},{"$f":"IFERROR(ROUND($E$47*$D69/$D27*VLOOKUP($Y69,Спровочник!$A$4:$N$18,4),0),0)","v":0},{"$f":"IFERROR(ROUND($E$47*$D69/$D27*VLOOKUP($Y69,Спровочник!$A$4:$N$18,5),0),0)","v":0},{"$f":"IFERROR(ROUND($E$47*$D69/$D27*VLOOKUP($Y69,Спровочник!$A$4:$N$18,6),0),0)","v":0},{"$f":"IFERROR(ROUND($E$47*$D69/$D27*VLOOKUP($Y69,Спровочник!$A$4:$N$18,7),0),0)","v":0},{"$f":"IFERROR(ROUND($E$47*$D69/$D27*VLOOKUP($Y69,Спровочник!$A$4:$N$18,8),0),0)","v":0},{"$f":"IFERROR(ROUND($E$47*$D69/$D27*VLOOKUP($Y69,Спровочник!$A$4:$N$18,9),0),0)","v":0},{"$f":"IFERROR(ROUND($E$47*$D69/$D27*VLOOKUP($Y69,Спровочник!$A$4:$N$18,10),0),0)","v":0},{"$f":"IFERROR(ROUND($E$47*$D69/$D27*VLOOKUP($Y69,Спровочник!$A$4:$N$18,11),0),0)","v":0},{"$f":"IFERROR(ROUND($E$47*$D69/$D27*VLOOKUP($Y69,Спровочник!$A$4:$N$18,12),0),0)","v":0},{"$f":"IFERROR(ROUND($E$47*$D69/$D27*VLOOKUP($Y69,Спровочник!$A$4:$N$18,13),0),0)","v":0},{"$f":"IFERROR(ROUND($E$47*$D69/$D27*VLOOKUP($Y69,Спровочник!$A$4:$N$18,14),0),0)","v":0},null,null,null,null,null,{"$f":"IFERROR(INDEX(Спровочник!$A$4:$A$18,MATCH('Исходные данные'!E69,сезоны,0)),\"\")","v":""},0]
[14,0,"шт",null,null,null,0,{"$f":"IFERROR(ROUND($E$47*$D70/$D28*VLOOKUP($Y70,Спровочник!$A$4:$N$18,3),0),0)","v":0},{"$f":"IFERROR(ROUND($E$47*$D70/$D28*VLOOKUP($Y70,Спровочник!$A$4:$N$18,4),0),0)","v":0},{"$f":"IFERROR(ROUND($E$47*$D70/$D28*VLOOKUP($Y70,Спровочник!$A$4:$N$18,5),0),0)","v":0},{"$f":"IFERROR(ROUND($E$47*$D70/$D28*VLOOKUP($Y70,Спровочник!$A$4:$N$18,6),0),0)","v":0},{"$f":"IFERROR(ROUND($E$47*$D70/$D28*VLOOKUP($Y70,Спровочник!$A$4:$N$18,7),0),0)","v":0},{"$f":"IFERROR(ROUND($E$47*$D70/$D28*VLOOKUP($Y70,Спровочник!$A$4:$N$18,8),0),0)","v":0},{"$f":"IFERROR(ROUND($E$47*$D70/$D28*VLOOKUP($Y70,Спровочник!$A$4:$N$18,9),0),0)","v":0},{"$f":"IFERROR(ROUND($E$47*$D70/$D28*VLOOKUP($Y70,Спровочник!$A$4:$N$18,10),0),0)","v":0},{"$f":"IFERROR(ROUND($E$47*$D70/$D28*VLOOKUP($Y70,Спровочник!$A$4:$N$18,11),0),0)","v":0},{"$f":"IFERROR(ROUND($E$47*$D70/$D28*VLOOKUP($Y70,Спровочник!$A$4:$N$18,12),0),0)","v":0},{"$f":"IFERROR(ROUND($E$47*$D70/$D28*VLOOKUP($Y70,Спровочник!$A$4:$N$18,13),0),0)","v":0},{"$f":"IFERROR(ROUND($E$47*$D70/$D28*VLOOKUP($Y70,Спровочник!$A$4:$N$18,14),0),0)","v":0},null,null,null,null,null,{"$f":"IFERROR(INDEX(Спровочник!$A$4:$A$18,MATCH('Исходные данные'!E70,сезоны,0)),\"\")","v":""},0]
[15,0,"шт",null,null,null,0,{"$f":"IFERROR(ROUND($E$47*$D71/$D29*VLOOKUP($Y71,Спровочник!$A$4:$N$18,3),0),0)","v":0},{"$f":"IFERROR(ROUND($E$47*$D71/$D29*VLOOKUP($Y71,Спровочник!$A$4:$N$18,4),0),0)","v":0},{"$f":"IFERROR(ROUND($E$47*$D71/$D29*VLOOKUP($Y71,Спровочник!$A$4:$N$18,5),0),0)","v":0},{"$f":"IFERROR(ROUND($E$47*$D71/$D29*VLOOKUP($Y71,Спровочник!$A$4:$N$18,6),0),0)","v":0},{"$f":"IFERROR(ROUND($E$47*$D71/$D29*VLOOKUP($Y71,Спровочник!$A$4:$N$18,7),0),0)","v":0},{"$f":"IFERROR(ROUND($E$47*$D71/$D29*VLOOKUP($Y71,Спровочник!$A$4:$N$18,8),0),0)","v":0},{"$f":"IFERROR(ROUND($E$47*$D71/$D29*VLOOKUP($Y71,Спровочник!$A$4:$N$18,9),0),0)","v":0},{"$f":"IFERROR(ROUND($E$47*$D71/$D29*VLOOKUP($Y71,Спровочник!$A$4:$N$18,10),0),0)","v":0},{"$f":"IFERROR(ROUND($E$47*$D71/$D29*VLOOKUP($Y71,Спровочник!$A$4:$N$18,11),0),0)","v":0},{"$f":"IFERROR(ROUND($E$47*$D71/$D29*VLOOKUP($Y71,Спровочник!$A$4:$N$18,12),0),0)","v":0},{"$f":"IFERROR(ROUND($E$47*$D71/$D29*VLOOKUP($Y71,Спровочник!$A$4:$N$18,13),0),0)","v":0},{"$f":"IFERROR(ROUND($E$47*$D71/$D29*VLOOKUP($Y71,Спровочник!$A$4:$N$18,14),0),0)","v":0},null,null,null,null,null,{"$f":"IFERROR(INDEX(Спровочник!$A$4:$A$18,MATCH('Исходные данные'!E71,сезоны,0)),\"\")","v":""},0]
[16,0,"шт",null,null,null,0,{"$f":"IFERROR(ROUND($E$47*$D72/$D30*VLOOKUP($Y72,Спровочник!$A$4:$N$18,3),0),0)","v":0},{"$f":"IFERROR(ROUND($E$47*$D72/$D30*VLOOKUP($Y72,Спровочник!$A$4:$N$18,4),0),0)","v":0},{"$f":"IFERROR(ROUND($E$47*$D72/$D30*VLOOKUP($Y72,Спровочник!$A$4:$N$18,5),0),0)","v":0},{"$f":"IFERROR(ROUND($E$47*$D72/$D30*VLOOKUP($Y72,Спровочник!$A$4:$N$18,6),0),0)","v":0},{"$f":"IFERROR(ROUND($E$47*$D72/$D30*VLOOKUP($Y72,Спровочник!$A$4:$N$18,7),0),0)","v":0},{"$f":"IFERROR(ROUND($E$47*$D72/$D30*VLOOKUP($Y72,Спровочник!$A$4:$N$18,8),0),0)","v":0},{"$f":"IFERROR(ROUND($E$47*$D72/$D30*VLOOKUP($Y72,Спровочник!$A$4:$N$18,9),0),0)","v":0},{"$f":"IFERROR(ROUND($E$47*$D72/$D30*VLOOKUP($Y72,Спровочник!$A$4:$N$18,10),0),0)","v":0},{"$f":"IFERROR(ROUND($E$47*$D72/$D30*VLOOKUP($Y72,Спровочник!$A$4:$N$18,11),0),0)","v":0},{"$f":"IFERROR(ROUND($E$47*$D72/$D30*VLOOKUP($Y72,Спровочник!$A$4:$N$18,12),0),0)","v":0},{"$f":"IFERROR(ROUND($E$47*$D72/$D30*VLOOKUP($Y72,Спровочник!$A$4:$N$18,13),0),0)","v":0},{"$f":"IFERROR(ROUND($E$47*$D72/$D30*VLOOKUP($Y72,Спровочник!$A$4:$N$18,14),0),0)","v":0},null,null,null,null,null,{"$f":"IFERROR(INDEX(Спровочник!$A$4:$A$18,MATCH('Исходные данные'!E72,сезоны,0)),\"\")","v":""},0]
[17,0,"шт",null,null,null,0,{"$f":"IFERROR(ROUND($E$47*$D73/$D31*VLOOKUP($Y73,Спровочник!$A$4:$N$18,3),0),0)","v":0},{"$f":"IFERROR(ROUND($E$47*$D73/$D31*VLOOKUP($Y73,Спровочник!$A$4:$N$18,4),0),0)","v":0},{"$f":"IFERROR(ROUND($E$47*$D73/$D31*VLOOKUP($Y73,Спровочник!$A$4:$N$18,5),0),0)","v":0},{"$f":"IFERROR(ROUND($E$47*$D73/$D31*VLOOKUP($Y73,Спровочник!$A$4:$N$18,6),0),0)","v":0},{"$f":"IFERROR(ROUND($E$47*$D73/$D31*VLOOKUP($Y73,Спровочник!$A$4:$N$18,7),0),0)","v":0},{"$f":"IFERROR(ROUND($E$47*$D73/$D31*VLOOKUP($Y73,Спровочник!$A$4:$N$18,8),0),0)","v":0},{"$f":"IFERROR(ROUND($E$47*$D73/$D31*VLOOKUP($Y73,Спровочник!$A$4:$N$18,9),0),0)","v":0},{"$f":"IFERROR(ROUND($E$47*$D73/$D31*VLOOKUP($Y73,Спровочник!$A$4:$N$18,10),0),0)","v":0},{"$f":"IFERROR(ROUND($E$47*$D73/$D31*VLOOKUP($Y73,Спровочник!$A$4:$N$18,11),0),0)","v":0},{"$f":"IFERROR(ROUND($E$47*$D73/$D31*VLOOKUP($Y73,Спровочник!$A$4:$N$18,12),0),0)","v":0},{"$f":"IFERROR(ROUND($E$47*$D73/$D31*VLOOKUP($Y73,Спровочник!$A$4:$N$18,13),0),0)","v":0},{"$f":"IFERROR(ROUND($E$47*$D73/$D31*VLOOKUP($Y73,Спровочник!$A$4:$N$18,14),0),0)","v":0},null,null,null,null,null,{"$f":"IFERROR(INDEX(Спровочник!$A$4:$A$18,MATCH('Исходные данные'!E73,сезоны,0)),\"\")","v":""},0]
[18,0,"шт",null,null,null,0,{"$f":"IFERROR(ROUND($E$47*$D74/$D32*VLOOKUP($Y74,Спровочник!$A$4:$N$18,3),0),0)","v":0},{"$f":"IFERROR(ROUND($E$47*$D74/$D32*VLOOKUP($Y74,Спровочник!$A$4:$N$18,4),0),0)","v":0},{"$f":"IFERROR(ROUND($E$47*$D74/$D32*VLOOKUP($Y74,Спровочник!$A$4:$N$18,5),0),0)","v":0},{"$f":"IFERROR(ROUND($E$47*$D74/$D32*VLOOKUP($Y74,Спровочник!$A$4:$N$18,6),0),0)","v":0},{"$f":"IFERROR(ROUND($E$47*$D74/$D32*VLOOKUP($Y74,Спровочник!$A$4:$N$18,7),0),0)","v":0},{"$f":"IFERROR(ROUND($E$47*$D74/$D32*VLOOKUP($Y74,Спровочник!$A$4:$N$18,8),0),0)","v":0},{"$f":"IFERROR(ROUND($E$47*$D74/$D32*VLOOKUP($Y74,Спровочник!$A$4:$N$18,9),0),0)","v":0},{"$f":"IFERROR(ROUND($E$47*$D74/$D32*VLOOKUP($Y74,Спровочник!$A$4:$N$18,10),0),0)","v":0},{"$f":"IFERROR(ROUND($E$47*$D74/$D32*VLOOKUP($Y74,Спровочник!$A$4:$N$18,11),0),0)","v":0},{"$f":"IFERROR(ROUND($E$47*$D74/$D32*VLOOKUP($Y74,Спровочник!$A$4:$N$18,12),0),0)","v":0},{"$f":"IFERROR(ROUND($E$47*$D74/$D32*VLOOKUP($Y74,Спровочник!$A$4:$N$18,13),0),0)","v":0},{"$f":"IFERROR(ROUND($E$47*$D74/$D32*VLOOKUP($Y74,Спровочник!$A$4:$N$18,14),0),0)","v":0},null,null,null,null,null,{"$f":"IFERROR(INDEX(Спровочник!$A$4:$A$18,MATCH('Исходные данные'!E74,сезоны,0)),\"\")","v":""},0]
[19,0,"шт",null,null,null,0,{"$f":"IFERROR(ROUND($E$47*$D75/$D33*VLOOKUP($Y75,Спровочник!$A$4:$N$18,3),0),0)","v":0},{"$f":"IFERROR(ROUND($E$47*$D75/$D33*VLOOKUP($Y75,Спровочник!$A$4:$N$18,4),0),0)","v":0},{"$f":"IFERROR(ROUND($E$47*$D75/$D33*VLOOKUP($Y75,Спровочник!$A$4:$N$18,5),0),0)","v":0},{"$f":"IFERROR(ROUND($E$47*$D75/$D33*VLOOKUP($Y75,Спровочник!$A$4:$N$18,6),0),0)","v":0},{"$f":"IFERROR(ROUND($E$47*$D75/$D33*VLOOKUP($Y75,Спровочник!$A$4:$N$18,7),0),0)","v":0},{"$f":"IFERROR(ROUND($E$47*$D75/$D33*VLOOKUP($Y75,Спровочник!$A$4:$N$18,8),0),0)","v":0},{"$f":"IFERROR(ROUND($E$47*$D75/$D33*VLOOKUP($Y75,Спровочник!$A$4:$N$18,9),0),0)","v":0},{"$f":"IFERROR(ROUND($E$47*$D75/$D33*VLOOKUP($Y75,Спровочник!$A$4:$N$18,10),0),0)","v":0},{"$f":"IFERROR(ROUND($E$47*$D75/$D33*VLOOKUP($Y75,Спровочник!$A$4:$N$18,11),0),0)","v":0},{"$f":"IFERROR(ROUND($E$47*$D75/$D33*VLOOKUP($Y75,Спровочник!$A$4:$N$18,12),0),0)","v":0},{"$f":"IFERROR(ROUND($E$47*$D75/$D33*VLOOKUP($Y75,Спровочник!$A$4:$N$18,13),0),0)","v":0},{"$f":"IFERROR(ROUND($E$47*$D75/$D33*VLOOKUP($Y75,Спровочник!$A$4:$N$18,14),0),0)","v":0},null,null,null,null,null,{"$f":"IFERROR(INDEX(Спровочник!$A$4:$A$18,MATCH('Исходные данные'!E75,сезоны,0)),\"\")","v":""},0]
[20,0,"шт",null,null,null,0,{"$f":"IFERROR(ROUND($E$47*$D76/$D34*VLOOKUP($Y76,Спровочник!$A$4:$N$18,3),0),0)","v":0},{"$f":"IFERROR(ROUND($E$47*$D76/$D34*VLOOKUP($Y76,Спровочник!$A$4:$N$18,4),0),0)","v":0},{"$f":"IFERROR(ROUND($E$47*$D76/$D34*VLOOKUP($Y76,Спровочник!$A$4:$N$18,5),0),0)","v":0},{"$f":"IFERROR(ROUND($E$47*$D76/$D34*VLOOKUP($Y76,Спровочник!$A$4:$N$18,6),0),0)","v":0},{"$f":"IFERROR(ROUND($E$47*$D76/$D34*VLOOKUP($Y76,Спровочник!$A$4:$N$18,7),0),0)","v":0},{"$f":"IFERROR(ROUND($E$47*$D76/$D34*VLOOKUP($Y76,Спровочник!$A$4:$N$18,8),0),0)","v":0},{"$f":"IFERROR(ROUND($E$47*$D76/$D34*VLOOKUP($Y76,Спровочник!$A$4:$N$18,9),0),0)","v":0},{"$f":"IFERROR(ROUND($E$47*$D76/$D34*VLOOKUP($Y76,Спровочник!$A$4:$N$18,10),0),0)","v":0},{"$f":"IFERROR(ROUND($E$47*$D76/$D34*VLOOKUP($Y76,Спровочник!$A$4:$N$18,11),0),0)","v":0},{"$f":"IFERROR(ROUND($E$47*$D76/$D34*VLOOKUP($Y76,Спровочник!$A$4:$N$18,12),0),0)","v":0},{"$f":"IFERROR(ROUND($E$47*$D76/$D34*VLOOKUP($Y76,Спровочник!$A$4:$N$18,13),0),0)","v":0},{"$f":"IFERROR(ROUND($E$47*$D76/$D34*VLOOKUP($Y76,Спровочник!$A$4:$N$18,14),0),0)","v":0},null,null,null,null,null,{"$f":"IFERROR(INDEX(Спровочник!$A$4:$A$18,MATCH('Исходные данные'!E76,сезоны,0)),\"\")","v":""},0]
["Целевые продажи в количестве",null,null,{"$f":"SUM(D57:D76)","v":1},null,null,{"$f":"SUM(G57:G76)","v":107873},9581,8188,7738,7918,7648,7948,7948,7948,7648,7918,10416,16974,null,null,null,null,null,null,0]
["Целевая сумма выручки",null,null,null,null,null,{"$f":"SUMPRODUCT(G$57:G$76,$D$15:$D$34)","v":10800220},979240,784220,739220,750020,723020,741020,741020,741020,723020,750020,1114140,2014260,null,null,null,null,null,null,0]
["Целевая среднемесячная вывручка",null,null,null,null,null,{"$f":"'Исходные данные'!G78/12","v":900018.33333333337}]
[]
[null,"ГРАФИК ВЫХОДА НА ЦЕЛЕВЫЕ ПРОДАЖИ"]
[]
["№ п/п","Наименование","Месяц от старта продаж"]
[null,null,"1-й месяц","2-й месяц","3-й месяц","4-й месяц","5-й месяц","6-й месяц","7-й месяц","8-й месяц","9-й месяц","10-й месяц","11-й месяц","12-й месяц"]
[1,"Прогноз продаж от целевых продаж, %",0.7,0.8,0.9,0.9,1,1,1,1,1,1,1,1]
[]
[null,"ШТАТНОЕ РАСПИСАНИЕ"]
[]
["№ п/п","Должность","Количество штатных единиц","Тарифная ставка (оклад)","Премиальная часть",null,"Всего сдельная часть","Всего зарплата gross в месяц"]
[null,null,null,null,"Процент от оклада","Процент от выручки"]
[null,"Укажите должность","Укажите количество штатных единиц","Укажите оклад по должности","Укажите процент премии по должности",null,"Формула","Формула"]
[1,"Продавей",2,22500,null,0.05,{"$f":"IF(C92*D92=0,0,F92*$G$79)","v":45000.916666666672},{"$f":"C92*D92+C92*D92*E92+G92","v":90000.916666666672}]
[{"$f":"A92+1","v":2},null,null,null,null,null,0,0]
[3,null,null,null,null,null,0,0]
[4,null,null,null,null,null,0,0]
[5,null,null,null,null,null,0,0]
[6,null,null,null,null,null,0,0]
[7,null,null,null,null,null,0,0]
[8,null,null,null,null,null,0,0]
[9,null,null,null,null,null,0,0]
[10,null,null,null,null,null,0,0]
[11,null,null,null,null,null,0,0]
[12,null,null,null,null,null,0,0]
[13,null,null,null,null,null,0,0]
[14,null,null,null,null,null,0,0]
[15,null,null,null,null,null,0,0]
["ИТОГИ",null,{"$f":"SUM(C92:C106)","v":2},null,null,null,{"$f":"SUM(G92:G106)","v":45000.916666666672},{"$f":"SUM(H92:H106)","v":90000.916666666672}]
["Доля от выручки",null,null,null,null,null,{"$f":"G107/$G$79","v":0.05},{"$f":"H107/$G$79","v":9.9998981502228662E-2}]
[]
[null,"График пополнения штата"]
["№ п/п","Должность","Месяц от старта продаж"]
[null,null,"1-й месяц","2-й месяц","3-й месяц","4-й месяц","5-й месяц","6-й месяц","7-й месяц","8-й месяц","9-й месяц","10-й месяц","11-й месяц","12-й месяц"]
[null,"формула","Укажите количество сотрудников по месяцам",null,null,null,null,null,null,null,null,null,null,"формула"]
[1,{"$f":"IF(OR(B92=\"\",B92=0),\"\",B92)","v":"Продавей"},1,1,{"$f":"F114","v":2},2,2,2,2,2,2,2,{"$f":"N114","v":2},{"$f":"C92","v":2}]
[{"$f":"A114+1","v":2},"",0,0,{"$f":"F115","v":0},0,0,0,0,0,0,0,{"$f":"N115","v":0},0]
[{"$f":"A115+1","v":3},"",{"$f":"D116","v":0},{"$f":"E116","v":0},{"$f":"F116","v":0},{"$f":"G116","v":0},{"$f":"H116","v":0},{"$f":"I116","v":0},{"$f":"J116","v":0},{"$f":"K116","v":0},{"$f":"L116","v":0},{"$f":"M116","v":0},{"$f":"N116","v":0},0]
[4,"",0,0,0,0,0,0,0,0,0,0,0,0]
[5,"",0,0,0,0,0,0,0,0,0,0,0,0]
[6,"",0,0,0,0,0,0,0,0,0,0,0,0]
[7,"",0,0,0,0,0,0,0,0,0,0,0,0]
[8,"",0,0,0,0,0,0,0,0,0,0,0,0]
[9,"",0,0,0,0,0,0,0,0,0,0,0,0]
[10,"",0,0,0,0,0,0,0,0,0,0,0,0]
[11,"",0,0,0,0,0,0,0,0,0,0,0,0]
[12,"",0,0,0,0,0,0,0,0,0,0,0,0]
[13,"",0,0,0,0,0,0,0,0,0,0,0,0]
[14,"",0,0,0,0,0,0,0,0,0,0,0,0]
[15,"",0,0,0,0,0,0,0,0,0,0,0,0]
[]
[null,"УСЛОВНО-ПОСТОЯННЫЕ РАСХОДЫ"]
[]
["№ п/п","Статья затрат","Сумма (руб/мес)"]
[]
[null,"Укажите наименование статьи затрат","Укажите сумму расхода"]
[1,"Услуги банков",2000]
[{"$f":"A135+1","v":2},"Арендная плата",25000]
[{"$f":"A136+1","v":3},"Затраты на электроэнергию",20000]
[4,"Канцелярские расходы",1000]
[5,"Коммунальные расходы"]
[6,"Прочие затраты",10000]
[7,"Вывоз мусора",1000]
[8]
[9]
[10]
["ИТОГИ",null,{"$f":"SUM(C135:C144)","v":59000}]
["Доля от выручки",null,{"$f":"IFERROR(C145/G79,\"\")","v":6.5554220191810911E-2}]
[]
[null,"РАСХОДЫ ПО ФРАНШИЗЕ"]
[]
["№ п/п","Наименование","Значение","Месяц внесеня взноса"]
[1,"Паушальный (первоначальный) взнос",0,"за 1 месяц до старта продаж"]
[2,"Роялти",0]
[]
[null,"ЭКВАЙРИНГ"]
[]
["№ п/п","Статья затрат","Значение"]
[]
[null,null,"Укажите %"]
[1,"Коммисия эквайеру",2.5000000000000001E-2]
[{"$f":"A159+1","v":2},"Прогнозная доля оплат по карте",0.7]
["Итого доля от выручки",null,{"$f":"C159*C160","v":1.7499999999999998E-2}]
[]
[null,"ИНВЕСТИЦИОННЫЕ ИЗДЕРЖКИ В НУЛЕВОЙ ПЕРИОД (до старта продаж)"]
[]
["№ п/п","Наименование (инструмента, приспособления, оборудования)","Сумма","Стоимость за 1 ед.","Количество","Срок полезного использования (СПИ), \nмес.","Срок амортизации","Месяц приобретения (совершения расхода)"]
[null,"ввести наименование оборудования","формула","ввести данные","ввести данные","ввести данные (если не указано принимается за 36мес)","формула","выбрать из списка"]
[1,"Павильон",{"$f":"D167*E167","v":170000},170000,1,120,{"$f":"IF(AND(D167>40000,F167<>0,F167>=12,F167<=36),1,IF(AND(D167>40000,F167<>0,F167>36,F167<=180),36,IF(AND(D167>40000,F167<>0,F167>180),120,0)))","v":36},"за 3 месяца до старта продаж"]
[{"$f":"A167+1","v":2},"Кофе машина",70000,70000,1,36,{"$f":"IF(AND(D168>40000,F168<>0,F168>=12,F168<=36),1,IF(AND(D168>40000,F168<>0,F168>36,F168<=180),36,IF(AND(D168>40000,F168<>0,F168>180),120,0)))","v":1},"за 1 месяц до старта продаж"]
[{"$f":"A168+1","v":3},"Морозилка",25000,25000,1,84,{"$f":"IF(AND(D169>40000,F169<>0,F169>=12,F169<=36),12,IF(AND(D169>40000,F169<>0,F169>36,F169<=180),36,IF(AND(D169>40000,F169<>0,F169>180),120,0)))","v":0},"за 1 месяц до старта продаж"]
[4,"Холодильник",20000,20000,1,84,0,"за 1 месяц до старта продаж"]
[5,"Гриль",7000,3500,2,12,0,"за 1 месяц до старта продаж"]
[6,"Печь для выпечки",10000,10000,1,36,0,"за 1 месяц до старта продаж"]
[7,"Стол разделочный",45000,15000,3,120,0,"за 1 месяц до старта продаж"]
[8,"Вертел для шаурмы электрический",25000,25000,1,120,0,"за 1 месяц до старта продаж"]
[9,"Рукамойник",3000,3000,1,60,0,"за 1 месяц до старта продаж"]
[10,"Кассовое оборудование",30000,30000,1,60,0,"за 1 месяц до старта продаж"]
[11,"Барный стулья для посетителей",21000,7000,3,60,0,"за 1 месяц до старта продаж"]
[12,"Микроволновая печь для посетителей",5000,5000,1,60,0,"за 1 месяц до старта продаж"]
[13,null,0,null,null,null,0]
[14,null,0,null,null,null,0]
[15,null,0,null,null,null,0]
[16,null,0,null,null,null,0]
[17,null,0,null,null,null,0]
[18,null,0,null,null,null,0]
[19,null,0,null,null,null,0]
[20,null,0,null,null,null,0]
["Итого расходы на инструменты, приспособления, оборудование",null,{"$f":"SUM(C167:C186)","v":431000},null,null,null,{"$f":"SUM(G167:G186)","v":37}]
[]
["№ п/п","Инвестиционные издержки","Сумма,\n(в руб. если не указано иное)\n","Месяц совершения расхода",null,null,null,null,null,null,null,null,null,null,null,null,null,null,null,null,null,null,null,null,"Инструменты, приспособления, оборудование",{"$f":"C187","v":431000}]
[null,"формула","заполнить ячейки синего цвета",null,null,null,null,null,null,null,null,null,null,null,null,null,null,null,null,null,null,null,null,null,{"$f":"B191","v":"Расходы на земельный участок"},{"$f":"C191","v":0}]
[1,"Расходы на земельный участок",null,null,null,null,"в расходах",null,null,null,null,null,null,null,null,null,null,null,null,null,null,null,null,null,{"$f":"B192","v":"Реконструкция и ремонт помещений"},{"$f":"C192","v":100000}]
[{"$f":"A191+1","v":2},"Реконструкция и ремонт помещений",100000,"за 2 месяца до старта продаж",null,null,"в расходах",null,null,null,null,null,null,null,null,null,null,null,null,null,null,null,null,null,{"$f":"B194","v":"Приобретение запасов товаров, сырья и материалов"},{"$f":"C194","v":90001.833333333328}]
[{"$f":"A192+1","v":3},"Приобретение запасов товаров, сырья и материалов, доля от ср.мес. выручки",0.1,null,null,null,null,null,null,null,null,null,null,null,null,null,null,null,null,null,null,null,null,null,{"$f":"B195","v":"Строительно - монтажные работы"},100000]
[4,"Приобретение запасов товаров, сырья и материалов",{"$f":"C193*G78/12","v":90001.833333333328},"за 1 месяц до старта продаж",null,null,"в запасах",null,null,null,null,null,null,null,null,null,null,null,null,null,null,null,null,null,{"$f":"B196","v":"Проектно-изыскательские работы"},0]
[5,"Строительно - монтажные работы",{"$f":"50000+50000","v":100000},"за 2 месяца до старта продаж",null,null,"в стоимости ОС",null,null,null,null,null,null,null,null,null,null,null,null,null,null,null,null,null,{"$f":"B197","v":"Содержание дирекции строящегося предприятия"},0]
[6,"Проектно-изыскательские работы",0,null,null,null,"в стоимости ОС",null,null,null,null,null,null,null,null,null,null,null,null,null,null,null,null,null,{"$f":"B198","v":"Паушальный (первоначальный) взнос"},0]
[7,"Содержание дирекции строящегося предприятия",0,null,null,null,"в расходах",null,null,null,null,null,null,null,null,null,null,null,null,null,null,null,null,null,{"$f":"B199","v":"Другие инвестиционные издержки"},25000]
[8,"Паушальный (первоначальный) взнос",{"$f":"C151","v":0},{"$f":"D151","v":"за 1 месяц до старта продаж"},null,null,"в нематериальных активах (НМА)"]
[9,"Другие инвестиционные издержки",25000,"за 1 месяц до старта продаж",null,null,"в расходах"]
["Итого прочие инвест.расходы",null,{"$f":"SUM(C191:C192)+SUM(C194:C199)","v":315001.83333333331}]
[]
[null,"ВСЕГО ИНВЕСТИЦИОННЫЕ ЗАТРАТЫ",{"$f":"C200+C187","v":746001.83333333326}]
[]
[null,"ИСТОЧНИКИ ФИНАНСИРОВАНИЯ ИНВЕСТИЦИОННОГО ПРОЕКТА"]
[]
["№ п/п","Наименование","Сумма","% годовых","Месяц поступления финансирования"]
[1,"Собственные средства",500000,null,"за 3 месяца до старта продаж"]
[{"$f":"A207+1","v":2},"Заемные средства",100000,0.1,"за 1 месяц до старта продаж"]
[{"$f":"A208+1","v":3},"Кредитные средства",160000,0.12,"за 1 месяц до старта продаж"]
[{"$f":"A209+1","v":4},"Не подлежащие возврату гранты и субсидии",null,null,"за 1 месяц до старта продаж"]
[]
[null,"Дивидендная политика, % от возможной выплаты",1]
[]
[null,"ВСЕГО СУММА ИНВЕСТИРОВАНИЯ",{"$f":"SUM(C207:C210)","v":760000}]
[null,"Количество кассовых разрывов",{"$f":"COUNTIF(D221:O227,\"<0\")","v":0}]
[null,"Сумма дифицита",{"$f":"IF(C215=0,0,MIN($D$221:$O$227))","v":0}]
[]
[null,"ОСТАТОК СВОБОДНЫХ ДЕНЕЖНЫХ СРЕДСТВ"]
[]
["№ п/п","Наименование","Год","Январь","Февраль","Март","Апрель","Май","Июнь","Июль","Август","Сентябрь","Октябрь","Ноябрь","Декабрь"]
[1,"Сумма денежных средств на расчетных счетах и кассе",{"$f":"INDEX(D252:O252,1,MATCH(1,D258:O258,0))","v":2021},{"$f":"IF(SUMIF(БДДС!$D$9:$BK$9,D$220&$C221,БДДС!$D$71:$BK$71)+SUMIF($D$256:$O$256,D$220&$C221,$D$273:$O$273)=0,\"\",SUMIF(БДДС!$D$9:$BK$9,D$220&$C221,БДДС!$D$71:$BK$71)+SUMIF($D$256:$O$256,D$220&$C221,$D$273:$O$273))","v":""},{"$f":"IF(SUMIF(БДДС!$D$9:$BK$9,E$220&$C221,БДДС!$D$71:$BK$71)+SUMIF($D$256:$O$256,E$220&$C221,$D$273:$O$273)=0,\"\",SUMIF(БДДС!$D$9:$BK$9,E$220&$C221,БДДС!$D$71:$BK$71)+SUMIF($D$256:$O$256,E$220&$C221,$D$273:$O$273))","v":330000},{"$f":"IF(SUMIF(БДДС!$D$9:$BK$9,F$220&$C221,БДДС!$D$71:$BK$71)+SUMIF($D$256:$O$256,F$220&$C221,$D$273:$O$273)=0,\"\",SUMIF(БДДС!$D$9:$BK$9,F$220&$C221,БДДС!$D$71:$BK$71)+SUMIF($D$256:$O$256,F$220&$C221,$D$273:$O$273))","v":130000},{"$f":"IF(SUMIF(БДДС!$D$9:$BK$9,G$220&$C221,БДДС!$D$71:$BK$71)+SUMIF($D$256:$O$256,G$220&$C221,$D$273:$O$273)=0,\"\",SUMIF(БДДС!$D$9:$BK$9,G$220&$C221,БДДС!$D$71:$BK$71)+SUMIF($D$256:$O$256,G$220&$C221,$D$273:$O$273))","v":2941.5141666666605},{"$f":"IF(SUMIF(БДДС!$D$9:$BK$9,H$220&$C221,БДДС!$D$71:$BK$71)+SUMIF($D$256:$O$256,H$220&$C221,$D$273:$O$273)=0,\"\",SUMIF(БДДС!$D$9:$BK$9,H$220&$C221,БДДС!$D$71:$BK$71)+SUMIF($D$256:$O$256,H$220&$C221,$D$273:$O$273))","v":65428.038524351527},{"$f":"IF(SUMIF(БДДС!$D$9:$BK$9,I$220&$C221,БДДС!$D$71:$BK$71)+SUMIF($D$256:$O$256,I$220&$C221,$D$273:$O$273)=0,\"\",SUMIF(БДДС!$D$9:$BK$9,I$220&$C221,БДДС!$D$71:$BK$71)+SUMIF($D$256:$O$256,I$220&$C221,$D$273:$O$273))","v":158517.99708572193},{"$f":"IF(SUMIF(БДДС!$D$9:$BK$9,J$220&$C221,БДДС!$D$71:$BK$71)+SUMIF($D$256:$O$256,J$220&$C221,$D$273:$O$273)=0,\"\",SUMIF(БДДС!$D$9:$BK$9,J$220&$C221,БДДС!$D$71:$BK$71)+SUMIF($D$256:$O$256,J$220&$C221,$D$273:$O$273))","v":244071.2608213475},{"$f":"IF(SUMIF(БДДС!$D$9:$BK$9,K$220&$C221,БДДС!$D$71:$BK$71)+SUMIF($D$256:$O$256,K$220&$C221,$D$273:$O$273)=0,\"\",SUMIF(БДДС!$D$9:$BK$9,K$220&$C221,БДДС!$D$71:$BK$71)+SUMIF($D$256:$O$256,K$220&$C221,$D$273:$O$273))","v":350208.62656771502},{"$f":"IF(SUMIF(БДДС!$D$9:$BK$9,L$220&$C221,БДДС!$D$71:$BK$71)+SUMIF($D$256:$O$256,L$220&$C221,$D$273:$O$273)=0,\"\",SUMIF(БДДС!$D$9:$BK$9,L$220&$C221,БДДС!$D$71:$BK$71)+SUMIF($D$256:$O$256,L$220&$C221,$D$273:$O$273))","v":460134.54123438173},{"$f":"IF(SUMIF(БДДС!$D$9:$BK$9,M$220&$C221,БДДС!$D$71:$BK$71)+SUMIF($D$256:$O$256,M$220&$C221,$D$273:$O$273)=0,\"\",SUMIF(БДДС!$D$9:$BK$9,M$220&$C221,БДДС!$D$71:$BK$71)+SUMIF($D$256:$O$256,M$220&$C221,$D$273:$O$273))","v":447512.2391510483},{"$f":"IF(SUMIF(БДДС!$D$9:$BK$9,N$220&$C221,БДДС!$D$71:$BK$71)+SUMIF($D$256:$O$256,N$220&$C221,$D$273:$O$273)=0,\"\",SUMIF(БДДС!$D$9:$BK$9,N$220&$C221,БДДС!$D$71:$BK$71)+SUMIF($D$256:$O$256,N$220&$C221,$D$273:$O$273))","v":504030.94181771507},{"$f":"IF(SUMIF(БДДС!$D$9:$BK$9,O$220&$C221,БДДС!$D$71:$BK$71)+SUMIF($D$256:$O$256,O$220&$C221,$D$273:$O$273)=0,\"\",SUMIF(БДДС!$D$9:$BK$9,O$220&$C221,БДДС!$D$71:$BK$71)+SUMIF($D$256:$O$256,O$220&$C221,$D$273:$O$273))","v":1316916.4573333338}]
[{"$f":"A221+1","v":2},null,{"$f":"C221+1","v":2022},{"$f":"IF(SUMIF(БДДС!$D$9:$BK$9,D$220&$C222,БДДС!$D$71:$BK$71)+SUMIF($D$256:$O$256,D$220&$C222,$D$273:$O$273)=0,\"\",SUMIF(БДДС!$D$9:$BK$9,D$220&$C222,БДДС!$D$71:$BK$71)+SUMIF($D$256:$O$256,D$220&$C222,$D$273:$O$273))","v":1536065.1345000006},{"$f":"IF(SUMIF(БДДС!$D$9:$BK$9,E$220&$C222,БДДС!$D$71:$BK$71)+SUMIF($D$256:$O$256,E$220&$C222,$D$273:$O$273)=0,\"\",SUMIF(БДДС!$D$9:$BK$9,E$220&$C222,БДДС!$D$71:$BK$71)+SUMIF($D$256:$O$256,E$220&$C222,$D$273:$O$273))","v":1703192.4291666674},{"$f":"IF(SUMIF(БДДС!$D$9:$BK$9,F$220&$C222,БДДС!$D$71:$BK$71)+SUMIF($D$256:$O$256,F$220&$C222,$D$273:$O$273)=0,\"\",SUMIF(БДДС!$D$9:$BK$9,F$220&$C222,БДДС!$D$71:$BK$71)+SUMIF($D$256:$O$256,F$220&$C222,$D$273:$O$273))","v":464165.96133333421},{"$f":"IF(SUMIF(БДДС!$D$9:$BK$9,G$220&$C222,БДДС!$D$71:$BK$71)+SUMIF($D$256:$O$256,G$220&$C222,$D$273:$O$273)=0,\"\",SUMIF(БДДС!$D$9:$BK$9,G$220&$C222,БДДС!$D$71:$BK$71)+SUMIF($D$256:$O$256,G$220&$C222,$D$273:$O$273))","v":435127.3214166676},{"$f":"IF(SUMIF(БДДС!$D$9:$BK$9,H$220&$C222,БДДС!$D$71:$BK$71)+SUMIF($D$256:$O$256,H$220&$C222,$D$273:$O$273)=0,\"\",SUMIF(БДДС!$D$9:$BK$9,H$220&$C222,БДДС!$D$71:$BK$71)+SUMIF($D$256:$O$256,H$220&$C222,$D$273:$O$273))","v":556240.81941666757},{"$f":"IF(SUMIF(БДДС!$D$9:$BK$9,I$220&$C222,БДДС!$D$71:$BK$71)+SUMIF($D$256:$O$256,I$220&$C222,$D$273:$O$273)=0,\"\",SUMIF(БДДС!$D$9:$BK$9,I$220&$C222,БДДС!$D$71:$BK$71)+SUMIF($D$256:$O$256,I$220&$C222,$D$273:$O$273))","v":425229.31466666749},{"$f":"IF(SUMIF(БДДС!$D$9:$BK$9,J$220&$C222,БДДС!$D$71:$BK$71)+SUMIF($D$256:$O$256,J$220&$C222,$D$273:$O$273)=0,\"\",SUMIF(БДДС!$D$9:$BK$9,J$220&$C222,БДДС!$D$71:$BK$71)+SUMIF($D$256:$O$256,J$220&$C222,$D$273:$O$273))","v":490488.21266666753},{"$f":"IF(SUMIF(БДДС!$D$9:$BK$9,K$220&$C222,БДДС!$D$71:$BK$71)+SUMIF($D$256:$O$256,K$220&$C222,$D$273:$O$273)=0,\"\",SUMIF(БДДС!$D$9:$BK$9,K$220&$C222,БДДС!$D$71:$BK$71)+SUMIF($D$256:$O$256,K$220&$C222,$D$273:$O$273))","v":628114.91066666751},{"$f":"IF(SUMIF(БДДС!$D$9:$BK$9,L$220&$C222,БДДС!$D$71:$BK$71)+SUMIF($D$256:$O$256,L$220&$C222,$D$273:$O$273)=0,\"\",SUMIF(БДДС!$D$9:$BK$9,L$220&$C222,БДДС!$D$71:$BK$71)+SUMIF($D$256:$O$256,L$220&$C222,$D$273:$O$273))","v":502173.16466666735},{"$f":"IF(SUMIF(БДДС!$D$9:$BK$9,M$220&$C222,БДДС!$D$71:$BK$71)+SUMIF($D$256:$O$256,M$220&$C222,$D$273:$O$273)=0,\"\",SUMIF(БДДС!$D$9:$BK$9,M$220&$C222,БДДС!$D$71:$BK$71)+SUMIF($D$256:$O$256,M$220&$C222,$D$273:$O$273))","v":548843.06266666728},{"$f":"IF(SUMIF(БДДС!$D$9:$BK$9,N$220&$C222,БДДС!$D$71:$BK$71)+SUMIF($D$256:$O$256,N$220&$C222,$D$273:$O$273)=0,\"\",SUMIF(БДДС!$D$9:$BK$9,N$220&$C222,БДДС!$D$71:$BK$71)+SUMIF($D$256:$O$256,N$220&$C222,$D$273:$O$273))","v":606195.09866666736},{"$f":"IF(SUMIF(БДДС!$D$9:$BK$9,O$220&$C222,БДДС!$D$71:$BK$71)+SUMIF($D$256:$O$256,O$220&$C222,$D$273:$O$273)=0,\"\",SUMIF(БДДС!$D$9:$BK$9,O$220&$C222,БДДС!$D$71:$BK$71)+SUMIF($D$256:$O$256,O$220&$C222,$D$273:$O$273))","v":1320665.5406666677}]
[{"$f":"A222+1","v":3},null,{"$f":"C222+1","v":2023},{"$f":"IF(SUMIF(БДДС!$D$9:$BK$9,D$220&$C223,БДДС!$D$71:$BK$71)+SUMIF($D$256:$O$256,D$220&$C223,$D$273:$O$273)=0,\"\",SUMIF(БДДС!$D$9:$BK$9,D$220&$C223,БДДС!$D$71:$BK$71)+SUMIF($D$256:$O$256,D$220&$C223,$D$273:$O$273))","v":1542053.5109291677},{"$f":"IF(SUMIF(БДДС!$D$9:$BK$9,E$220&$C223,БДДС!$D$71:$BK$71)+SUMIF($D$256:$O$256,E$220&$C223,$D$273:$O$273)=0,\"\",SUMIF(БДДС!$D$9:$BK$9,E$220&$C223,БДДС!$D$71:$BK$71)+SUMIF($D$256:$O$256,E$220&$C223,$D$273:$O$273))","v":1710014.1389291678},{"$f":"IF(SUMIF(БДДС!$D$9:$BK$9,F$220&$C223,БДДС!$D$71:$BK$71)+SUMIF($D$256:$O$256,F$220&$C223,$D$273:$O$273)=0,\"\",SUMIF(БДДС!$D$9:$BK$9,F$220&$C223,БДДС!$D$71:$BK$71)+SUMIF($D$256:$O$256,F$220&$C223,$D$273:$O$273))","v":554341.54466666817},{"$f":"IF(SUMIF(БДДС!$D$9:$BK$9,G$220&$C223,БДДС!$D$71:$BK$71)+SUMIF($D$256:$O$256,G$220&$C223,$D$273:$O$273)=0,\"\",SUMIF(БДДС!$D$9:$BK$9,G$220&$C223,БДДС!$D$71:$BK$71)+SUMIF($D$256:$O$256,G$220&$C223,$D$273:$O$273))","v":530043.69716666813},{"$f":"IF(SUMIF(БДДС!$D$9:$BK$9,H$220&$C223,БДДС!$D$71:$BK$71)+SUMIF($D$256:$O$256,H$220&$C223,$D$273:$O$273)=0,\"\",SUMIF(БДДС!$D$9:$BK$9,H$220&$C223,БДДС!$D$71:$BK$71)+SUMIF($D$256:$O$256,H$220&$C223,$D$273:$O$273))","v":651157.19516666816},{"$f":"IF(SUMIF(БДДС!$D$9:$BK$9,I$220&$C223,БДДС!$D$71:$BK$71)+SUMIF($D$256:$O$256,I$220&$C223,$D$273:$O$273)=0,\"\",SUMIF(БДДС!$D$9:$BK$9,I$220&$C223,БДДС!$D$71:$BK$71)+SUMIF($D$256:$O$256,I$220&$C223,$D$273:$O$273))","v":465662.16466666816},{"$f":"IF(SUMIF(БДДС!$D$9:$BK$9,J$220&$C223,БДДС!$D$71:$BK$71)+SUMIF($D$256:$O$256,J$220&$C223,$D$273:$O$273)=0,\"\",SUMIF(БДДС!$D$9:$BK$9,J$220&$C223,БДДС!$D$71:$BK$71)+SUMIF($D$256:$O$256,J$220&$C223,$D$273:$O$273))","v":530921.06266666821},{"$f":"IF(SUMIF(БДДС!$D$9:$BK$9,K$220&$C223,БДДС!$D$71:$BK$71)+SUMIF($D$256:$O$256,K$220&$C223,$D$273:$O$273)=0,\"\",SUMIF(БДДС!$D$9:$BK$9,K$220&$C223,БДДС!$D$71:$BK$71)+SUMIF($D$256:$O$256,K$220&$C223,$D$273:$O$273))","v":668547.76066666818},{"$f":"IF(SUMIF(БДДС!$D$9:$BK$9,L$220&$C223,БДДС!$D$71:$BK$71)+SUMIF($D$256:$O$256,L$220&$C223,$D$273:$O$273)=0,\"\",SUMIF(БДДС!$D$9:$BK$9,L$220&$C223,БДДС!$D$71:$BK$71)+SUMIF($D$256:$O$256,L$220&$C223,$D$273:$O$273))","v":573515.41466666816},{"$f":"IF(SUMIF(БДДС!$D$9:$BK$9,M$220&$C223,БДДС!$D$71:$BK$71)+SUMIF($D$256:$O$256,M$220&$C223,$D$273:$O$273)=0,\"\",SUMIF(БДДС!$D$9:$BK$9,M$220&$C223,БДДС!$D$71:$BK$71)+SUMIF($D$256:$O$256,M$220&$C223,$D$273:$O$273))","v":620185.31266666809},{"$f":"IF(SUMIF(БДДС!$D$9:$BK$9,N$220&$C223,БДДС!$D$71:$BK$71)+SUMIF($D$256:$O$256,N$220&$C223,$D$273:$O$273)=0,\"\",SUMIF(БДДС!$D$9:$BK$9,N$220&$C223,БДДС!$D$71:$BK$71)+SUMIF($D$256:$O$256,N$220&$C223,$D$273:$O$273))","v":677537.34866666817},{"$f":"IF(SUMIF(БДДС!$D$9:$BK$9,O$220&$C223,БДДС!$D$71:$BK$71)+SUMIF($D$256:$O$256,O$220&$C223,$D$273:$O$273)=0,\"\",SUMIF(БДДС!$D$9:$BK$9,O$220&$C223,БДДС!$D$71:$BK$71)+SUMIF($D$256:$O$256,O$220&$C223,$D$273:$O$273))","v":1225257.790666668}]
[4,null,2024,{"$f":"IF(SUMIF(БДДС!$D$9:$BK$9,D$220&$C224,БДДС!$D$71:$BK$71)+SUMIF($D$256:$O$256,D$220&$C224,$D$273:$O$273)=0,\"\",SUMIF(БДДС!$D$9:$BK$9,D$220&$C224,БДДС!$D$71:$BK$71)+SUMIF($D$256:$O$256,D$220&$C224,$D$273:$O$273))","v":1448395.0703637931},{"$f":"IF(SUMIF(БДДС!$D$9:$BK$9,E$220&$C224,БДДС!$D$71:$BK$71)+SUMIF($D$256:$O$256,E$220&$C224,$D$273:$O$273)=0,\"\",SUMIF(БДДС!$D$9:$BK$9,E$220&$C224,БДДС!$D$71:$BK$71)+SUMIF($D$256:$O$256,E$220&$C224,$D$273:$O$273))","v":1617955.6983637931},{"$f":"IF(SUMIF(БДДС!$D$9:$BK$9,F$220&$C224,БДДС!$D$71:$BK$71)+SUMIF($D$256:$O$256,F$220&$C224,$D$273:$O$273)=0,\"\",SUMIF(БДДС!$D$9:$BK$9,F$220&$C224,БДДС!$D$71:$BK$71)+SUMIF($D$256:$O$256,F$220&$C224,$D$273:$O$273))","v":454441.54466666887},{"$f":"IF(SUMIF(БДДС!$D$9:$BK$9,G$220&$C224,БДДС!$D$71:$BK$71)+SUMIF($D$256:$O$256,G$220&$C224,$D$273:$O$273)=0,\"\",SUMIF(БДДС!$D$9:$BK$9,G$220&$C224,БДДС!$D$71:$BK$71)+SUMIF($D$256:$O$256,G$220&$C224,$D$273:$O$273))","v":351743.69716666883},{"$f":"IF(SUMIF(БДДС!$D$9:$BK$9,H$220&$C224,БДДС!$D$71:$BK$71)+SUMIF($D$256:$O$256,H$220&$C224,$D$273:$O$273)=0,\"\",SUMIF(БДДС!$D$9:$BK$9,H$220&$C224,БДДС!$D$71:$BK$71)+SUMIF($D$256:$O$256,H$220&$C224,$D$273:$O$273))","v":495457.19516666885},{"$f":"IF(SUMIF(БДДС!$D$9:$BK$9,I$220&$C224,БДДС!$D$71:$BK$71)+SUMIF($D$256:$O$256,I$220&$C224,$D$273:$O$273)=0,\"\",SUMIF(БДДС!$D$9:$BK$9,I$220&$C224,БДДС!$D$71:$BK$71)+SUMIF($D$256:$O$256,I$220&$C224,$D$273:$O$273))","v":286762.16466666886},{"$f":"IF(SUMIF(БДДС!$D$9:$BK$9,J$220&$C224,БДДС!$D$71:$BK$71)+SUMIF($D$256:$O$256,J$220&$C224,$D$273:$O$273)=0,\"\",SUMIF(БДДС!$D$9:$BK$9,J$220&$C224,БДДС!$D$71:$BK$71)+SUMIF($D$256:$O$256,J$220&$C224,$D$273:$O$273))","v":353621.06266666891},{"$f":"IF(SUMIF(БДДС!$D$9:$BK$9,K$220&$C224,БДДС!$D$71:$BK$71)+SUMIF($D$256:$O$256,K$220&$C224,$D$273:$O$273)=0,\"\",SUMIF(БДДС!$D$9:$BK$9,K$220&$C224,БДДС!$D$71:$BK$71)+SUMIF($D$256:$O$256,K$220&$C224,$D$273:$O$273))","v":492847.76066666888},{"$f":"IF(SUMIF(БДДС!$D$9:$BK$9,L$220&$C224,БДДС!$D$71:$BK$71)+SUMIF($D$256:$O$256,L$220&$C224,$D$273:$O$273)=0,\"\",SUMIF(БДДС!$D$9:$BK$9,L$220&$C224,БДДС!$D$71:$BK$71)+SUMIF($D$256:$O$256,L$220&$C224,$D$273:$O$273))","v":381115.41466666933},{"$f":"IF(SUMIF(БДДС!$D$9:$BK$9,M$220&$C224,БДДС!$D$71:$BK$71)+SUMIF($D$256:$O$256,M$220&$C224,$D$273:$O$273)=0,\"\",SUMIF(БДДС!$D$9:$BK$9,M$220&$C224,БДДС!$D$71:$BK$71)+SUMIF($D$256:$O$256,M$220&$C224,$D$273:$O$273))","v":429385.31266666926},{"$f":"IF(SUMIF(БДДС!$D$9:$BK$9,N$220&$C224,БДДС!$D$71:$BK$71)+SUMIF($D$256:$O$256,N$220&$C224,$D$273:$O$273)=0,\"\",SUMIF(БДДС!$D$9:$BK$9,N$220&$C224,БДДС!$D$71:$BK$71)+SUMIF($D$256:$O$256,N$220&$C224,$D$273:$O$273))","v":488337.34866666934},{"$f":"IF(SUMIF(БДДС!$D$9:$BK$9,O$220&$C224,БДДС!$D$71:$BK$71)+SUMIF($D$256:$O$256,O$220&$C224,$D$273:$O$273)=0,\"\",SUMIF(БДДС!$D$9:$BK$9,O$220&$C224,БДДС!$D$71:$BK$71)+SUMIF($D$256:$O$256,O$220&$C224,$D$273:$O$273))","v":1179357.7906666696}]
[5,null,2025,{"$f":"IF(SUMIF(БДДС!$D$9:$BK$9,D$220&$C225,БДДС!$D$71:$BK$71)+SUMIF($D$256:$O$256,D$220&$C225,$D$273:$O$273)=0,\"\",SUMIF(БДДС!$D$9:$BK$9,D$220&$C225,БДДС!$D$71:$BK$71)+SUMIF($D$256:$O$256,D$220&$C225,$D$273:$O$273))","v":1405114.5910807559},{"$f":"IF(SUMIF(БДДС!$D$9:$BK$9,E$220&$C225,БДДС!$D$71:$BK$71)+SUMIF($D$256:$O$256,E$220&$C225,$D$273:$O$273)=0,\"\",SUMIF(БДДС!$D$9:$BK$9,E$220&$C225,БДДС!$D$71:$BK$71)+SUMIF($D$256:$O$256,E$220&$C225,$D$273:$O$273))","v":1574675.219080756},{"$f":"IF(SUMIF(БДДС!$D$9:$BK$9,F$220&$C225,БДДС!$D$71:$BK$71)+SUMIF($D$256:$O$256,F$220&$C225,$D$273:$O$273)=0,\"\",SUMIF(БДДС!$D$9:$BK$9,F$220&$C225,БДДС!$D$71:$BK$71)+SUMIF($D$256:$O$256,F$220&$C225,$D$273:$O$273))","v":393441.54466666933},{"$f":"IF(SUMIF(БДДС!$D$9:$BK$9,G$220&$C225,БДДС!$D$71:$BK$71)+SUMIF($D$256:$O$256,G$220&$C225,$D$273:$O$273)=0,\"\",SUMIF(БДДС!$D$9:$BK$9,G$220&$C225,БДДС!$D$71:$BK$71)+SUMIF($D$256:$O$256,G$220&$C225,$D$273:$O$273))","v":370743.6971666693},{"$f":"IF(SUMIF(БДДС!$D$9:$BK$9,H$220&$C225,БДДС!$D$71:$BK$71)+SUMIF($D$256:$O$256,H$220&$C225,$D$273:$O$273)=0,\"\",SUMIF(БДДС!$D$9:$BK$9,H$220&$C225,БДДС!$D$71:$BK$71)+SUMIF($D$256:$O$256,H$220&$C225,$D$273:$O$273))","v":493457.19516666932},{"$f":"IF(SUMIF(БДДС!$D$9:$BK$9,I$220&$C225,БДДС!$D$71:$BK$71)+SUMIF($D$256:$O$256,I$220&$C225,$D$273:$O$273)=0,\"\",SUMIF(БДДС!$D$9:$BK$9,I$220&$C225,БДДС!$D$71:$BK$71)+SUMIF($D$256:$O$256,I$220&$C225,$D$273:$O$273))","v":286762.16466666933},{"$f":"IF(SUMIF(БДДС!$D$9:$BK$9,J$220&$C225,БДДС!$D$71:$BK$71)+SUMIF($D$256:$O$256,J$220&$C225,$D$273:$O$273)=0,\"\",SUMIF(БДДС!$D$9:$BK$9,J$220&$C225,БДДС!$D$71:$BK$71)+SUMIF($D$256:$O$256,J$220&$C225,$D$273:$O$273))","v":353621.06266666937},{"$f":"IF(SUMIF(БДДС!$D$9:$BK$9,K$220&$C225,БДДС!$D$71:$BK$71)+SUMIF($D$256:$O$256,K$220&$C225,$D$273:$O$273)=0,\"\",SUMIF(БДДС!$D$9:$BK$9,K$220&$C225,БДДС!$D$71:$BK$71)+SUMIF($D$256:$O$256,K$220&$C225,$D$273:$O$273))","v":492847.76066666935},{"$f":"IF(SUMIF(БДДС!$D$9:$BK$9,L$220&$C225,БДДС!$D$71:$BK$71)+SUMIF($D$256:$O$256,L$220&$C225,$D$273:$O$273)=0,\"\",SUMIF(БДДС!$D$9:$BK$9,L$220&$C225,БДДС!$D$71:$BK$71)+SUMIF($D$256:$O$256,L$220&$C225,$D$273:$O$273))","v":381115.41466666979},{"$f":"IF(SUMIF(БДДС!$D$9:$BK$9,M$220&$C225,БДДС!$D$71:$BK$71)+SUMIF($D$256:$O$256,M$220&$C225,$D$273:$O$273)=0,\"\",SUMIF(БДДС!$D$9:$BK$9,M$220&$C225,БДДС!$D$71:$BK$71)+SUMIF($D$256:$O$256,M$220&$C225,$D$273:$O$273))","v":429385.31266666972},{"$f":"IF(SUMIF(БДДС!$D$9:$BK$9,N$220&$C225,БДДС!$D$71:$BK$71)+SUMIF($D$256:$O$256,N$220&$C225,$D$273:$O$273)=0,\"\",SUMIF(БДДС!$D$9:$BK$9,N$220&$C225,БДДС!$D$71:$BK$71)+SUMIF($D$256:$O$256,N$220&$C225,$D$273:$O$273))","v":488337.3486666698},{"$f":"IF(SUMIF(БДДС!$D$9:$BK$9,O$220&$C225,БДДС!$D$71:$BK$71)+SUMIF($D$256:$O$256,O$220&$C225,$D$273:$O$273)=0,\"\",SUMIF(БДДС!$D$9:$BK$9,O$220&$C225,БДДС!$D$71:$BK$71)+SUMIF($D$256:$O$256,O$220&$C225,$D$273:$O$273))","v":1179357.7906666701}]
[6,null,2026,{"$f":"IF(SUMIF(БДДС!$D$9:$BK$9,D$220&$C226,БДДС!$D$71:$BK$71)+SUMIF($D$256:$O$256,D$220&$C226,$D$273:$O$273)=0,\"\",SUMIF(БДДС!$D$9:$BK$9,D$220&$C226,БДДС!$D$71:$BK$71)+SUMIF($D$256:$O$256,D$220&$C226,$D$273:$O$273))","v":1402636.0054592476},{"$f":"IF(SUMIF(БДДС!$D$9:$BK$9,E$220&$C226,БДДС!$D$71:$BK$71)+SUMIF($D$256:$O$256,E$220&$C226,$D$273:$O$273)=0,\"\",SUMIF(БДДС!$D$9:$BK$9,E$220&$C226,БДДС!$D$71:$BK$71)+SUMIF($D$256:$O$256,E$220&$C226,$D$273:$O$273))","v":1572196.6334592476},{"$f":"IF(SUMIF(БДДС!$D$9:$BK$9,F$220&$C226,БДДС!$D$71:$BK$71)+SUMIF($D$256:$O$256,F$220&$C226,$D$273:$O$273)=0,\"\",SUMIF(БДДС!$D$9:$BK$9,F$220&$C226,БДДС!$D$71:$BK$71)+SUMIF($D$256:$O$256,F$220&$C226,$D$273:$O$273))","v":393441.54466666887},{"$f":"IF(SUMIF(БДДС!$D$9:$BK$9,G$220&$C226,БДДС!$D$71:$BK$71)+SUMIF($D$256:$O$256,G$220&$C226,$D$273:$O$273)=0,\"\",SUMIF(БДДС!$D$9:$BK$9,G$220&$C226,БДДС!$D$71:$BK$71)+SUMIF($D$256:$O$256,G$220&$C226,$D$273:$O$273))","v":311743.69716666883},{"$f":"IF(SUMIF(БДДС!$D$9:$BK$9,H$220&$C226,БДДС!$D$71:$BK$71)+SUMIF($D$256:$O$256,H$220&$C226,$D$273:$O$273)=0,\"\",SUMIF(БДДС!$D$9:$BK$9,H$220&$C226,БДДС!$D$71:$BK$71)+SUMIF($D$256:$O$256,H$220&$C226,$D$273:$O$273))","v":""},{"$f":"IF(SUMIF(БДДС!$D$9:$BK$9,I$220&$C226,БДДС!$D$71:$BK$71)+SUMIF($D$256:$O$256,I$220&$C226,$D$273:$O$273)=0,\"\",SUMIF(БДДС!$D$9:$BK$9,I$220&$C226,БДДС!$D$71:$BK$71)+SUMIF($D$256:$O$256,I$220&$C226,$D$273:$O$273))","v":""},{"$f":"IF(SUMIF(БДДС!$D$9:$BK$9,J$220&$C226,БДДС!$D$71:$BK$71)+SUMIF($D$256:$O$256,J$220&$C226,$D$273:$O$273)=0,\"\",SUMIF(БДДС!$D$9:$BK$9,J$220&$C226,БДДС!$D$71:$BK$71)+SUMIF($D$256:$O$256,J$220&$C226,$D$273:$O$273))","v":""},{"$f":"IF(SUMIF(БДДС!$D$9:$BK$9,K$220&$C226,БДДС!$D$71:$BK$71)+SUMIF($D$256:$O$256,K$220&$C226,$D$273:$O$273)=0,\"\",SUMIF(БДДС!$D$9:$BK$9,K$220&$C226,БДДС!$D$71:$BK$71)+SUMIF($D$256:$O$256,K$220&$C226,$D$273:$O$273))","v":""},{"$f":"IF(SUMIF(БДДС!$D$9:$BK$9,L$220&$C226,БДДС!$D$71:$BK$71)+SUMIF($D$256:$O$256,L$220&$C226,$D$273:$O$273)=0,\"\",SUMIF(БДДС!$D$9:$BK$9,L$220&$C226,БДДС!$D$71:$BK$71)+SUMIF($D$256:$O$256,L$220&$C226,$D$273:$O$273))","v":""},{"$f":"IF(SUMIF(БДДС!$D$9:$BK$9,M$220&$C226,БДДС!$D$71:$BK$71)+SUMIF($D$256:$O$256,M$220&$C226,$D$273:$O$273)=0,\"\",SUMIF(БДДС!$D$9:$BK$9,M$220&$C226,БДДС!$D$71:$BK$71)+SUMIF($D$256:$O$256,M$220&$C226,$D$273:$O$273))","v":""},{"$f":"IF(SUMIF(БДДС!$D$9:$BK$9,N$220&$C226,БДДС!$D$71:$BK$71)+SUMIF($D$256:$O$256,N$220&$C226,$D$273:$O$273)=0,\"\",SUMIF(БДДС!$D$9:$BK$9,N$220&$C226,БДДС!$D$71:$BK$71)+SUMIF($D$256:$O$256,N$220&$C226,$D$273:$O$273))","v":""},{"$f":"IF(SUMIF(БДДС!$D$9:$BK$9,O$220&$C226,БДДС!$D$71:$BK$71)+SUMIF($D$256:$O$256,O$220&$C226,$D$273:$O$273)=0,\"\",SUMIF(БДДС!$D$9:$BK$9,O$220&$C226,БДДС!$D$71:$BK$71)+SUMIF($D$256:$O$256,O$220&$C226,$D$273:$O$273))","v":""}]
[{"$f":"A226+1","v":7},null,2027,{"$f":"IF(SUMIF(БДДС!$D$9:$BK$9,D$220&$C227,БДДС!$D$71:$BK$71)+SUMIF($D$256:$O$256,D$220&$C227,$D$273:$O$273)=0,\"\",SUMIF(БДДС!$D$9:$BK$9,D$220&$C227,БДДС!$D$71:$BK$71)+SUMIF($D$256:$O$256,D$220&$C227,$D$273:$O$273))","v":""},{"$f":"IF(SUMIF(БДДС!$D$9:$BK$9,E$220&$C227,БДДС!$D$71:$BK$71)+SUMIF($D$256:$O$256,E$220&$C227,$D$273:$O$273)=0,\"\",SUMIF(БДДС!$D$9:$BK$9,E$220&$C227,БДДС!$D$71:$BK$71)+SUMIF($D$256:$O$256,E$220&$C227,$D$273:$O$273))","v":""},{"$f":"IF(SUMIF(БДДС!$D$9:$BK$9,F$220&$C227,БДДС!$D$71:$BK$71)+SUMIF($D$256:$O$256,F$220&$C227,$D$273:$O$273)=0,\"\",SUMIF(БДДС!$D$9:$BK$9,F$220&$C227,БДДС!$D$71:$BK$71)+SUMIF($D$256:$O$256,F$220&$C227,$D$273:$O$273))","v":""},{"$f":"IF(SUMIF(БДДС!$D$9:$BK$9,G$220&$C227,БДДС!$D$71:$BK$71)+SUMIF($D$256:$O$256,G$220&$C227,$D$273:$O$273)=0,\"\",SUMIF(БДДС!$D$9:$BK$9,G$220&$C227,БДДС!$D$71:$BK$71)+SUMIF($D$256:$O$256,G$220&$C227,$D$273:$O$273))","v":""},{"$f":"IF(SUMIF(БДДС!$D$9:$BK$9,H$220&$C227,БДДС!$D$71:$BK$71)+SUMIF($D$256:$O$256,H$220&$C227,$D$273:$O$273)=0,\"\",SUMIF(БДДС!$D$9:$BK$9,H$220&$C227,БДДС!$D$71:$BK$71)+SUMIF($D$256:$O$256,H$220&$C227,$D$273:$O$273))","v":""},{"$f":"IF(SUMIF(БДДС!$D$9:$BK$9,I$220&$C227,БДДС!$D$71:$BK$71)+SUMIF($D$256:$O$256,I$220&$C227,$D$273:$O$273)=0,\"\",SUMIF(БДДС!$D$9:$BK$9,I$220&$C227,БДДС!$D$71:$BK$71)+SUMIF($D$256:$O$256,I$220&$C227,$D$273:$O$273))","v":""},{"$f":"IF(SUMIF(БДДС!$D$9:$BK$9,J$220&$C227,БДДС!$D$71:$BK$71)+SUMIF($D$256:$O$256,J$220&$C227,$D$273:$O$273)=0,\"\",SUMIF(БДДС!$D$9:$BK$9,J$220&$C227,БДДС!$D$71:$BK$71)+SUMIF($D$256:$O$256,J$220&$C227,$D$273:$O$273))","v":""},{"$f":"IF(SUMIF(БДДС!$D$9:$BK$9,K$220&$C227,БДДС!$D$71:$BK$71)+SUMIF($D$256:$O$256,K$220&$C227,$D$273:$O$273)=0,\"\",SUMIF(БДДС!$D$9:$BK$9,K$220&$C227,БДДС!$D$71:$BK$71)+SUMIF($D$256:$O$256,K$220&$C227,$D$273:$O$273))","v":""},{"$f":"IF(SUMIF(БДДС!$D$9:$BK$9,L$220&$C227,БДДС!$D$71:$BK$71)+SUMIF($D$256:$O$256,L$220&$C227,$D$273:$O$273)=0,\"\",SUMIF(БДДС!$D$9:$BK$9,L$220&$C227,БДДС!$D$71:$BK$71)+SUMIF($D$256:$O$256,L$220&$C227,$D$273:$O$273))","v":""},{"$f":"IF(SUMIF(БДДС!$D$9:$BK$9,M$220&$C227,БДДС!$D$71:$BK$71)+SUMIF($D$256:$O$256,M$220&$C227,$D$273:$O$273)=0,\"\",SUMIF(БДДС!$D$9:$BK$9,M$220&$C227,БДДС!$D$71:$BK$71)+SUMIF($D$256:$O$256,M$220&$C227,$D$273:$O$273))","v":""},{"$f":"IF(SUMIF(БДДС!$D$9:$BK$9,N$220&$C227,БДДС!$D$71:$BK$71)+SUMIF($D$256:$O$256,N$220&$C227,$D$273:$O$273)=0,\"\",SUMIF(БДДС!$D$9:$BK$9,N$220&$C227,БДДС!$D$71:$BK$71)+SUMIF($D$256:$O$256,N$220&$C227,$D$273:$O$273))","v":""},{"$f":"IF(SUMIF(БДДС!$D$9:$BK$9,O$220&$C227,БДДС!$D$71:$BK$71)+SUMIF($D$256:$O$256,O$220&$C227,$D$273:$O$273)=0,\"\",SUMIF(БДДС!$D$9:$BK$9,O$220&$C227,БДДС!$D$71:$BK$71)+SUMIF($D$256:$O$256,O$220&$C227,$D$273:$O$273))","v":""}]
[]
[]
[]
[]
[]
[]
[]
[]
[]
[]
[]
[]
[]
[]
[null,"ГРАФИК ПОГАШЕНИЯ КРЕДИТА И ЗАЙМА"]
[]
["№ п/п","Наименование","Сумма",{"$f":"TRANSPOSE(Спровочник!B78:B97)","v":"2кв2021"},"3кв2021","4кв2021","1кв2022","2кв2022","3кв2022","4кв2022","1кв2023","2кв2023","3кв2023","4кв2023","1кв2024","2кв2024","3кв2024","4кв2024","1кв2025","2кв2025","3кв2025","4кв2025","1кв2026"]
[1,"Погашение основной суммы займа",{"$f":"C208","v":100000},null,null,null,100000,null,null,null,null,null,null,null,null,null,null,null,null,null,null,{"$f":"C245-SUM(D245:U245)","v":0},0]
[2,"Погашение основной суммы кредита",{"$f":"C209","v":160000},null,null,null,null,null,null,null,null,null,null,160000,null,null,null,null,null,null,null,{"$f":"C246-SUM(D246:U246)","v":0},0]
["Итого к погашению",null,{"$f":"SUM(C245:C246)","v":260000},{"$f":"SUM(D245:D246)","v":0},0,0,100000,0,0,0,0,0,0,160000,0,0,0,0,0,0,0,0,{"$f":"SUM(W245:W246)","v":0}]
[]
[null,"ГРАФИК ИНВЕСТИРОВАНИЯ"]
[]
["№ п/п","Наименование","Итоги","за 12 месяцев до старта продаж","за 11 месяцев до старта продаж","за 10 месяцев до старта продаж","за 9 месяцев до старта продаж","за 8 месяцев до старта продаж","за 7 месяцев до старта продаж","за 6 месяцев до старта продаж","за 5 месяцев до старта продаж","за 4 месяца до старта продаж","за 3 месяца до старта продаж","за 2 месяца до старта продаж","за 1 месяц до старта продаж"]
["Год",null,null,{"$f":"IF(E254=1,E252-1,E252)","v":2020},2020,2020,2020,2020,2020,2020,2020,2021,2021,{"$f":"IF(O254=1,O252-1,O252)","v":2021},{"$f":"IF('План продаж'!D7=1,'План продаж'!D6-1,'План продаж'!D6)","v":2021}]
["Месяц",null,null,{"$f":"VLOOKUP(D254,Спровочник!$A$21:$B$32,2,FALSE)","v":"Май"},{"$f":"VLOOKUP(E254,Спровочник!$A$21:$B$32,2,FALSE)","v":"Июнь"},{"$f":"VLOOKUP(F254,Спровочник!$A$21:$B$32,2,FALSE)","v":"Июль"},{"$f":"VLOOKUP(G254,Спровочник!$A$21:$B$32,2,FALSE)","v":"Август"},{"$f":"VLOOKUP(H254,Спровочник!$A$21:$B$32,2,FALSE)","v":"Сентябрь"},{"$f":"VLOOKUP(I254,Спровочник!$A$21:$B$32,2,FALSE)","v":"Октябрь"},{"$f":"VLOOKUP(J254,Спровочник!$A$21:$B$32,2,FALSE)","v":"Ноябрь"},{"$f":"VLOOKUP(K254,Спровочник!$A$21:$B$32,2,FALSE)","v":"Декабрь"},{"$f":"VLOOKUP(L254,Спровочник!$A$21:$B$32,2,FALSE)","v":"Январь"},{"$f":"VLOOKUP(M254,Спровочник!$A$21:$B$32,2,FALSE)","v":"Февраль"},{"$f":"VLOOKUP(N254,Спровочник!$A$21:$B$32,2,FALSE)","v":"Март"},{"$f":"VLOOKUP(O254,Спровочник!$A$21:$B$32,2,FALSE)","v":"Апрель"}]
["Номер месяца",null,null,{"$f":"IF(E254=1,12,E254-1)","v":5},{"$f":"IF(F254=1,12,F254-1)","v":6},7,8,9,10,11,12,1,2,{"$f":"IF(O254=1,12,O254-1)","v":3},{"$f":"IF('План продаж'!D7=1,12,'План продаж'!D7-1)","v":4}]
["Номер периода",null,null,1,{"$f":"D255+1","v":2},{"$f":"E255+1","v":3},4,5,6,7,8,9,10,11,12]
["Месяц и год",null,null,{"$f":"D253&D252","v":"Май2020"},{"$f":"E253&E252","v":"Июнь2020"},"Июль2020","Август2020","Сентябрь2020","Октябрь2020","Ноябрь2020","Декабрь2020","Январь2021","Февраль2021","Март2021","Апрель2021"]
["год",null,null,{"$f":"IF(D258=0,\"\",D252)","v":""},{"$f":"IF(E258=0,\"\",E252)","v":""},"","","","","","","",2021,2021,2021]
["Месяц реализации проекта",null,null,{"$f":"IF(D255-(12-$Y$265)>0,1,0)","v":0},{"$f":"IF(E255-(12-$Y$265)>0,1,0)","v":0},0,0,0,0,0,0,0,1,1,1]
[1,"Инвестиционные расходы",{"$f":"SUM(C260:C265)","v":757058.48583333322},{"$f":"SUM(D260:D265)","v":0},0,0,0,0,0,0,0,0,170000,200000,387058.48583333334]
[" 1.1","На закупка оборудования",{"$f":"SUM(D260:O260)","v":431000},{"$f":"SUMIF($H$167:$J$186,D251,$C$167:$C$186)","v":0},0,0,0,0,0,0,0,0,170000,0,261000]
[" 1.2","На инвестиционные издержки",315001.83333333331,{"$f":"SUMIF($D$191:$F$199,D251,$C$191:$C$199)+$C$197/$Y$265*D258","v":0},0,0,0,0,0,0,0,0,0,200000,115001.83333333333]
[" 1.3","Транспортные расходы на закупку товаров, сырья и материалов",838.15249999999992,{"$f":"IF($D$194=D251,$C$194*'расчет прямых ТЗР'!$S$70,0)","v":0},{"$f":"IF($D$194=E251,$C$194*'расчет прямых ТЗР'!$S$70,0)","v":0},{"$f":"IF($D$194=F251,$C$194*'расчет прямых ТЗР'!$S$70,0)","v":0},{"$f":"IF($D$194=G251,$C$194*'расчет прямых ТЗР'!$S$70,0)","v":0},{"$f":"IF($D$194=H251,$C$194*'расчет прямых ТЗР'!$S$70,0)","v":0},{"$f":"IF($D$194=I251,$C$194*'расчет прямых ТЗР'!$S$70,0)","v":0},{"$f":"IF($D$194=J251,$C$194*'расчет прямых ТЗР'!$S$70,0)","v":0},{"$f":"IF($D$194=K251,$C$194*'расчет прямых ТЗР'!$S$70,0)","v":0},{"$f":"IF($D$194=L251,$C$194*'расчет прямых ТЗР'!$S$70,0)","v":0},{"$f":"IF($D$194=M251,$C$194*'расчет прямых ТЗР'!$S$70,0)","v":0},{"$f":"IF($D$194=N251,$C$194*'расчет прямых ТЗР'!$S$70,0)","v":0},{"$f":"IF($D$194=O251,$C$194*'расчет прямых ТЗР'!$S$70,0)","v":838.15249999999992}]
[" 1.4","На проценты по  займам",0,null,{"$f":"(D268*$D$208)/12","v":0},{"$f":"(SUM($D268:E268)*$D$208)/12","v":0},{"$f":"(SUM($D268:F268)*$D$208)/12","v":0},{"$f":"(SUM($D268:G268)*$D$208)/12","v":0},{"$f":"(SUM($D268:H268)*$D$208)/12","v":0},{"$f":"(SUM($D268:I268)*$D$208)/12","v":0},{"$f":"(SUM($D268:J268)*$D$208)/12","v":0},{"$f":"(SUM($D268:K268)*$D$208)/12","v":0},{"$f":"(SUM($D268:L268)*$D$208)/12","v":0},{"$f":"(SUM($D268:M268)*$D$208)/12","v":0},{"$f":"(SUM($D268:N268)*$D$208)/12","v":0}]
[" 1.5","На проценты по кредитам",0,null,{"$f":"(D269*$D$209)/12","v":0},{"$f":"(SUM($D269:E269)*$D$209)/12","v":0},{"$f":"(SUM($D269:F269)*$D$209)/12","v":0},{"$f":"(SUM($D269:G269)*$D$209)/12","v":0},{"$f":"(SUM($D269:H269)*$D$209)/12","v":0},{"$f":"(SUM($D269:I269)*$D$209)/12","v":0},{"$f":"(SUM($D269:J269)*$D$209)/12","v":0},{"$f":"(SUM($D269:K269)*$D$209)/12","v":0},{"$f":"(SUM($D269:L269)*$D$209)/12","v":0},{"$f":"(SUM($D269:M269)*$D$209)/12","v":0},{"$f":"(SUM($D269:N269)*$D$209)/12","v":0}]
[" 1.6","Страховые отчисления ИП",10218.5,null,null,null,null,null,null,null,null,null,null,null,{"$f":"IF(C5=\"ИП\",IFERROR(HLOOKUP(O252,$C$299:$E$302,2,FALSE),E300)/12*Y265,0)","v":10218.5},null,null,null,null,null,null,null,null,null,{"$f":"COUNTIF(D272:N272,\"<>0\")+1","v":3}]
[2,"Источники инвестирования",{"$f":"SUM(C267:C270)","v":760000},{"$f":"SUM(D267:D270)","v":0},{"$f":"SUM(E267:E270)","v":0},0,0,0,0,0,0,0,500000,0,260000]
[" 2.1",{"$f":"B207","v":"Собственные средства"},{"$f":"SUM(D267:O267)","v":500000},{"$f":"IF($E$207=D251,$C$207,0)","v":0},{"$f":"IF($E$207=E251,$C$207,0)","v":0},0,0,0,0,0,0,0,500000,0,0]
[" 2.2",{"$f":"B208","v":"Заемные средства"},{"$f":"SUM(D268:O268)","v":100000},{"$f":"IF($E$208=D251,$C$208,0)","v":0},{"$f":"IF($E$208=E251,$C$208,0)","v":0},0,0,0,0,0,0,0,0,0,100000]
[" 2.3",{"$f":"B209","v":"Кредитные средства"},160000,{"$f":"IF($E$209=D251,$C$209,0)","v":0},{"$f":"IF($E$209=E251,$C$209,0)","v":0},0,0,0,0,0,0,0,0,0,160000]
[" 2.4",{"$f":"B210","v":"Не подлежащие возврату гранты и субсидии"},0,{"$f":"IF($E$210=D251,$C$210,0)","v":0},{"$f":"IF($E$210=E251,$C$210,0)","v":0},0,0,0,0,0,0,0,0,0,0]
["Платежи (накопительным итогом)",null,null,{"$f":"D259","v":0},{"$f":"D271+E259","v":0},{"$f":"E271+F259","v":0},0,0,0,0,0,0,170000,370000,757058.48583333334]
["Поступления (накопительным итогом)",null,null,{"$f":"D266","v":0},{"$f":"D272+E266","v":0},{"$f":"E272+F266","v":0},0,0,0,0,0,0,500000,500000,760000]
["Остаток денежных средств",null,{"$f":"O273","v":2941.5141666666605},{"$f":"D272-D271","v":0},{"$f":"E272-E271","v":0},0,0,0,0,0,0,0,330000,130000,{"$f":"O272-O271","v":2941.5141666666605}]
[]
[null,"СТАВКИ ДИСКОНТИРОВАНИЯ, СТАВКА РЕИНВЕСТИРОВАНИЯ"]
[]
["№ п/п","Наименование","Значение","Источник"]
[1,"Премия за риск обесценивания (Ключевая ставка ЦБ РФ)",4.4999999999999998E-2,"https://www.cbr.ru/hd_base/KeyRate/"]
[2,"Премия за риски текущего проекта",0.15]
["СТАВКА ДИСКОНТИРОВАНИЯ",null,{"$f":"SUM(C278:C279)","v":0.19500000000000001}]
[{"$f":"A279+1","v":3},"Премяи за риски альтернативных проектов",0.1]
["СТАВКА РЕИНВЕСТИРОВАНИЯ",null,{"$f":"C278+C281","v":0.14500000000000002}]
[]
[null,"НАЛОГОВОЕ ОКРУЖЕНИЕ"]
["№ п/п","Наименование","Значение"]
[1,{"$f":"C8","v":"УСН доходы"},{"$f":"IF(B286=\"УСН доходы\",0.06,0.15)","v":0.06}]
[2,"Налог на доходы физических лиц (НДФЛ)",0.13]
[3,"Страховые взносы по персоналу",{"$f":"C290+C293+C294+C296","v":0.30200000000000005}]
[null,"в том числе"]
[" 3.1","взносы на пенсионное страхование (ОПС)",0.22]
[null,"Предельный лимит ОПС",1292000]
[null,"взносы на пенсионное страхование сверх предельного лимита (ОПС)",0.1]
[null,"взносы на медицинское страхование (ОМС)",5.0999999999999997E-2]
[null,"взносы на социальное страхование (ОСС)",2.9000000000000001E-2]
[null,"Предельный лимит ОСС",912000]
[null,"взносы от несчастных случаев (от 0,2% до 0,6%)",2E-3]
[4,"Страховые взносы по ИП",null,null,null,null,null,null,null,null,null,null,null,null,null,null,null,null,null,null,null,null,null,null,{"$f":"IF(AND(C5=\"ИП\",H107=0),1,0)","v":0}]
[" 4.1","От выручки свыше 300 000 руб/год",{"$f":"IF(C5=\"ООО\",0,1%)","v":0.01}]
[null,"год",2021,2022,2023]
[" 4.2","минимальная",{"$f":"IF(C5=\"ООО\",0,32448+8426)","v":40874},{"$f":"IF(C5=\"ООО\",0,34445+8766)","v":43211},{"$f":"IF(C5=\"ООО\",0,36723+9119)","v":45842}]
[" 4.3","максимальная",{"$f":"C300*8","v":326992},{"$f":"D300*8","v":345688},{"$f":"E300*8","v":366736}]
[" 4.4","в том числе в ОМС",{"$f":"IF(C300=0,0,8426)","v":8426},{"$f":"IF(D300=0,0,8776)","v":8776},{"$f":"IF(E300=0,0,9119)","v":9119}]

{"sheet":"План продаж","index":2,"n_rows":152,"n_cols":63,"rows_kept":152,"cut":false,"hidden":false,"merged":[[7,0,7,1],[6,0,6,1],[3,0,5,0],[3,1,5,1],[3,2,5,2],[105,0,105,1],[126,0,126,1],[148,0,148,1],[149,0,149,1],[9,0,9,1],[31,0,31,1],[10,0,10,1],[57,0,57,1],[78,0,78,1],[100,0,100,1],[101,0,101,1],[54,0,55,0],[54,1,55,1],[54,19,54,22],[54,23,54,26],[54,2,55,2],[54,3,54,6],[54,7,54,10],[54,11,54,14],[54,15,54,18]]}
["ПЛАН ПРОДАЖ"]
[]
[null,"ВЫРУЧКА ПО МЕСЯЦАМ ЗА 60 МЕСЯЦЕВ"]
["№ п/п","Наименование","Сумма","1-й месяц","2-й месяц","3-й месяц","4-й месяц","5-й месяц","6-й месяц","7-й месяц","8-й месяц","9-й месяц","10-й месяц","11-й месяц","12-й месяц","13-й месяц","14-й месяц","15-й месяц","16-й месяц","17-й месяц","18-й месяц","19-й месяц","20-й месяц","21-й месяц","22-й месяц","23-й месяц","24-й месяц","25-й месяц","26-й месяц","27-й месяц","28-й месяц","29-й месяц","30-й месяц","31-й месяц","32-й месяц","33-й месяц","34-й месяц","35-й месяц","36-й месяц","37-й месяц","38-й месяц","39-й месяц","40-й месяц","41-й месяц","42-й месяц","43-й месяц","44-й месяц","45-й месяц","46-й месяц","47-й месяц","48-й месяц","49-й месяц","50-й месяц","51-й месяц","52-й месяц","53-й месяц","54-й месяц","55-й месяц","56-й месяц","57-й месяц","58-й месяц","59-й месяц","60-й месяц"]
[null,null,null,{"$f":"'Исходные данные'!C9","v":"Май"},{"$f":"VLOOKUP(E7,Спровочник!$A$21:$B$32,2,FALSE)","v":"Июнь"},{"$f":"VLOOKUP(F7,Спровочник!$A$21:$B$32,2,FALSE)","v":"Июль"},{"$f":"VLOOKUP(G7,Спровочник!$A$21:$B$32,2,FALSE)","v":"Август"},{"$f":"VLOOKUP(H7,Спровочник!$A$21:$B$32,2,FALSE)","v":"Сентябрь"},{"$f":"VLOOKUP(I7,Спровочник!$A$21:$B$32,2,FALSE)","v":"Октябрь"},{"$f":"VLOOKUP(J7,Спровочник!$A$21:$B$32,2,FALSE)","v":"Ноябрь"},{"$f":"VLOOKUP(K7,Спровочник!$A$21:$B$32,2,FALSE)","v":"Декабрь"},{"$f":"VLOOKUP(L7,Спровочник!$A$21:$B$32,2,FALSE)","v":"Январь"},{"$f":"VLOOKUP(M7,Спровочник!$A$21:$B$32,2,FALSE)","v":"Февраль"},{"$f":"VLOOKUP(N7,Спровочник!$A$21:$B$32,2,FALSE)","v":"Март"},{"$f":"VLOOKUP(O7,Спровочник!$A$21:$B$32,2,FALSE)","v":"Апрель"},{"$f":"VLOOKUP(P7,Спровочник!$A$21:$B$32,2,FALSE)","v":"Май"},{"$f":"VLOOKUP(Q7,Спровочник!$A$21:$B$32,2,FALSE)","v":"Июнь"},{"$f":"VLOOKUP(R7,Спровочник!$A$21:$B$32,2,FALSE)","v":"Июль"},{"$f":"VLOOKUP(S7,Спровочник!$A$21:$B$32,2,FALSE)","v":"Август"},{"$f":"VLOOKUP(T7,Спровочник!$A$21:$B$32,2,FALSE)","v":"Сентябрь"},{"$f":"VLOOKUP(U7,Спровочник!$A$21:$B$32,2,FALSE)","v":"Октябрь"},{"$f":"VLOOKUP(V7,Спровочник!$A$21:$B$32,2,FALSE)","v":"Ноябрь"},{"$f":"VLOOKUP(W7,Спровочник!$A$21:$B$32,2,FALSE)","v":"Декабрь"},{"$f":"VLOOKUP(X7,Спровочник!$A$21:$B$32,2,FALSE)","v":"Январь"},{"$f":"VLOOKUP(Y7,Спровочник!$A$21:$B$32,2,FALSE)","v":"Февраль"},{"$f":"VLOOKUP(Z7,Спровочник!$A$21:$B$32,2,FALSE)","v":"Март"},{"$f":"VLOOKUP(AA7,Спровочник!$A$21:$B$32,2,FALSE)","v":"Апрель"},{"$f":"VLOOKUP(AB7,Спровочник!$A$21:$B$32,2,FALSE)","v":"Май"},{"$f":"VLOOKUP(AC7,Спровочник!$A$21:$B$32,2,FALSE)","v":"Июнь"},{"$f":"VLOOKUP(AD7,Спровочник!$A$21:$B$32,2,FALSE)","v":"Июль"},{"$f":"VLOOKUP(AE7,Спровочник!$A$21:$B$32,2,FALSE)","v":"Август"},{"$f":"VLOOKUP(AF7,Спровочник!$A$21:$B$32,2,FALSE)","v":"Сентябрь"},{"$f":"VLOOKUP(AG7,Спровочник!$A$21:$B$32,2,FALSE)","v":"Октябрь"},{"$f":"VLOOKUP(AH7,Спровочник!$A$21:$B$32,2,FALSE)","v":"Ноябрь"},{"$f":"VLOOKUP(AI7,Спровочник!$A$21:$B$32,2,FALSE)","v":"Декабрь"},{"$f":"VLOOKUP(AJ7,Спровочник!$A$21:$B$32,2,FALSE)","v":"Январь"},{"$f":"VLOOKUP(AK7,Спровочник!$A$21:$B$32,2,FALSE)","v":"Февраль"},{"$f":"VLOOKUP(AL7,Спровочник!$A$21:$B$32,2,FALSE)","v":"Март"},{"$f":"VLOOKUP(AM7,Спровочник!$A$21:$B$32,2,FALSE)","v":"Апрель"},{"$f":"VLOOKUP(AN7,Спровочник!$A$21:$B$32,2,FALSE)","v":"Май"},{"$f":"VLOOKUP(AO7,Спровочник!$A$21:$B$32,2,FALSE)","v":"Июнь"},{"$f":"VLOOKUP(AP7,Спровочник!$A$21:$B$32,2,FALSE)","v":"Июль"},{"$f":"VLOOKUP(AQ7,Спровочник!$A$21:$B$32,2,FALSE)","v":"Август"},{"$f":"VLOOKUP(AR7,Спровочник!$A$21:$B$32,2,FALSE)","v":"Сентябрь"},{"$f":"VLOOKUP(AS7,Спровочник!$A$21:$B$32,2,FALSE)","v":"Октябрь"},{"$f":"VLOOKUP(AT7,Спровочник!$A$21:$B$32,2,FALSE)","v":"Ноябрь"},{"$f":"VLOOKUP(AU7,Спровочник!$A$21:$B$32,2,FALSE)","v":"Декабрь"},{"$f":"VLOOKUP(AV7,Спровочник!$A$21:$B$32,2,FALSE)","v":"Январь"},{"$f":"VLOOKUP(AW7,Спровочник!$A$21:$B$32,2,FALSE)","v":"Февраль"},{"$f":"VLOOKUP(AX7,Спровочник!$A$21:$B$32,2,FALSE)","v":"Март"},{"$f":"VLOOKUP(AY7,Спровочник!$A$21:$B$32,2,FALSE)","v":"Апрель"},{"$f":"VLOOKUP(AZ7,Спровочник!$A$21:$B$32,2,FALSE)","v":"Май"},{"$f":"VLOOKUP(BA7,Спровочник!$A$21:$B$32,2,FALSE)","v":"Июнь"},{"$f":"VLOOKUP(BB7,Спровочник!$A$21:$B$32,2,FALSE)","v":"Июль"},{"$f":"VLOOKUP(BC7,Спровочник!$A$21:$B$32,2,FALSE)","v":"Август"},{"$f":"VLOOKUP(BD7,Спровочник!$A$21:$B$32,2,FALSE)","v":"Сентябрь"},{"$f":"VLOOKUP(BE7,Спровочник!$A$21:$B$32,2,FALSE)","v":"Октябрь"},{"$f":"VLOOKUP(BF7,Спровочник!$A$21:$B$32,2,FALSE)","v":"Ноябрь"},{"$f":"VLOOKUP(BG7,Спровочник!$A$21:$B$32,2,FALSE)","v":"Декабрь"},{"$f":"VLOOKUP(BH7,Спровочник!$A$21:$B$32,2,FALSE)","v":"Январь"},{"$f":"VLOOKUP(BI7,Спровочник!$A$21:$B$32,2,FALSE)","v":"Февраль"},{"$f":"VLOOKUP(BJ7,Спровочник!$A$21:$B$32,2,FALSE)","v":"Март"},{"$f":"VLOOKUP(BK7,Спровочник!$A$21:$B$32,2,FALSE)","v":"Апрель"}]
[null,null,null,{"$f":"'Исходные данные'!D9","v":2021},{"$f":"IF(D7=12,D6+1,D6)","v":2021},2021,2021,2021,2021,2021,2021,2022,2022,2022,2022,2022,2022,2022,2022,2022,2022,2022,2022,2023,2023,2023,2023,2023,2023,2023,2023,2023,2023,2023,2023,2024,{"$f":"IF(AJ7=12,AJ6+1,AJ6)","v":2024},2024,2024,2024,2024,2024,2024,2024,2024,2024,2024,2025,2025,2025,2025,2025,2025,2025,2025,2025,2025,2025,2025,2026,2026,2026,2026]
["номер месяца",null,null,{"$f":"INDEX(Спровочник!A21:A32,MATCH(D5,месяцы,0),1)","v":5},{"$f":"IF(D7=12,1,D7+1)","v":6},{"$f":"IF(E7=12,1,E7+1)","v":7},8,9,10,11,12,1,2,3,4,5,6,7,8,9,10,11,12,1,2,3,4,5,6,7,8,9,10,11,12,1,2,3,4,5,6,7,8,9,10,11,12,1,2,3,4,5,6,7,8,9,10,11,12,1,2,3,4]
["номер месяца со старта продаж",null,null,1,{"$f":"D8+1","v":2},{"$f":"E8+1","v":3},4,5,6,7,8,9,10,11,12,13,14,15,16,17,18,19,20,21,22,23,24,25,26,27,28,29,30,31,32,33,34,35,36,37,38,39,40,41,42,43,44,45,46,47,48,49,50,51,52,53,54,55,56,57,58,59,60]
[null,"квартал",null,{"$f":"VLOOKUP(D5,Спровочник!$B$21:$C$32,2,FALSE)&D6","v":"2кв2021"},{"$f":"VLOOKUP(E5,Спровочник!$B$21:$C$32,2,FALSE)&E6","v":"2кв2021"},{"$f":"VLOOKUP(F5,Спровочник!$B$21:$C$32,2,FALSE)&F6","v":"3кв2021"},{"$f":"VLOOKUP(G5,Спровочник!$B$21:$C$32,2,FALSE)&G6","v":"3кв2021"},{"$f":"VLOOKUP(H5,Спровочник!$B$21:$C$32,2,FALSE)&H6","v":"3кв2021"},{"$f":"VLOOKUP(I5,Спровочник!$B$21:$C$32,2,FALSE)&I6","v":"4кв2021"},{"$f":"VLOOKUP(J5,Спровочник!$B$21:$C$32,2,FALSE)&J6","v":"4кв2021"},{"$f":"VLOOKUP(K5,Спровочник!$B$21:$C$32,2,FALSE)&K6","v":"4кв2021"},{"$f":"VLOOKUP(L5,Спровочник!$B$21:$C$32,2,FALSE)&L6","v":"1кв2022"},{"$f":"VLOOKUP(M5,Спровочник!$B$21:$C$32,2,FALSE)&M6","v":"1кв2022"},{"$f":"VLOOKUP(N5,Спровочник!$B$21:$C$32,2,FALSE)&N6","v":"1кв2022"},{"$f":"VLOOKUP(O5,Спровочник!$B$21:$C$32,2,FALSE)&O6","v":"2кв2022"},{"$f":"VLOOKUP(P5,Спровочник!$B$21:$C$32,2,FALSE)&P6","v":"2кв2022"},{"$f":"VLOOKUP(Q5,Спровочник!$B$21:$C$32,2,FALSE)&Q6","v":"2кв2022"},{"$f":"VLOOKUP(R5,Спровочник!$B$21:$C$32,2,FALSE)&R6","v":"3кв2022"},{"$f":"VLOOKUP(S5,Спровочник!$B$21:$C$32,2,FALSE)&S6","v":"3кв2022"},{"$f":"VLOOKUP(T5,Спровочник!$B$21:$C$32,2,FALSE)&T6","v":"3кв2022"},{"$f":"VLOOKUP(U5,Спровочник!$B$21:$C$32,2,FALSE)&U6","v":"4кв2022"},{"$f":"VLOOKUP(V5,Спровочник!$B$21:$C$32,2,FALSE)&V6","v":"4кв2022"},{"$f":"VLOOKUP(W5,Спровочник!$B$21:$C$32,2,FALSE)&W6","v":"4кв2022"},{"$f":"VLOOKUP(X5,Спровочник!$B$21:$C$32,2,FALSE)&X6","v":"1кв2023"},{"$f":"VLOOKUP(Y5,Спровочник!$B$21:$C$32,2,FALSE)&Y6","v":"1кв2023"},{"$f":"VLOOKUP(Z5,Спровочник!$B$21:$C$32,2,FALSE)&Z6","v":"1кв2023"},{"$f":"VLOOKUP(AA5,Спровочник!$B$21:$C$32,2,FALSE)&AA6","v":"2кв2023"},{"$f":"VLOOKUP(AB5,Спровочник!$B$21:$C$32,2,FALSE)&AB6","v":"2кв2023"},{"$f":"VLOOKUP(AC5,Спровочник!$B$21:$C$32,2,FALSE)&AC6","v":"2кв2023"},{"$f":"VLOOKUP(AD5,Спровочник!$B$21:$C$32,2,FALSE)&AD6","v":"3кв2023"},{"$f":"VLOOKUP(AE5,Спровочник!$B$21:$C$32,2,FALSE)&AE6","v":"3кв2023"},{"$f":"VLOOKUP(AF5,Спровочник!$B$21:$C$32,2,FALSE)&AF6","v":"3кв2023"},{"$f":"VLOOKUP(AG5,Спровочник!$B$21:$C$32,2,FALSE)&AG6","v":"4кв2023"},{"$f":"VLOOKUP(AH5,Спровочник!$B$21:$C$32,2,FALSE)&AH6","v":"4кв2023"},{"$f":"VLOOKUP(AI5,Спровочник!$B$21:$C$32,2,FALSE)&AI6","v":"4кв2023"},{"$f":"VLOOKUP(AJ5,Спровочник!$B$21:$C$32,2,FALSE)&AJ6","v":"1кв2024"},{"$f":"VLOOKUP(AK5,Спровочник!$B$21:$C$32,2,FALSE)&AK6","v":"1кв2024"},{"$f":"VLOOKUP(AL5,Спровочник!$B$21:$C$32,2,FALSE)&AL6","v":"1кв2024"},{"$f":"VLOOKUP(AM5,Спровочник!$B$21:$C$32,2,FALSE)&AM6","v":"2кв2024"},{"$f":"VLOOKUP(AN5,Спровочник!$B$21:$C$32,2,FALSE)&AN6","v":"2кв2024"},{"$f":"VLOOKUP(AO5,Спровочник!$B$21:$C$32,2,FALSE)&AO6","v":"2кв2024"},{"$f":"VLOOKUP(AP5,Спровочник!$B$21:$C$32,2,FALSE)&AP6","v":"3кв2024"},{"$f":"VLOOKUP(AQ5,Спровочник!$B$21:$C$32,2,FALSE)&AQ6","v":"3кв2024"},{"$f":"VLOOKUP(AR5,Спровочник!$B$21:$C$32,2,FALSE)&AR6","v":"3кв2024"},{"$f":"VLOOKUP(AS5,Спровочник!$B$21:$C$32,2,FALSE)&AS6","v":"4кв2024"},{"$f":"VLOOKUP(AT5,Спровочник!$B$21:$C$32,2,FALSE)&AT6","v":"4кв2024"},{"$f":"VLOOKUP(AU5,Спровочник!$B$21:$C$32,2,FALSE)&AU6","v":"4кв2024"},{"$f":"VLOOKUP(AV5,Спровочник!$B$21:$C$32,2,FALSE)&AV6","v":"1кв2025"},{"$f":"VLOOKUP(AW5,Спровочник!$B$21:$C$32,2,FALSE)&AW6","v":"1кв2025"},{"$f":"VLOOKUP(AX5,Спровочник!$B$21:$C$32,2,FALSE)&AX6","v":"1кв2025"},{"$f":"VLOOKUP(AY5,Спровочник!$B$21:$C$32,2,FALSE)&AY6","v":"2кв2025"},{"$f":"VLOOKUP(AZ5,Спровочник!$B$21:$C$32,2,FALSE)&AZ6","v":"2кв2025"},{"$f":"VLOOKUP(BA5,Спровочник!$B$21:$C$32,2,FALSE)&BA6","v":"2кв2025"},{"$f":"VLOOKUP(BB5,Спровочник!$B$21:$C$32,2,FALSE)&BB6","v":"3кв2025"},{"$f":"VLOOKUP(BC5,Спровочник!$B$21:$C$32,2,FALSE)&BC6","v":"3кв2025"},{"$f":"VLOOKUP(BD5,Спровочник!$B$21:$C$32,2,FALSE)&BD6","v":"3кв2025"},{"$f":"VLOOKUP(BE5,Спровочник!$B$21:$C$32,2,FALSE)&BE6","v":"4кв2025"},{"$f":"VLOOKUP(BF5,Спровочник!$B$21:$C$32,2,FALSE)&BF6","v":"4кв2025"},{"$f":"VLOOKUP(BG5,Спровочник!$B$21:$C$32,2,FALSE)&BG6","v":"4кв2025"},{"$f":"VLOOKUP(BH5,Спровочник!$B$21:$C$32,2,FALSE)&BH6","v":"1кв2026"},{"$f":"VLOOKUP(BI5,Спровочник!$B$21:$C$32,2,FALSE)&BI6","v":"1кв2026"},{"$f":"VLOOKUP(BJ5,Спровочник!$B$21:$C$32,2,FALSE)&BJ6","v":"1кв2026"},{"$f":"VLOOKUP(BK5,Спровочник!$B$21:$C$32,2,FALSE)&BK6","v":"2кв2026"}]
["График выхода на целевые продажи",null,null,{"$f":"'Исходные данные'!C85","v":0.7},{"$f":"'Исходные данные'!D85","v":0.8},{"$f":"'Исходные данные'!E85","v":0.9},{"$f":"'Исходные данные'!F85","v":0.9},{"$f":"'Исходные данные'!G85","v":1},{"$f":"'Исходные данные'!H85","v":1},{"$f":"'Исходные данные'!I85","v":1},{"$f":"'Исходные данные'!J85","v":1},{"$f":"'Исходные данные'!K85","v":1},{"$f":"'Исходные данные'!L85","v":1},{"$f":"'Исходные данные'!M85","v":1},{"$f":"'Исходные данные'!N85","v":1},{"$f":"O10","v":1},{"$f":"P10","v":1},1,1,1,1,1,1,1,1,1,1,1,1,1,1,1,1,1,1,1,1,1,1,1,1,1,1,1,1,1,1,1,1,1,1,1,1,1,1,1,1,1,1,1,1,1,1]
["ОБЪЕМ ПРОДАЖ В КОЛИЧЕСТВЕ",null,{"$f":"SUM(C12:C31)","v":533893},5354,6358,7154,7154,7648,7918,10416,16974,9581,8188,7738,7918,7648,7948,7948,7948,7648,7918,10416,16974,9581,8188,7738,7918,7648,7948,7948,7948,7648,7918,10416,{"$f":"SUM(AI12:AI31)","v":16974},9581,8188,7738,7918,7648,7948,7948,7948,7648,7918,10416,16974,9581,8188,7738,7918,7648,7948,7948,7948,7648,7918,10416,16974,9581,8188,7738,7918]
[1,{"$f":"IF(OR('Исходные данные'!B15=0,'Исходные данные'!B15=\"\"),\"\",'Исходные данные'!B15)","v":"Шаурма"},{"$f":"SUM(D12:BK12)","v":191365},{"$f":"ROUND(HLOOKUP(D$5,'Исходные данные'!$H$55:$S$76,2+$A12,FALSE)*D$10,0)","v":1500},{"$f":"ROUND(HLOOKUP(E$5,'Исходные данные'!$H$55:$S$76,2+$A12,FALSE)*E$10,0)","v":1714},{"$f":"ROUND(HLOOKUP(F$5,'Исходные данные'!$H$55:$S$76,2+$A12,FALSE)*F$10,0)","v":1929},{"$f":"ROUND(HLOOKUP(G$5,'Исходные данные'!$H$55:$S$76,2+$A12,FALSE)*G$10,0)","v":1929},{"$f":"ROUND(HLOOKUP(H$5,'Исходные данные'!$H$55:$S$76,2+$A12,FALSE)*H$10,0)","v":2143},{"$f":"ROUND(HLOOKUP(I$5,'Исходные данные'!$H$55:$S$76,2+$A12,FALSE)*I$10,0)","v":2143},{"$f":"ROUND(HLOOKUP(J$5,'Исходные данные'!$H$55:$S$76,2+$A12,FALSE)*J$10,0)","v":4821},{"$f":"ROUND(HLOOKUP(K$5,'Исходные данные'!$H$55:$S$76,2+$A12,FALSE)*K$10,0)","v":10929},{"$f":"ROUND(HLOOKUP(L$5,'Исходные данные'!$H$55:$S$76,2+$A12,FALSE)*L$10,0)","v":3536},{"$f":"ROUND(HLOOKUP(M$5,'Исходные данные'!$H$55:$S$76,2+$A12,FALSE)*M$10,0)","v":2143},{"$f":"ROUND(HLOOKUP(N$5,'Исходные данные'!$H$55:$S$76,2+$A12,FALSE)*N$10,0)","v":2143},{"$f":"ROUND(HLOOKUP(O$5,'Исходные данные'!$H$55:$S$76,2+$A12,FALSE)*O$10,0)","v":2143},{"$f":"ROUND(HLOOKUP(P$5,'Исходные данные'!$H$55:$S$76,2+$A12,FALSE)*P$10,0)","v":2143},{"$f":"ROUND(HLOOKUP(Q$5,'Исходные данные'!$H$55:$S$76,2+$A12,FALSE)*Q$10,0)","v":2143},{"$f":"ROUND(HLOOKUP(R$5,'Исходные данные'!$H$55:$S$76,2+$A12,FALSE)*R$10,0)","v":2143},{"$f":"ROUND(HLOOKUP(S$5,'Исходные данные'!$H$55:$S$76,2+$A12,FALSE)*S$10,0)","v":2143},{"$f":"ROUND(HLOOKUP(T$5,'Исходные данные'!$H$55:$S$76,2+$A12,FALSE)*T$10,0)","v":2143},{"$f":"ROUND(HLOOKUP(U$5,'Исходные данные'!$H$55:$S$76,2+$A12,FALSE)*U$10,0)","v":2143},{"$f":"ROUND(HLOOKUP(V$5,'Исходные данные'!$H$55:$S$76,2+$A12,FALSE)*V$10,0)","v":4821},{"$f":"ROUND(HLOOKUP(W$5,'Исходные данные'!$H$55:$S$76,2+$A12,FALSE)*W$10,0)","v":10929},{"$f":"ROUND(HLOOKUP(X$5,'Исходные данные'!$H$55:$S$76,2+$A12,FALSE)*X$10,0)","v":3536},{"$f":"ROUND(HLOOKUP(Y$5,'Исходные данные'!$H$55:$S$76,2+$A12,FALSE)*Y$10,0)","v":2143},{"$f":"ROUND(HLOOKUP(Z$5,'Исходные данные'!$H$55:$S$76,2+$A12,FALSE)*Z$10,0)","v":2143},{"$f":"ROUND(HLOOKUP(AA$5,'Исходные данные'!$H$55:$S$76,2+$A12,FALSE)*AA$10,0)","v":2143},{"$f":"ROUND(HLOOKUP(AB$5,'Исходные данные'!$H$55:$S$76,2+$A12,FALSE)*AB$10,0)","v":2143},{"$f":"ROUND(HLOOKUP(AC$5,'Исходные данные'!$H$55:$S$76,2+$A12,FALSE)*AC$10,0)","v":2143},{"$f":"ROUND(HLOOKUP(AD$5,'Исходные данные'!$H$55:$S$76,2+$A12,FALSE)*AD$10,0)","v":2143},{"$f":"ROUND(HLOOKUP(AE$5,'Исходные данные'!$H$55:$S$76,2+$A12,FALSE)*AE$10,0)","v":2143},{"$f":"ROUND(HLOOKUP(AF$5,'Исходные данные'!$H$55:$S$76,2+$A12,FALSE)*AF$10,0)","v":2143},{"$f":"ROUND(HLOOKUP(AG$5,'Исходные данные'!$H$55:$S$76,2+$A12,FALSE)*AG$10,0)","v":2143},{"$f":"ROUND(HLOOKUP(AH$5,'Исходные данные'!$H$55:$S$76,2+$A12,FALSE)*AH$10,0)","v":4821},{"$f":"ROUND(HLOOKUP(AI$5,'Исходные данные'!$H$55:$S$76,2+$A12,FALSE)*AI$10,0)","v":10929},{"$f":"ROUND(HLOOKUP(AJ$5,'Исходные данные'!$H$55:$S$76,2+$A12,FALSE)*AJ$10,0)","v":3536},{"$f":"ROUND(HLOOKUP(AK$5,'Исходные данные'!$H$55:$S$76,2+$A12,FALSE)*AK$10,0)","v":2143},{"$f":"ROUND(HLOOKUP(AL$5,'Исходные данные'!$H$55:$S$76,2+$A12,FALSE)*AL$10,0)","v":2143},{"$f":"ROUND(HLOOKUP(AM$5,'Исходные данные'!$H$55:$S$76,2+$A12,FALSE)*AM$10,0)","v":2143},{"$f":"ROUND(HLOOKUP(AN$5,'Исходные данные'!$H$55:$S$76,2+$A12,FALSE)*AN$10,0)","v":2143},{"$f":"ROUND(HLOOKUP(AO$5,'Исходные данные'!$H$55:$S$76,2+$A12,FALSE)*AO$10,0)","v":2143},{"$f":"ROUND(HLOOKUP(AP$5,'Исходные данные'!$H$55:$S$76,2+$A12,FALSE)*AP$10,0)","v":2143},{"$f":"ROUND(HLOOKUP(AQ$5,'Исходные данные'!$H$55:$S$76,2+$A12,FALSE)*AQ$10,0)","v":2143},{"$f":"ROUND(HLOOKUP(AR$5,'Исходные данные'!$H$55:$S$76,2+$A12,FALSE)*AR$10,0)","v":2143},{"$f":"ROUND(HLOOKUP(AS$5,'Исходные данные'!$H$55:$S$76,2+$A12,FALSE)*AS$10,0)","v":2143},{"$f":"ROUND(HLOOKUP(AT$5,'Исходные данные'!$H$55:$S$76,2+$A12,FALSE)*AT$10,0)","v":4821},{"$f":"ROUND(HLOOKUP(AU$5,'Исходные данные'!$H$55:$S$76,2+$A12,FALSE)*AU$10,0)","v":10929},{"$f":"ROUND(HLOOKUP(AV$5,'Исходные данные'!$H$55:$S$76,2+$A12,FALSE)*AV$10,0)","v":3536},{"$f":"ROUND(HLOOKUP(AW$5,'Исходные данные'!$H$55:$S$76,2+$A12,FALSE)*AW$10,0)","v":2143},{"$f":"ROUND(HLOOKUP(AX$5,'Исходные данные'!$H$55:$S$76,2+$A12,FALSE)*AX$10,0)","v":2143},{"$f":"ROUND(HLOOKUP(AY$5,'Исходные данные'!$H$55:$S$76,2+$A12,FALSE)*AY$10,0)","v":2143},{"$f":"ROUND(HLOOKUP(AZ$5,'Исходные данные'!$H$55:$S$76,2+$A12,FALSE)*AZ$10,0)","v":2143},{"$f":"ROUND(HLOOKUP(BA$5,'Исходные данные'!$H$55:$S$76,2+$A12,FALSE)*BA$10,0)","v":2143},{"$f":"ROUND(HLOOKUP(BB$5,'Исходные данные'!$H$55:$S$76,2+$A12,FALSE)*BB$10,0)","v":2143},{"$f":"ROUND(HLOOKUP(BC$5,'Исходные данные'!$H$55:$S$76,2+$A12,FALSE)*BC$10,0)","v":2143},{"$f":"ROUND(HLOOKUP(BD$5,'Исходные данные'!$H$55:$S$76,2+$A12,FALSE)*BD$10,0)","v":2143},{"$f":"ROUND(HLOOKUP(BE$5,'Исходные данные'!$H$55:$S$76,2+$A12,FALSE)*BE$10,0)","v":2143},{"$f":"ROUND(HLOOKUP(BF$5,'Исходные данные'!$H$55:$S$76,2+$A12,FALSE)*BF$10,0)","v":4821},{"$f":"ROUND(HLOOKUP(BG$5,'Исходные данные'!$H$55:$S$76,2+$A12,FALSE)*BG$10,0)","v":10929},{"$f":"ROUND(HLOOKUP(BH$5,'Исходные данные'!$H$55:$S$76,2+$A12,FALSE)*BH$10,0)","v":3536},{"$f":"ROUND(HLOOKUP(BI$5,'Исходные данные'!$H$55:$S$76,2+$A12,FALSE)*BI$10,0)","v":2143},{"$f":"ROUND(HLOOKUP(BJ$5,'Исходные данные'!$H$55:$S$76,2+$A12,FALSE)*BJ$10,0)","v":2143},{"$f":"ROUND(HLOOKUP(BK$5,'Исходные данные'!$H$55:$S$76,2+$A12,FALSE)*BK$10,0)","v":2143}]
[{"$f":"A12+1","v":2},{"$f":"IF(OR('Исходные данные'!B16=0,'Исходные данные'!B16=\"\"),\"\",'Исходные данные'!B16)","v":"Кофе"},{"$f":"SUM(D13:BK13)","v":133614},{"$f":"ROUND(HLOOKUP(D$5,'Исходные данные'!$H$55:$S$76,2+$A13,FALSE)*D$10,0)","v":1386},{"$f":"ROUND(HLOOKUP(E$5,'Исходные данные'!$H$55:$S$76,2+$A13,FALSE)*E$10,0)","v":1584},{"$f":"ROUND(HLOOKUP(F$5,'Исходные данные'!$H$55:$S$76,2+$A13,FALSE)*F$10,0)","v":1782},{"$f":"ROUND(HLOOKUP(G$5,'Исходные данные'!$H$55:$S$76,2+$A13,FALSE)*G$10,0)","v":1782},{"$f":"ROUND(HLOOKUP(H$5,'Исходные данные'!$H$55:$S$76,2+$A13,FALSE)*H$10,0)","v":1980},{"$f":"ROUND(HLOOKUP(I$5,'Исходные данные'!$H$55:$S$76,2+$A13,FALSE)*I$10,0)","v":2250},{"$f":"ROUND(HLOOKUP(J$5,'Исходные данные'!$H$55:$S$76,2+$A13,FALSE)*J$10,0)","v":2250},{"$f":"ROUND(HLOOKUP(K$5,'Исходные данные'!$H$55:$S$76,2+$A13,FALSE)*K$10,0)","v":2700},{"$f":"ROUND(HLOOKUP(L$5,'Исходные данные'!$H$55:$S$76,2+$A13,FALSE)*L$10,0)","v":2700},{"$f":"ROUND(HLOOKUP(M$5,'Исходные данные'!$H$55:$S$76,2+$A13,FALSE)*M$10,0)","v":2700},{"$f":"ROUND(HLOOKUP(N$5,'Исходные данные'!$H$55:$S$76,2+$A13,FALSE)*N$10,0)","v":2250},{"$f":"ROUND(HLOOKUP(O$5,'Исходные данные'!$H$55:$S$76,2+$A13,FALSE)*O$10,0)","v":2250},{"$f":"ROUND(HLOOKUP(P$5,'Исходные данные'!$H$55:$S$76,2+$A13,FALSE)*P$10,0)","v":1980},{"$f":"ROUND(HLOOKUP(Q$5,'Исходные данные'!$H$55:$S$76,2+$A13,FALSE)*Q$10,0)","v":1980},{"$f":"ROUND(HLOOKUP(R$5,'Исходные данные'!$H$55:$S$76,2+$A13,FALSE)*R$10,0)","v":1980},{"$f":"ROUND(HLOOKUP(S$5,'Исходные данные'!$H$55:$S$76,2+$A13,FALSE)*S$10,0)","v":1980},{"$f":"ROUND(HLOOKUP(T$5,'Исходные данные'!$H$55:$S$76,2+$A13,FALSE)*T$10,0)","v":1980},{"$f":"ROUND(HLOOKUP(U$5,'Исходные данные'!$H$55:$S$76,2+$A13,FALSE)*U$10,0)","v":2250},{"$f":"ROUND(HLOOKUP(V$5,'Исходные данные'!$H$55:$S$76,2+$A13,FALSE)*V$10,0)","v":2250},{"$f":"ROUND(HLOOKUP(W$5,'Исходные данные'!$H$55:$S$76,2+$A13,FALSE)*W$10,0)","v":2700},{"$f":"ROUND(HLOOKUP(X$5,'Исходные данные'!$H$55:$S$76,2+$A13,FALSE)*X$10,0)","v":2700},{"$f":"ROUND(HLOOKUP(Y$5,'Исходные данные'!$H$55:$S$76,2+$A13,FALSE)*Y$10,0)","v":2700},{"$f":"ROUND(HLOOKUP(Z$5,'Исходные данные'!$H$55:$S$76,2+$A13,FALSE)*Z$10,0)","v":2250},{"$f":"ROUND(HLOOKUP(AA$5,'Исходные данные'!$H$55:$S$76,2+$A13,FALSE)*AA$10,0)","v":2250},{"$f":"ROUND(HLOOKUP(AB$5,'Исходные данные'!$H$55:$S$76,2+$A13,FALSE)*AB$10,0)","v":1980},{"$f":"ROUND(HLOOKUP(AC$5,'Исходные данные'!$H$55:$S$76,2+$A13,FALSE)*AC$10,0)","v":1980},{"$f":"ROUND(HLOOKUP(AD$5,'Исходные данные'!$H$55:$S$76,2+$A13,FALSE)*AD$10,0)","v":1980},{"$f":"ROUND(HLOOKUP(AE$5,'Исходные данные'!$H$55:$S$76,2+$A13,FALSE)*AE$10,0)","v":1980},{"$f":"ROUND(HLOOKUP(AF$5,'Исходные данные'!$H$55:$S$76,2+$A13,FALSE)*AF$10,0)","v":1980},{"$f":"ROUND(HLOOKUP(AG$5,'Исходные данные'!$H$55:$S$76,2+$A13,FALSE)*AG$10,0)","v":2250},{"$f":"ROUND(HLOOKUP(AH$5,'Исходные данные'!$H$55:$S$76,2+$A13,FALSE)*AH$10,0)","v":2250},{"$f":"ROUND(HLOOKUP(AI$5,'Исходные данные'!$H$55:$S$76,2+$A13,FALSE)*AI$10,0)","v":2700},{"$f":"ROUND(HLOOKUP(AJ$5,'Исходные данные'!$H$55:$S$76,2+$A13,FALSE)*AJ$10,0)","v":2700},{"$f":"ROUND(HLOOKUP(AK$5,'Исходные данные'!$H$55:$S$76,2+$A13,FALSE)*AK$10,0)","v":2700},{"$f":"ROUND(HLOOKUP(AL$5,'Исходные данные'!$H$55:$S$76,2+$A13,FALSE)*AL$10,0)","v":2250},{"$f":"ROUND(HLOOKUP(AM$5,'Исходные данные'!$H$55:$S$76,2+$A13,FALSE)*AM$10,0)","v":2250},{"$f":"ROUND(HLOOKUP(AN$5,'Исходные данные'!$H$55:$S$76,2+$A13,FALSE)*AN$10,0)","v":1980},{"$f":"ROUND(HLOOKUP(AO$5,'Исходные данные'!$H$55:$S$76,2+$A13,FALSE)*AO$10,0)","v":1980},{"$f":"ROUND(HLOOKUP(AP$5,'Исходные данные'!$H$55:$S$76,2+$A13,FALSE)*AP$10,0)","v":1980},{"$f":"ROUND(HLOOKUP(AQ$5,'Исходные данные'!$H$55:$S$76,2+$A13,FALSE)*AQ$10,0)","v":1980},{"$f":"ROUND(HLOOKUP(AR$5,'Исходные данные'!$H$55:$S$76,2+$A13,FALSE)*AR$10,0)","v":1980},{"$f":"ROUND(HLOOKUP(AS$5,'Исходные данные'!$H$55:$S$76,2+$A13,FALSE)*AS$10,0)","v":2250},{"$f":"ROUND(HLOOKUP(AT$5,'Исходные данные'!$H$55:$S$76,2+$A13,FALSE)*AT$10,0)","v":2250},{"$f":"ROUND(HLOOKUP(AU$5,'Исходные данные'!$H$55:$S$76,2+$A13,FALSE)*AU$10,0)","v":2700},{"$f":"ROUND(HLOOKUP(AV$5,'Исходные данные'!$H$55:$S$76,2+$A13,FALSE)*AV$10,0)","v":2700},{"$f":"ROUND(HLOOKUP(AW$5,'Исходные данные'!$H$55:$S$76,2+$A13,FALSE)*AW$10,0)","v":2700},{"$f":"ROUND(HLOOKUP(AX$5,'Исходные данные'!$H$55:$S$76,2+$A13,FALSE)*AX$10,0)","v":2250},{"$f":"ROUND(HLOOKUP(AY$5,'Исходные данные'!$H$55:$S$76,2+$A13,FALSE)*AY$10,0)","v":2250},{"$f":"ROUND(HLOOKUP(AZ$5,'Исходные данные'!$H$55:$S$76,2+$A13,FALSE)*AZ$10,0)","v":1980},{"$f":"ROUND(HLOOKUP(BA$5,'Исходные данные'!$H$55:$S$76,2+$A13,FALSE)*BA$10,0)","v":1980},{"$f":"ROUND(HLOOKUP(BB$5,'Исходные данные'!$H$55:$S$76,2+$A13,FALSE)*BB$10,0)","v":1980},{"$f":"ROUND(HLOOKUP(BC$5,'Исходные данные'!$H$55:$S$76,2+$A13,FALSE)*BC$10,0)","v":1980},{"$f":"ROUND(HLOOKUP(BD$5,'Исходные данные'!$H$55:$S$76,2+$A13,FALSE)*BD$10,0)","v":1980},{"$f":"ROUND(HLOOKUP(BE$5,'Исходные данные'!$H$55:$S$76,2+$A13,FALSE)*BE$10,0)","v":2250},{"$f":"ROUND(HLOOKUP(BF$5,'Исходные данные'!$H$55:$S$76,2+$A13,FALSE)*BF$10,0)","v":2250},{"$f":"ROUND(HLOOKUP(BG$5,'Исходные данные'!$H$55:$S$76,2+$A13,FALSE)*BG$10,0)","v":2700},{"$f":"ROUND(HLOOKUP(BH$5,'Исходные данные'!$H$55:$S$76,2+$A13,FALSE)*BH$10,0)","v":2700},{"$f":"ROUND(HLOOKUP(BI$5,'Исходные данные'!$H$55:$S$76,2+$A13,FALSE)*BI$10,0)","v":2700},{"$f":"ROUND(HLOOKUP(BJ$5,'Исходные данные'!$H$55:$S$76,2+$A13,FALSE)*BJ$10,0)","v":2250},{"$f":"ROUND(HLOOKUP(BK$5,'Исходные данные'!$H$55:$S$76,2+$A13,FALSE)*BK$10,0)","v":2250}]
[{"$f":"A13+1","v":3},{"$f":"IF(OR('Исходные данные'!B17=0,'Исходные данные'!B17=\"\"),\"\",'Исходные данные'!B17)","v":"Хот-дог"},53370,{"$f":"ROUND(HLOOKUP(D$5,'Исходные данные'!$H$55:$S$76,2+$A14,FALSE)*D$10,0)","v":630},{"$f":"ROUND(HLOOKUP(E$5,'Исходные данные'!$H$55:$S$76,2+$A14,FALSE)*E$10,0)","v":720},{"$f":"ROUND(HLOOKUP(F$5,'Исходные данные'!$H$55:$S$76,2+$A14,FALSE)*F$10,0)","v":810},{"$f":"ROUND(HLOOKUP(G$5,'Исходные данные'!$H$55:$S$76,2+$A14,FALSE)*G$10,0)","v":810},{"$f":"ROUND(HLOOKUP(H$5,'Исходные данные'!$H$55:$S$76,2+$A14,FALSE)*H$10,0)","v":900},{"$f":"ROUND(HLOOKUP(I$5,'Исходные данные'!$H$55:$S$76,2+$A14,FALSE)*I$10,0)","v":900},{"$f":"ROUND(HLOOKUP(J$5,'Исходные данные'!$H$55:$S$76,2+$A14,FALSE)*J$10,0)","v":900},{"$f":"ROUND(HLOOKUP(K$5,'Исходные данные'!$H$55:$S$76,2+$A14,FALSE)*K$10,0)","v":900},{"$f":"ROUND(HLOOKUP(L$5,'Исходные данные'!$H$55:$S$76,2+$A14,FALSE)*L$10,0)","v":900},{"$f":"ROUND(HLOOKUP(M$5,'Исходные данные'!$H$55:$S$76,2+$A14,FALSE)*M$10,0)","v":900},{"$f":"ROUND(HLOOKUP(N$5,'Исходные данные'!$H$55:$S$76,2+$A14,FALSE)*N$10,0)","v":900},{"$f":"ROUND(HLOOKUP(O$5,'Исходные данные'!$H$55:$S$76,2+$A14,FALSE)*O$10,0)","v":900},{"$f":"ROUND(HLOOKUP(P$5,'Исходные данные'!$H$55:$S$76,2+$A14,FALSE)*P$10,0)","v":900},{"$f":"ROUND(HLOOKUP(Q$5,'Исходные данные'!$H$55:$S$76,2+$A14,FALSE)*Q$10,0)","v":900},{"$f":"ROUND(HLOOKUP(R$5,'Исходные данные'!$H$55:$S$76,2+$A14,FALSE)*R$10,0)","v":900},{"$f":"ROUND(HLOOKUP(S$5,'Исходные данные'!$H$55:$S$76,2+$A14,FALSE)*S$10,0)","v":900},{"$f":"ROUND(HLOOKUP(T$5,'Исходные данные'!$H$55:$S$76,2+$A14,FALSE)*T$10,0)","v":900},{"$f":"ROUND(HLOOKUP(U$5,'Исходные данные'!$H$55:$S$76,2+$A14,FALSE)*U$10,0)","v":900},{"$f":"ROUND(HLOOKUP(V$5,'Исходные данные'!$H$55:$S$76,2+$A14,FALSE)*V$10,0)","v":900},{"$f":"ROUND(HLOOKUP(W$5,'Исходные данные'!$H$55:$S$76,2+$A14,FALSE)*W$10,0)","v":900},{"$f":"ROUND(HLOOKUP(X$5,'Исходные данные'!$H$55:$S$76,2+$A14,FALSE)*X$10,0)","v":900},{"$f":"ROUND(HLOOKUP(Y$5,'Исходные данные'!$H$55:$S$76,2+$A14,FALSE)*Y$10,0)","v":900},{"$f":"ROUND(HLOOKUP(Z$5,'Исходные данные'!$H$55:$S$76,2+$A14,FALSE)*Z$10,0)","v":900},{"$f":"ROUND(HLOOKUP(AA$5,'Исходные данные'!$H$55:$S$76,2+$A14,FALSE)*AA$10,0)","v":900},{"$f":"ROUND(HLOOKUP(AB$5,'Исходные данные'!$H$55:$S$76,2+$A14,FALSE)*AB$10,0)","v":900},{"$f":"ROUND(HLOOKUP(AC$5,'Исходные данные'!$H$55:$S$76,2+$A14,FALSE)*AC$10,0)","v":900},{"$f":"ROUND(HLOOKUP(AD$5,'Исходные данные'!$H$55:$S$76,2+$A14,FALSE)*AD$10,0)","v":900},{"$f":"ROUND(HLOOKUP(AE$5,'Исходные данные'!$H$55:$S$76,2+$A14,FALSE)*AE$10,0)","v":900},{"$f":"ROUND(HLOOKUP(AF$5,'Исходные данные'!$H$55:$S$76,2+$A14,FALSE)*AF$10,0)","v":900},{"$f":"ROUND(HLOOKUP(AG$5,'Исходные данные'!$H$55:$S$76,2+$A14,FALSE)*AG$10,0)","v":900},{"$f":"ROUND(HLOOKUP(AH$5,'Исходные данные'!$H$55:$S$76,2+$A14,FALSE)*AH$10,0)","v":900},{"$f":"ROUND(HLOOKUP(AI$5,'Исходные данные'!$H$55:$S$76,2+$A14,FALSE)*AI$10,0)","v":900},{"$f":"ROUND(HLOOKUP(AJ$5,'Исходные данные'!$H$55:$S$76,2+$A14,FALSE)*AJ$10,0)","v":900},{"$f":"ROUND(HLOOKUP(AK$5,'Исходные данные'!$H$55:$S$76,2+$A14,FALSE)*AK$10,0)","v":900},{"$f":"ROUND(HLOOKUP(AL$5,'Исходные данные'!$H$55:$S$76,2+$A14,FALSE)*AL$10,0)","v":900},{"$f":"ROUND(HLOOKUP(AM$5,'Исходные данные'!$H$55:$S$76,2+$A14,FALSE)*AM$10,0)","v":900},{"$f":"ROUND(HLOOKUP(AN$5,'Исходные данные'!$H$55:$S$76,2+$A14,FALSE)*AN$10,0)","v":900},{"$f":"ROUND(HLOOKUP(AO$5,'Исходные данные'!$H$55:$S$76,2+$A14,FALSE)*AO$10,0)","v":900},{"$f":"ROUND(HLOOKUP(AP$5,'Исходные данные'!$H$55:$S$76,2+$A14,FALSE)*AP$10,0)","v":900},{"$f":"ROUND(HLOOKUP(AQ$5,'Исходные данные'!$H$55:$S$76,2+$A14,FALSE)*AQ$10,0)","v":900},{"$f":"ROUND(HLOOKUP(AR$5,'Исходные данные'!$H$55:$S$76,2+$A14,FALSE)*AR$10,0)","v":900},{"$f":"ROUND(HLOOKUP(AS$5,'Исходные данные'!$H$55:$S$76,2+$A14,FALSE)*AS$10,0)","v":900},{"$f":"ROUND(HLOOKUP(AT$5,'Исходные данные'!$H$55:$S$76,2+$A14,FALSE)*AT$10,0)","v":900},{"$f":"ROUND(HLOOKUP(AU$5,'Исходные данные'!$H$55:$S$76,2+$A14,FALSE)*AU$10,0)","v":900},{"$f":"ROUND(HLOOKUP(AV$5,'Исходные данные'!$H$55:$S$76,2+$A14,FALSE)*AV$10,0)","v":900},{"$f":"ROUND(HLOOKUP(AW$5,'Исходные данные'!$H$55:$S$76,2+$A14,FALSE)*AW$10,0)","v":900},{"$f":"ROUND(HLOOKUP(AX$5,'Исходные данные'!$H$55:$S$76,2+$A14,FALSE)*AX$10,0)","v":900},{"$f":"ROUND(HLOOKUP(AY$5,'Исходные данные'!$H$55:$S$76,2+$A14,FALSE)*AY$10,0)","v":900},{"$f":"ROUND(HLOOKUP(AZ$5,'Исходные данные'!$H$55:$S$76,2+$A14,FALSE)*AZ$10,0)","v":900},{"$f":"ROUND(HLOOKUP(BA$5,'Исходные данные'!$H$55:$S$76,2+$A14,FALSE)*BA$10,0)","v":900},{"$f":"ROUND(HLOOKUP(BB$5,'Исходные данные'!$H$55:$S$76,2+$A14,FALSE)*BB$10,0)","v":900},{"$f":"ROUND(HLOOKUP(BC$5,'Исходные данные'!$H$55:$S$76,2+$A14,FALSE)*BC$10,0)","v":900},{"$f":"ROUND(HLOOKUP(BD$5,'Исходные данные'!$H$55:$S$76,2+$A14,FALSE)*BD$10,0)","v":900},{"$f":"ROUND(HLOOKUP(BE$5,'Исходные данные'!$H$55:$S$76,2+$A14,FALSE)*BE$10,0)","v":900},{"$f":"ROUND(HLOOKUP(BF$5,'Исходные данные'!$H$55:$S$76,2+$A14,FALSE)*BF$10,0)","v":900},{"$f":"ROUND(HLOOKUP(BG$5,'Исходные данные'!$H$55:$S$76,2+$A14,FALSE)*BG$10,0)","v":900},{"$f":"ROUND(HLOOKUP(BH$5,'Исходные данные'!$H$55:$S$76,2+$A14,FALSE)*BH$10,0)","v":900},{"$f":"ROUND(HLOOKUP(BI$5,'Исходные данные'!$H$55:$S$76,2+$A14,FALSE)*BI$10,0)","v":900},{"$f":"ROUND(HLOOKUP(BJ$5,'Исходные данные'!$H$55:$S$76,2+$A14,FALSE)*BJ$10,0)","v":900},{"$f":"ROUND(HLOOKUP(BK$5,'Исходные данные'!$H$55:$S$76,2+$A14,FALSE)*BK$10,0)","v":900}]
[4,{"$f":"IF(OR('Исходные данные'!B18=0,'Исходные данные'!B18=\"\"),\"\",'Исходные данные'!B18)","v":"Газированный напиток"},88830,{"$f":"ROUND(HLOOKUP(D$5,'Исходные данные'!$H$55:$S$76,2+$A15,FALSE)*D$10,0)","v":1050},{"$f":"ROUND(HLOOKUP(E$5,'Исходные данные'!$H$55:$S$76,2+$A15,FALSE)*E$10,0)","v":1440},{"$f":"ROUND(HLOOKUP(F$5,'Исходные данные'!$H$55:$S$76,2+$A15,FALSE)*F$10,0)","v":1620},{"$f":"ROUND(HLOOKUP(G$5,'Исходные данные'!$H$55:$S$76,2+$A15,FALSE)*G$10,0)","v":1620},{"$f":"ROUND(HLOOKUP(H$5,'Исходные данные'!$H$55:$S$76,2+$A15,FALSE)*H$10,0)","v":1500},{"$f":"ROUND(HLOOKUP(I$5,'Исходные данные'!$H$55:$S$76,2+$A15,FALSE)*I$10,0)","v":1500},{"$f":"ROUND(HLOOKUP(J$5,'Исходные данные'!$H$55:$S$76,2+$A15,FALSE)*J$10,0)","v":1320},{"$f":"ROUND(HLOOKUP(K$5,'Исходные данные'!$H$55:$S$76,2+$A15,FALSE)*K$10,0)","v":1320},{"$f":"ROUND(HLOOKUP(L$5,'Исходные данные'!$H$55:$S$76,2+$A15,FALSE)*L$10,0)","v":1320},{"$f":"ROUND(HLOOKUP(M$5,'Исходные данные'!$H$55:$S$76,2+$A15,FALSE)*M$10,0)","v":1320},{"$f":"ROUND(HLOOKUP(N$5,'Исходные данные'!$H$55:$S$76,2+$A15,FALSE)*N$10,0)","v":1320},{"$f":"ROUND(HLOOKUP(O$5,'Исходные данные'!$H$55:$S$76,2+$A15,FALSE)*O$10,0)","v":1500},{"$f":"ROUND(HLOOKUP(P$5,'Исходные данные'!$H$55:$S$76,2+$A15,FALSE)*P$10,0)","v":1500},{"$f":"ROUND(HLOOKUP(Q$5,'Исходные данные'!$H$55:$S$76,2+$A15,FALSE)*Q$10,0)","v":1800},{"$f":"ROUND(HLOOKUP(R$5,'Исходные данные'!$H$55:$S$76,2+$A15,FALSE)*R$10,0)","v":1800},{"$f":"ROUND(HLOOKUP(S$5,'Исходные данные'!$H$55:$S$76,2+$A15,FALSE)*S$10,0)","v":1800},{"$f":"ROUND(HLOOKUP(T$5,'Исходные данные'!$H$55:$S$76,2+$A15,FALSE)*T$10,0)","v":1500},{"$f":"ROUND(HLOOKUP(U$5,'Исходные данные'!$H$55:$S$76,2+$A15,FALSE)*U$10,0)","v":1500},{"$f":"ROUND(HLOOKUP(V$5,'Исходные данные'!$H$55:$S$76,2+$A15,FALSE)*V$10,0)","v":1320},{"$f":"ROUND(HLOOKUP(W$5,'Исходные данные'!$H$55:$S$76,2+$A15,FALSE)*W$10,0)","v":1320},{"$f":"ROUND(HLOOKUP(X$5,'Исходные данные'!$H$55:$S$76,2+$A15,FALSE)*X$10,0)","v":1320},{"$f":"ROUND(HLOOKUP(Y$5,'Исходные данные'!$H$55:$S$76,2+$A15,FALSE)*Y$10,0)","v":1320},{"$f":"ROUND(HLOOKUP(Z$5,'Исходные данные'!$H$55:$S$76,2+$A15,FALSE)*Z$10,0)","v":1320},{"$f":"ROUND(HLOOKUP(AA$5,'Исходные данные'!$H$55:$S$76,2+$A15,FALSE)*AA$10,0)","v":1500},{"$f":"ROUND(HLOOKUP(AB$5,'Исходные данные'!$H$55:$S$76,2+$A15,FALSE)*AB$10,0)","v":1500},{"$f":"ROUND(HLOOKUP(AC$5,'Исходные данные'!$H$55:$S$76,2+$A15,FALSE)*AC$10,0)","v":1800},{"$f":"ROUND(HLOOKUP(AD$5,'Исходные данные'!$H$55:$S$76,2+$A15,FALSE)*AD$10,0)","v":1800},{"$f":"ROUND(HLOOKUP(AE$5,'Исходные данные'!$H$55:$S$76,2+$A15,FALSE)*AE$10,0)","v":1800},{"$f":"ROUND(HLOOKUP(AF$5,'Исходные данные'!$H$55:$S$76,2+$A15,FALSE)*AF$10,0)","v":1500},{"$f":"ROUND(HLOOKUP(AG$5,'Исходные данные'!$H$55:$S$76,2+$A15,FALSE)*AG$10,0)","v":1500},{"$f":"ROUND(HLOOKUP(AH$5,'Исходные данные'!$H$55:$S$76,2+$A15,FALSE)*AH$10,0)","v":1320},{"$f":"ROUND(HLOOKUP(AI$5,'Исходные данные'!$H$55:$S$76,2+$A15,FALSE)*AI$10,0)","v":1320},{"$f":"ROUND(HLOOKUP(AJ$5,'Исходные данные'!$H$55:$S$76,2+$A15,FALSE)*AJ$10,0)","v":1320},{"$f":"ROUND(HLOOKUP(AK$5,'Исходные данные'!$H$55:$S$76,2+$A15,FALSE)*AK$10,0)","v":1320},{"$f":"ROUND(HLOOKUP(AL$5,'Исходные данные'!$H$55:$S$76,2+$A15,FALSE)*AL$10,0)","v":1320},{"$f":"ROUND(HLOOKUP(AM$5,'Исходные данные'!$H$55:$S$76,2+$A15,FALSE)*AM$10,0)","v":1500},{"$f":"ROUND(HLOOKUP(AN$5,'Исходные данные'!$H$55:$S$76,2+$A15,FALSE)*AN$10,0)","v":1500},{"$f":"ROUND(HLOOKUP(AO$5,'Исходные данные'!$H$55:$S$76,2+$A15,FALSE)*AO$10,0)","v":1800},{"$f":"ROUND(HLOOKUP(AP$5,'Исходные данные'!$H$55:$S$76,2+$A15,FALSE)*AP$10,0)","v":1800},{"$f":"ROUND(HLOOKUP(AQ$5,'Исходные данные'!$H$55:$S$76,2+$A15,FALSE)*AQ$10,0)","v":1800},{"$f":"ROUND(HLOOKUP(AR$5,'Исходные данные'!$H$55:$S$76,2+$A15,FALSE)*AR$10,0)","v":1500},{"$f":"ROUND(HLOOKUP(AS$5,'Исходные данные'!$H$55:$S$76,2+$A15,FALSE)*AS$10,0)","v":1500},{"$f":"ROUND(HLOOKUP(AT$5,'Исходные данные'!$H$55:$S$76,2+$A15,FALSE)*AT$10,0)","v":1320},{"$f":"ROUND(HLOOKUP(AU$5,'Исходные данные'!$H$55:$S$76,2+$A15,FALSE)*AU$10,0)","v":1320},{"$f":"ROUND(HLOOKUP(AV$5,'Исходные данные'!$H$55:$S$76,2+$A15,FALSE)*AV$10,0)","v":1320},{"$f":"ROUND(HLOOKUP(AW$5,'Исходные данные'!$H$55:$S$76,2+$A15,FALSE)*AW$10,0)","v":1320},{"$f":"ROUND(HLOOKUP(AX$5,'Исходные данные'!$H$55:$S$76,2+$A15,FALSE)*AX$10,0)","v":1320},{"$f":"ROUND(HLOOKUP(AY$5,'Исходные данные'!$H$55:$S$76,2+$A15,FALSE)*AY$10,0)","v":1500},{"$f":"ROUND(HLOOKUP(AZ$5,'Исходные данные'!$H$55:$S$76,2+$A15,FALSE)*AZ$10,0)","v":1500},{"$f":"ROUND(HLOOKUP(BA$5,'Исходные данные'!$H$55:$S$76,2+$A15,FALSE)*BA$10,0)","v":1800},{"$f":"ROUND(HLOOKUP(BB$5,'Исходные данные'!$H$55:$S$76,2+$A15,FALSE)*BB$10,0)","v":1800},{"$f":"ROUND(HLOOKUP(BC$5,'Исходные данные'!$H$55:$S$76,2+$A15,FALSE)*BC$10,0)","v":1800},{"$f":"ROUND(HLOOKUP(BD$5,'Исходные данные'!$H$55:$S$76,2+$A15,FALSE)*BD$10,0)","v":1500},{"$f":"ROUND(HLOOKUP(BE$5,'Исходные данные'!$H$55:$S$76,2+$A15,FALSE)*BE$10,0)","v":1500},{"$f":"ROUND(HLOOKUP(BF$5,'Исходные данные'!$H$55:$S$76,2+$A15,FALSE)*BF$10,0)","v":1320},{"$f":"ROUND(HLOOKUP(BG$5,'Исходные данные'!$H$55:$S$76,2+$A15,FALSE)*BG$10,0)","v":1320},{"$f":"ROUND(HLOOKUP(BH$5,'Исходные данные'!$H$55:$S$76,2+$A15,FALSE)*BH$10,0)","v":1320},{"$f":"ROUND(HLOOKUP(BI$5,'Исходные данные'!$H$55:$S$76,2+$A15,FALSE)*BI$10,0)","v":1320},{"$f":"ROUND(HLOOKUP(BJ$5,'Исходные данные'!$H$55:$S$76,2+$A15,FALSE)*BJ$10,0)","v":1320},{"$f":"ROUND(HLOOKUP(BK$5,'Исходные данные'!$H$55:$S$76,2+$A15,FALSE)*BK$10,0)","v":1500}]
[5,{"$f":"IF(OR('Исходные данные'!B19=0,'Исходные данные'!B19=\"\"),\"\",'Исходные данные'!B19)","v":"Чай"},66714,{"$f":"ROUND(HLOOKUP(D$5,'Исходные данные'!$H$55:$S$76,2+$A16,FALSE)*D$10,0)","v":788},{"$f":"ROUND(HLOOKUP(E$5,'Исходные данные'!$H$55:$S$76,2+$A16,FALSE)*E$10,0)","v":900},{"$f":"ROUND(HLOOKUP(F$5,'Исходные данные'!$H$55:$S$76,2+$A16,FALSE)*F$10,0)","v":1013},{"$f":"ROUND(HLOOKUP(G$5,'Исходные данные'!$H$55:$S$76,2+$A16,FALSE)*G$10,0)","v":1013},{"$f":"ROUND(HLOOKUP(H$5,'Исходные данные'!$H$55:$S$76,2+$A16,FALSE)*H$10,0)","v":1125},{"$f":"ROUND(HLOOKUP(I$5,'Исходные данные'!$H$55:$S$76,2+$A16,FALSE)*I$10,0)","v":1125},{"$f":"ROUND(HLOOKUP(J$5,'Исходные данные'!$H$55:$S$76,2+$A16,FALSE)*J$10,0)","v":1125},{"$f":"ROUND(HLOOKUP(K$5,'Исходные данные'!$H$55:$S$76,2+$A16,FALSE)*K$10,0)","v":1125},{"$f":"ROUND(HLOOKUP(L$5,'Исходные данные'!$H$55:$S$76,2+$A16,FALSE)*L$10,0)","v":1125},{"$f":"ROUND(HLOOKUP(M$5,'Исходные данные'!$H$55:$S$76,2+$A16,FALSE)*M$10,0)","v":1125},{"$f":"ROUND(HLOOKUP(N$5,'Исходные данные'!$H$55:$S$76,2+$A16,FALSE)*N$10,0)","v":1125},{"$f":"ROUND(HLOOKUP(O$5,'Исходные данные'!$H$55:$S$76,2+$A16,FALSE)*O$10,0)","v":1125},{"$f":"ROUND(HLOOKUP(P$5,'Исходные данные'!$H$55:$S$76,2+$A16,FALSE)*P$10,0)","v":1125},{"$f":"ROUND(HLOOKUP(Q$5,'Исходные данные'!$H$55:$S$76,2+$A16,FALSE)*Q$10,0)","v":1125},{"$f":"ROUND(HLOOKUP(R$5,'Исходные данные'!$H$55:$S$76,2+$A16,FALSE)*R$10,0)","v":1125},{"$f":"ROUND(HLOOKUP(S$5,'Исходные данные'!$H$55:$S$76,2+$A16,FALSE)*S$10,0)","v":1125},{"$f":"ROUND(HLOOKUP(T$5,'Исходные данные'!$H$55:$S$76,2+$A16,FALSE)*T$10,0)","v":1125},{"$f":"ROUND(HLOOKUP(U$5,'Исходные данные'!$H$55:$S$76,2+$A16,FALSE)*U$10,0)","v":1125},{"$f":"ROUND(HLOOKUP(V$5,'Исходные данные'!$H$55:$S$76,2+$A16,FALSE)*V$10,0)","v":1125},{"$f":"ROUND(HLOOKUP(W$5,'Исходные данные'!$H$55:$S$76,2+$A16,FALSE)*W$10,0)","v":1125},{"$f":"ROUND(HLOOKUP(X$5,'Исходные данные'!$H$55:$S$76,2+$A16,FALSE)*X$10,0)","v":1125},{"$f":"ROUND(HLOOKUP(Y$5,'Исходные данные'!$H$55:$S$76,2+$A16,FALSE)*Y$10,0)","v":1125},{"$f":"ROUND(HLOOKUP(Z$5,'Исходные данные'!$H$55:$S$76,2+$A16,FALSE)*Z$10,0)","v":1125},{"$f":"ROUND(HLOOKUP(AA$5,'Исходные данные'!$H$55:$S$76,2+$A16,FALSE)*AA$10,0)","v":1125},{"$f":"ROUND(HLOOKUP(AB$5,'Исходные данные'!$H$55:$S$76,2+$A16,FALSE)*AB$10,0)","v":1125},{"$f":"ROUND(HLOOKUP(AC$5,'Исходные данные'!$H$55:$S$76,2+$A16,FALSE)*AC$10,0)","v":1125},{"$f":"ROUND(HLOOKUP(AD$5,'Исходные данные'!$H$55:$S$76,2+$A16,FALSE)*AD$10,0)","v":1125},{"$f":"ROUND(HLOOKUP(AE$5,'Исходные данные'!$H$55:$S$76,2+$A16,FALSE)*AE$10,0)","v":1125},{"$f":"ROUND(HLOOKUP(AF$5,'Исходные данные'!$H$55:$S$76,2+$A16,FALSE)*AF$10,0)","v":1125},{"$f":"ROUND(HLOOKUP(AG$5,'Исходные данные'!$H$55:$S$76,2+$A16,FALSE)*AG$10,0)","v":1125},{"$f":"ROUND(HLOOKUP(AH$5,'Исходные данные'!$H$55:$S$76,2+$A16,FALSE)*AH$10,0)","v":1125},{"$f":"ROUND(HLOOKUP(AI$5,'Исходные данные'!$H$55:$S$76,2+$A16,FALSE)*AI$10,0)","v":1125},{"$f":"ROUND(HLOOKUP(AJ$5,'Исходные данные'!$H$55:$S$76,2+$A16,FALSE)*AJ$10,0)","v":1125},{"$f":"ROUND(HLOOKUP(AK$5,'Исходные данные'!$H$55:$S$76,2+$A16,FALSE)*AK$10,0)","v":1125},{"$f":"ROUND(HLOOKUP(AL$5,'Исходные данные'!$H$55:$S$76,2+$A16,FALSE)*AL$10,0)","v":1125},{"$f":"ROUND(HLOOKUP(AM$5,'Исходные данные'!$H$55:$S$76,2+$A16,FALSE)*AM$10,0)","v":1125},{"$f":"ROUND(HLOOKUP(AN$5,'Исходные данные'!$H$55:$S$76,2+$A16,FALSE)*AN$10,0)","v":1125},{"$f":"ROUND(HLOOKUP(AO$5,'Исходные данные'!$H$55:$S$76,2+$A16,FALSE)*AO$10,0)","v":1125},{"$f":"ROUND(HLOOKUP(AP$5,'Исходные данные'!$H$55:$S$76,2+$A16,FALSE)*AP$10,0)","v":1125},{"$f":"ROUND(HLOOKUP(AQ$5,'Исходные данные'!$H$55:$S$76,2+$A16,FALSE)*AQ$10,0)","v":1125},{"$f":"ROUND(HLOOKUP(AR$5,'Исходные данные'!$H$55:$S$76,2+$A16,FALSE)*AR$10,0)","v":1125},{"$f":"ROUND(HLOOKUP(AS$5,'Исходные данные'!$H$55:$S$76,2+$A16,FALSE)*AS$10,0)","v":1125},{"$f":"ROUND(HLOOKUP(AT$5,'Исходные данные'!$H$55:$S$76,2+$A16,FALSE)*AT$10,0)","v":1125},{"$f":"ROUND(HLOOKUP(AU$5,'Исходные данные'!$H$55:$S$76,2+$A16,FALSE)*AU$10,0)","v":1125},{"$f":"ROUND(HLOOKUP(AV$5,'Исходные данные'!$H$55:$S$76,2+$A16,FALSE)*AV$10,0)","v":1125},{"$f":"ROUND(HLOOKUP(AW$5,'Исходные данные'!$H$55:$S$76,2+$A16,FALSE)*AW$10,0)","v":1125},{"$f":"ROUND(HLOOKUP(AX$5,'Исходные данные'!$H$55:$S$76,2+$A16,FALSE)*AX$10,0)","v":1125},{"$f":"ROUND(HLOOKUP(AY$5,'Исходные данные'!$H$55:$S$76,2+$A16,FALSE)*AY$10,0)","v":1125},{"$f":"ROUND(HLOOKUP(AZ$5,'Исходные данные'!$H$55:$S$76,2+$A16,FALSE)*AZ$10,0)","v":1125},{"$f":"ROUND(HLOOKUP(BA$5,'Исходные данные'!$H$55:$S$76,2+$A16,FALSE)*BA$10,0)","v":1125},{"$f":"ROUND(HLOOKUP(BB$5,'Исходные данные'!$H$55:$S$76,2+$A16,FALSE)*BB$10,0)","v":1125},{"$f":"ROUND(HLOOKUP(BC$5,'Исходные данные'!$H$55:$S$76,2+$A16,FALSE)*BC$10,0)","v":1125},{"$f":"ROUND(HLOOKUP(BD$5,'Исходные данные'!$H$55:$S$76,2+$A16,FALSE)*BD$10,0)","v":1125},{"$f":"ROUND(HLOOKUP(BE$5,'Исходные данные'!$H$55:$S$76,2+$A16,FALSE)*BE$10,0)","v":1125},{"$f":"ROUND(HLOOKUP(BF$5,'Исходные данные'!$H$55:$S$76,2+$A16,FALSE)*BF$10,0)","v":1125},{"$f":"ROUND(HLOOKUP(BG$5,'Исходные данные'!$H$55:$S$76,2+$A16,FALSE)*BG$10,0)","v":1125},{"$f":"ROUND(HLOOKUP(BH$5,'Исходные данные'!$H$55:$S$76,2+$A16,FALSE)*BH$10,0)","v":1125},{"$f":"ROUND(HLOOKUP(BI$5,'Исходные данные'!$H$55:$S$76,2+$A16,FALSE)*BI$10,0)","v":1125},{"$f":"ROUND(HLOOKUP(BJ$5,'Исходные данные'!$H$55:$S$76,2+$A16,FALSE)*BJ$10,0)","v":1125},{"$f":"ROUND(HLOOKUP(BK$5,'Исходные данные'!$H$55:$S$76,2+$A16,FALSE)*BK$10,0)","v":1125}]
[6,{"$f":"IF(OR('Исходные данные'!B20=0,'Исходные данные'!B20=\"\"),\"\",'Исходные данные'!B20)","v":""},0,{"$f":"ROUND(HLOOKUP(D$5,'Исходные данные'!$H$55:$S$76,2+$A17,FALSE)*D$10,0)","v":0},{"$f":"ROUND(HLOOKUP(E$5,'Исходные данные'!$H$55:$S$76,2+$A17,FALSE)*E$10,0)","v":0},{"$f":"ROUND(HLOOKUP(F$5,'Исходные данные'!$H$55:$S$76,2+$A17,FALSE)*F$10,0)","v":0},{"$f":"ROUND(HLOOKUP(G$5,'Исходные данные'!$H$55:$S$76,2+$A17,FALSE)*G$10,0)","v":0},{"$f":"ROUND(HLOOKUP(H$5,'Исходные данные'!$H$55:$S$76,2+$A17,FALSE)*H$10,0)","v":0},{"$f":"ROUND(HLOOKUP(I$5,'Исходные данные'!$H$55:$S$76,2+$A17,FALSE)*I$10,0)","v":0},{"$f":"ROUND(HLOOKUP(J$5,'Исходные данные'!$H$55:$S$76,2+$A17,FALSE)*J$10,0)","v":0},{"$f":"ROUND(HLOOKUP(K$5,'Исходные данные'!$H$55:$S$76,2+$A17,FALSE)*K$10,0)","v":0},{"$f":"ROUND(HLOOKUP(L$5,'Исходные данные'!$H$55:$S$76,2+$A17,FALSE)*L$10,0)","v":0},{"$f":"ROUND(HLOOKUP(M$5,'Исходные данные'!$H$55:$S$76,2+$A17,FALSE)*M$10,0)","v":0},{"$f":"ROUND(HLOOKUP(N$5,'Исходные данные'!$H$55:$S$76,2+$A17,FALSE)*N$10,0)","v":0},{"$f":"ROUND(HLOOKUP(O$5,'Исходные данные'!$H$55:$S$76,2+$A17,FALSE)*O$10,0)","v":0},{"$f":"ROUND(HLOOKUP(P$5,'Исходные данные'!$H$55:$S$76,2+$A17,FALSE)*P$10,0)","v":0},{"$f":"ROUND(HLOOKUP(Q$5,'Исходные данные'!$H$55:$S$76,2+$A17,FALSE)*Q$10,0)","v":0},{"$f":"ROUND(HLOOKUP(R$5,'Исходные данные'!$H$55:$S$76,2+$A17,FALSE)*R$10,0)","v":0},{"$f":"ROUND(HLOOKUP(S$5,'Исходные данные'!$H$55:$S$76,2+$A17,FALSE)*S$10,0)","v":0},{"$f":"ROUND(HLOOKUP(T$5,'Исходные данные'!$H$55:$S$76,2+$A17,FALSE)*T$10,0)","v":0},{"$f":"ROUND(HLOOKUP(U$5,'Исходные данные'!$H$55:$S$76,2+$A17,FALSE)*U$10,0)","v":0},{"$f":"ROUND(HLOOKUP(V$5,'Исходные данные'!$H$55:$S$76,2+$A17,FALSE)*V$10,0)","v":0},{"$f":"ROUND(HLOOKUP(W$5,'Исходные данные'!$H$55:$S$76,2+$A17,FALSE)*W$10,0)","v":0},{"$f":"ROUND(HLOOKUP(X$5,'Исходные данные'!$H$55:$S$76,2+$A17,FALSE)*X$10,0)","v":0},{"$f":"ROUND(HLOOKUP(Y$5,'Исходные данные'!$H$55:$S$76,2+$A17,FALSE)*Y$10,0)","v":0},{"$f":"ROUND(HLOOKUP(Z$5,'Исходные данные'!$H$55:$S$76,2+$A17,FALSE)*Z$10,0)","v":0},{"$f":"ROUND(HLOOKUP(AA$5,'Исходные данные'!$H$55:$S$76,2+$A17,FALSE)*AA$10,0)","v":0},{"$f":"ROUND(HLOOKUP(AB$5,'Исходные данные'!$H$55:$S$76,2+$A17,FALSE)*AB$10,0)","v":0},{"$f":"ROUND(HLOOKUP(AC$5,'Исходные данные'!$H$55:$S$76,2+$A17,FALSE)*AC$10,0)","v":0},{"$f":"ROUND(HLOOKUP(AD$5,'Исходные данные'!$H$55:$S$76,2+$A17,FALSE)*AD$10,0)","v":0},{"$f":"ROUND(HLOOKUP(AE$5,'Исходные данные'!$H$55:$S$76,2+$A17,FALSE)*AE$10,0)","v":0},{"$f":"ROUND(HLOOKUP(AF$5,'Исходные данные'!$H$55:$S$76,2+$A17,FALSE)*AF$10,0)","v":0},{"$f":"ROUND(HLOOKUP(AG$5,'Исходные данные'!$H$55:$S$76,2+$A17,FALSE)*AG$10,0)","v":0},{"$f":"ROUND(HLOOKUP(AH$5,'Исходные данные'!$H$55:$S$76,2+$A17,FALSE)*AH$10,0)","v":0},{"$f":"ROUND(HLOOKUP(AI$5,'Исходные данные'!$H$55:$S$76,2+$A17,FALSE)*AI$10,0)","v":0},{"$f":"ROUND(HLOOKUP(AJ$5,'Исходные данные'!$H$55:$S$76,2+$A17,FALSE)*AJ$10,0)","v":0},{"$f":"ROUND(HLOOKUP(AK$5,'Исходные данные'!$H$55:$S$76,2+$A17,FALSE)*AK$10,0)","v":0},{"$f":"ROUND(HLOOKUP(AL$5,'Исходные данные'!$H$55:$S$76,2+$A17,FALSE)*AL$10,0)","v":0},{"$f":"ROUND(HLOOKUP(AM$5,'Исходные данные'!$H$55:$S$76,2+$A17,FALSE)*AM$10,0)","v":0},{"$f":"ROUND(HLOOKUP(AN$5,'Исходные данные'!$H$55:$S$76,2+$A17,FALSE)*AN$10,0)","v":0},{"$f":"ROUND(HLOOKUP(AO$5,'Исходные данные'!$H$55:$S$76,2+$A17,FALSE)*AO$10,0)","v":0},{"$f":"ROUND(HLOOKUP(AP$5,'Исходные данные'!$H$55:$S$76,2+$A17,FALSE)*AP$10,0)","v":0},{"$f":"ROUND(HLOOKUP(AQ$5,'Исходные данные'!$H$55:$S$76,2+$A17,FALSE)*AQ$10,0)","v":0},{"$f":"ROUND(HLOOKUP(AR$5,'Исходные данные'!$H$55:$S$76,2+$A17,FALSE)*AR$10,0)","v":0},{"$f":"ROUND(HLOOKUP(AS$5,'Исходные данные'!$H$55:$S$76,2+$A17,FALSE)*AS$10,0)","v":0},{"$f":"ROUND(HLOOKUP(AT$5,'Исходные данные'!$H$55:$S$76,2+$A17,FALSE)*AT$10,0)","v":0},{"$f":"ROUND(HLOOKUP(AU$5,'Исходные данные'!$H$55:$S$76,2+$A17,FALSE)*AU$10,0)","v":0},{"$f":"ROUND(HLOOKUP(AV$5,'Исходные данные'!$H$55:$S$76,2+$A17,FALSE)*AV$10,0)","v":0},{"$f":"ROUND(HLOOKUP(AW$5,'Исходные данные'!$H$55:$S$76,2+$A17,FALSE)*AW$10,0)","v":0},{"$f":"ROUND(HLOOKUP(AX$5,'Исходные данные'!$H$55:$S$76,2+$A17,FALSE)*AX$10,0)","v":0},{"$f":"ROUND(HLOOKUP(AY$5,'Исходные данные'!$H$55:$S$76,2+$A17,FALSE)*AY$10,0)","v":0},{"$f":"ROUND(HLOOKUP(AZ$5,'Исходные данные'!$H$55:$S$76,2+$A17,FALSE)*AZ$10,0)","v":0},{"$f":"ROUND(HLOOKUP(BA$5,'Исходные данные'!$H$55:$S$76,2+$A17,FALSE)*BA$10,0)","v":0},{"$f":"ROUND(HLOOKUP(BB$5,'Исходные данные'!$H$55:$S$76,2+$A17,FALSE)*BB$10,0)","v":0},{"$f":"ROUND(HLOOKUP(BC$5,'Исходные данные'!$H$55:$S$76,2+$A17,FALSE)*BC$10,0)","v":0},{"$f":"ROUND(HLOOKUP(BD$5,'Исходные данные'!$H$55:$S$76,2+$A17,FALSE)*BD$10,0)","v":0},{"$f":"ROUND(HLOOKUP(BE$5,'Исходные данные'!$H$55:$S$76,2+$A17,FALSE)*BE$10,0)","v":0},{"$f":"ROUND(HLOOKUP(BF$5,'Исходные данные'!$H$55:$S$76,2+$A17,FALSE)*BF$10,0)","v":0},{"$f":"ROUND(HLOOKUP(BG$5,'Исходные данные'!$H$55:$S$76,2+$A17,FALSE)*BG$10,0)","v":0},{"$f":"ROUND(HLOOKUP(BH$5,'Исходные данные'!$H$55:$S$76,2+$A17,FALSE)*BH$10,0)","v":0},{"$f":"ROUND(HLOOKUP(BI$5,'Исходные данные'!$H$55:$S$76,2+$A17,FALSE)*BI$10,0)","v":0},{"$f":"ROUND(HLOOKUP(BJ$5,'Исходные данные'!$H$55:$S$76,2+$A17,FALSE)*BJ$10,0)","v":0},{"$f":"ROUND(HLOOKUP(BK$5,'Исходные данные'!$H$55:$S$76,2+$A17,FALSE)*BK$10,0)","v":0}]
[7,{"$f":"IF(OR('Исходные данные'!B21=0,'Исходные данные'!B21=\"\"),\"\",'Исходные данные'!B21)","v":""},0,{"$f":"ROUND(HLOOKUP(D$5,'Исходные данные'!$H$55:$S$76,2+$A18,FALSE)*D$10,0)","v":0},{"$f":"ROUND(HLOOKUP(E$5,'Исходные данные'!$H$55:$S$76,2+$A18,FALSE)*E$10,0)","v":0},{"$f":"ROUND(HLOOKUP(F$5,'Исходные данные'!$H$55:$S$76,2+$A18,FALSE)*F$10,0)","v":0},{"$f":"ROUND(HLOOKUP(G$5,'Исходные данные'!$H$55:$S$76,2+$A18,FALSE)*G$10,0)","v":0},{"$f":"ROUND(HLOOKUP(H$5,'Исходные данные'!$H$55:$S$76,2+$A18,FALSE)*H$10,0)","v":0},{"$f":"ROUND(HLOOKUP(I$5,'Исходные данные'!$H$55:$S$76,2+$A18,FALSE)*I$10,0)","v":0},{"$f":"ROUND(HLOOKUP(J$5,'Исходные данные'!$H$55:$S$76,2+$A18,FALSE)*J$10,0)","v":0},{"$f":"ROUND(HLOOKUP(K$5,'Исходные данные'!$H$55:$S$76,2+$A18,FALSE)*K$10,0)","v":0},{"$f":"ROUND(HLOOKUP(L$5,'Исходные данные'!$H$55:$S$76,2+$A18,FALSE)*L$10,0)","v":0},{"$f":"ROUND(HLOOKUP(M$5,'Исходные данные'!$H$55:$S$76,2+$A18,FALSE)*M$10,0)","v":0},{"$f":"ROUND(HLOOKUP(N$5,'Исходные данные'!$H$55:$S$76,2+$A18,FALSE)*N$10,0)","v":0},{"$f":"ROUND(HLOOKUP(O$5,'Исходные данные'!$H$55:$S$76,2+$A18,FALSE)*O$10,0)","v":0},{"$f":"ROUND(HLOOKUP(P$5,'Исходные данные'!$H$55:$S$76,2+$A18,FALSE)*P$10,0)","v":0},{"$f":"ROUND(HLOOKUP(Q$5,'Исходные данные'!$H$55:$S$76,2+$A18,FALSE)*Q$10,0)","v":0},{"$f":"ROUND(HLOOKUP(R$5,'Исходные данные'!$H$55:$S$76,2+$A18,FALSE)*R$10,0)","v":0},{"$f":"ROUND(HLOOKUP(S$5,'Исходные данные'!$H$55:$S$76,2+$A18,FALSE)*S$10,0)","v":0},{"$f":"ROUND(HLOOKUP(T$5,'Исходные данные'!$H$55:$S$76,2+$A18,FALSE)*T$10,0)","v":0},{"$f":"ROUND(HLOOKUP(U$5,'Исходные данные'!$H$55:$S$76,2+$A18,FALSE)*U$10,0)","v":0},{"$f":"ROUND(HLOOKUP(V$5,'Исходные данные'!$H$55:$S$76,2+$A18,FALSE)*V$10,0)","v":0},{"$f":"ROUND(HLOOKUP(W$5,'Исходные данные'!$H$55:$S$76,2+$A18,FALSE)*W$10,0)","v":0},{"$f":"ROUND(HLOOKUP(X$5,'Исходные данные'!$H$55:$S$76,2+$A18,FALSE)*X$10,0)","v":0},{"$f":"ROUND(HLOOKUP(Y$5,'Исходные данные'!$H$55:$S$76,2+$A18,FALSE)*Y$10,0)","v":0},{"$f":"ROUND(HLOOKUP(Z$5,'Исходные данные'!$H$55:$S$76,2+$A18,FALSE)*Z$10,0)","v":0},{"$f":"ROUND(HLOOKUP(AA$5,'Исходные данные'!$H$55:$S$76,2+$A18,FALSE)*AA$10,0)","v":0},{"$f":"ROUND(HLOOKUP(AB$5,'Исходные данные'!$H$55:$S$76,2+$A18,FALSE)*AB$10,0)","v":0},{"$f":"ROUND(HLOOKUP(AC$5,'Исходные данные'!$H$55:$S$76,2+$A18,FALSE)*AC$10,0)","v":0},{"$f":"ROUND(HLOOKUP(AD$5,'Исходные данные'!$H$55:$S$76,2+$A18,FALSE)*AD$10,0)","v":0},{"$f":"ROUND(HLOOKUP(AE$5,'Исходные данные'!$H$55:$S$76,2+$A18,FALSE)*AE$10,0)","v":0},{"$f":"ROUND(HLOOKUP(AF$5,'Исходные данные'!$H$55:$S$76,2+$A18,FALSE)*AF$10,0)","v":0},{"$f":"ROUND(HLOOKUP(AG$5,'Исходные данные'!$H$55:$S$76,2+$A18,FALSE)*AG$10,0)","v":0},{"$f":"ROUND(HLOOKUP(AH$5,'Исходные данные'!$H$55:$S$76,2+$A18,FALSE)*AH$10,0)","v":0},{"$f":"ROUND(HLOOKUP(AI$5,'Исходные данные'!$H$55:$S$76,2+$A18,FALSE)*AI$10,0)","v":0},{"$f":"ROUND(HLOOKUP(AJ$5,'Исходные данные'!$H$55:$S$76,2+$A18,FALSE)*AJ$10,0)","v":0},{"$f":"ROUND(HLOOKUP(AK$5,'Исходные данные'!$H$55:$S$76,2+$A18,FALSE)*AK$10,0)","v":0},{"$f":"ROUND(HLOOKUP(AL$5,'Исходные данные'!$H$55:$S$76,2+$A18,FALSE)*AL$10,0)","v":0},{"$f":"ROUND(HLOOKUP(AM$5,'Исходные данные'!$H$55:$S$76,2+$A18,FALSE)*AM$10,0)","v":0},{"$f":"ROUND(HLOOKUP(AN$5,'Исходные данные'!$H$55:$S$76,2+$A18,FALSE)*AN$10,0)","v":0},{"$f":"ROUND(HLOOKUP(AO$5,'Исходные данные'!$H$55:$S$76,2+$A18,FALSE)*AO$10,0)","v":0},{"$f":"ROUND(HLOOKUP(AP$5,'Исходные данные'!$H$55:$S$76,2+$A18,FALSE)*AP$10,0)","v":0},{"$f":"ROUND(HLOOKUP(AQ$5,'Исходные данные'!$H$55:$S$76,2+$A18,FALSE)*AQ$10,0)","v":0},{"$f":"ROUND(HLOOKUP(AR$5,'Исходные данные'!$H$55:$S$76,2+$A18,FALSE)*AR$10,0)","v":0},{"$f":"ROUND(HLOOKUP(AS$5,'Исходные данные'!$H$55:$S$76,2+$A18,FALSE)*AS$10,0)","v":0},{"$f":"ROUND(HLOOKUP(AT$5,'Исходные данные'!$H$55:$S$76,2+$A18,FALSE)*AT$10,0)","v":0},{"$f":"ROUND(HLOOKUP(AU$5,'Исходные данные'!$H$55:$S$76,2+$A18,FALSE)*AU$10,0)","v":0},{"$f":"ROUND(HLOOKUP(AV$5,'Исходные данные'!$H$55:$S$76,2+$A18,FALSE)*AV$10,0)","v":0},{"$f":"ROUND(HLOOKUP(AW$5,'Исходные данные'!$H$55:$S$76,2+$A18,FALSE)*AW$10,0)","v":0},{"$f":"ROUND(HLOOKUP(AX$5,'Исходные данные'!$H$55:$S$76,2+$A18,FALSE)*AX$10,0)","v":0},{"$f":"ROUND(HLOOKUP(AY$5,'Исходные данные'!$H$55:$S$76,2+$A18,FALSE)*AY$10,0)","v":0},{"$f":"ROUND(HLOOKUP(AZ$5,'Исходные данные'!$H$55:$S$76,2+$A18,FALSE)*AZ$10,0)","v":0},{"$f":"ROUND(HLOOKUP(BA$5,'Исходные данные'!$H$55:$S$76,2+$A18,FALSE)*BA$10,0)","v":0},{"$f":"ROUND(HLOOKUP(BB$5,'Исходные данные'!$H$55:$S$76,2+$A18,FALSE)*BB$10,0)","v":0},{"$f":"ROUND(HLOOKUP(BC$5,'Исходные данные'!$H$55:$S$76,2+$A18,FALSE)*BC$10,0)","v":0},{"$f":"ROUND(HLOOKUP(BD$5,'Исходные данные'!$H$55:$S$76,2+$A18,FALSE)*BD$10,0)","v":0},{"$f":"ROUND(HLOOKUP(BE$5,'Исходные данные'!$H$55:$S$76,2+$A18,FALSE)*BE$10,0)","v":0},{"$f":"ROUND(HLOOKUP(BF$5,'Исходные данные'!$H$55:$S$76,2+$A18,FALSE)*BF$10,0)","v":0},{"$f":"ROUND(HLOOKUP(BG$5,'Исходные данные'!$H$55:$S$76,2+$A18,FALSE)*BG$10,0)","v":0},{"$f":"ROUND(HLOOKUP(BH$5,'Исходные данные'!$H$55:$S$76,2+$A18,FALSE)*BH$10,0)","v":0},{"$f":"ROUND(HLOOKUP(BI$5,'Исходные данные'!$H$55:$S$76,2+$A18,FALSE)*BI$10,0)","v":0},{"$f":"ROUND(HLOOKUP(BJ$5,'Исходные данные'!$H$55:$S$76,2+$A18,FALSE)*BJ$10,0)","v":0},{"$f":"ROUND(HLOOKUP(BK$5,'Исходные данные'!$H$55:$S$76,2+$A18,FALSE)*BK$10,0)","v":0}]
[8,{"$f":"IF(OR('Исходные данные'!B22=0,'Исходные данные'!B22=\"\"),\"\",'Исходные данные'!B22)","v":""},0,{"$f":"ROUND(HLOOKUP(D$5,'Исходные данные'!$H$55:$S$76,2+$A19,FALSE)*D$10,0)","v":0},{"$f":"ROUND(HLOOKUP(E$5,'Исходные данные'!$H$55:$S$76,2+$A19,FALSE)*E$10,0)","v":0},{"$f":"ROUND(HLOOKUP(F$5,'Исходные данные'!$H$55:$S$76,2+$A19,FALSE)*F$10,0)","v":0},{"$f":"ROUND(HLOOKUP(G$5,'Исходные данные'!$H$55:$S$76,2+$A19,FALSE)*G$10,0)","v":0},{"$f":"ROUND(HLOOKUP(H$5,'Исходные данные'!$H$55:$S$76,2+$A19,FALSE)*H$10,0)","v":0},{"$f":"ROUND(HLOOKUP(I$5,'Исходные данные'!$H$55:$S$76,2+$A19,FALSE)*I$10,0)","v":0},{"$f":"ROUND(HLOOKUP(J$5,'Исходные данные'!$H$55:$S$76,2+$A19,FALSE)*J$10,0)","v":0},{"$f":"ROUND(HLOOKUP(K$5,'Исходные данные'!$H$55:$S$76,2+$A19,FALSE)*K$10,0)","v":0},{"$f":"ROUND(HLOOKUP(L$5,'Исходные данные'!$H$55:$S$76,2+$A19,FALSE)*L$10,0)","v":0},{"$f":"ROUND(HLOOKUP(M$5,'Исходные данные'!$H$55:$S$76,2+$A19,FALSE)*M$10,0)","v":0},{"$f":"ROUND(HLOOKUP(N$5,'Исходные данные'!$H$55:$S$76,2+$A19,FALSE)*N$10,0)","v":0},{"$f":"ROUND(HLOOKUP(O$5,'Исходные данные'!$H$55:$S$76,2+$A19,FALSE)*O$10,0)","v":0},{"$f":"ROUND(HLOOKUP(P$5,'Исходные данные'!$H$55:$S$76,2+$A19,FALSE)*P$10,0)","v":0},{"$f":"ROUND(HLOOKUP(Q$5,'Исходные данные'!$H$55:$S$76,2+$A19,FALSE)*Q$10,0)","v":0},{"$f":"ROUND(HLOOKUP(R$5,'Исходные данные'!$H$55:$S$76,2+$A19,FALSE)*R$10,0)","v":0},{"$f":"ROUND(HLOOKUP(S$5,'Исходные данные'!$H$55:$S$76,2+$A19,FALSE)*S$10,0)","v":0},{"$f":"ROUND(HLOOKUP(T$5,'Исходные данные'!$H$55:$S$76,2+$A19,FALSE)*T$10,0)","v":0},{"$f":"ROUND(HLOOKUP(U$5,'Исходные данные'!$H$55:$S$76,2+$A19,FALSE)*U$10,0)","v":0},{"$f":"ROUND(HLOOKUP(V$5,'Исходные данные'!$H$55:$S$76,2+$A19,FALSE)*V$10,0)","v":0},{"$f":"ROUND(HLOOKUP(W$5,'Исходные данные'!$H$55:$S$76,2+$A19,FALSE)*W$10,0)","v":0},{"$f":"ROUND(HLOOKUP(X$5,'Исходные данные'!$H$55:$S$76,2+$A19,FALSE)*X$10,0)","v":0},{"$f":"ROUND(HLOOKUP(Y$5,'Исходные данные'!$H$55:$S$76,2+$A19,FALSE)*Y$10,0)","v":0},{"$f":"ROUND(HLOOKUP(Z$5,'Исходные данные'!$H$55:$S$76,2+$A19,FALSE)*Z$10,0)","v":0},{"$f":"ROUND(HLOOKUP(AA$5,'Исходные данные'!$H$55:$S$76,2+$A19,FALSE)*AA$10,0)","v":0},{"$f":"ROUND(HLOOKUP(AB$5,'Исходные данные'!$H$55:$S$76,2+$A19,FALSE)*AB$10,0)","v":0},{"$f":"ROUND(HLOOKUP(AC$5,'Исходные данные'!$H$55:$S$76,2+$A19,FALSE)*AC$10,0)","v":0},{"$f":"ROUND(HLOOKUP(AD$5,'Исходные данные'!$H$55:$S$76,2+$A19,FALSE)*AD$10,0)","v":0},{"$f":"ROUND(HLOOKUP(AE$5,'Исходные данные'!$H$55:$S$76,2+$A19,FALSE)*AE$10,0)","v":0},{"$f":"ROUND(HLOOKUP(AF$5,'Исходные данные'!$H$55:$S$76,2+$A19,FALSE)*AF$10,0)","v":0},{"$f":"ROUND(HLOOKUP(AG$5,'Исходные данные'!$H$55:$S$76,2+$A19,FALSE)*AG$10,0)","v":0},{"$f":"ROUND(HLOOKUP(AH$5,'Исходные данные'!$H$55:$S$76,2+$A19,FALSE)*AH$10,0)","v":0},{"$f":"ROUND(HLOOKUP(AI$5,'Исходные данные'!$H$55:$S$76,2+$A19,FALSE)*AI$10,0)","v":0},{"$f":"ROUND(HLOOKUP(AJ$5,'Исходные данные'!$H$55:$S$76,2+$A19,FALSE)*AJ$10,0)","v":0},{"$f":"ROUND(HLOOKUP(AK$5,'Исходные данные'!$H$55:$S$76,2+$A19,FALSE)*AK$10,0)","v":0},{"$f":"ROUND(HLOOKUP(AL$5,'Исходные данные'!$H$55:$S$76,2+$A19,FALSE)*AL$10,0)","v":0},{"$f":"ROUND(HLOOKUP(AM$5,'Исходные данные'!$H$55:$S$76,2+$A19,FALSE)*AM$10,0)","v":0},{"$f":"ROUND(HLOOKUP(AN$5,'Исходные данные'!$H$55:$S$76,2+$A19,FALSE)*AN$10,0)","v":0},{"$f":"ROUND(HLOOKUP(AO$5,'Исходные данные'!$H$55:$S$76,2+$A19,FALSE)*AO$10,0)","v":0},{"$f":"ROUND(HLOOKUP(AP$5,'Исходные данные'!$H$55:$S$76,2+$A19,FALSE)*AP$10,0)","v":0},{"$f":"ROUND(HLOOKUP(AQ$5,'Исходные данные'!$H$55:$S$76,2+$A19,FALSE)*AQ$10,0)","v":0},{"$f":"ROUND(HLOOKUP(AR$5,'Исходные данные'!$H$55:$S$76,2+$A19,FALSE)*AR$10,0)","v":0},{"$f":"ROUND(HLOOKUP(AS$5,'Исходные данные'!$H$55:$S$76,2+$A19,FALSE)*AS$10,0)","v":0},{"$f":"ROUND(HLOOKUP(AT$5,'Исходные данные'!$H$55:$S$76,2+$A19,FALSE)*AT$10,0)","v":0},{"$f":"ROUND(HLOOKUP(AU$5,'Исходные данные'!$H$55:$S$76,2+$A19,FALSE)*AU$10,0)","v":0},{"$f":"ROUND(HLOOKUP(AV$5,'Исходные данные'!$H$55:$S$76,2+$A19,FALSE)*AV$10,0)","v":0},{"$f":"ROUND(HLOOKUP(AW$5,'Исходные данные'!$H$55:$S$76,2+$A19,FALSE)*AW$10,0)","v":0},{"$f":"ROUND(HLOOKUP(AX$5,'Исходные данные'!$H$55:$S$76,2+$A19,FALSE)*AX$10,0)","v":0},{"$f":"ROUND(HLOOKUP(AY$5,'Исходные данные'!$H$55:$S$76,2+$A19,FALSE)*AY$10,0)","v":0},{"$f":"ROUND(HLOOKUP(AZ$5,'Исходные данные'!$H$55:$S$76,2+$A19,FALSE)*AZ$10,0)","v":0},{"$f":"ROUND(HLOOKUP(BA$5,'Исходные данные'!$H$55:$S$76,2+$A19,FALSE)*BA$10,0)","v":0},{"$f":"ROUND(HLOOKUP(BB$5,'Исходные данные'!$H$55:$S$76,2+$A19,FALSE)*BB$10,0)","v":0},{"$f":"ROUND(HLOOKUP(BC$5,'Исходные данные'!$H$55:$S$76,2+$A19,FALSE)*BC$10,0)","v":0},{"$f":"ROUND(HLOOKUP(BD$5,'Исходные данные'!$H$55:$S$76,2+$A19,FALSE)*BD$10,0)","v":0},{"$f":"ROUND(HLOOKUP(BE$5,'Исходные данные'!$H$55:$S$76,2+$A19,FALSE)*BE$10,0)","v":0},{"$f":"ROUND(HLOOKUP(BF$5,'Исходные данные'!$H$55:$S$76,2+$A19,FALSE)*BF$10,0)","v":0},{"$f":"ROUND(HLOOKUP(BG$5,'Исходные данные'!$H$55:$S$76,2+$A19,FALSE)*BG$10,0)","v":0},{"$f":"ROUND(HLOOKUP(BH$5,'Исходные данные'!$H$55:$S$76,2+$A19,FALSE)*BH$10,0)","v":0},{"$f":"ROUND(HLOOKUP(BI$5,'Исходные данные'!$H$55:$S$76,2+$A19,FALSE)*BI$10,0)","v":0},{"$f":"ROUND(HLOOKUP(BJ$5,'Исходные данные'!$H$55:$S$76,2+$A19,FALSE)*BJ$10,0)","v":0},{"$f":"ROUND(HLOOKUP(BK$5,'Исходные данные'!$H$55:$S$76,2+$A19,FALSE)*BK$10,0)","v":0}]
[9,{"$f":"IF(OR('Исходные данные'!B23=0,'Исходные данные'!B23=\"\"),\"\",'Исходные данные'!B23)","v":""},0,{"$f":"ROUND(HLOOKUP(D$5,'Исходные данные'!$H$55:$S$76,2+$A20,FALSE)*D$10,0)","v":0},{"$f":"ROUND(HLOOKUP(E$5,'Исходные данные'!$H$55:$S$76,2+$A20,FALSE)*E$10,0)","v":0},{"$f":"ROUND(HLOOKUP(F$5,'Исходные данные'!$H$55:$S$76,2+$A20,FALSE)*F$10,0)","v":0},{"$f":"ROUND(HLOOKUP(G$5,'Исходные данные'!$H$55:$S$76,2+$A20,FALSE)*G$10,0)","v":0},{"$f":"ROUND(HLOOKUP(H$5,'Исходные данные'!$H$55:$S$76,2+$A20,FALSE)*H$10,0)","v":0},{"$f":"ROUND(HLOOKUP(I$5,'Исходные данные'!$H$55:$S$76,2+$A20,FALSE)*I$10,0)","v":0},{"$f":"ROUND(HLOOKUP(J$5,'Исходные данные'!$H$55:$S$76,2+$A20,FALSE)*J$10,0)","v":0},{"$f":"ROUND(HLOOKUP(K$5,'Исходные данные'!$H$55:$S$76,2+$A20,FALSE)*K$10,0)","v":0},{"$f":"ROUND(HLOOKUP(L$5,'Исходные данные'!$H$55:$S$76,2+$A20,FALSE)*L$10,0)","v":0},{"$f":"ROUND(HLOOKUP(M$5,'Исходные данные'!$H$55:$S$76,2+$A20,FALSE)*M$10,0)","v":0},{"$f":"ROUND(HLOOKUP(N$5,'Исходные данные'!$H$55:$S$76,2+$A20,FALSE)*N$10,0)","v":0},{"$f":"ROUND(HLOOKUP(O$5,'Исходные данные'!$H$55:$S$76,2+$A20,FALSE)*O$10,0)","v":0},{"$f":"ROUND(HLOOKUP(P$5,'Исходные данные'!$H$55:$S$76,2+$A20,FALSE)*P$10,0)","v":0},{"$f":"ROUND(HLOOKUP(Q$5,'Исходные данные'!$H$55:$S$76,2+$A20,FALSE)*Q$10,0)","v":0},{"$f":"ROUND(HLOOKUP(R$5,'Исходные данные'!$H$55:$S$76,2+$A20,FALSE)*R$10,0)","v":0},{"$f":"ROUND(HLOOKUP(S$5,'Исходные данные'!$H$55:$S$76,2+$A20,FALSE)*S$10,0)","v":0},{"$f":"ROUND(HLOOKUP(T$5,'Исходные данные'!$H$55:$S$76,2+$A20,FALSE)*T$10,0)","v":0},{"$f":"ROUND(HLOOKUP(U$5,'Исходные данные'!$H$55:$S$76,2+$A20,FALSE)*U$10,0)","v":0},{"$f":"ROUND(HLOOKUP(V$5,'Исходные данные'!$H$55:$S$76,2+$A20,FALSE)*V$10,0)","v":0},{"$f":"ROUND(HLOOKUP(W$5,'Исходные данные'!$H$55:$S$76,2+$A20,FALSE)*W$10,0)","v":0},{"$f":"ROUND(HLOOKUP(X$5,'Исходные данные'!$H$55:$S$76,2+$A20,FALSE)*X$10,0)","v":0},{"$f":"ROUND(HLOOKUP(Y$5,'Исходные данные'!$H$55:$S$76,2+$A20,FALSE)*Y$10,0)","v":0},{"$f":"ROUND(HLOOKUP(Z$5,'Исходные данные'!$H$55:$S$76,2+$A20,FALSE)*Z$10,0)","v":0},{"$f":"ROUND(HLOOKUP(AA$5,'Исходные данные'!$H$55:$S$76,2+$A20,FALSE)*AA$10,0)","v":0},{"$f":"ROUND(HLOOKUP(AB$5,'Исходные данные'!$H$55:$S$76,2+$A20,FALSE)*AB$10,0)","v":0},{"$f":"ROUND(HLOOKUP(AC$5,'Исходные данные'!$H$55:$S$76,2+$A20,FALSE)*AC$10,0)","v":0},{"$f":"ROUND(HLOOKUP(AD$5,'Исходные данные'!$H$55:$S$76,2+$A20,FALSE)*AD$10,0)","v":0},{"$f":"ROUND(HLOOKUP(AE$5,'Исходные данные'!$H$55:$S$76,2+$A20,FALSE)*AE$10,0)","v":0},{"$f":"ROUND(HLOOKUP(AF$5,'Исходные данные'!$H$55:$S$76,2+$A20,FALSE)*AF$10,0)","v":0},{"$f":"ROUND(HLOOKUP(AG$5,'Исходные данные'!$H$55:$S$76,2+$A20,FALSE)*AG$10,0)","v":0},{"$f":"ROUND(HLOOKUP(AH$5,'Исходные данные'!$H$55:$S$76,2+$A20,FALSE)*AH$10,0)","v":0},{"$f":"ROUND(HLOOKUP(AI$5,'Исходные данные'!$H$55:$S$76,2+$A20,FALSE)*AI$10,0)","v":0},{"$f":"ROUND(HLOOKUP(AJ$5,'Исходные данные'!$H$55:$S$76,2+$A20,FALSE)*AJ$10,0)","v":0},{"$f":"ROUND(HLOOKUP(AK$5,'Исходные данные'!$H$55:$S$76,2+$A20,FALSE)*AK$10,0)","v":0},{"$f":"ROUND(HLOOKUP(AL$5,'Исходные данные'!$H$55:$S$76,2+$A20,FALSE)*AL$10,0)","v":0},{"$f":"ROUND(HLOOKUP(AM$5,'Исходные данные'!$H$55:$S$76,2+$A20,FALSE)*AM$10,0)","v":0},{"$f":"ROUND(HLOOKUP(AN$5,'Исходные данные'!$H$55:$S$76,2+$A20,FALSE)*AN$10,0)","v":0},{"$f":"ROUND(HLOOKUP(AO$5,'Исходные данные'!$H$55:$S$76,2+$A20,FALSE)*AO$10,0)","v":0},{"$f":"ROUND(HLOOKUP(AP$5,'Исходные данные'!$H$55:$S$76,2+$A20,FALSE)*AP$10,0)","v":0},{"$f":"ROUND(HLOOKUP(AQ$5,'Исходные данные'!$H$55:$S$76,2+$A20,FALSE)*AQ$10,0)","v":0},{"$f":"ROUND(HLOOKUP(AR$5,'Исходные данные'!$H$55:$S$76,2+$A20,FALSE)*AR$10,0)","v":0},{"$f":"ROUND(HLOOKUP(AS$5,'Исходные данные'!$H$55:$S$76,2+$A20,FALSE)*AS$10,0)","v":0},{"$f":"ROUND(HLOOKUP(AT$5,'Исходные данные'!$H$55:$S$76,2+$A20,FALSE)*AT$10,0)","v":0},{"$f":"ROUND(HLOOKUP(AU$5,'Исходные данные'!$H$55:$S$76,2+$A20,FALSE)*AU$10,0)","v":0},{"$f":"ROUND(HLOOKUP(AV$5,'Исходные данные'!$H$55:$S$76,2+$A20,FALSE)*AV$10,0)","v":0},{"$f":"ROUND(HLOOKUP(AW$5,'Исходные данные'!$H$55:$S$76,2+$A20,FALSE)*AW$10,0)","v":0},{"$f":"ROUND(HLOOKUP(AX$5,'Исходные данные'!$H$55:$S$76,2+$A20,FALSE)*AX$10,0)","v":0},{"$f":"ROUND(HLOOKUP(AY$5,'Исходные данные'!$H$55:$S$76,2+$A20,FALSE)*AY$10,0)","v":0},{"$f":"ROUND(HLOOKUP(AZ$5,'Исходные данные'!$H$55:$S$76,2+$A20,FALSE)*AZ$10,0)","v":0},{"$f":"ROUND(HLOOKUP(BA$5,'Исходные данные'!$H$55:$S$76,2+$A20,FALSE)*BA$10,0)","v":0},{"$f":"ROUND(HLOOKUP(BB$5,'Исходные данные'!$H$55:$S$76,2+$A20,FALSE)*BB$10,0)","v":0},{"$f":"ROUND(HLOOKUP(BC$5,'Исходные данные'!$H$55:$S$76,2+$A20,FALSE)*BC$10,0)","v":0},{"$f":"ROUND(HLOOKUP(BD$5,'Исходные данные'!$H$55:$S$76,2+$A20,FALSE)*BD$10,0)","v":0},{"$f":"ROUND(HLOOKUP(BE$5,'Исходные данные'!$H$55:$S$76,2+$A20,FALSE)*BE$10,0)","v":0},{"$f":"ROUND(HLOOKUP(BF$5,'Исходные данные'!$H$55:$S$76,2+$A20,FALSE)*BF$10,0)","v":0},{"$f":"ROUND(HLOOKUP(BG$5,'Исходные данные'!$H$55:$S$76,2+$A20,FALSE)*BG$10,0)","v":0},{"$f":"ROUND(HLOOKUP(BH$5,'Исходные данные'!$H$55:$S$76,2+$A20,FALSE)*BH$10,0)","v":0},{"$f":"ROUND(HLOOKUP(BI$5,'Исходные данные'!$H$55:$S$76,2+$A20,FALSE)*BI$10,0)","v":0},{"$f":"ROUND(HLOOKUP(BJ$5,'Исходные данные'!$H$55:$S$76,2+$A20,FALSE)*BJ$10,0)","v":0},{"$f":"ROUND(HLOOKUP(BK$5,'Исходные данные'!$H$55:$S$76,2+$A20,FALSE)*BK$10,0)","v":0}]
[10,{"$f":"IF(OR('Исходные данные'!B24=0,'Исходные данные'!B24=\"\"),\"\",'Исходные данные'!B24)","v":""},0,{"$f":"ROUND(HLOOKUP(D$5,'Исходные данные'!$H$55:$S$76,2+$A21,FALSE)*D$10,0)","v":0},{"$f":"ROUND(HLOOKUP(E$5,'Исходные данные'!$H$55:$S$76,2+$A21,FALSE)*E$10,0)","v":0},{"$f":"ROUND(HLOOKUP(F$5,'Исходные данные'!$H$55:$S$76,2+$A21,FALSE)*F$10,0)","v":0},{"$f":"ROUND(HLOOKUP(G$5,'Исходные данные'!$H$55:$S$76,2+$A21,FALSE)*G$10,0)","v":0},{"$f":"ROUND(HLOOKUP(H$5,'Исходные данные'!$H$55:$S$76,2+$A21,FALSE)*H$10,0)","v":0},{"$f":"ROUND(HLOOKUP(I$5,'Исходные данные'!$H$55:$S$76,2+$A21,FALSE)*I$10,0)","v":0},{"$f":"ROUND(HLOOKUP(J$5,'Исходные данные'!$H$55:$S$76,2+$A21,FALSE)*J$10,0)","v":0},{"$f":"ROUND(HLOOKUP(K$5,'Исходные данные'!$H$55:$S$76,2+$A21,FALSE)*K$10,0)","v":0},{"$f":"ROUND(HLOOKUP(L$5,'Исходные данные'!$H$55:$S$76,2+$A21,FALSE)*L$10,0)","v":0},{"$f":"ROUND(HLOOKUP(M$5,'Исходные данные'!$H$55:$S$76,2+$A21,FALSE)*M$10,0)","v":0},{"$f":"ROUND(HLOOKUP(N$5,'Исходные данные'!$H$55:$S$76,2+$A21,FALSE)*N$10,0)","v":0},{"$f":"ROUND(HLOOKUP(O$5,'Исходные данные'!$H$55:$S$76,2+$A21,FALSE)*O$10,0)","v":0},{"$f":"ROUND(HLOOKUP(P$5,'Исходные данные'!$H$55:$S$76,2+$A21,FALSE)*P$10,0)","v":0},{"$f":"ROUND(HLOOKUP(Q$5,'Исходные данные'!$H$55:$S$76,2+$A21,FALSE)*Q$10,0)","v":0},{"$f":"ROUND(HLOOKUP(R$5,'Исходные данные'!$H$55:$S$76,2+$A21,FALSE)*R$10,0)","v":0},{"$f":"ROUND(HLOOKUP(S$5,'Исходные данные'!$H$55:$S$76,2+$A21,FALSE)*S$10,0)","v":0},{"$f":"ROUND(HLOOKUP(T$5,'Исходные данные'!$H$55:$S$76,2+$A21,FALSE)*T$10,0)","v":0},{"$f":"ROUND(HLOOKUP(U$5,'Исходные данные'!$H$55:$S$76,2+$A21,FALSE)*U$10,0)","v":0},{"$f":"ROUND(HLOOKUP(V$5,'Исходные данные'!$H$55:$S$76,2+$A21,FALSE)*V$10,0)","v":0},{"$f":"ROUND(HLOOKUP(W$5,'Исходные данные'!$H$55:$S$76,2+$A21,FALSE)*W$10,0)","v":0},{"$f":"ROUND(HLOOKUP(X$5,'Исходные данные'!$H$55:$S$76,2+$A21,FALSE)*X$10,0)","v":0},{"$f":"ROUND(HLOOKUP(Y$5,'Исходные данные'!$H$55:$S$76,2+$A21,FALSE)*Y$10,0)","v":0},{"$f":"ROUND(HLOOKUP(Z$5,'Исходные данные'!$H$55:$S$76,2+$A21,FALSE)*Z$10,0)","v":0},{"$f":"ROUND(HLOOKUP(AA$5,'Исходные данные'!$H$55:$S$76,2+$A21,FALSE)*AA$10,0)","v":0},{"$f":"ROUND(HLOOKUP(AB$5,'Исходные данные'!$H$55:$S$76,2+$A21,FALSE)*AB$10,0)","v":0},{"$f":"ROUND(HLOOKUP(AC$5,'Исходные данные'!$H$55:$S$76,2+$A21,FALSE)*AC$10,0)","v":0},{"$f":"ROUND(HLOOKUP(AD$5,'Исходные данные'!$H$55:$S$76,2+$A21,FALSE)*AD$10,0)","v":0},{"$f":"ROUND(HLOOKUP(AE$5,'Исходные данные'!$H$55:$S$76,2+$A21,FALSE)*AE$10,0)","v":0},{"$f":"ROUND(HLOOKUP(AF$5,'Исходные данные'!$H$55:$S$76,2+$A21,FALSE)*AF$10,0)","v":0},{"$f":"ROUND(HLOOKUP(AG$5,'Исходные данные'!$H$55:$S$76,2+$A21,FALSE)*AG$10,0)","v":0},{"$f":"ROUND(HLOOKUP(AH$5,'Исходные данные'!$H$55:$S$76,2+$A21,FALSE)*AH$10,0)","v":0},{"$f":"ROUND(HLOOKUP(AI$5,'Исходные данные'!$H$55:$S$76,2+$A21,FALSE)*AI$10,0)","v":0},{"$f":"ROUND(HLOOKUP(AJ$5,'Исходные данные'!$H$55:$S$76,2+$A21,FALSE)*AJ$10,0)","v":0},{"$f":"ROUND(HLOOKUP(AK$5,'Исходные данные'!$H$55:$S$76,2+$A21,FALSE)*AK$10,0)","v":0},{"$f":"ROUND(HLOOKUP(AL$5,'Исходные данные'!$H$55:$S$76,2+$A21,FALSE)*AL$10,0)","v":0},{"$f":"ROUND(HLOOKUP(AM$5,'Исходные данные'!$H$55:$S$76,2+$A21,FALSE)*AM$10,0)","v":0},{"$f":"ROUND(HLOOKUP(AN$5,'Исходные данные'!$H$55:$S$76,2+$A21,FALSE)*AN$10,0)","v":0},{"$f":"ROUND(HLOOKUP(AO$5,'Исходные данные'!$H$55:$S$76,2+$A21,FALSE)*AO$10,0)","v":0},{"$f":"ROUND(HLOOKUP(AP$5,'Исходные данные'!$H$55:$S$76,2+$A21,FALSE)*AP$10,0)","v":0},{"$f":"ROUND(HLOOKUP(AQ$5,'Исходные данные'!$H$55:$S$76,2+$A21,FALSE)*AQ$10,0)","v":0},{"$f":"ROUND(HLOOKUP(AR$5,'Исходные данные'!$H$55:$S$76,2+$A21,FALSE)*AR$10,0)","v":0},{"$f":"ROUND(HLOOKUP(AS$5,'Исходные данные'!$H$55:$S$76,2+$A21,FALSE)*AS$10,0)","v":0},{"$f":"ROUND(HLOOKUP(AT$5,'Исходные данные'!$H$55:$S$76,2+$A21,FALSE)*AT$10,0)","v":0},{"$f":"ROUND(HLOOKUP(AU$5,'Исходные данные'!$H$55:$S$76,2+$A21,FALSE)*AU$10,0)","v":0},{"$f":"ROUND(HLOOKUP(AV$5,'Исходные данные'!$H$55:$S$76,2+$A21,FALSE)*AV$10,0)","v":0},{"$f":"ROUND(HLOOKUP(AW$5,'Исходные данные'!$H$55:$S$76,2+$A21,FALSE)*AW$10,0)","v":0},{"$f":"ROUND(HLOOKUP(AX$5,'Исходные данные'!$H$55:$S$76,2+$A21,FALSE)*AX$10,0)","v":0},{"$f":"ROUND(HLOOKUP(AY$5,'Исходные данные'!$H$55:$S$76,2+$A21,FALSE)*AY$10,0)","v":0},{"$f":"ROUND(HLOOKUP(AZ$5,'Исходные данные'!$H$55:$S$76,2+$A21,FALSE)*AZ$10,0)","v":0},{"$f":"ROUND(HLOOKUP(BA$5,'Исходные данные'!$H$55:$S$76,2+$A21,FALSE)*BA$10,0)","v":0},{"$f":"ROUND(HLOOKUP(BB$5,'Исходные данные'!$H$55:$S$76,2+$A21,FALSE)*BB$10,0)","v":0},{"$f":"ROUND(HLOOKUP(BC$5,'Исходные данные'!$H$55:$S$76,2+$A21,FALSE)*BC$10,0)","v":0},{"$f":"ROUND(HLOOKUP(BD$5,'Исходные данные'!$H$55:$S$76,2+$A21,FALSE)*BD$10,0)","v":0},{"$f":"ROUND(HLOOKUP(BE$5,'Исходные данные'!$H$55:$S$76,2+$A21,FALSE)*BE$10,0)","v":0},{"$f":"ROUND(HLOOKUP(BF$5,'Исходные данные'!$H$55:$S$76,2+$A21,FALSE)*BF$10,0)","v":0},{"$f":"ROUND(HLOOKUP(BG$5,'Исходные данные'!$H$55:$S$76,2+$A21,FALSE)*BG$10,0)","v":0},{"$f":"ROUND(HLOOKUP(BH$5,'Исходные данные'!$H$55:$S$76,2+$A21,FALSE)*BH$10,0)","v":0},{"$f":"ROUND(HLOOKUP(BI$5,'Исходные данные'!$H$55:$S$76,2+$A21,FALSE)*BI$10,0)","v":0},{"$f":"ROUND(HLOOKUP(BJ$5,'Исходные данные'!$H$55:$S$76,2+$A21,FALSE)*BJ$10,0)","v":0},{"$f":"ROUND(HLOOKUP(BK$5,'Исходные данные'!$H$55:$S$76,2+$A21,FALSE)*BK$10,0)","v":0}]
[11,{"$f":"IF(OR('Исходные данные'!B25=0,'Исходные данные'!B25=\"\"),\"\",'Исходные данные'!B25)","v":""},0,{"$f":"ROUND(HLOOKUP(D$5,'Исходные данные'!$H$55:$S$76,2+$A22,FALSE)*D$10,0)","v":0},{"$f":"ROUND(HLOOKUP(E$5,'Исходные данные'!$H$55:$S$76,2+$A22,FALSE)*E$10,0)","v":0},{"$f":"ROUND(HLOOKUP(F$5,'Исходные данные'!$H$55:$S$76,2+$A22,FALSE)*F$10,0)","v":0},{"$f":"ROUND(HLOOKUP(G$5,'Исходные данные'!$H$55:$S$76,2+$A22,FALSE)*G$10,0)","v":0},{"$f":"ROUND(HLOOKUP(H$5,'Исходные данные'!$H$55:$S$76,2+$A22,FALSE)*H$10,0)","v":0},{"$f":"ROUND(HLOOKUP(I$5,'Исходные данные'!$H$55:$S$76,2+$A22,FALSE)*I$10,0)","v":0},{"$f":"ROUND(HLOOKUP(J$5,'Исходные данные'!$H$55:$S$76,2+$A22,FALSE)*J$10,0)","v":0},{"$f":"ROUND(HLOOKUP(K$5,'Исходные данные'!$H$55:$S$76,2+$A22,FALSE)*K$10,0)","v":0},{"$f":"ROUND(HLOOKUP(L$5,'Исходные данные'!$H$55:$S$76,2+$A22,FALSE)*L$10,0)","v":0},{"$f":"ROUND(HLOOKUP(M$5,'Исходные данные'!$H$55:$S$76,2+$A22,FALSE)*M$10,0)","v":0},{"$f":"ROUND(HLOOKUP(N$5,'Исходные данные'!$H$55:$S$76,2+$A22,FALSE)*N$10,0)","v":0},{"$f":"ROUND(HLOOKUP(O$5,'Исходные данные'!$H$55:$S$76,2+$A22,FALSE)*O$10,0)","v":0},{"$f":"ROUND(HLOOKUP(P$5,'Исходные данные'!$H$55:$S$76,2+$A22,FALSE)*P$10,0)","v":0},{"$f":"ROUND(HLOOKUP(Q$5,'Исходные данные'!$H$55:$S$76,2+$A22,FALSE)*Q$10,0)","v":0},{"$f":"ROUND(HLOOKUP(R$5,'Исходные данные'!$H$55:$S$76,2+$A22,FALSE)*R$10,0)","v":0},{"$f":"ROUND(HLOOKUP(S$5,'Исходные данные'!$H$55:$S$76,2+$A22,FALSE)*S$10,0)","v":0},{"$f":"ROUND(HLOOKUP(T$5,'Исходные данные'!$H$55:$S$76,2+$A22,FALSE)*T$10,0)","v":0},{"$f":"ROUND(HLOOKUP(U$5,'Исходные данные'!$H$55:$S$76,2+$A22,FALSE)*U$10,0)","v":0},{"$f":"ROUND(HLOOKUP(V$5,'Исходные данные'!$H$55:$S$76,2+$A22,FALSE)*V$10,0)","v":0},{"$f":"ROUND(HLOOKUP(W$5,'Исходные данные'!$H$55:$S$76,2+$A22,FALSE)*W$10,0)","v":0},{"$f":"ROUND(HLOOKUP(X$5,'Исходные данные'!$H$55:$S$76,2+$A22,FALSE)*X$10,0)","v":0},{"$f":"ROUND(HLOOKUP(Y$5,'Исходные данные'!$H$55:$S$76,2+$A22,FALSE)*Y$10,0)","v":0},{"$f":"ROUND(HLOOKUP(Z$5,'Исходные данные'!$H$55:$S$76,2+$A22,FALSE)*Z$10,0)","v":0},{"$f":"ROUND(HLOOKUP(AA$5,'Исходные данные'!$H$55:$S$76,2+$A22,FALSE)*AA$10,0)","v":0},{"$f":"ROUND(HLOOKUP(AB$5,'Исходные данные'!$H$55:$S$76,2+$A22,FALSE)*AB$10,0)","v":0},{"$f":"ROUND(HLOOKUP(AC$5,'Исходные данные'!$H$55:$S$76,2+$A22,FALSE)*AC$10,0)","v":0},{"$f":"ROUND(HLOOKUP(AD$5,'Исходные данные'!$H$55:$S$76,2+$A22,FALSE)*AD$10,0)","v":0},{"$f":"ROUND(HLOOKUP(AE$5,'Исходные данные'!$H$55:$S$76,2+$A22,FALSE)*AE$10,0)","v":0},{"$f":"ROUND(HLOOKUP(AF$5,'Исходные данные'!$H$55:$S$76,2+$A22,FALSE)*AF$10,0)","v":0},{"$f":"ROUND(HLOOKUP(AG$5,'Исходные данные'!$H$55:$S$76,2+$A22,FALSE)*AG$10,0)","v":0},{"$f":"ROUND(HLOOKUP(AH$5,'Исходные данные'!$H$55:$S$76,2+$A22,FALSE)*AH$10,0)","v":0},{"$f":"ROUND(HLOOKUP(AI$5,'Исходные данные'!$H$55:$S$76,2+$A22,FALSE)*AI$10,0)","v":0},{"$f":"ROUND(HLOOKUP(AJ$5,'Исходные данные'!$H$55:$S$76,2+$A22,FALSE)*AJ$10,0)","v":0},{"$f":"ROUND(HLOOKUP(AK$5,'Исходные данные'!$H$55:$S$76,2+$A22,FALSE)*AK$10,0)","v":0},{"$f":"ROUND(HLOOKUP(AL$5,'Исходные данные'!$H$55:$S$76,2+$A22,FALSE)*AL$10,0)","v":0},{"$f":"ROUND(HLOOKUP(AM$5,'Исходные данные'!$H$55:$S$76,2+$A22,FALSE)*AM$10,0)","v":0},{"$f":"ROUND(HLOOKUP(AN$5,'Исходные данные'!$H$55:$S$76,2+$A22,FALSE)*AN$10,0)","v":0},{"$f":"ROUND(HLOOKUP(AO$5,'Исходные данные'!$H$55:$S$76,2+$A22,FALSE)*AO$10,0)","v":0},{"$f":"ROUND(HLOOKUP(AP$5,'Исходные данные'!$H$55:$S$76,2+$A22,FALSE)*AP$10,0)","v":0},{"$f":"ROUND(HLOOKUP(AQ$5,'Исходные данные'!$H$55:$S$76,2+$A22,FALSE)*AQ$10,0)","v":0},{"$f":"ROUND(HLOOKUP(AR$5,'Исходные данные'!$H$55:$S$76,2+$A22,FALSE)*AR$10,0)","v":0},{"$f":"ROUND(HLOOKUP(AS$5,'Исходные данные'!$H$55:$S$76,2+$A22,FALSE)*AS$10,0)","v":0},{"$f":"ROUND(HLOOKUP(AT$5,'Исходные данные'!$H$55:$S$76,2+$A22,FALSE)*AT$10,0)","v":0},{"$f":"ROUND(HLOOKUP(AU$5,'Исходные данные'!$H$55:$S$76,2+$A22,FALSE)*AU$10,0)","v":0},{"$f":"ROUND(HLOOKUP(AV$5,'Исходные данные'!$H$55:$S$76,2+$A22,FALSE)*AV$10,0)","v":0},{"$f":"ROUND(HLOOKUP(AW$5,'Исходные данные'!$H$55:$S$76,2+$A22,FALSE)*AW$10,0)","v":0},{"$f":"ROUND(HLOOKUP(AX$5,'Исходные данные'!$H$55:$S$76,2+$A22,FALSE)*AX$10,0)","v":0},{"$f":"ROUND(HLOOKUP(AY$5,'Исходные данные'!$H$55:$S$76,2+$A22,FALSE)*AY$10,0)","v":0},{"$f":"ROUND(HLOOKUP(AZ$5,'Исходные данные'!$H$55:$S$76,2+$A22,FALSE)*AZ$10,0)","v":0},{"$f":"ROUND(HLOOKUP(BA$5,'Исходные данные'!$H$55:$S$76,2+$A22,FALSE)*BA$10,0)","v":0},{"$f":"ROUND(HLOOKUP(BB$5,'Исходные данные'!$H$55:$S$76,2+$A22,FALSE)*BB$10,0)","v":0},{"$f":"ROUND(HLOOKUP(BC$5,'Исходные данные'!$H$55:$S$76,2+$A22,FALSE)*BC$10,0)","v":0},{"$f":"ROUND(HLOOKUP(BD$5,'Исходные данные'!$H$55:$S$76,2+$A22,FALSE)*BD$10,0)","v":0},{"$f":"ROUND(HLOOKUP(BE$5,'Исходные данные'!$H$55:$S$76,2+$A22,FALSE)*BE$10,0)","v":0},{"$f":"ROUND(HLOOKUP(BF$5,'Исходные данные'!$H$55:$S$76,2+$A22,FALSE)*BF$10,0)","v":0},{"$f":"ROUND(HLOOKUP(BG$5,'Исходные данные'!$H$55:$S$76,2+$A22,FALSE)*BG$10,0)","v":0},{"$f":"ROUND(HLOOKUP(BH$5,'Исходные данные'!$H$55:$S$76,2+$A22,FALSE)*BH$10,0)","v":0},{"$f":"ROUND(HLOOKUP(BI$5,'Исходные данные'!$H$55:$S$76,2+$A22,FALSE)*BI$10,0)","v":0},{"$f":"ROUND(HLOOKUP(BJ$5,'Исходные данные'!$H$55:$S$76,2+$A22,FALSE)*BJ$10,0)","v":0},{"$f":"ROUND(HLOOKUP(BK$5,'Исходные данные'!$H$55:$S$76,2+$A22,FALSE)*BK$10,0)","v":0}]
[12,{"$f":"IF(OR('Исходные данные'!B26=0,'Исходные данные'!B26=\"\"),\"\",'Исходные данные'!B26)","v":""},0,{"$f":"ROUND(HLOOKUP(D$5,'Исходные данные'!$H$55:$S$76,2+$A23,FALSE)*D$10,0)","v":0},{"$f":"ROUND(HLOOKUP(E$5,'Исходные данные'!$H$55:$S$76,2+$A23,FALSE)*E$10,0)","v":0},{"$f":"ROUND(HLOOKUP(F$5,'Исходные данные'!$H$55:$S$76,2+$A23,FALSE)*F$10,0)","v":0},{"$f":"ROUND(HLOOKUP(G$5,'Исходные данные'!$H$55:$S$76,2+$A23,FALSE)*G$10,0)","v":0},{"$f":"ROUND(HLOOKUP(H$5,'Исходные данные'!$H$55:$S$76,2+$A23,FALSE)*H$10,0)","v":0},{"$f":"ROUND(HLOOKUP(I$5,'Исходные данные'!$H$55:$S$76,2+$A23,FALSE)*I$10,0)","v":0},{"$f":"ROUND(HLOOKUP(J$5,'Исходные данные'!$H$55:$S$76,2+$A23,FALSE)*J$10,0)","v":0},{"$f":"ROUND(HLOOKUP(K$5,'Исходные данные'!$H$55:$S$76,2+$A23,FALSE)*K$10,0)","v":0},{"$f":"ROUND(HLOOKUP(L$5,'Исходные данные'!$H$55:$S$76,2+$A23,FALSE)*L$10,0)","v":0},{"$f":"ROUND(HLOOKUP(M$5,'Исходные данные'!$H$55:$S$76,2+$A23,FALSE)*M$10,0)","v":0},{"$f":"ROUND(HLOOKUP(N$5,'Исходные данные'!$H$55:$S$76,2+$A23,FALSE)*N$10,0)","v":0},{"$f":"ROUND(HLOOKUP(O$5,'Исходные данные'!$H$55:$S$76,2+$A23,FALSE)*O$10,0)","v":0},{"$f":"ROUND(HLOOKUP(P$5,'Исходные данные'!$H$55:$S$76,2+$A23,FALSE)*P$10,0)","v":0},{"$f":"ROUND(HLOOKUP(Q$5,'Исходные данные'!$H$55:$S$76,2+$A23,FALSE)*Q$10,0)","v":0},{"$f":"ROUND(HLOOKUP(R$5,'Исходные данные'!$H$55:$S$76,2+$A23,FALSE)*R$10,0)","v":0},{"$f":"ROUND(HLOOKUP(S$5,'Исходные данные'!$H$55:$S$76,2+$A23,FALSE)*S$10,0)","v":0},{"$f":"ROUND(HLOOKUP(T$5,'Исходные данные'!$H$55:$S$76,2+$A23,FALSE)*T$10,0)","v":0},{"$f":"ROUND(HLOOKUP(U$5,'Исходные данные'!$H$55:$S$76,2+$A23,FALSE)*U$10,0)","v":0},{"$f":"ROUND(HLOOKUP(V$5,'Исходные данные'!$H$55:$S$76,2+$A23,FALSE)*V$10,0)","v":0},{"$f":"ROUND(HLOOKUP(W$5,'Исходные данные'!$H$55:$S$76,2+$A23,FALSE)*W$10,0)","v":0},{"$f":"ROUND(HLOOKUP(X$5,'Исходные данные'!$H$55:$S$76,2+$A23,FALSE)*X$10,0)","v":0},{"$f":"ROUND(HLOOKUP(Y$5,'Исходные данные'!$H$55:$S$76,2+$A23,FALSE)*Y$10,0)","v":0},{"$f":"ROUND(HLOOKUP(Z$5,'Исходные данные'!$H$55:$S$76,2+$A23,FALSE)*Z$10,0)","v":0},{"$f":"ROUND(HLOOKUP(AA$5,'Исходные данные'!$H$55:$S$76,2+$A23,FALSE)*AA$10,0)","v":0},{"$f":"ROUND(HLOOKUP(AB$5,'Исходные данные'!$H$55:$S$76,2+$A23,FALSE)*AB$10,0)","v":0},{"$f":"ROUND(HLOOKUP(AC$5,'Исходные данные'!$H$55:$S$76,2+$A23,FALSE)*AC$10,0)","v":0},{"$f":"ROUND(HLOOKUP(AD$5,'Исходные данные'!$H$55:$S$76,2+$A23,FALSE)*AD$10,0)","v":0},{"$f":"ROUND(HLOOKUP(AE$5,'Исходные данные'!$H$55:$S$76,2+$A23,FALSE)*AE$10,0)","v":0},{"$f":"ROUND(HLOOKUP(AF$5,'Исходные данные'!$H$55:$S$76,2+$A23,FALSE)*AF$10,0)","v":0},{"$f":"ROUND(HLOOKUP(AG$5,'Исходные данные'!$H$55:$S$76,2+$A23,FALSE)*AG$10,0)","v":0},{"$f":"ROUND(HLOOKUP(AH$5,'Исходные данные'!$H$55:$S$76,2+$A23,FALSE)*AH$10,0)","v":0},{"$f":"ROUND(HLOOKUP(AI$5,'Исходные данные'!$H$55:$S$76,2+$A23,FALSE)*AI$10,0)","v":0},{"$f":"ROUND(HLOOKUP(AJ$5,'Исходные данные'!$H$55:$S$76,2+$A23,FALSE)*AJ$10,0)","v":0},{"$f":"ROUND(HLOOKUP(AK$5,'Исходные данные'!$H$55:$S$76,2+$A23,FALSE)*AK$10,0)","v":0},{"$f":"ROUND(HLOOKUP(AL$5,'Исходные данные'!$H$55:$S$76,2+$A23,FALSE)*AL$10,0)","v":0},{"$f":"ROUND(HLOOKUP(AM$5,'Исходные данные'!$H$55:$S$76,2+$A23,FALSE)*AM$10,0)","v":0},{"$f":"ROUND(HLOOKUP(AN$5,'Исходные данные'!$H$55:$S$76,2+$A23,FALSE)*AN$10,0)","v":0},{"$f":"ROUND(HLOOKUP(AO$5,'Исходные данные'!$H$55:$S$76,2+$A23,FALSE)*AO$10,0)","v":0},{"$f":"ROUND(HLOOKUP(AP$5,'Исходные данные'!$H$55:$S$76,2+$A23,FALSE)*AP$10,0)","v":0},{"$f":"ROUND(HLOOKUP(AQ$5,'Исходные данные'!$H$55:$S$76,2+$A23,FALSE)*AQ$10,0)","v":0},{"$f":"ROUND(HLOOKUP(AR$5,'Исходные данные'!$H$55:$S$76,2+$A23,FALSE)*AR$10,0)","v":0},{"$f":"ROUND(HLOOKUP(AS$5,'Исходные данные'!$H$55:$S$76,2+$A23,FALSE)*AS$10,0)","v":0},{"$f":"ROUND(HLOOKUP(AT$5,'Исходные данные'!$H$55:$S$76,2+$A23,FALSE)*AT$10,0)","v":0},{"$f":"ROUND(HLOOKUP(AU$5,'Исходные данные'!$H$55:$S$76,2+$A23,FALSE)*AU$10,0)","v":0},{"$f":"ROUND(HLOOKUP(AV$5,'Исходные данные'!$H$55:$S$76,2+$A23,FALSE)*AV$10,0)","v":0},{"$f":"ROUND(HLOOKUP(AW$5,'Исходные данные'!$H$55:$S$76,2+$A23,FALSE)*AW$10,0)","v":0},{"$f":"ROUND(HLOOKUP(AX$5,'Исходные данные'!$H$55:$S$76,2+$A23,FALSE)*AX$10,0)","v":0},{"$f":"ROUND(HLOOKUP(AY$5,'Исходные данные'!$H$55:$S$76,2+$A23,FALSE)*AY$10,0)","v":0},{"$f":"ROUND(HLOOKUP(AZ$5,'Исходные данные'!$H$55:$S$76,2+$A23,FALSE)*AZ$10,0)","v":0},{"$f":"ROUND(HLOOKUP(BA$5,'Исходные данные'!$H$55:$S$76,2+$A23,FALSE)*BA$10,0)","v":0},{"$f":"ROUND(HLOOKUP(BB$5,'Исходные данные'!$H$55:$S$76,2+$A23,FALSE)*BB$10,0)","v":0},{"$f":"ROUND(HLOOKUP(BC$5,'Исходные данные'!$H$55:$S$76,2+$A23,FALSE)*BC$10,0)","v":0},{"$f":"ROUND(HLOOKUP(BD$5,'Исходные данные'!$H$55:$S$76,2+$A23,FALSE)*BD$10,0)","v":0},{"$f":"ROUND(HLOOKUP(BE$5,'Исходные данные'!$H$55:$S$76,2+$A23,FALSE)*BE$10,0)","v":0},{"$f":"ROUND(HLOOKUP(BF$5,'Исходные данные'!$H$55:$S$76,2+$A23,FALSE)*BF$10,0)","v":0},{"$f":"ROUND(HLOOKUP(BG$5,'Исходные данные'!$H$55:$S$76,2+$A23,FALSE)*BG$10,0)","v":0},{"$f":"ROUND(HLOOKUP(BH$5,'Исходные данные'!$H$55:$S$76,2+$A23,FALSE)*BH$10,0)","v":0},{"$f":"ROUND(HLOOKUP(BI$5,'Исходные данные'!$H$55:$S$76,2+$A23,FALSE)*BI$10,0)","v":0},{"$f":"ROUND(HLOOKUP(BJ$5,'Исходные данные'!$H$55:$S$76,2+$A23,FALSE)*BJ$10,0)","v":0},{"$f":"ROUND(HLOOKUP(BK$5,'Исходные данные'!$H$55:$S$76,2+$A23,FALSE)*BK$10,0)","v":0}]
[13,{"$f":"IF(OR('Исходные данные'!B27=0,'Исходные данные'!B27=\"\"),\"\",'Исходные данные'!B27)","v":""},0,{"$f":"ROUND(HLOOKUP(D$5,'Исходные данные'!$H$55:$S$76,2+$A24,FALSE)*D$10,0)","v":0},{"$f":"ROUND(HLOOKUP(E$5,'Исходные данные'!$H$55:$S$76,2+$A24,FALSE)*E$10,0)","v":0},{"$f":"ROUND(HLOOKUP(F$5,'Исходные данные'!$H$55:$S$76,2+$A24,FALSE)*F$10,0)","v":0},{"$f":"ROUND(HLOOKUP(G$5,'Исходные данные'!$H$55:$S$76,2+$A24,FALSE)*G$10,0)","v":0},{"$f":"ROUND(HLOOKUP(H$5,'Исходные данные'!$H$55:$S$76,2+$A24,FALSE)*H$10,0)","v":0},{"$f":"ROUND(HLOOKUP(I$5,'Исходные данные'!$H$55:$S$76,2+$A24,FALSE)*I$10,0)","v":0},{"$f":"ROUND(HLOOKUP(J$5,'Исходные данные'!$H$55:$S$76,2+$A24,FALSE)*J$10,0)","v":0},{"$f":"ROUND(HLOOKUP(K$5,'Исходные данные'!$H$55:$S$76,2+$A24,FALSE)*K$10,0)","v":0},{"$f":"ROUND(HLOOKUP(L$5,'Исходные данные'!$H$55:$S$76,2+$A24,FALSE)*L$10,0)","v":0},{"$f":"ROUND(HLOOKUP(M$5,'Исходные данные'!$H$55:$S$76,2+$A24,FALSE)*M$10,0)","v":0},{"$f":"ROUND(HLOOKUP(N$5,'Исходные данные'!$H$55:$S$76,2+$A24,FALSE)*N$10,0)","v":0},{"$f":"ROUND(HLOOKUP(O$5,'Исходные данные'!$H$55:$S$76,2+$A24,FALSE)*O$10,0)","v":0},{"$f":"ROUND(HLOOKUP(P$5,'Исходные данные'!$H$55:$S$76,2+$A24,FALSE)*P$10,0)","v":0},{"$f":"ROUND(HLOOKUP(Q$5,'Исходные данные'!$H$55:$S$76,2+$A24,FALSE)*Q$10,0)","v":0},{"$f":"ROUND(HLOOKUP(R$5,'Исходные данные'!$H$55:$S$76,2+$A24,FALSE)*R$10,0)","v":0},{"$f":"ROUND(HLOOKUP(S$5,'Исходные данные'!$H$55:$S$76,2+$A24,FALSE)*S$10,0)","v":0},{"$f":"ROUND(HLOOKUP(T$5,'Исходные данные'!$H$55:$S$76,2+$A24,FALSE)*T$10,0)","v":0},{"$f":"ROUND(HLOOKUP(U$5,'Исходные данные'!$H$55:$S$76,2+$A24,FALSE)*U$10,0)","v":0},{"$f":"ROUND(HLOOKUP(V$5,'Исходные данные'!$H$55:$S$76,2+$A24,FALSE)*V$10,0)","v":0},{"$f":"ROUND(HLOOKUP(W$5,'Исходные данные'!$H$55:$S$76,2+$A24,FALSE)*W$10,0)","v":0},{"$f":"ROUND(HLOOKUP(X$5,'Исходные данные'!$H$55:$S$76,2+$A24,FALSE)*X$10,0)","v":0},{"$f":"ROUND(HLOOKUP(Y$5,'Исходные данные'!$H$55:$S$76,2+$A24,FALSE)*Y$10,0)","v":0},{"$f":"ROUND(HLOOKUP(Z$5,'Исходные данные'!$H$55:$S$76,2+$A24,FALSE)*Z$10,0)","v":0},{"$f":"ROUND(HLOOKUP(AA$5,'Исходные данные'!$H$55:$S$76,2+$A24,FALSE)*AA$10,0)","v":0},{"$f":"ROUND(HLOOKUP(AB$5,'Исходные данные'!$H$55:$S$76,2+$A24,FALSE)*AB$10,0)","v":0},{"$f":"ROUND(HLOOKUP(AC$5,'Исходные данные'!$H$55:$S$76,2+$A24,FALSE)*AC$10,0)","v":0},{"$f":"ROUND(HLOOKUP(AD$5,'Исходные данные'!$H$55:$S$76,2+$A24,FALSE)*AD$10,0)","v":0},{"$f":"ROUND(HLOOKUP(AE$5,'Исходные данные'!$H$55:$S$76,2+$A24,FALSE)*AE$10,0)","v":0},{"$f":"ROUND(HLOOKUP(AF$5,'Исходные данные'!$H$55:$S$76,2+$A24,FALSE)*AF$10,0)","v":0},{"$f":"ROUND(HLOOKUP(AG$5,'Исходные данные'!$H$55:$S$76,2+$A24,FALSE)*AG$10,0)","v":0},{"$f":"ROUND(HLOOKUP(AH$5,'Исходные данные'!$H$55:$S$76,2+$A24,FALSE)*AH$10,0)","v":0},{"$f":"ROUND(HLOOKUP(AI$5,'Исходные данные'!$H$55:$S$76,2+$A24,FALSE)*AI$10,0)","v":0},{"$f":"ROUND(HLOOKUP(AJ$5,'Исходные данные'!$H$55:$S$76,2+$A24,FALSE)*AJ$10,0)","v":0},{"$f":"ROUND(HLOOKUP(AK$5,'Исходные данные'!$H$55:$S$76,2+$A24,FALSE)*AK$10,0)","v":0},{"$f":"ROUND(HLOOKUP(AL$5,'Исходные данные'!$H$55:$S$76,2+$A24,FALSE)*AL$10,0)","v":0},{"$f":"ROUND(HLOOKUP(AM$5,'Исходные данные'!$H$55:$S$76,2+$A24,FALSE)*AM$10,0)","v":0},{"$f":"ROUND(HLOOKUP(AN$5,'Исходные данные'!$H$55:$S$76,2+$A24,FALSE)*AN$10,0)","v":0},{"$f":"ROUND(HLOOKUP(AO$5,'Исходные данные'!$H$55:$S$76,2+$A24,FALSE)*AO$10,0)","v":0},{"$f":"ROUND(HLOOKUP(AP$5,'Исходные данные'!$H$55:$S$76,2+$A24,FALSE)*AP$10,0)","v":0},{"$f":"ROUND(HLOOKUP(AQ$5,'Исходные данные'!$H$55:$S$76,2+$A24,FALSE)*AQ$10,0)","v":0},{"$f":"ROUND(HLOOKUP(AR$5,'Исходные данные'!$H$55:$S$76,2+$A24,FALSE)*AR$10,0)","v":0},{"$f":"ROUND(HLOOKUP(AS$5,'Исходные данные'!$H$55:$S$76,2+$A24,FALSE)*AS$10,0)","v":0},{"$f":"ROUND(HLOOKUP(AT$5,'Исходные данные'!$H$55:$S$76,2+$A24,FALSE)*AT$10,0)","v":0},{"$f":"ROUND(HLOOKUP(AU$5,'Исходные данные'!$H$55:$S$76,2+$A24,FALSE)*AU$10,0)","v":0},{"$f":"ROUND(HLOOKUP(AV$5,'Исходные данные'!$H$55:$S$76,2+$A24,FALSE)*AV$10,0)","v":0},{"$f":"ROUND(HLOOKUP(AW$5,'Исходные данные'!$H$55:$S$76,2+$A24,FALSE)*AW$10,0)","v":0},{"$f":"ROUND(HLOOKUP(AX$5,'Исходные данные'!$H$55:$S$76,2+$A24,FALSE)*AX$10,0)","v":0},{"$f":"ROUND(HLOOKUP(AY$5,'Исходные данные'!$H$55:$S$76,2+$A24,FALSE)*AY$10,0)","v":0},{"$f":"ROUND(HLOOKUP(AZ$5,'Исходные данные'!$H$55:$S$76,2+$A24,FALSE)*AZ$10,0)","v":0},{"$f":"ROUND(HLOOKUP(BA$5,'Исходные данные'!$H$55:$S$76,2+$A24,FALSE)*BA$10,0)","v":0},{"$f":"ROUND(HLOOKUP(BB$5,'Исходные данные'!$H$55:$S$76,2+$A24,FALSE)*BB$10,0)","v":0},{"$f":"ROUND(HLOOKUP(BC$5,'Исходные данные'!$H$55:$S$76,2+$A24,FALSE)*BC$10,0)","v":0},{"$f":"ROUND(HLOOKUP(BD$5,'Исходные данные'!$H$55:$S$76,2+$A24,FALSE)*BD$10,0)","v":0},{"$f":"ROUND(HLOOKUP(BE$5,'Исходные данные'!$H$55:$S$76,2+$A24,FALSE)*BE$10,0)","v":0},{"$f":"ROUND(HLOOKUP(BF$5,'Исходные данные'!$H$55:$S$76,2+$A24,FALSE)*BF$10,0)","v":0},{"$f":"ROUND(HLOOKUP(BG$5,'Исходные данные'!$H$55:$S$76,2+$A24,FALSE)*BG$10,0)","v":0},{"$f":"ROUND(HLOOKUP(BH$5,'Исходные данные'!$H$55:$S$76,2+$A24,FALSE)*BH$10,0)","v":0},{"$f":"ROUND(HLOOKUP(BI$5,'Исходные данные'!$H$55:$S$76,2+$A24,FALSE)*BI$10,0)","v":0},{"$f":"ROUND(HLOOKUP(BJ$5,'Исходные данные'!$H$55:$S$76,2+$A24,FALSE)*BJ$10,0)","v":0},{"$f":"ROUND(HLOOKUP(BK$5,'Исходные данные'!$H$55:$S$76,2+$A24,FALSE)*BK$10,0)","v":0}]
[14,{"$f":"IF(OR('Исходные данные'!B28=0,'Исходные данные'!B28=\"\"),\"\",'Исходные данные'!B28)","v":""},0,{"$f":"ROUND(HLOOKUP(D$5,'Исходные данные'!$H$55:$S$76,2+$A25,FALSE)*D$10,0)","v":0},{"$f":"ROUND(HLOOKUP(E$5,'Исходные данные'!$H$55:$S$76,2+$A25,FALSE)*E$10,0)","v":0},{"$f":"ROUND(HLOOKUP(F$5,'Исходные данные'!$H$55:$S$76,2+$A25,FALSE)*F$10,0)","v":0},{"$f":"ROUND(HLOOKUP(G$5,'Исходные данные'!$H$55:$S$76,2+$A25,FALSE)*G$10,0)","v":0},{"$f":"ROUND(HLOOKUP(H$5,'Исходные данные'!$H$55:$S$76,2+$A25,FALSE)*H$10,0)","v":0},{"$f":"ROUND(HLOOKUP(I$5,'Исходные данные'!$H$55:$S$76,2+$A25,FALSE)*I$10,0)","v":0},{"$f":"ROUND(HLOOKUP(J$5,'Исходные данные'!$H$55:$S$76,2+$A25,FALSE)*J$10,0)","v":0},{"$f":"ROUND(HLOOKUP(K$5,'Исходные данные'!$H$55:$S$76,2+$A25,FALSE)*K$10,0)","v":0},{"$f":"ROUND(HLOOKUP(L$5,'Исходные данные'!$H$55:$S$76,2+$A25,FALSE)*L$10,0)","v":0},{"$f":"ROUND(HLOOKUP(M$5,'Исходные данные'!$H$55:$S$76,2+$A25,FALSE)*M$10,0)","v":0},{"$f":"ROUND(HLOOKUP(N$5,'Исходные данные'!$H$55:$S$76,2+$A25,FALSE)*N$10,0)","v":0},{"$f":"ROUND(HLOOKUP(O$5,'Исходные данные'!$H$55:$S$76,2+$A25,FALSE)*O$10,0)","v":0},{"$f":"ROUND(HLOOKUP(P$5,'Исходные данные'!$H$55:$S$76,2+$A25,FALSE)*P$10,0)","v":0},{"$f":"ROUND(HLOOKUP(Q$5,'Исходные данные'!$H$55:$S$76,2+$A25,FALSE)*Q$10,0)","v":0},{"$f":"ROUND(HLOOKUP(R$5,'Исходные данные'!$H$55:$S$76,2+$A25,FALSE)*R$10,0)","v":0},{"$f":"ROUND(HLOOKUP(S$5,'Исходные данные'!$H$55:$S$76,2+$A25,FALSE)*S$10,0)","v":0},{"$f":"ROUND(HLOOKUP(T$5,'Исходные данные'!$H$55:$S$76,2+$A25,FALSE)*T$10,0)","v":0},{"$f":"ROUND(HLOOKUP(U$5,'Исходные данные'!$H$55:$S$76,2+$A25,FALSE)*U$10,0)","v":0},{"$f":"ROUND(HLOOKUP(V$5,'Исходные данные'!$H$55:$S$76,2+$A25,FALSE)*V$10,0)","v":0},{"$f":"ROUND(HLOOKUP(W$5,'Исходные данные'!$H$55:$S$76,2+$A25,FALSE)*W$10,0)","v":0},{"$f":"ROUND(HLOOKUP(X$5,'Исходные данные'!$H$55:$S$76,2+$A25,FALSE)*X$10,0)","v":0},{"$f":"ROUND(HLOOKUP(Y$5,'Исходные данные'!$H$55:$S$76,2+$A25,FALSE)*Y$10,0)","v":0},{"$f":"ROUND(HLOOKUP(Z$5,'Исходные данные'!$H$55:$S$76,2+$A25,FALSE)*Z$10,0)","v":0},{"$f":"ROUND(HLOOKUP(AA$5,'Исходные данные'!$H$55:$S$76,2+$A25,FALSE)*AA$10,0)","v":0},{"$f":"ROUND(HLOOKUP(AB$5,'Исходные данные'!$H$55:$S$76,2+$A25,FALSE)*AB$10,0)","v":0},{"$f":"ROUND(HLOOKUP(AC$5,'Исходные данные'!$H$55:$S$76,2+$A25,FALSE)*AC$10,0)","v":0},{"$f":"ROUND(HLOOKUP(AD$5,'Исходные данные'!$H$55:$S$76,2+$A25,FALSE)*AD$10,0)","v":0},{"$f":"ROUND(HLOOKUP(AE$5,'Исходные данные'!$H$55:$S$76,2+$A25,FALSE)*AE$10,0)","v":0},{"$f":"ROUND(HLOOKUP(AF$5,'Исходные данные'!$H$55:$S$76,2+$A25,FALSE)*AF$10,0)","v":0},{"$f":"ROUND(HLOOKUP(AG$5,'Исходные данные'!$H$55:$S$76,2+$A25,FALSE)*AG$10,0)","v":0},{"$f":"ROUND(HLOOKUP(AH$5,'Исходные данные'!$H$55:$S$76,2+$A25,FALSE)*AH$10,0)","v":0},{"$f":"ROUND(HLOOKUP(AI$5,'Исходные данные'!$H$55:$S$76,2+$A25,FALSE)*AI$10,0)","v":0},{"$f":"ROUND(HLOOKUP(AJ$5,'Исходные данные'!$H$55:$S$76,2+$A25,FALSE)*AJ$10,0)","v":0},{"$f":"ROUND(HLOOKUP(AK$5,'Исходные данные'!$H$55:$S$76,2+$A25,FALSE)*AK$10,0)","v":0},{"$f":"ROUND(HLOOKUP(AL$5,'Исходные данные'!$H$55:$S$76,2+$A25,FALSE)*AL$10,0)","v":0},{"$f":"ROUND(HLOOKUP(AM$5,'Исходные данные'!$H$55:$S$76,2+$A25,FALSE)*AM$10,0)","v":0},{"$f":"ROUND(HLOOKUP(AN$5,'Исходные данные'!$H$55:$S$76,2+$A25,FALSE)*AN$10,0)","v":0},{"$f":"ROUND(HLOOKUP(AO$5,'Исходные данные'!$H$55:$S$76,2+$A25,FALSE)*AO$10,0)","v":0},{"$f":"ROUND(HLOOKUP(AP$5,'Исходные данные'!$H$55:$S$76,2+$A25,FALSE)*AP$10,0)","v":0},{"$f":"ROUND(HLOOKUP(AQ$5,'Исходные данные'!$H$55:$S$76,2+$A25,FALSE)*AQ$10,0)","v":0},{"$f":"ROUND(HLOOKUP(AR$5,'Исходные данные'!$H$55:$S$76,2+$A25,FALSE)*AR$10,0)","v":0},{"$f":"ROUND(HLOOKUP(AS$5,'Исходные данные'!$H$55:$S$76,2+$A25,FALSE)*AS$10,0)","v":0},{"$f":"ROUND(HLOOKUP(AT$5,'Исходные данные'!$H$55:$S$76,2+$A25,FALSE)*AT$10,0)","v":0},{"$f":"ROUND(HLOOKUP(AU$5,'Исходные данные'!$H$55:$S$76,2+$A25,FALSE)*AU$10,0)","v":0},{"$f":"ROUND(HLOOKUP(AV$5,'Исходные данные'!$H$55:$S$76,2+$A25,FALSE)*AV$10,0)","v":0},{"$f":"ROUND(HLOOKUP(AW$5,'Исходные данные'!$H$55:$S$76,2+$A25,FALSE)*AW$10,0)","v":0},{"$f":"ROUND(HLOOKUP(AX$5,'Исходные данные'!$H$55:$S$76,2+$A25,FALSE)*AX$10,0)","v":0},{"$f":"ROUND(HLOOKUP(AY$5,'Исходные данные'!$H$55:$S$76,2+$A25,FALSE)*AY$10,0)","v":0},{"$f":"ROUND(HLOOKUP(AZ$5,'Исходные данные'!$H$55:$S$76,2+$A25,FALSE)*AZ$10,0)","v":0},{"$f":"ROUND(HLOOKUP(BA$5,'Исходные данные'!$H$55:$S$76,2+$A25,FALSE)*BA$10,0)","v":0},{"$f":"ROUND(HLOOKUP(BB$5,'Исходные данные'!$H$55:$S$76,2+$A25,FALSE)*BB$10,0)","v":0},{"$f":"ROUND(HLOOKUP(BC$5,'Исходные данные'!$H$55:$S$76,2+$A25,FALSE)*BC$10,0)","v":0},{"$f":"ROUND(HLOOKUP(BD$5,'Исходные данные'!$H$55:$S$76,2+$A25,FALSE)*BD$10,0)","v":0},{"$f":"ROUND(HLOOKUP(BE$5,'Исходные данные'!$H$55:$S$76,2+$A25,FALSE)*BE$10,0)","v":0},{"$f":"ROUND(HLOOKUP(BF$5,'Исходные данные'!$H$55:$S$76,2+$A25,FALSE)*BF$10,0)","v":0},{"$f":"ROUND(HLOOKUP(BG$5,'Исходные данные'!$H$55:$S$76,2+$A25,FALSE)*BG$10,0)","v":0},{"$f":"ROUND(HLOOKUP(BH$5,'Исходные данные'!$H$55:$S$76,2+$A25,FALSE)*BH$10,0)","v":0},{"$f":"ROUND(HLOOKUP(BI$5,'Исходные данные'!$H$55:$S$76,2+$A25,FALSE)*BI$10,0)","v":0},{"$f":"ROUND(HLOOKUP(BJ$5,'Исходные данные'!$H$55:$S$76,2+$A25,FALSE)*BJ$10,0)","v":0},{"$f":"ROUND(HLOOKUP(BK$5,'Исходные данные'!$H$55:$S$76,2+$A25,FALSE)*BK$10,0)","v":0}]
[15,{"$f":"IF(OR('Исходные данные'!B29=0,'Исходные данные'!B29=\"\"),\"\",'Исходные данные'!B29)","v":""},0,{"$f":"ROUND(HLOOKUP(D$5,'Исходные данные'!$H$55:$S$76,2+$A26,FALSE)*D$10,0)","v":0},{"$f":"ROUND(HLOOKUP(E$5,'Исходные данные'!$H$55:$S$76,2+$A26,FALSE)*E$10,0)","v":0},{"$f":"ROUND(HLOOKUP(F$5,'Исходные данные'!$H$55:$S$76,2+$A26,FALSE)*F$10,0)","v":0},{"$f":"ROUND(HLOOKUP(G$5,'Исходные данные'!$H$55:$S$76,2+$A26,FALSE)*G$10,0)","v":0},{"$f":"ROUND(HLOOKUP(H$5,'Исходные данные'!$H$55:$S$76,2+$A26,FALSE)*H$10,0)","v":0},{"$f":"ROUND(HLOOKUP(I$5,'Исходные данные'!$H$55:$S$76,2+$A26,FALSE)*I$10,0)","v":0},{"$f":"ROUND(HLOOKUP(J$5,'Исходные данные'!$H$55:$S$76,2+$A26,FALSE)*J$10,0)","v":0},{"$f":"ROUND(HLOOKUP(K$5,'Исходные данные'!$H$55:$S$76,2+$A26,FALSE)*K$10,0)","v":0},{"$f":"ROUND(HLOOKUP(L$5,'Исходные данные'!$H$55:$S$76,2+$A26,FALSE)*L$10,0)","v":0},{"$f":"ROUND(HLOOKUP(M$5,'Исходные данные'!$H$55:$S$76,2+$A26,FALSE)*M$10,0)","v":0},{"$f":"ROUND(HLOOKUP(N$5,'Исходные данные'!$H$55:$S$76,2+$A26,FALSE)*N$10,0)","v":0},{"$f":"ROUND(HLOOKUP(O$5,'Исходные данные'!$H$55:$S$76,2+$A26,FALSE)*O$10,0)","v":0},{"$f":"ROUND(HLOOKUP(P$5,'Исходные данные'!$H$55:$S$76,2+$A26,FALSE)*P$10,0)","v":0},{"$f":"ROUND(HLOOKUP(Q$5,'Исходные данные'!$H$55:$S$76,2+$A26,FALSE)*Q$10,0)","v":0},{"$f":"ROUND(HLOOKUP(R$5,'Исходные данные'!$H$55:$S$76,2+$A26,FALSE)*R$10,0)","v":0},{"$f":"ROUND(HLOOKUP(S$5,'Исходные данные'!$H$55:$S$76,2+$A26,FALSE)*S$10,0)","v":0},{"$f":"ROUND(HLOOKUP(T$5,'Исходные данные'!$H$55:$S$76,2+$A26,FALSE)*T$10,0)","v":0},{"$f":"ROUND(HLOOKUP(U$5,'Исходные данные'!$H$55:$S$76,2+$A26,FALSE)*U$10,0)","v":0},{"$f":"ROUND(HLOOKUP(V$5,'Исходные данные'!$H$55:$S$76,2+$A26,FALSE)*V$10,0)","v":0},{"$f":"ROUND(HLOOKUP(W$5,'Исходные данные'!$H$55:$S$76,2+$A26,FALSE)*W$10,0)","v":0},{"$f":"ROUND(HLOOKUP(X$5,'Исходные данные'!$H$55:$S$76,2+$A26,FALSE)*X$10,0)","v":0},{"$f":"ROUND(HLOOKUP(Y$5,'Исходные данные'!$H$55:$S$76,2+$A26,FALSE)*Y$10,0)","v":0},{"$f":"ROUND(HLOOKUP(Z$5,'Исходные данные'!$H$55:$S$76,2+$A26,FALSE)*Z$10,0)","v":0},{"$f":"ROUND(HLOOKUP(AA$5,'Исходные данные'!$H$55:$S$76,2+$A26,FALSE)*AA$10,0)","v":0},{"$f":"ROUND(HLOOKUP(AB$5,'Исходные данные'!$H$55:$S$76,2+$A26,FALSE)*AB$10,0)","v":0},{"$f":"ROUND(HLOOKUP(AC$5,'Исходные данные'!$H$55:$S$76,2+$A26,FALSE)*AC$10,0)","v":0},{"$f":"ROUND(HLOOKUP(AD$5,'Исходные данные'!$H$55:$S$76,2+$A26,FALSE)*AD$10,0)","v":0},{"$f":"ROUND(HLOOKUP(AE$5,'Исходные данные'!$H$55:$S$76,2+$A26,FALSE)*AE$10,0)","v":0},{"$f":"ROUND(HLOOKUP(AF$5,'Исходные данные'!$H$55:$S$76,2+$A26,FALSE)*AF$10,0)","v":0},{"$f":"ROUND(HLOOKUP(AG$5,'Исходные данные'!$H$55:$S$76,2+$A26,FALSE)*AG$10,0)","v":0},{"$f":"ROUND(HLOOKUP(AH$5,'Исходные данные'!$H$55:$S$76,2+$A26,FALSE)*AH$10,0)","v":0},{"$f":"ROUND(HLOOKUP(AI$5,'Исходные данные'!$H$55:$S$76,2+$A26,FALSE)*AI$10,0)","v":0},{"$f":"ROUND(HLOOKUP(AJ$5,'Исходные данные'!$H$55:$S$76,2+$A26,FALSE)*AJ$10,0)","v":0},{"$f":"ROUND(HLOOKUP(AK$5,'Исходные данные'!$H$55:$S$76,2+$A26,FALSE)*AK$10,0)","v":0},{"$f":"ROUND(HLOOKUP(AL$5,'Исходные данные'!$H$55:$S$76,2+$A26,FALSE)*AL$10,0)","v":0},{"$f":"ROUND(HLOOKUP(AM$5,'Исходные данные'!$H$55:$S$76,2+$A26,FALSE)*AM$10,0)","v":0},{"$f":"ROUND(HLOOKUP(AN$5,'Исходные данные'!$H$55:$S$76,2+$A26,FALSE)*AN$10,0)","v":0},{"$f":"ROUND(HLOOKUP(AO$5,'Исходные данные'!$H$55:$S$76,2+$A26,FALSE)*AO$10,0)","v":0},{"$f":"ROUND(HLOOKUP(AP$5,'Исходные данные'!$H$55:$S$76,2+$A26,FALSE)*AP$10,0)","v":0},{"$f":"ROUND(HLOOKUP(AQ$5,'Исходные данные'!$H$55:$S$76,2+$A26,FALSE)*AQ$10,0)","v":0},{"$f":"ROUND(HLOOKUP(AR$5,'Исходные данные'!$H$55:$S$76,2+$A26,FALSE)*AR$10,0)","v":0},{"$f":"ROUND(HLOOKUP(AS$5,'Исходные данные'!$H$55:$S$76,2+$A26,FALSE)*AS$10,0)","v":0},{"$f":"ROUND(HLOOKUP(AT$5,'Исходные данные'!$H$55:$S$76,2+$A26,FALSE)*AT$10,0)","v":0},{"$f":"ROUND(HLOOKUP(AU$5,'Исходные данные'!$H$55:$S$76,2+$A26,FALSE)*AU$10,0)","v":0},{"$f":"ROUND(HLOOKUP(AV$5,'Исходные данные'!$H$55:$S$76,2+$A26,FALSE)*AV$10,0)","v":0},{"$f":"ROUND(HLOOKUP(AW$5,'Исходные данные'!$H$55:$S$76,2+$A26,FALSE)*AW$10,0)","v":0},{"$f":"ROUND(HLOOKUP(AX$5,'Исходные данные'!$H$55:$S$76,2+$A26,FALSE)*AX$10,0)","v":0},{"$f":"ROUND(HLOOKUP(AY$5,'Исходные данные'!$H$55:$S$76,2+$A26,FALSE)*AY$10,0)","v":0},{"$f":"ROUND(HLOOKUP(AZ$5,'Исходные данные'!$H$55:$S$76,2+$A26,FALSE)*AZ$10,0)","v":0},{"$f":"ROUND(HLOOKUP(BA$5,'Исходные данные'!$H$55:$S$76,2+$A26,FALSE)*BA$10,0)","v":0},{"$f":"ROUND(HLOOKUP(BB$5,'Исходные данные'!$H$55:$S$76,2+$A26,FALSE)*BB$10,0)","v":0},{"$f":"ROUND(HLOOKUP(BC$5,'Исходные данные'!$H$55:$S$76,2+$A26,FALSE)*BC$10,0)","v":0},{"$f":"ROUND(HLOOKUP(BD$5,'Исходные данные'!$H$55:$S$76,2+$A26,FALSE)*BD$10,0)","v":0},{"$f":"ROUND(HLOOKUP(BE$5,'Исходные данные'!$H$55:$S$76,2+$A26,FALSE)*BE$10,0)","v":0},{"$f":"ROUND(HLOOKUP(BF$5,'Исходные данные'!$H$55:$S$76,2+$A26,FALSE)*BF$10,0)","v":0},{"$f":"ROUND(HLOOKUP(BG$5,'Исходные данные'!$H$55:$S$76,2+$A26,FALSE)*BG$10,0)","v":0},{"$f":"ROUND(HLOOKUP(BH$5,'Исходные данные'!$H$55:$S$76,2+$A26,FALSE)*BH$10,0)","v":0},{"$f":"ROUND(HLOOKUP(BI$5,'Исходные данные'!$H$55:$S$76,2+$A26,FALSE)*BI$10,0)","v":0},{"$f":"ROUND(HLOOKUP(BJ$5,'Исходные данные'!$H$55:$S$76,2+$A26,FALSE)*BJ$10,0)","v":0},{"$f":"ROUND(HLOOKUP(BK$5,'Исходные данные'!$H$55:$S$76,2+$A26,FALSE)*BK$10,0)","v":0}]
[16,{"$f":"IF(OR('Исходные данные'!B30=0,'Исходные данные'!B30=\"\"),\"\",'Исходные данные'!B30)","v":""},0,{"$f":"ROUND(HLOOKUP(D$5,'Исходные данные'!$H$55:$S$76,2+$A27,FALSE)*D$10,0)","v":0},{"$f":"ROUND(HLOOKUP(E$5,'Исходные данные'!$H$55:$S$76,2+$A27,FALSE)*E$10,0)","v":0},{"$f":"ROUND(HLOOKUP(F$5,'Исходные данные'!$H$55:$S$76,2+$A27,FALSE)*F$10,0)","v":0},{"$f":"ROUND(HLOOKUP(G$5,'Исходные данные'!$H$55:$S$76,2+$A27,FALSE)*G$10,0)","v":0},{"$f":"ROUND(HLOOKUP(H$5,'Исходные данные'!$H$55:$S$76,2+$A27,FALSE)*H$10,0)","v":0},{"$f":"ROUND(HLOOKUP(I$5,'Исходные данные'!$H$55:$S$76,2+$A27,FALSE)*I$10,0)","v":0},{"$f":"ROUND(HLOOKUP(J$5,'Исходные данные'!$H$55:$S$76,2+$A27,FALSE)*J$10,0)","v":0},{"$f":"ROUND(HLOOKUP(K$5,'Исходные данные'!$H$55:$S$76,2+$A27,FALSE)*K$10,0)","v":0},{"$f":"ROUND(HLOOKUP(L$5,'Исходные данные'!$H$55:$S$76,2+$A27,FALSE)*L$10,0)","v":0},{"$f":"ROUND(HLOOKUP(M$5,'Исходные данные'!$H$55:$S$76,2+$A27,FALSE)*M$10,0)","v":0},{"$f":"ROUND(HLOOKUP(N$5,'Исходные данные'!$H$55:$S$76,2+$A27,FALSE)*N$10,0)","v":0},{"$f":"ROUND(HLOOKUP(O$5,'Исходные данные'!$H$55:$S$76,2+$A27,FALSE)*O$10,0)","v":0},{"$f":"ROUND(HLOOKUP(P$5,'Исходные данные'!$H$55:$S$76,2+$A27,FALSE)*P$10,0)","v":0},{"$f":"ROUND(HLOOKUP(Q$5,'Исходные данные'!$H$55:$S$76,2+$A27,FALSE)*Q$10,0)","v":0},{"$f":"ROUND(HLOOKUP(R$5,'Исходные данные'!$H$55:$S$76,2+$A27,FALSE)*R$10,0)","v":0},{"$f":"ROUND(HLOOKUP(S$5,'Исходные данные'!$H$55:$S$76,2+$A27,FALSE)*S$10,0)","v":0},{"$f":"ROUND(HLOOKUP(T$5,'Исходные данные'!$H$55:$S$76,2+$A27,FALSE)*T$10,0)","v":0},{"$f":"ROUND(HLOOKUP(U$5,'Исходные данные'!$H$55:$S$76,2+$A27,FALSE)*U$10,0)","v":0},{"$f":"ROUND(HLOOKUP(V$5,'Исходные данные'!$H$55:$S$76,2+$A27,FALSE)*V$10,0)","v":0},{"$f":"ROUND(HLOOKUP(W$5,'Исходные данные'!$H$55:$S$76,2+$A27,FALSE)*W$10,0)","v":0},{"$f":"ROUND(HLOOKUP(X$5,'Исходные данные'!$H$55:$S$76,2+$A27,FALSE)*X$10,0)","v":0},{"$f":"ROUND(HLOOKUP(Y$5,'Исходные данные'!$H$55:$S$76,2+$A27,FALSE)*Y$10,0)","v":0},{"$f":"ROUND(HLOOKUP(Z$5,'Исходные данные'!$H$55:$S$76,2+$A27,FALSE)*Z$10,0)","v":0},{"$f":"ROUND(HLOOKUP(AA$5,'Исходные данные'!$H$55:$S$76,2+$A27,FALSE)*AA$10,0)","v":0},{"$f":"ROUND(HLOOKUP(AB$5,'Исходные данные'!$H$55:$S$76,2+$A27,FALSE)*AB$10,0)","v":0},{"$f":"ROUND(HLOOKUP(AC$5,'Исходные данные'!$H$55:$S$76,2+$A27,FALSE)*AC$10,0)","v":0},{"$f":"ROUND(HLOOKUP(AD$5,'Исходные данные'!$H$55:$S$76,2+$A27,FALSE)*AD$10,0)","v":0},{"$f":"ROUND(HLOOKUP(AE$5,'Исходные данные'!$H$55:$S$76,2+$A27,FALSE)*AE$10,0)","v":0},{"$f":"ROUND(HLOOKUP(AF$5,'Исходные данные'!$H$55:$S$76,2+$A27,FALSE)*AF$10,0)","v":0},{"$f":"ROUND(HLOOKUP(AG$5,'Исходные данные'!$H$55:$S$76,2+$A27,FALSE)*AG$10,0)","v":0},{"$f":"ROUND(HLOOKUP(AH$5,'Исходные данные'!$H$55:$S$76,2+$A27,FALSE)*AH$10,0)","v":0},{"$f":"ROUND(HLOOKUP(AI$5,'Исходные данные'!$H$55:$S$76,2+$A27,FALSE)*AI$10,0)","v":0},{"$f":"ROUND(HLOOKUP(AJ$5,'Исходные данные'!$H$55:$S$76,2+$A27,FALSE)*AJ$10,0)","v":0},{"$f":"ROUND(HLOOKUP(AK$5,'Исходные данные'!$H$55:$S$76,2+$A27,FALSE)*AK$10,0)","v":0},{"$f":"ROUND(HLOOKUP(AL$5,'Исходные данные'!$H$55:$S$76,2+$A27,FALSE)*AL$10,0)","v":0},{"$f":"ROUND(HLOOKUP(AM$5,'Исходные данные'!$H$55:$S$76,2+$A27,FALSE)*AM$10,0)","v":0},{"$f":"ROUND(HLOOKUP(AN$5,'Исходные данные'!$H$55:$S$76,2+$A27,FALSE)*AN$10,0)","v":0},{"$f":"ROUND(HLOOKUP(AO$5,'Исходные данные'!$H$55:$S$76,2+$A27,FALSE)*AO$10,0)","v":0},{"$f":"ROUND(HLOOKUP(AP$5,'Исходные данные'!$H$55:$S$76,2+$A27,FALSE)*AP$10,0)","v":0},{"$f":"ROUND(HLOOKUP(AQ$5,'Исходные данные'!$H$55:$S$76,2+$A27,FALSE)*AQ$10,0)","v":0},{"$f":"ROUND(HLOOKUP(AR$5,'Исходные данные'!$H$55:$S$76,2+$A27,FALSE)*AR$10,0)","v":0},{"$f":"ROUND(HLOOKUP(AS$5,'Исходные данные'!$H$55:$S$76,2+$A27,FALSE)*AS$10,0)","v":0},{"$f":"ROUND(HLOOKUP(AT$5,'Исходные данные'!$H$55:$S$76,2+$A27,FALSE)*AT$10,0)","v":0},{"$f":"ROUND(HLOOKUP(AU$5,'Исходные данные'!$H$55:$S$76,2+$A27,FALSE)*AU$10,0)","v":0},{"$f":"ROUND(HLOOKUP(AV$5,'Исходные данные'!$H$55:$S$76,2+$A27,FALSE)*AV$10,0)","v":0},{"$f":"ROUND(HLOOKUP(AW$5,'Исходные данные'!$H$55:$S$76,2+$A27,FALSE)*AW$10,0)","v":0},{"$f":"ROUND(HLOOKUP(AX$5,'Исходные данные'!$H$55:$S$76,2+$A27,FALSE)*AX$10,0)","v":0},{"$f":"ROUND(HLOOKUP(AY$5,'Исходные данные'!$H$55:$S$76,2+$A27,FALSE)*AY$10,0)","v":0},{"$f":"ROUND(HLOOKUP(AZ$5,'Исходные данные'!$H$55:$S$76,2+$A27,FALSE)*AZ$10,0)","v":0},{"$f":"ROUND(HLOOKUP(BA$5,'Исходные данные'!$H$55:$S$76,2+$A27,FALSE)*BA$10,0)","v":0},{"$f":"ROUND(HLOOKUP(BB$5,'Исходные данные'!$H$55:$S$76,2+$A27,FALSE)*BB$10,0)","v":0},{"$f":"ROUND(HLOOKUP(BC$5,'Исходные данные'!$H$55:$S$76,2+$A27,FALSE)*BC$10,0)","v":0},{"$f":"ROUND(HLOOKUP(BD$5,'Исходные данные'!$H$55:$S$76,2+$A27,FALSE)*BD$10,0)","v":0},{"$f":"ROUND(HLOOKUP(BE$5,'Исходные данные'!$H$55:$S$76,2+$A27,FALSE)*BE$10,0)","v":0},{"$f":"ROUND(HLOOKUP(BF$5,'Исходные данные'!$H$55:$S$76,2+$A27,FALSE)*BF$10,0)","v":0},{"$f":"ROUND(HLOOKUP(BG$5,'Исходные данные'!$H$55:$S$76,2+$A27,FALSE)*BG$10,0)","v":0},{"$f":"ROUND(HLOOKUP(BH$5,'Исходные данные'!$H$55:$S$76,2+$A27,FALSE)*BH$10,0)","v":0},{"$f":"ROUND(HLOOKUP(BI$5,'Исходные данные'!$H$55:$S$76,2+$A27,FALSE)*BI$10,0)","v":0},{"$f":"ROUND(HLOOKUP(BJ$5,'Исходные данные'!$H$55:$S$76,2+$A27,FALSE)*BJ$10,0)","v":0},{"$f":"ROUND(HLOOKUP(BK$5,'Исходные данные'!$H$55:$S$76,2+$A27,FALSE)*BK$10,0)","v":0}]
[17,{"$f":"IF(OR('Исходные данные'!B31=0,'Исходные данные'!B31=\"\"),\"\",'Исходные данные'!B31)","v":""},0,{"$f":"ROUND(HLOOKUP(D$5,'Исходные данные'!$H$55:$S$76,2+$A28,FALSE)*D$10,0)","v":0},{"$f":"ROUND(HLOOKUP(E$5,'Исходные данные'!$H$55:$S$76,2+$A28,FALSE)*E$10,0)","v":0},{"$f":"ROUND(HLOOKUP(F$5,'Исходные данные'!$H$55:$S$76,2+$A28,FALSE)*F$10,0)","v":0},{"$f":"ROUND(HLOOKUP(G$5,'Исходные данные'!$H$55:$S$76,2+$A28,FALSE)*G$10,0)","v":0},{"$f":"ROUND(HLOOKUP(H$5,'Исходные данные'!$H$55:$S$76,2+$A28,FALSE)*H$10,0)","v":0},{"$f":"ROUND(HLOOKUP(I$5,'Исходные данные'!$H$55:$S$76,2+$A28,FALSE)*I$10,0)","v":0},{"$f":"ROUND(HLOOKUP(J$5,'Исходные данные'!$H$55:$S$76,2+$A28,FALSE)*J$10,0)","v":0},{"$f":"ROUND(HLOOKUP(K$5,'Исходные данные'!$H$55:$S$76,2+$A28,FALSE)*K$10,0)","v":0},{"$f":"ROUND(HLOOKUP(L$5,'Исходные данные'!$H$55:$S$76,2+$A28,FALSE)*L$10,0)","v":0},{"$f":"ROUND(HLOOKUP(M$5,'Исходные данные'!$H$55:$S$76,2+$A28,FALSE)*M$10,0)","v":0},{"$f":"ROUND(HLOOKUP(N$5,'Исходные данные'!$H$55:$S$76,2+$A28,FALSE)*N$10,0)","v":0},{"$f":"ROUND(HLOOKUP(O$5,'Исходные данные'!$H$55:$S$76,2+$A28,FALSE)*O$10,0)","v":0},{"$f":"ROUND(HLOOKUP(P$5,'Исходные данные'!$H$55:$S$76,2+$A28,FALSE)*P$10,0)","v":0},{"$f":"ROUND(HLOOKUP(Q$5,'Исходные данные'!$H$55:$S$76,2+$A28,FALSE)*Q$10,0)","v":0},{"$f":"ROUND(HLOOKUP(R$5,'Исходные данные'!$H$55:$S$76,2+$A28,FALSE)*R$10,0)","v":0},{"$f":"ROUND(HLOOKUP(S$5,'Исходные данные'!$H$55:$S$76,2+$A28,FALSE)*S$10,0)","v":0},{"$f":"ROUND(HLOOKUP(T$5,'Исходные данные'!$H$55:$S$76,2+$A28,FALSE)*T$10,0)","v":0},{"$f":"ROUND(HLOOKUP(U$5,'Исходные данные'!$H$55:$S$76,2+$A28,FALSE)*U$10,0)","v":0},{"$f":"ROUND(HLOOKUP(V$5,'Исходные данные'!$H$55:$S$76,2+$A28,FALSE)*V$10,0)","v":0},{"$f":"ROUND(HLOOKUP(W$5,'Исходные данные'!$H$55:$S$76,2+$A28,FALSE)*W$10,0)","v":0},{"$f":"ROUND(HLOOKUP(X$5,'Исходные данные'!$H$55:$S$76,2+$A28,FALSE)*X$10,0)","v":0},{"$f":"ROUND(HLOOKUP(Y$5,'Исходные данные'!$H$55:$S$76,2+$A28,FALSE)*Y$10,0)","v":0},{"$f":"ROUND(HLOOKUP(Z$5,'Исходные данные'!$H$55:$S$76,2+$A28,FALSE)*Z$10,0)","v":0},{"$f":"ROUND(HLOOKUP(AA$5,'Исходные данные'!$H$55:$S$76,2+$A28,FALSE)*AA$10,0)","v":0},{"$f":"ROUND(HLOOKUP(AB$5,'Исходные данные'!$H$55:$S$76,2+$A28,FALSE)*AB$10,0)","v":0},{"$f":"ROUND(HLOOKUP(AC$5,'Исходные данные'!$H$55:$S$76,2+$A28,FALSE)*AC$10,0)","v":0},{"$f":"ROUND(HLOOKUP(AD$5,'Исходные данные'!$H$55:$S$76,2+$A28,FALSE)*AD$10,0)","v":0},{"$f":"ROUND(HLOOKUP(AE$5,'Исходные данные'!$H$55:$S$76,2+$A28,FALSE)*AE$10,0)","v":0},{"$f":"ROUND(HLOOKUP(AF$5,'Исходные данные'!$H$55:$S$76,2+$A28,FALSE)*AF$10,0)","v":0},{"$f":"ROUND(HLOOKUP(AG$5,'Исходные данные'!$H$55:$S$76,2+$A28,FALSE)*AG$10,0)","v":0},{"$f":"ROUND(HLOOKUP(AH$5,'Исходные данные'!$H$55:$S$76,2+$A28,FALSE)*AH$10,0)","v":0},{"$f":"ROUND(HLOOKUP(AI$5,'Исходные данные'!$H$55:$S$76,2+$A28,FALSE)*AI$10,0)","v":0},{"$f":"ROUND(HLOOKUP(AJ$5,'Исходные данные'!$H$55:$S$76,2+$A28,FALSE)*AJ$10,0)","v":0},{"$f":"ROUND(HLOOKUP(AK$5,'Исходные данные'!$H$55:$S$76,2+$A28,FALSE)*AK$10,0)","v":0},{"$f":"ROUND(HLOOKUP(AL$5,'Исходные данные'!$H$55:$S$76,2+$A28,FALSE)*AL$10,0)","v":0},{"$f":"ROUND(HLOOKUP(AM$5,'Исходные данные'!$H$55:$S$76,2+$A28,FALSE)*AM$10,0)","v":0},{"$f":"ROUND(HLOOKUP(AN$5,'Исходные данные'!$H$55:$S$76,2+$A28,FALSE)*AN$10,0)","v":0},{"$f":"ROUND(HLOOKUP(AO$5,'Исходные данные'!$H$55:$S$76,2+$A28,FALSE)*AO$10,0)","v":0},{"$f":"ROUND(HLOOKUP(AP$5,'Исходные данные'!$H$55:$S$76,2+$A28,FALSE)*AP$10,0)","v":0},{"$f":"ROUND(HLOOKUP(AQ$5,'Исходные данные'!$H$55:$S$76,2+$A28,FALSE)*AQ$10,0)","v":0},{"$f":"ROUND(HLOOKUP(AR$5,'Исходные данные'!$H$55:$S$76,2+$A28,FALSE)*AR$10,0)","v":0},{"$f":"ROUND(HLOOKUP(AS$5,'Исходные данные'!$H$55:$S$76,2+$A28,FALSE)*AS$10,0)","v":0},{"$f":"ROUND(HLOOKUP(AT$5,'Исходные данные'!$H$55:$S$76,2+$A28,FALSE)*AT$10,0)","v":0},{"$f":"ROUND(HLOOKUP(AU$5,'Исходные данные'!$H$55:$S$76,2+$A28,FALSE)*AU$10,0)","v":0},{"$f":"ROUND(HLOOKUP(AV$5,'Исходные данные'!$H$55:$S$76,2+$A28,FALSE)*AV$10,0)","v":0},{"$f":"ROUND(HLOOKUP(AW$5,'Исходные данные'!$H$55:$S$76,2+$A28,FALSE)*AW$10,0)","v":0},{"$f":"ROUND(HLOOKUP(AX$5,'Исходные данные'!$H$55:$S$76,2+$A28,FALSE)*AX$10,0)","v":0},{"$f":"ROUND(HLOOKUP(AY$5,'Исходные данные'!$H$55:$S$76,2+$A28,FALSE)*AY$10,0)","v":0},{"$f":"ROUND(HLOOKUP(AZ$5,'Исходные данные'!$H$55:$S$76,2+$A28,FALSE)*AZ$10,0)","v":0},{"$f":"ROUND(HLOOKUP(BA$5,'Исходные данные'!$H$55:$S$76,2+$A28,FALSE)*BA$10,0)","v":0},{"$f":"ROUND(HLOOKUP(BB$5,'Исходные данные'!$H$55:$S$76,2+$A28,FALSE)*BB$10,0)","v":0},{"$f":"ROUND(HLOOKUP(BC$5,'Исходные данные'!$H$55:$S$76,2+$A28,FALSE)*BC$10,0)","v":0},{"$f":"ROUND(HLOOKUP(BD$5,'Исходные данные'!$H$55:$S$76,2+$A28,FALSE)*BD$10,0)","v":0},{"$f":"ROUND(HLOOKUP(BE$5,'Исходные данные'!$H$55:$S$76,2+$A28,FALSE)*BE$10,0)","v":0},{"$f":"ROUND(HLOOKUP(BF$5,'Исходные данные'!$H$55:$S$76,2+$A28,FALSE)*BF$10,0)","v":0},{"$f":"ROUND(HLOOKUP(BG$5,'Исходные данные'!$H$55:$S$76,2+$A28,FALSE)*BG$10,0)","v":0},{"$f":"ROUND(HLOOKUP(BH$5,'Исходные данные'!$H$55:$S$76,2+$A28,FALSE)*BH$10,0)","v":0},{"$f":"ROUND(HLOOKUP(BI$5,'Исходные данные'!$H$55:$S$76,2+$A28,FALSE)*BI$10,0)","v":0},{"$f":"ROUND(HLOOKUP(BJ$5,'Исходные данные'!$H$55:$S$76,2+$A28,FALSE)*BJ$10,0)","v":0},{"$f":"ROUND(HLOOKUP(BK$5,'Исходные данные'!$H$55:$S$76,2+$A28,FALSE)*BK$10,0)","v":0}]
[{"$f":"A28+1","v":18},{"$f":"IF(OR('Исходные данные'!B32=0,'Исходные данные'!B32=\"\"),\"\",'Исходные данные'!B32)","v":""},0,{"$f":"ROUND(HLOOKUP(D$5,'Исходные данные'!$H$55:$S$76,2+$A29,FALSE)*D$10,0)","v":0},{"$f":"ROUND(HLOOKUP(E$5,'Исходные данные'!$H$55:$S$76,2+$A29,FALSE)*E$10,0)","v":0},{"$f":"ROUND(HLOOKUP(F$5,'Исходные данные'!$H$55:$S$76,2+$A29,FALSE)*F$10,0)","v":0},{"$f":"ROUND(HLOOKUP(G$5,'Исходные данные'!$H$55:$S$76,2+$A29,FALSE)*G$10,0)","v":0},{"$f":"ROUND(HLOOKUP(H$5,'Исходные данные'!$H$55:$S$76,2+$A29,FALSE)*H$10,0)","v":0},{"$f":"ROUND(HLOOKUP(I$5,'Исходные данные'!$H$55:$S$76,2+$A29,FALSE)*I$10,0)","v":0},{"$f":"ROUND(HLOOKUP(J$5,'Исходные данные'!$H$55:$S$76,2+$A29,FALSE)*J$10,0)","v":0},{"$f":"ROUND(HLOOKUP(K$5,'Исходные данные'!$H$55:$S$76,2+$A29,FALSE)*K$10,0)","v":0},{"$f":"ROUND(HLOOKUP(L$5,'Исходные данные'!$H$55:$S$76,2+$A29,FALSE)*L$10,0)","v":0},{"$f":"ROUND(HLOOKUP(M$5,'Исходные данные'!$H$55:$S$76,2+$A29,FALSE)*M$10,0)","v":0},{"$f":"ROUND(HLOOKUP(N$5,'Исходные данные'!$H$55:$S$76,2+$A29,FALSE)*N$10,0)","v":0},{"$f":"ROUND(HLOOKUP(O$5,'Исходные данные'!$H$55:$S$76,2+$A29,FALSE)*O$10,0)","v":0},{"$f":"ROUND(HLOOKUP(P$5,'Исходные данные'!$H$55:$S$76,2+$A29,FALSE)*P$10,0)","v":0},{"$f":"ROUND(HLOOKUP(Q$5,'Исходные данные'!$H$55:$S$76,2+$A29,FALSE)*Q$10,0)","v":0},{"$f":"ROUND(HLOOKUP(R$5,'Исходные данные'!$H$55:$S$76,2+$A29,FALSE)*R$10,0)","v":0},{"$f":"ROUND(HLOOKUP(S$5,'Исходные данные'!$H$55:$S$76,2+$A29,FALSE)*S$10,0)","v":0},{"$f":"ROUND(HLOOKUP(T$5,'Исходные данные'!$H$55:$S$76,2+$A29,FALSE)*T$10,0)","v":0},{"$f":"ROUND(HLOOKUP(U$5,'Исходные данные'!$H$55:$S$76,2+$A29,FALSE)*U$10,0)","v":0},{"$f":"ROUND(HLOOKUP(V$5,'Исходные данные'!$H$55:$S$76,2+$A29,FALSE)*V$10,0)","v":0},{"$f":"ROUND(HLOOKUP(W$5,'Исходные данные'!$H$55:$S$76,2+$A29,FALSE)*W$10,0)","v":0},{"$f":"ROUND(HLOOKUP(X$5,'Исходные данные'!$H$55:$S$76,2+$A29,FALSE)*X$10,0)","v":0},{"$f":"ROUND(HLOOKUP(Y$5,'Исходные данные'!$H$55:$S$76,2+$A29,FALSE)*Y$10,0)","v":0},{"$f":"ROUND(HLOOKUP(Z$5,'Исходные данные'!$H$55:$S$76,2+$A29,FALSE)*Z$10,0)","v":0},{"$f":"ROUND(HLOOKUP(AA$5,'Исходные данные'!$H$55:$S$76,2+$A29,FALSE)*AA$10,0)","v":0},{"$f":"ROUND(HLOOKUP(AB$5,'Исходные данные'!$H$55:$S$76,2+$A29,FALSE)*AB$10,0)","v":0},{"$f":"ROUND(HLOOKUP(AC$5,'Исходные данные'!$H$55:$S$76,2+$A29,FALSE)*AC$10,0)","v":0},{"$f":"ROUND(HLOOKUP(AD$5,'Исходные данные'!$H$55:$S$76,2+$A29,FALSE)*AD$10,0)","v":0},{"$f":"ROUND(HLOOKUP(AE$5,'Исходные данные'!$H$55:$S$76,2+$A29,FALSE)*AE$10,0)","v":0},{"$f":"ROUND(HLOOKUP(AF$5,'Исходные данные'!$H$55:$S$76,2+$A29,FALSE)*AF$10,0)","v":0},{"$f":"ROUND(HLOOKUP(AG$5,'Исходные данные'!$H$55:$S$76,2+$A29,FALSE)*AG$10,0)","v":0},{"$f":"ROUND(HLOOKUP(AH$5,'Исходные данные'!$H$55:$S$76,2+$A29,FALSE)*AH$10,0)","v":0},{"$f":"ROUND(HLOOKUP(AI$5,'Исходные данные'!$H$55:$S$76,2+$A29,FALSE)*AI$10,0)","v":0},{"$f":"ROUND(HLOOKUP(AJ$5,'Исходные данные'!$H$55:$S$76,2+$A29,FALSE)*AJ$10,0)","v":0},{"$f":"ROUND(HLOOKUP(AK$5,'Исходные данные'!$H$55:$S$76,2+$A29,FALSE)*AK$10,0)","v":0},{"$f":"ROUND(HLOOKUP(AL$5,'Исходные данные'!$H$55:$S$76,2+$A29,FALSE)*AL$10,0)","v":0},{"$f":"ROUND(HLOOKUP(AM$5,'Исходные данные'!$H$55:$S$76,2+$A29,FALSE)*AM$10,0)","v":0},{"$f":"ROUND(HLOOKUP(AN$5,'Исходные данные'!$H$55:$S$76,2+$A29,FALSE)*AN$10,0)","v":0},{"$f":"ROUND(HLOOKUP(AO$5,'Исходные данные'!$H$55:$S$76,2+$A29,FALSE)*AO$10,0)","v":0},{"$f":"ROUND(HLOOKUP(AP$5,'Исходные данные'!$H$55:$S$76,2+$A29,FALSE)*AP$10,0)","v":0},{"$f":"ROUND(HLOOKUP(AQ$5,'Исходные данные'!$H$55:$S$76,2+$A29,FALSE)*AQ$10,0)","v":0},{"$f":"ROUND(HLOOKUP(AR$5,'Исходные данные'!$H$55:$S$76,2+$A29,FALSE)*AR$10,0)","v":0},{"$f":"ROUND(HLOOKUP(AS$5,'Исходные данные'!$H$55:$S$76,2+$A29,FALSE)*AS$10,0)","v":0},{"$f":"ROUND(HLOOKUP(AT$5,'Исходные данные'!$H$55:$S$76,2+$A29,FALSE)*AT$10,0)","v":0},{"$f":"ROUND(HLOOKUP(AU$5,'Исходные данные'!$H$55:$S$76,2+$A29,FALSE)*AU$10,0)","v":0},{"$f":"ROUND(HLOOKUP(AV$5,'Исходные данные'!$H$55:$S$76,2+$A29,FALSE)*AV$10,0)","v":0},{"$f":"ROUND(HLOOKUP(AW$5,'Исходные данные'!$H$55:$S$76,2+$A29,FALSE)*AW$10,0)","v":0},{"$f":"ROUND(HLOOKUP(AX$5,'Исходные данные'!$H$55:$S$76,2+$A29,FALSE)*AX$10,0)","v":0},{"$f":"ROUND(HLOOKUP(AY$5,'Исходные данные'!$H$55:$S$76,2+$A29,FALSE)*AY$10,0)","v":0},{"$f":"ROUND(HLOOKUP(AZ$5,'Исходные данные'!$H$55:$S$76,2+$A29,FALSE)*AZ$10,0)","v":0},{"$f":"ROUND(HLOOKUP(BA$5,'Исходные данные'!$H$55:$S$76,2+$A29,FALSE)*BA$10,0)","v":0},{"$f":"ROUND(HLOOKUP(BB$5,'Исходные данные'!$H$55:$S$76,2+$A29,FALSE)*BB$10,0)","v":0},{"$f":"ROUND(HLOOKUP(BC$5,'Исходные данные'!$H$55:$S$76,2+$A29,FALSE)*BC$10,0)","v":0},{"$f":"ROUND(HLOOKUP(BD$5,'Исходные данные'!$H$55:$S$76,2+$A29,FALSE)*BD$10,0)","v":0},{"$f":"ROUND(HLOOKUP(BE$5,'Исходные данные'!$H$55:$S$76,2+$A29,FALSE)*BE$10,0)","v":0},{"$f":"ROUND(HLOOKUP(BF$5,'Исходные данные'!$H$55:$S$76,2+$A29,FALSE)*BF$10,0)","v":0},{"$f":"ROUND(HLOOKUP(BG$5,'Исходные данные'!$H$55:$S$76,2+$A29,FALSE)*BG$10,0)","v":0},{"$f":"ROUND(HLOOKUP(BH$5,'Исходные данные'!$H$55:$S$76,2+$A29,FALSE)*BH$10,0)","v":0},{"$f":"ROUND(HLOOKUP(BI$5,'Исходные данные'!$H$55:$S$76,2+$A29,FALSE)*BI$10,0)","v":0},{"$f":"ROUND(HLOOKUP(BJ$5,'Исходные данные'!$H$55:$S$76,2+$A29,FALSE)*BJ$10,0)","v":0},{"$f":"ROUND(HLOOKUP(BK$5,'Исходные данные'!$H$55:$S$76,2+$A29,FALSE)*BK$10,0)","v":0}]
[19,{"$f":"IF(OR('Исходные данные'!B33=0,'Исходные данные'!B33=\"\"),\"\",'Исходные данные'!B33)","v":""},0,{"$f":"ROUND(HLOOKUP(D$5,'Исходные данные'!$H$55:$S$76,2+$A30,FALSE)*D$10,0)","v":0},{"$f":"ROUND(HLOOKUP(E$5,'Исходные данные'!$H$55:$S$76,2+$A30,FALSE)*E$10,0)","v":0},{"$f":"ROUND(HLOOKUP(F$5,'Исходные данные'!$H$55:$S$76,2+$A30,FALSE)*F$10,0)","v":0},{"$f":"ROUND(HLOOKUP(G$5,'Исходные данные'!$H$55:$S$76,2+$A30,FALSE)*G$10,0)","v":0},{"$f":"ROUND(HLOOKUP(H$5,'Исходные данные'!$H$55:$S$76,2+$A30,FALSE)*H$10,0)","v":0},{"$f":"ROUND(HLOOKUP(I$5,'Исходные данные'!$H$55:$S$76,2+$A30,FALSE)*I$10,0)","v":0},{"$f":"ROUND(HLOOKUP(J$5,'Исходные данные'!$H$55:$S$76,2+$A30,FALSE)*J$10,0)","v":0},{"$f":"ROUND(HLOOKUP(K$5,'Исходные данные'!$H$55:$S$76,2+$A30,FALSE)*K$10,0)","v":0},{"$f":"ROUND(HLOOKUP(L$5,'Исходные данные'!$H$55:$S$76,2+$A30,FALSE)*L$10,0)","v":0},{"$f":"ROUND(HLOOKUP(M$5,'Исходные данные'!$H$55:$S$76,2+$A30,FALSE)*M$10,0)","v":0},{"$f":"ROUND(HLOOKUP(N$5,'Исходные данные'!$H$55:$S$76,2+$A30,FALSE)*N$10,0)","v":0},{"$f":"ROUND(HLOOKUP(O$5,'Исходные данные'!$H$55:$S$76,2+$A30,FALSE)*O$10,0)","v":0},{"$f":"ROUND(HLOOKUP(P$5,'Исходные данные'!$H$55:$S$76,2+$A30,FALSE)*P$10,0)","v":0},{"$f":"ROUND(HLOOKUP(Q$5,'Исходные данные'!$H$55:$S$76,2+$A30,FALSE)*Q$10,0)","v":0},{"$f":"ROUND(HLOOKUP(R$5,'Исходные данные'!$H$55:$S$76,2+$A30,FALSE)*R$10,0)","v":0},{"$f":"ROUND(HLOOKUP(S$5,'Исходные данные'!$H$55:$S$76,2+$A30,FALSE)*S$10,0)","v":0},{"$f":"ROUND(HLOOKUP(T$5,'Исходные данные'!$H$55:$S$76,2+$A30,FALSE)*T$10,0)","v":0},{"$f":"ROUND(HLOOKUP(U$5,'Исходные данные'!$H$55:$S$76,2+$A30,FALSE)*U$10,0)","v":0},{"$f":"ROUND(HLOOKUP(V$5,'Исходные данные'!$H$55:$S$76,2+$A30,FALSE)*V$10,0)","v":0},{"$f":"ROUND(HLOOKUP(W$5,'Исходные данные'!$H$55:$S$76,2+$A30,FALSE)*W$10,0)","v":0},{"$f":"ROUND(HLOOKUP(X$5,'Исходные данные'!$H$55:$S$76,2+$A30,FALSE)*X$10,0)","v":0},{"$f":"ROUND(HLOOKUP(Y$5,'Исходные данные'!$H$55:$S$76,2+$A30,FALSE)*Y$10,0)","v":0},{"$f":"ROUND(HLOOKUP(Z$5,'Исходные данные'!$H$55:$S$76,2+$A30,FALSE)*Z$10,0)","v":0},{"$f":"ROUND(HLOOKUP(AA$5,'Исходные данные'!$H$55:$S$76,2+$A30,FALSE)*AA$10,0)","v":0},{"$f":"ROUND(HLOOKUP(AB$5,'Исходные данные'!$H$55:$S$76,2+$A30,FALSE)*AB$10,0)","v":0},{"$f":"ROUND(HLOOKUP(AC$5,'Исходные данные'!$H$55:$S$76,2+$A30,FALSE)*AC$10,0)","v":0},{"$f":"ROUND(HLOOKUP(AD$5,'Исходные данные'!$H$55:$S$76,2+$A30,FALSE)*AD$10,0)","v":0},{"$f":"ROUND(HLOOKUP(AE$5,'Исходные данные'!$H$55:$S$76,2+$A30,FALSE)*AE$10,0)","v":0},{"$f":"ROUND(HLOOKUP(AF$5,'Исходные данные'!$H$55:$S$76,2+$A30,FALSE)*AF$10,0)","v":0},{"$f":"ROUND(HLOOKUP(AG$5,'Исходные данные'!$H$55:$S$76,2+$A30,FALSE)*AG$10,0)","v":0},{"$f":"ROUND(HLOOKUP(AH$5,'Исходные данные'!$H$55:$S$76,2+$A30,FALSE)*AH$10,0)","v":0},{"$f":"ROUND(HLOOKUP(AI$5,'Исходные данные'!$H$55:$S$76,2+$A30,FALSE)*AI$10,0)","v":0},{"$f":"ROUND(HLOOKUP(AJ$5,'Исходные данные'!$H$55:$S$76,2+$A30,FALSE)*AJ$10,0)","v":0},{"$f":"ROUND(HLOOKUP(AK$5,'Исходные данные'!$H$55:$S$76,2+$A30,FALSE)*AK$10,0)","v":0},{"$f":"ROUND(HLOOKUP(AL$5,'Исходные данные'!$H$55:$S$76,2+$A30,FALSE)*AL$10,0)","v":0},{"$f":"ROUND(HLOOKUP(AM$5,'Исходные данные'!$H$55:$S$76,2+$A30,FALSE)*AM$10,0)","v":0},{"$f":"ROUND(HLOOKUP(AN$5,'Исходные данные'!$H$55:$S$76,2+$A30,FALSE)*AN$10,0)","v":0},{"$f":"ROUND(HLOOKUP(AO$5,'Исходные данные'!$H$55:$S$76,2+$A30,FALSE)*AO$10,0)","v":0},{"$f":"ROUND(HLOOKUP(AP$5,'Исходные данные'!$H$55:$S$76,2+$A30,FALSE)*AP$10,0)","v":0},{"$f":"ROUND(HLOOKUP(AQ$5,'Исходные данные'!$H$55:$S$76,2+$A30,FALSE)*AQ$10,0)","v":0},{"$f":"ROUND(HLOOKUP(AR$5,'Исходные данные'!$H$55:$S$76,2+$A30,FALSE)*AR$10,0)","v":0},{"$f":"ROUND(HLOOKUP(AS$5,'Исходные данные'!$H$55:$S$76,2+$A30,FALSE)*AS$10,0)","v":0},{"$f":"ROUND(HLOOKUP(AT$5,'Исходные данные'!$H$55:$S$76,2+$A30,FALSE)*AT$10,0)","v":0},{"$f":"ROUND(HLOOKUP(AU$5,'Исходные данные'!$H$55:$S$76,2+$A30,FALSE)*AU$10,0)","v":0},{"$f":"ROUND(HLOOKUP(AV$5,'Исходные данные'!$H$55:$S$76,2+$A30,FALSE)*AV$10,0)","v":0},{"$f":"ROUND(HLOOKUP(AW$5,'Исходные данные'!$H$55:$S$76,2+$A30,FALSE)*AW$10,0)","v":0},{"$f":"ROUND(HLOOKUP(AX$5,'Исходные данные'!$H$55:$S$76,2+$A30,FALSE)*AX$10,0)","v":0},{"$f":"ROUND(HLOOKUP(AY$5,'Исходные данные'!$H$55:$S$76,2+$A30,FALSE)*AY$10,0)","v":0},{"$f":"ROUND(HLOOKUP(AZ$5,'Исходные данные'!$H$55:$S$76,2+$A30,FALSE)*AZ$10,0)","v":0},{"$f":"ROUND(HLOOKUP(BA$5,'Исходные данные'!$H$55:$S$76,2+$A30,FALSE)*BA$10,0)","v":0},{"$f":"ROUND(HLOOKUP(BB$5,'Исходные данные'!$H$55:$S$76,2+$A30,FALSE)*BB$10,0)","v":0},{"$f":"ROUND(HLOOKUP(BC$5,'Исходные данные'!$H$55:$S$76,2+$A30,FALSE)*BC$10,0)","v":0},{"$f":"ROUND(HLOOKUP(BD$5,'Исходные данные'!$H$55:$S$76,2+$A30,FALSE)*BD$10,0)","v":0},{"$f":"ROUND(HLOOKUP(BE$5,'Исходные данные'!$H$55:$S$76,2+$A30,FALSE)*BE$10,0)","v":0},{"$f":"ROUND(HLOOKUP(BF$5,'Исходные данные'!$H$55:$S$76,2+$A30,FALSE)*BF$10,0)","v":0},{"$f":"ROUND(HLOOKUP(BG$5,'Исходные данные'!$H$55:$S$76,2+$A30,FALSE)*BG$10,0)","v":0},{"$f":"ROUND(HLOOKUP(BH$5,'Исходные данные'!$H$55:$S$76,2+$A30,FALSE)*BH$10,0)","v":0},{"$f":"ROUND(HLOOKUP(BI$5,'Исходные данные'!$H$55:$S$76,2+$A30,FALSE)*BI$10,0)","v":0},{"$f":"ROUND(HLOOKUP(BJ$5,'Исходные данные'!$H$55:$S$76,2+$A30,FALSE)*BJ$10,0)","v":0},{"$f":"ROUND(HLOOKUP(BK$5,'Исходные данные'!$H$55:$S$76,2+$A30,FALSE)*BK$10,0)","v":0}]
[20,{"$f":"IF(OR('Исходные данные'!B34=0,'Исходные данные'!B34=\"\"),\"\",'Исходные данные'!B34)","v":""},0,{"$f":"ROUND(HLOOKUP(D$5,'Исходные данные'!$H$55:$S$76,2+$A31,FALSE)*D$10,0)","v":0},{"$f":"ROUND(HLOOKUP(E$5,'Исходные данные'!$H$55:$S$76,2+$A31,FALSE)*E$10,0)","v":0},{"$f":"ROUND(HLOOKUP(F$5,'Исходные данные'!$H$55:$S$76,2+$A31,FALSE)*F$10,0)","v":0},{"$f":"ROUND(HLOOKUP(G$5,'Исходные данные'!$H$55:$S$76,2+$A31,FALSE)*G$10,0)","v":0},{"$f":"ROUND(HLOOKUP(H$5,'Исходные данные'!$H$55:$S$76,2+$A31,FALSE)*H$10,0)","v":0},{"$f":"ROUND(HLOOKUP(I$5,'Исходные данные'!$H$55:$S$76,2+$A31,FALSE)*I$10,0)","v":0},{"$f":"ROUND(HLOOKUP(J$5,'Исходные данные'!$H$55:$S$76,2+$A31,FALSE)*J$10,0)","v":0},{"$f":"ROUND(HLOOKUP(K$5,'Исходные данные'!$H$55:$S$76,2+$A31,FALSE)*K$10,0)","v":0},{"$f":"ROUND(HLOOKUP(L$5,'Исходные данные'!$H$55:$S$76,2+$A31,FALSE)*L$10,0)","v":0},{"$f":"ROUND(HLOOKUP(M$5,'Исходные данные'!$H$55:$S$76,2+$A31,FALSE)*M$10,0)","v":0},{"$f":"ROUND(HLOOKUP(N$5,'Исходные данные'!$H$55:$S$76,2+$A31,FALSE)*N$10,0)","v":0},{"$f":"ROUND(HLOOKUP(O$5,'Исходные данные'!$H$55:$S$76,2+$A31,FALSE)*O$10,0)","v":0},{"$f":"ROUND(HLOOKUP(P$5,'Исходные данные'!$H$55:$S$76,2+$A31,FALSE)*P$10,0)","v":0},{"$f":"ROUND(HLOOKUP(Q$5,'Исходные данные'!$H$55:$S$76,2+$A31,FALSE)*Q$10,0)","v":0},{"$f":"ROUND(HLOOKUP(R$5,'Исходные данные'!$H$55:$S$76,2+$A31,FALSE)*R$10,0)","v":0},{"$f":"ROUND(HLOOKUP(S$5,'Исходные данные'!$H$55:$S$76,2+$A31,FALSE)*S$10,0)","v":0},{"$f":"ROUND(HLOOKUP(T$5,'Исходные данные'!$H$55:$S$76,2+$A31,FALSE)*T$10,0)","v":0},{"$f":"ROUND(HLOOKUP(U$5,'Исходные данные'!$H$55:$S$76,2+$A31,FALSE)*U$10,0)","v":0},{"$f":"ROUND(HLOOKUP(V$5,'Исходные данные'!$H$55:$S$76,2+$A31,FALSE)*V$10,0)","v":0},{"$f":"ROUND(HLOOKUP(W$5,'Исходные данные'!$H$55:$S$76,2+$A31,FALSE)*W$10,0)","v":0},{"$f":"ROUND(HLOOKUP(X$5,'Исходные данные'!$H$55:$S$76,2+$A31,FALSE)*X$10,0)","v":0},{"$f":"ROUND(HLOOKUP(Y$5,'Исходные данные'!$H$55:$S$76,2+$A31,FALSE)*Y$10,0)","v":0},{"$f":"ROUND(HLOOKUP(Z$5,'Исходные данные'!$H$55:$S$76,2+$A31,FALSE)*Z$10,0)","v":0},{"$f":"ROUND(HLOOKUP(AA$5,'Исходные данные'!$H$55:$S$76,2+$A31,FALSE)*AA$10,0)","v":0},{"$f":"ROUND(HLOOKUP(AB$5,'Исходные данные'!$H$55:$S$76,2+$A31,FALSE)*AB$10,0)","v":0},{"$f":"ROUND(HLOOKUP(AC$5,'Исходные данные'!$H$55:$S$76,2+$A31,FALSE)*AC$10,0)","v":0},{"$f":"ROUND(HLOOKUP(AD$5,'Исходные данные'!$H$55:$S$76,2+$A31,FALSE)*AD$10,0)","v":0},{"$f":"ROUND(HLOOKUP(AE$5,'Исходные данные'!$H$55:$S$76,2+$A31,FALSE)*AE$10,0)","v":0},{"$f":"ROUND(HLOOKUP(AF$5,'Исходные данные'!$H$55:$S$76,2+$A31,FALSE)*AF$10,0)","v":0},{"$f":"ROUND(HLOOKUP(AG$5,'Исходные данные'!$H$55:$S$76,2+$A31,FALSE)*AG$10,0)","v":0},{"$f":"ROUND(HLOOKUP(AH$5,'Исходные данные'!$H$55:$S$76,2+$A31,FALSE)*AH$10,0)","v":0},{"$f":"ROUND(HLOOKUP(AI$5,'Исходные данные'!$H$55:$S$76,2+$A31,FALSE)*AI$10,0)","v":0},{"$f":"ROUND(HLOOKUP(AJ$5,'Исходные данные'!$H$55:$S$76,2+$A31,FALSE)*AJ$10,0)","v":0},{"$f":"ROUND(HLOOKUP(AK$5,'Исходные данные'!$H$55:$S$76,2+$A31,FALSE)*AK$10,0)","v":0},{"$f":"ROUND(HLOOKUP(AL$5,'Исходные данные'!$H$55:$S$76,2+$A31,FALSE)*AL$10,0)","v":0},{"$f":"ROUND(HLOOKUP(AM$5,'Исходные данные'!$H$55:$S$76,2+$A31,FALSE)*AM$10,0)","v":0},{"$f":"ROUND(HLOOKUP(AN$5,'Исходные данные'!$H$55:$S$76,2+$A31,FALSE)*AN$10,0)","v":0},{"$f":"ROUND(HLOOKUP(AO$5,'Исходные данные'!$H$55:$S$76,2+$A31,FALSE)*AO$10,0)","v":0},{"$f":"ROUND(HLOOKUP(AP$5,'Исходные данные'!$H$55:$S$76,2+$A31,FALSE)*AP$10,0)","v":0},{"$f":"ROUND(HLOOKUP(AQ$5,'Исходные данные'!$H$55:$S$76,2+$A31,FALSE)*AQ$10,0)","v":0},{"$f":"ROUND(HLOOKUP(AR$5,'Исходные данные'!$H$55:$S$76,2+$A31,FALSE)*AR$10,0)","v":0},{"$f":"ROUND(HLOOKUP(AS$5,'Исходные данные'!$H$55:$S$76,2+$A31,FALSE)*AS$10,0)","v":0},{"$f":"ROUND(HLOOKUP(AT$5,'Исходные данные'!$H$55:$S$76,2+$A31,FALSE)*AT$10,0)","v":0},{"$f":"ROUND(HLOOKUP(AU$5,'Исходные данные'!$H$55:$S$76,2+$A31,FALSE)*AU$10,0)","v":0},{"$f":"ROUND(HLOOKUP(AV$5,'Исходные данные'!$H$55:$S$76,2+$A31,FALSE)*AV$10,0)","v":0},{"$f":"ROUND(HLOOKUP(AW$5,'Исходные данные'!$H$55:$S$76,2+$A31,FALSE)*AW$10,0)","v":0},{"$f":"ROUND(HLOOKUP(AX$5,'Исходные данные'!$H$55:$S$76,2+$A31,FALSE)*AX$10,0)","v":0},{"$f":"ROUND(HLOOKUP(AY$5,'Исходные данные'!$H$55:$S$76,2+$A31,FALSE)*AY$10,0)","v":0},{"$f":"ROUND(HLOOKUP(AZ$5,'Исходные данные'!$H$55:$S$76,2+$A31,FALSE)*AZ$10,0)","v":0},{"$f":"ROUND(HLOOKUP(BA$5,'Исходные данные'!$H$55:$S$76,2+$A31,FALSE)*BA$10,0)","v":0},{"$f":"ROUND(HLOOKUP(BB$5,'Исходные данные'!$H$55:$S$76,2+$A31,FALSE)*BB$10,0)","v":0},{"$f":"ROUND(HLOOKUP(BC$5,'Исходные данные'!$H$55:$S$76,2+$A31,FALSE)*BC$10,0)","v":0},{"$f":"ROUND(HLOOKUP(BD$5,'Исходные данные'!$H$55:$S$76,2+$A31,FALSE)*BD$10,0)","v":0},{"$f":"ROUND(HLOOKUP(BE$5,'Исходные данные'!$H$55:$S$76,2+$A31,FALSE)*BE$10,0)","v":0},{"$f":"ROUND(HLOOKUP(BF$5,'Исходные данные'!$H$55:$S$76,2+$A31,FALSE)*BF$10,0)","v":0},{"$f":"ROUND(HLOOKUP(BG$5,'Исходные данные'!$H$55:$S$76,2+$A31,FALSE)*BG$10,0)","v":0},{"$f":"ROUND(HLOOKUP(BH$5,'Исходные данные'!$H$55:$S$76,2+$A31,FALSE)*BH$10,0)","v":0},{"$f":"ROUND(HLOOKUP(BI$5,'Исходные данные'!$H$55:$S$76,2+$A31,FALSE)*BI$10,0)","v":0},{"$f":"ROUND(HLOOKUP(BJ$5,'Исходные данные'!$H$55:$S$76,2+$A31,FALSE)*BJ$10,0)","v":0},{"$f":"ROUND(HLOOKUP(BK$5,'Исходные данные'!$H$55:$S$76,2+$A31,FALSE)*BK$10,0)","v":0}]
["СУММА ВЫРУЧКИ",null,{"$f":"SUM(C33:C52)","v":53487860},506120,592760,666980,666980,723020,750020,1114140,2014260,979240,784220,739220,750020,723020,741020,741020,741020,723020,750020,1114140,2014260,979240,784220,739220,750020,723020,741020,741020,741020,723020,750020,1114140,{"$f":"SUM(AI33:AI52)","v":2014260},979240,784220,739220,750020,723020,741020,741020,741020,723020,750020,1114140,2014260,979240,784220,739220,750020,723020,741020,741020,741020,723020,750020,1114140,2014260,979240,784220,739220,750020]
[1,{"$f":"B12","v":"Шаурма"},{"$f":"SUM(D33:BK33)","v":26791100},{"$f":"D12*'Исходные данные'!$D15","v":210000},{"$f":"E12*'Исходные данные'!$D15","v":239960},{"$f":"F12*'Исходные данные'!$D15","v":270060},{"$f":"G12*'Исходные данные'!$D15","v":270060},{"$f":"H12*'Исходные данные'!$D15","v":300020},{"$f":"I12*'Исходные данные'!$D15","v":300020},{"$f":"J12*'Исходные данные'!$D15","v":674940},{"$f":"K12*'Исходные данные'!$D15","v":1530060},{"$f":"L12*'Исходные данные'!$D15","v":495040},{"$f":"M12*'Исходные данные'!$D15","v":300020},{"$f":"N12*'Исходные данные'!$D15","v":300020},{"$f":"O12*'Исходные данные'!$D15","v":300020},{"$f":"P12*'Исходные данные'!$D15","v":300020},{"$f":"Q12*'Исходные данные'!$D15","v":300020},{"$f":"R12*'Исходные данные'!$D15","v":300020},{"$f":"S12*'Исходные данные'!$D15","v":300020},{"$f":"T12*'Исходные данные'!$D15","v":300020},{"$f":"U12*'Исходные данные'!$D15","v":300020},{"$f":"V12*'Исходные данные'!$D15","v":674940},{"$f":"W12*'Исходные данные'!$D15","v":1530060},{"$f":"X12*'Исходные данные'!$D15","v":495040},{"$f":"Y12*'Исходные данные'!$D15","v":300020},{"$f":"Z12*'Исходные данные'!$D15","v":300020},{"$f":"AA12*'Исходные данные'!$D15","v":300020},{"$f":"AB12*'Исходные данные'!$D15","v":300020},{"$f":"AC12*'Исходные данные'!$D15","v":300020},{"$f":"AD12*'Исходные данные'!$D15","v":300020},{"$f":"AE12*'Исходные данные'!$D15","v":300020},{"$f":"AF12*'Исходные данные'!$D15","v":300020},{"$f":"AG12*'Исходные данные'!$D15","v":300020},{"$f":"AH12*'Исходные данные'!$D15","v":674940},{"$f":"AI12*'Исходные данные'!$D15","v":1530060},{"$f":"AJ12*'Исходные данные'!$D15","v":495040},{"$f":"AK12*'Исходные данные'!$D15","v":300020},{"$f":"AL12*'Исходные данные'!$D15","v":300020},{"$f":"AM12*'Исходные данные'!$D15","v":300020},{"$f":"AN12*'Исходные данные'!$D15","v":300020},{"$f":"AO12*'Исходные данные'!$D15","v":300020},{"$f":"AP12*'Исходные данные'!$D15","v":300020},{"$f":"AQ12*'Исходные данные'!$D15","v":300020},{"$f":"AR12*'Исходные данные'!$D15","v":300020},{"$f":"AS12*'Исходные данные'!$D15","v":300020},{"$f":"AT12*'Исходные данные'!$D15","v":674940},{"$f":"AU12*'Исходные данные'!$D15","v":1530060},{"$f":"AV12*'Исходные данные'!$D15","v":495040},{"$f":"AW12*'Исходные данные'!$D15","v":300020},{"$f":"AX12*'Исходные данные'!$D15","v":300020},{"$f":"AY12*'Исходные данные'!$D15","v":300020},{"$f":"AZ12*'Исходные данные'!$D15","v":300020},{"$f":"BA12*'Исходные данные'!$D15","v":300020},{"$f":"BB12*'Исходные данные'!$D15","v":300020},{"$f":"BC12*'Исходные данные'!$D15","v":300020},{"$f":"BD12*'Исходные данные'!$D15","v":300020},{"$f":"BE12*'Исходные данные'!$D15","v":300020},{"$f":"BF12*'Исходные данные'!$D15","v":674940},{"$f":"BG12*'Исходные данные'!$D15","v":1530060},{"$f":"BH12*'Исходные данные'!$D15","v":495040},{"$f":"BI12*'Исходные данные'!$D15","v":300020},{"$f":"BJ12*'Исходные данные'!$D15","v":300020},{"$f":"BK12*'Исходные данные'!$D15","v":300020}]
[{"$f":"A33+1","v":2},"Кофе",{"$f":"SUM(D34:BK34)","v":13361400},{"$f":"D13*'Исходные данные'!$D16","v":138600},{"$f":"E13*'Исходные данные'!$D16","v":158400},{"$f":"F13*'Исходные данные'!$D16","v":178200},{"$f":"G13*'Исходные данные'!$D16","v":178200},{"$f":"H13*'Исходные данные'!$D16","v":198000},{"$f":"I13*'Исходные данные'!$D16","v":225000},{"$f":"J13*'Исходные данные'!$D16","v":225000},{"$f":"K13*'Исходные данные'!$D16","v":270000},{"$f":"L13*'Исходные данные'!$D16","v":270000},{"$f":"M13*'Исходные данные'!$D16","v":270000},{"$f":"N13*'Исходные данные'!$D16","v":225000},{"$f":"O13*'Исходные данные'!$D16","v":225000},{"$f":"P13*'Исходные данные'!$D16","v":198000},{"$f":"Q13*'Исходные данные'!$D16","v":198000},{"$f":"R13*'Исходные данные'!$D16","v":198000},{"$f":"S13*'Исходные данные'!$D16","v":198000},{"$f":"T13*'Исходные данные'!$D16","v":198000},{"$f":"U13*'Исходные данные'!$D16","v":225000},{"$f":"V13*'Исходные данные'!$D16","v":225000},{"$f":"W13*'Исходные данные'!$D16","v":270000},{"$f":"X13*'Исходные данные'!$D16","v":270000},{"$f":"Y13*'Исходные данные'!$D16","v":270000},{"$f":"Z13*'Исходные данные'!$D16","v":225000},{"$f":"AA13*'Исходные данные'!$D16","v":225000},{"$f":"AB13*'Исходные данные'!$D16","v":198000},{"$f":"AC13*'Исходные данные'!$D16","v":198000},{"$f":"AD13*'Исходные данные'!$D16","v":198000},{"$f":"AE13*'Исходные данные'!$D16","v":198000},{"$f":"AF13*'Исходные данные'!$D16","v":198000},{"$f":"AG13*'Исходные данные'!$D16","v":225000},{"$f":"AH13*'Исходные данные'!$D16","v":225000},{"$f":"AI13*'Исходные данные'!$D16","v":270000},{"$f":"AJ13*'Исходные данные'!$D16","v":270000},{"$f":"AK13*'Исходные данные'!$D16","v":270000},{"$f":"AL13*'Исходные данные'!$D16","v":225000},{"$f":"AM13*'Исходные данные'!$D16","v":225000},{"$f":"AN13*'Исходные данные'!$D16","v":198000},{"$f":"AO13*'Исходные данные'!$D16","v":198000},{"$f":"AP13*'Исходные данные'!$D16","v":198000},{"$f":"AQ13*'Исходные данные'!$D16","v":198000},{"$f":"AR13*'Исходные данные'!$D16","v":198000},{"$f":"AS13*'Исходные данные'!$D16","v":225000},{"$f":"AT13*'Исходные данные'!$D16","v":225000},{"$f":"AU13*'Исходные данные'!$D16","v":270000},{"$f":"AV13*'Исходные данные'!$D16","v":270000},{"$f":"AW13*'Исходные данные'!$D16","v":270000},{"$f":"AX13*'Исходные данные'!$D16","v":225000},{"$f":"AY13*'Исходные данные'!$D16","v":225000},{"$f":"AZ13*'Исходные данные'!$D16","v":198000},{"$f":"BA13*'Исходные данные'!$D16","v":198000},{"$f":"BB13*'Исходные данные'!$D16","v":198000},{"$f":"BC13*'Исходные данные'!$D16","v":198000},{"$f":"BD13*'Исходные данные'!$D16","v":198000},{"$f":"BE13*'Исходные данные'!$D16","v":225000},{"$f":"BF13*'Исходные данные'!$D16","v":225000},{"$f":"BG13*'Исходные данные'!$D16","v":270000},{"$f":"BH13*'Исходные данные'!$D16","v":270000},{"$f":"BI13*'Исходные данные'!$D16","v":270000},{"$f":"BJ13*'Исходные данные'!$D16","v":225000},{"$f":"BK13*'Исходные данные'!$D16","v":225000}]
[{"$f":"A34+1","v":3},"Хот-дог",5337000,{"$f":"D14*'Исходные данные'!$D17","v":63000},{"$f":"E14*'Исходные данные'!$D17","v":72000},{"$f":"F14*'Исходные данные'!$D17","v":81000},{"$f":"G14*'Исходные данные'!$D17","v":81000},{"$f":"H14*'Исходные данные'!$D17","v":90000},{"$f":"I14*'Исходные данные'!$D17","v":90000},{"$f":"J14*'Исходные данные'!$D17","v":90000},{"$f":"K14*'Исходные данные'!$D17","v":90000},{"$f":"L14*'Исходные данные'!$D17","v":90000},{"$f":"M14*'Исходные данные'!$D17","v":90000},{"$f":"N14*'Исходные данные'!$D17","v":90000},{"$f":"O14*'Исходные данные'!$D17","v":90000},{"$f":"P14*'Исходные данные'!$D17","v":90000},{"$f":"Q14*'Исходные данные'!$D17","v":90000},{"$f":"R14*'Исходные данные'!$D17","v":90000},{"$f":"S14*'Исходные данные'!$D17","v":90000},{"$f":"T14*'Исходные данные'!$D17","v":90000},{"$f":"U14*'Исходные данные'!$D17","v":90000},{"$f":"V14*'Исходные данные'!$D17","v":90000},{"$f":"W14*'Исходные данные'!$D17","v":90000},{"$f":"X14*'Исходные данные'!$D17","v":90000},{"$f":"Y14*'Исходные данные'!$D17","v":90000},{"$f":"Z14*'Исходные данные'!$D17","v":90000},{"$f":"AA14*'Исходные данные'!$D17","v":90000},{"$f":"AB14*'Исходные данные'!$D17","v":90000},{"$f":"AC14*'Исходные данные'!$D17","v":90000},{"$f":"AD14*'Исходные данные'!$D17","v":90000},{"$f":"AE14*'Исходные данные'!$D17","v":90000},{"$f":"AF14*'Исходные данные'!$D17","v":90000},{"$f":"AG14*'Исходные данные'!$D17","v":90000},{"$f":"AH14*'Исходные данные'!$D17","v":90000},{"$f":"AI14*'Исходные данные'!$D17","v":90000},{"$f":"AJ14*'Исходные данные'!$D17","v":90000},{"$f":"AK14*'Исходные данные'!$D17","v":90000},{"$f":"AL14*'Исходные данные'!$D17","v":90000},{"$f":"AM14*'Исходные данные'!$D17","v":90000},{"$f":"AN14*'Исходные данные'!$D17","v":90000},{"$f":"AO14*'Исходные данные'!$D17","v":90000},{"$f":"AP14*'Исходные данные'!$D17","v":90000},{"$f":"AQ14*'Исходные данные'!$D17","v":90000},{"$f":"AR14*'Исходные данные'!$D17","v":90000},{"$f":"AS14*'Исходные данные'!$D17","v":90000},{"$f":"AT14*'Исходные данные'!$D17","v":90000},{"$f":"AU14*'Исходные данные'!$D17","v":90000},{"$f":"AV14*'Исходные данные'!$D17","v":90000},{"$f":"AW14*'Исходные данные'!$D17","v":90000},{"$f":"AX14*'Исходные данные'!$D17","v":90000},{"$f":"AY14*'Исходные данные'!$D17","v":90000},{"$f":"AZ14*'Исходные данные'!$D17","v":90000},{"$f":"BA14*'Исходные данные'!$D17","v":90000},{"$f":"BB14*'Исходные данные'!$D17","v":90000},{"$f":"BC14*'Исходные данные'!$D17","v":90000},{"$f":"BD14*'Исходные данные'!$D17","v":90000},{"$f":"BE14*'Исходные данные'!$D17","v":90000},{"$f":"BF14*'Исходные данные'!$D17","v":90000},{"$f":"BG14*'Исходные данные'!$D17","v":90000},{"$f":"BH14*'Исходные данные'!$D17","v":90000},{"$f":"BI14*'Исходные данные'!$D17","v":90000},{"$f":"BJ14*'Исходные данные'!$D17","v":90000},{"$f":"BK14*'Исходные данные'!$D17","v":90000}]
[4,"Газированный напиток",5329800,{"$f":"D15*'Исходные данные'!$D18","v":63000},{"$f":"E15*'Исходные данные'!$D18","v":86400},{"$f":"F15*'Исходные данные'!$D18","v":97200},{"$f":"G15*'Исходные данные'!$D18","v":97200},{"$f":"H15*'Исходные данные'!$D18","v":90000},{"$f":"I15*'Исходные данные'!$D18","v":90000},{"$f":"J15*'Исходные данные'!$D18","v":79200},{"$f":"K15*'Исходные данные'!$D18","v":79200},{"$f":"L15*'Исходные данные'!$D18","v":79200},{"$f":"M15*'Исходные данные'!$D18","v":79200},{"$f":"N15*'Исходные данные'!$D18","v":79200},{"$f":"O15*'Исходные данные'!$D18","v":90000},{"$f":"P15*'Исходные данные'!$D18","v":90000},{"$f":"Q15*'Исходные данные'!$D18","v":108000},{"$f":"R15*'Исходные данные'!$D18","v":108000},{"$f":"S15*'Исходные данные'!$D18","v":108000},{"$f":"T15*'Исходные данные'!$D18","v":90000},{"$f":"U15*'Исходные данные'!$D18","v":90000},{"$f":"V15*'Исходные данные'!$D18","v":79200},{"$f":"W15*'Исходные данные'!$D18","v":79200},{"$f":"X15*'Исходные данные'!$D18","v":79200},{"$f":"Y15*'Исходные данные'!$D18","v":79200},{"$f":"Z15*'Исходные данные'!$D18","v":79200},{"$f":"AA15*'Исходные данные'!$D18","v":90000},{"$f":"AB15*'Исходные данные'!$D18","v":90000},{"$f":"AC15*'Исходные данные'!$D18","v":108000},{"$f":"AD15*'Исходные данные'!$D18","v":108000},{"$f":"AE15*'Исходные данные'!$D18","v":108000},{"$f":"AF15*'Исходные данные'!$D18","v":90000},{"$f":"AG15*'Исходные данные'!$D18","v":90000},{"$f":"AH15*'Исходные данные'!$D18","v":79200},{"$f":"AI15*'Исходные данные'!$D18","v":79200},{"$f":"AJ15*'Исходные данные'!$D18","v":79200},{"$f":"AK15*'Исходные данные'!$D18","v":79200},{"$f":"AL15*'Исходные данные'!$D18","v":79200},{"$f":"AM15*'Исходные данные'!$D18","v":90000},{"$f":"AN15*'Исходные данные'!$D18","v":90000},{"$f":"AO15*'Исходные данные'!$D18","v":108000},{"$f":"AP15*'Исходные данные'!$D18","v":108000},{"$f":"AQ15*'Исходные данные'!$D18","v":108000},{"$f":"AR15*'Исходные данные'!$D18","v":90000},{"$f":"AS15*'Исходные данные'!$D18","v":90000},{"$f":"AT15*'Исходные данные'!$D18","v":79200},{"$f":"AU15*'Исходные данные'!$D18","v":79200},{"$f":"AV15*'Исходные данные'!$D18","v":79200},{"$f":"AW15*'Исходные данные'!$D18","v":79200},{"$f":"AX15*'Исходные данные'!$D18","v":79200},{"$f":"AY15*'Исходные данные'!$D18","v":90000},{"$f":"AZ15*'Исходные данные'!$D18","v":90000},{"$f":"BA15*'Исходные данные'!$D18","v":108000},{"$f":"BB15*'Исходные данные'!$D18","v":108000},{"$f":"BC15*'Исходные данные'!$D18","v":108000},{"$f":"BD15*'Исходные данные'!$D18","v":90000},{"$f":"BE15*'Исходные данные'!$D18","v":90000},{"$f":"BF15*'Исходные данные'!$D18","v":79200},{"$f":"BG15*'Исходные данные'!$D18","v":79200},{"$f":"BH15*'Исходные данные'!$D18","v":79200},{"$f":"BI15*'Исходные данные'!$D18","v":79200},{"$f":"BJ15*'Исходные данные'!$D18","v":79200},{"$f":"BK15*'Исходные данные'!$D18","v":90000}]
[5,"Чай",2668560,{"$f":"D16*'Исходные данные'!$D19","v":31520},{"$f":"E16*'Исходные данные'!$D19","v":36000},{"$f":"F16*'Исходные данные'!$D19","v":40520},{"$f":"G16*'Исходные данные'!$D19","v":40520},{"$f":"H16*'Исходные данные'!$D19","v":45000},{"$f":"I16*'Исходные данные'!$D19","v":45000},{"$f":"J16*'Исходные данные'!$D19","v":45000},{"$f":"K16*'Исходные данные'!$D19","v":45000},{"$f":"L16*'Исходные данные'!$D19","v":45000},{"$f":"M16*'Исходные данные'!$D19","v":45000},{"$f":"N16*'Исходные данные'!$D19","v":45000},{"$f":"O16*'Исходные данные'!$D19","v":45000},{"$f":"P16*'Исходные данные'!$D19","v":45000},{"$f":"Q16*'Исходные данные'!$D19","v":45000},{"$f":"R16*'Исходные данные'!$D19","v":45000},{"$f":"S16*'Исходные данные'!$D19","v":45000},{"$f":"T16*'Исходные данные'!$D19","v":45000},{"$f":"U16*'Исходные данные'!$D19","v":45000},{"$f":"V16*'Исходные данные'!$D19","v":45000},{"$f":"W16*'Исходные данные'!$D19","v":45000},{"$f":"X16*'Исходные данные'!$D19","v":45000},{"$f":"Y16*'Исходные данные'!$D19","v":45000},{"$f":"Z16*'Исходные данные'!$D19","v":45000},{"$f":"AA16*'Исходные данные'!$D19","v":45000},{"$f":"AB16*'Исходные данные'!$D19","v":45000},{"$f":"AC16*'Исходные данные'!$D19","v":45000},{"$f":"AD16*'Исходные данные'!$D19","v":45000},{"$f":"AE16*'Исходные данные'!$D19","v":45000},{"$f":"AF16*'Исходные данные'!$D19","v":45000},{"$f":"AG16*'Исходные данные'!$D19","v":45000},{"$f":"AH16*'Исходные данные'!$D19","v":45000},{"$f":"AI16*'Исходные данные'!$D19","v":45000},{"$f":"AJ16*'Исходные данные'!$D19","v":45000},{"$f":"AK16*'Исходные данные'!$D19","v":45000},{"$f":"AL16*'Исходные данные'!$D19","v":45000},{"$f":"AM16*'Исходные данные'!$D19","v":45000},{"$f":"AN16*'Исходные данные'!$D19","v":45000},{"$f":"AO16*'Исходные данные'!$D19","v":45000},{"$f":"AP16*'Исходные данные'!$D19","v":45000},{"$f":"AQ16*'Исходные данные'!$D19","v":45000},{"$f":"AR16*'Исходные данные'!$D19","v":45000},{"$f":"AS16*'Исходные данные'!$D19","v":45000},{"$f":"AT16*'Исходные данные'!$D19","v":45000},{"$f":"AU16*'Исходные данные'!$D19","v":45000},{"$f":"AV16*'Исходные данные'!$D19","v":45000},{"$f":"AW16*'Исходные данные'!$D19","v":45000},{"$f":"AX16*'Исходные данные'!$D19","v":45000},{"$f":"AY16*'Исходные данные'!$D19","v":45000},{"$f":"AZ16*'Исходные данные'!$D19","v":45000},{"$f":"BA16*'Исходные данные'!$D19","v":45000},{"$f":"BB16*'Исходные данные'!$D19","v":45000},{"$f":"BC16*'Исходные данные'!$D19","v":45000},{"$f":"BD16*'Исходные данные'!$D19","v":45000},{"$f":"BE16*'Исходные данные'!$D19","v":45000},{"$f":"BF16*'Исходные данные'!$D19","v":45000},{"$f":"BG16*'Исходные данные'!$D19","v":45000},{"$f":"BH16*'Исходные данные'!$D19","v":45000},{"$f":"BI16*'Исходные данные'!$D19","v":45000},{"$f":"BJ16*'Исходные данные'!$D19","v":45000},{"$f":"BK16*'Исходные данные'!$D19","v":45000}]
[6,"",0,{"$f":"D17*'Исходные данные'!$D20","v":0},{"$f":"E17*'Исходные данные'!$D20","v":0},{"$f":"F17*'Исходные данные'!$D20","v":0},{"$f":"G17*'Исходные данные'!$D20","v":0},{"$f":"H17*'Исходные данные'!$D20","v":0},{"$f":"I17*'Исходные данные'!$D20","v":0},{"$f":"J17*'Исходные данные'!$D20","v":0},{"$f":"K17*'Исходные данные'!$D20","v":0},{"$f":"L17*'Исходные данные'!$D20","v":0},{"$f":"M17*'Исходные данные'!$D20","v":0},{"$f":"N17*'Исходные данные'!$D20","v":0},{"$f":"O17*'Исходные данные'!$D20","v":0},{"$f":"P17*'Исходные данные'!$D20","v":0},{"$f":"Q17*'Исходные данные'!$D20","v":0},{"$f":"R17*'Исходные данные'!$D20","v":0},{"$f":"S17*'Исходные данные'!$D20","v":0},{"$f":"T17*'Исходные данные'!$D20","v":0},{"$f":"U17*'Исходные данные'!$D20","v":0},{"$f":"V17*'Исходные данные'!$D20","v":0},{"$f":"W17*'Исходные данные'!$D20","v":0},{"$f":"X17*'Исходные данные'!$D20","v":0},{"$f":"Y17*'Исходные данные'!$D20","v":0},{"$f":"Z17*'Исходные данные'!$D20","v":0},{"$f":"AA17*'Исходные данные'!$D20","v":0},{"$f":"AB17*'Исходные данные'!$D20","v":0},{"$f":"AC17*'Исходные данные'!$D20","v":0},{"$f":"AD17*'Исходные данные'!$D20","v":0},{"$f":"AE17*'Исходные данные'!$D20","v":0},{"$f":"AF17*'Исходные данные'!$D20","v":0},{"$f":"AG17*'Исходные данные'!$D20","v":0},{"$f":"AH17*'Исходные данные'!$D20","v":0},{"$f":"AI17*'Исходные данные'!$D20","v":0},{"$f":"AJ17*'Исходные данные'!$D20","v":0},{"$f":"AK17*'Исходные данные'!$D20","v":0},{"$f":"AL17*'Исходные данные'!$D20","v":0},{"$f":"AM17*'Исходные данные'!$D20","v":0},{"$f":"AN17*'Исходные данные'!$D20","v":0},{"$f":"AO17*'Исходные данные'!$D20","v":0},{"$f":"AP17*'Исходные данные'!$D20","v":0},{"$f":"AQ17*'Исходные данные'!$D20","v":0},{"$f":"AR17*'Исходные данные'!$D20","v":0},{"$f":"AS17*'Исходные данные'!$D20","v":0},{"$f":"AT17*'Исходные данные'!$D20","v":0},{"$f":"AU17*'Исходные данные'!$D20","v":0},{"$f":"AV17*'Исходные данные'!$D20","v":0},{"$f":"AW17*'Исходные данные'!$D20","v":0},{"$f":"AX17*'Исходные данные'!$D20","v":0},{"$f":"AY17*'Исходные данные'!$D20","v":0},{"$f":"AZ17*'Исходные данные'!$D20","v":0},{"$f":"BA17*'Исходные данные'!$D20","v":0},{"$f":"BB17*'Исходные данные'!$D20","v":0},{"$f":"BC17*'Исходные данные'!$D20","v":0},{"$f":"BD17*'Исходные данные'!$D20","v":0},{"$f":"BE17*'Исходные данные'!$D20","v":0},{"$f":"BF17*'Исходные данные'!$D20","v":0},{"$f":"BG17*'Исходные данные'!$D20","v":0},{"$f":"BH17*'Исходные данные'!$D20","v":0},{"$f":"BI17*'Исходные данные'!$D20","v":0},{"$f":"BJ17*'Исходные данные'!$D20","v":0},{"$f":"BK17*'Исходные данные'!$D20","v":0}]
[7,"",0,{"$f":"D18*'Исходные данные'!$D21","v":0},{"$f":"E18*'Исходные данные'!$D21","v":0},{"$f":"F18*'Исходные данные'!$D21","v":0},{"$f":"G18*'Исходные данные'!$D21","v":0},{"$f":"H18*'Исходные данные'!$D21","v":0},{"$f":"I18*'Исходные данные'!$D21","v":0},{"$f":"J18*'Исходные данные'!$D21","v":0},{"$f":"K18*'Исходные данные'!$D21","v":0},{"$f":"L18*'Исходные данные'!$D21","v":0},{"$f":"M18*'Исходные данные'!$D21","v":0},{"$f":"N18*'Исходные данные'!$D21","v":0},{"$f":"O18*'Исходные данные'!$D21","v":0},{"$f":"P18*'Исходные данные'!$D21","v":0},{"$f":"Q18*'Исходные данные'!$D21","v":0},{"$f":"R18*'Исходные данные'!$D21","v":0},{"$f":"S18*'Исходные данные'!$D21","v":0},{"$f":"T18*'Исходные данные'!$D21","v":0},{"$f":"U18*'Исходные данные'!$D21","v":0},{"$f":"V18*'Исходные данные'!$D21","v":0},{"$f":"W18*'Исходные данные'!$D21","v":0},{"$f":"X18*'Исходные данные'!$D21","v":0},{"$f":"Y18*'Исходные данные'!$D21","v":0},{"$f":"Z18*'Исходные данные'!$D21","v":0},{"$f":"AA18*'Исходные данные'!$D21","v":0},{"$f":"AB18*'Исходные данные'!$D21","v":0},{"$f":"AC18*'Исходные данные'!$D21","v":0},{"$f":"AD18*'Исходные данные'!$D21","v":0},{"$f":"AE18*'Исходные данные'!$D21","v":0},{"$f":"AF18*'Исходные данные'!$D21","v":0},{"$f":"AG18*'Исходные данные'!$D21","v":0},{"$f":"AH18*'Исходные данные'!$D21","v":0},{"$f":"AI18*'Исходные данные'!$D21","v":0},{"$f":"AJ18*'Исходные данные'!$D21","v":0},{"$f":"AK18*'Исходные данные'!$D21","v":0},{"$f":"AL18*'Исходные данные'!$D21","v":0},{"$f":"AM18*'Исходные данные'!$D21","v":0},{"$f":"AN18*'Исходные данные'!$D21","v":0},{"$f":"AO18*'Исходные данные'!$D21","v":0},{"$f":"AP18*'Исходные данные'!$D21","v":0},{"$f":"AQ18*'Исходные данные'!$D21","v":0},{"$f":"AR18*'Исходные данные'!$D21","v":0},{"$f":"AS18*'Исходные данные'!$D21","v":0},{"$f":"AT18*'Исходные данные'!$D21","v":0},{"$f":"AU18*'Исходные данные'!$D21","v":0},{"$f":"AV18*'Исходные данные'!$D21","v":0},{"$f":"AW18*'Исходные данные'!$D21","v":0},{"$f":"AX18*'Исходные данные'!$D21","v":0},{"$f":"AY18*'Исходные данные'!$D21","v":0},{"$f":"AZ18*'Исходные данные'!$D21","v":0},{"$f":"BA18*'Исходные данные'!$D21","v":0},{"$f":"BB18*'Исходные данные'!$D21","v":0},{"$f":"BC18*'Исходные данные'!$D21","v":0},{"$f":"BD18*'Исходные данные'!$D21","v":0},{"$f":"BE18*'Исходные данные'!$D21","v":0},{"$f":"BF18*'Исходные данные'!$D21","v":0},{"$f":"BG18*'Исходные данные'!$D21","v":0},{"$f":"BH18*'Исходные данные'!$D21","v":0},{"$f":"BI18*'Исходные данные'!$D21","v":0},{"$f":"BJ18*'Исходные данные'!$D21","v":0},{"$f":"BK18*'Исходные данные'!$D21","v":0}]
[8,"",0,{"$f":"D19*'Исходные данные'!$D22","v":0},{"$f":"E19*'Исходные данные'!$D22","v":0},{"$f":"F19*'Исходные данные'!$D22","v":0},{"$f":"G19*'Исходные данные'!$D22","v":0},{"$f":"H19*'Исходные данные'!$D22","v":0},{"$f":"I19*'Исходные данные'!$D22","v":0},{"$f":"J19*'Исходные данные'!$D22","v":0},{"$f":"K19*'Исходные данные'!$D22","v":0},{"$f":"L19*'Исходные данные'!$D22","v":0},{"$f":"M19*'Исходные данные'!$D22","v":0},{"$f":"N19*'Исходные данные'!$D22","v":0},{"$f":"O19*'Исходные данные'!$D22","v":0},{"$f":"P19*'Исходные данные'!$D22","v":0},{"$f":"Q19*'Исходные данные'!$D22","v":0},{"$f":"R19*'Исходные данные'!$D22","v":0},{"$f":"S19*'Исходные данные'!$D22","v":0},{"$f":"T19*'Исходные данные'!$D22","v":0},{"$f":"U19*'Исходные данные'!$D22","v":0},{"$f":"V19*'Исходные данные'!$D22","v":0},{"$f":"W19*'Исходные данные'!$D22","v":0},{"$f":"X19*'Исходные данные'!$D22","v":0},{"$f":"Y19*'Исходные данные'!$D22","v":0},{"$f":"Z19*'Исходные данные'!$D22","v":0},{"$f":"AA19*'Исходные данные'!$D22","v":0},{"$f":"AB19*'Исходные данные'!$D22","v":0},{"$f":"AC19*'Исходные данные'!$D22","v":0},{"$f":"AD19*'Исходные данные'!$D22","v":0},{"$f":"AE19*'Исходные данные'!$D22","v":0},{"$f":"AF19*'Исходные данные'!$D22","v":0},{"$f":"AG19*'Исходные данные'!$D22","v":0},{"$f":"AH19*'Исходные данные'!$D22","v":0},{"$f":"AI19*'Исходные данные'!$D22","v":0},{"$f":"AJ19*'Исходные данные'!$D22","v":0},{"$f":"AK19*'Исходные данные'!$D22","v":0},{"$f":"AL19*'Исходные данные'!$D22","v":0},{"$f":"AM19*'Исходные данные'!$D22","v":0},{"$f":"AN19*'Исходные данные'!$D22","v":0},{"$f":"AO19*'Исходные данные'!$D22","v":0},{"$f":"AP19*'Исходные данные'!$D22","v":0},{"$f":"AQ19*'Исходные данные'!$D22","v":0},{"$f":"AR19*'Исходные данные'!$D22","v":0},{"$f":"AS19*'Исходные данные'!$D22","v":0},{"$f":"AT19*'Исходные данные'!$D22","v":0},{"$f":"AU19*'Исходные данные'!$D22","v":0},{"$f":"AV19*'Исходные данные'!$D22","v":0},{"$f":"AW19*'Исходные данные'!$D22","v":0},{"$f":"AX19*'Исходные данные'!$D22","v":0},{"$f":"AY19*'Исходные данные'!$D22","v":0},{"$f":"AZ19*'Исходные данные'!$D22","v":0},{"$f":"BA19*'Исходные данные'!$D22","v":0},{"$f":"BB19*'Исходные данные'!$D22","v":0},{"$f":"BC19*'Исходные данные'!$D22","v":0},{"$f":"BD19*'Исходные данные'!$D22","v":0},{"$f":"BE19*'Исходные данные'!$D22","v":0},{"$f":"BF19*'Исходные данные'!$D22","v":0},{"$f":"BG19*'Исходные данные'!$D22","v":0},{"$f":"BH19*'Исходные данные'!$D22","v":0},{"$f":"BI19*'Исходные данные'!$D22","v":0},{"$f":"BJ19*'Исходные данные'!$D22","v":0},{"$f":"BK19*'Исходные данные'!$D22","v":0}]
[9,"",0,{"$f":"D20*'Исходные данные'!$D23","v":0},{"$f":"E20*'Исходные данные'!$D23","v":0},{"$f":"F20*'Исходные данные'!$D23","v":0},{"$f":"G20*'Исходные данные'!$D23","v":0},{"$f":"H20*'Исходные данные'!$D23","v":0},{"$f":"I20*'Исходные данные'!$D23","v":0},{"$f":"J20*'Исходные данные'!$D23","v":0},{"$f":"K20*'Исходные данные'!$D23","v":0},{"$f":"L20*'Исходные данные'!$D23","v":0},{"$f":"M20*'Исходные данные'!$D23","v":0},{"$f":"N20*'Исходные данные'!$D23","v":0},{"$f":"O20*'Исходные данные'!$D23","v":0},{"$f":"P20*'Исходные данные'!$D23","v":0},{"$f":"Q20*'Исходные данные'!$D23","v":0},{"$f":"R20*'Исходные данные'!$D23","v":0},{"$f":"S20*'Исходные данные'!$D23","v":0},{"$f":"T20*'Исходные данные'!$D23","v":0},{"$f":"U20*'Исходные данные'!$D23","v":0},{"$f":"V20*'Исходные данные'!$D23","v":0},{"$f":"W20*'Исходные данные'!$D23","v":0},{"$f":"X20*'Исходные данные'!$D23","v":0},{"$f":"Y20*'Исходные данные'!$D23","v":0},{"$f":"Z20*'Исходные данные'!$D23","v":0},{"$f":"AA20*'Исходные данные'!$D23","v":0},{"$f":"AB20*'Исходные данные'!$D23","v":0},{"$f":"AC20*'Исходные данные'!$D23","v":0},{"$f":"AD20*'Исходные данные'!$D23","v":0},{"$f":"AE20*'Исходные данные'!$D23","v":0},{"$f":"AF20*'Исходные данные'!$D23","v":0},{"$f":"AG20*'Исходные данные'!$D23","v":0},{"$f":"AH20*'Исходные данные'!$D23","v":0},{"$f":"AI20*'Исходные данные'!$D23","v":0},{"$f":"AJ20*'Исходные данные'!$D23","v":0},{"$f":"AK20*'Исходные данные'!$D23","v":0},{"$f":"AL20*'Исходные данные'!$D23","v":0},{"$f":"AM20*'Исходные данные'!$D23","v":0},{"$f":"AN20*'Исходные данные'!$D23","v":0},{"$f":"AO20*'Исходные данные'!$D23","v":0},{"$f":"AP20*'Исходные данные'!$D23","v":0},{"$f":"AQ20*'Исходные данные'!$D23","v":0},{"$f":"AR20*'Исходные данные'!$D23","v":0},{"$f":"AS20*'Исходные данные'!$D23","v":0},{"$f":"AT20*'Исходные данные'!$D23","v":0},{"$f":"AU20*'Исходные данные'!$D23","v":0},{"$f":"AV20*'Исходные данные'!$D23","v":0},{"$f":"AW20*'Исходные данные'!$D23","v":0},{"$f":"AX20*'Исходные данные'!$D23","v":0},{"$f":"AY20*'Исходные данные'!$D23","v":0},{"$f":"AZ20*'Исходные данные'!$D23","v":0},{"$f":"BA20*'Исходные данные'!$D23","v":0},{"$f":"BB20*'Исходные данные'!$D23","v":0},{"$f":"BC20*'Исходные данные'!$D23","v":0},{"$f":"BD20*'Исходные данные'!$D23","v":0},{"$f":"BE20*'Исходные данные'!$D23","v":0},{"$f":"BF20*'Исходные данные'!$D23","v":0},{"$f":"BG20*'Исходные данные'!$D23","v":0},{"$f":"BH20*'Исходные данные'!$D23","v":0},{"$f":"BI20*'Исходные данные'!$D23","v":0},{"$f":"BJ20*'Исходные данные'!$D23","v":0},{"$f":"BK20*'Исходные данные'!$D23","v":0}]
[10,"",0,{"$f":"D21*'Исходные данные'!$D24","v":0},{"$f":"E21*'Исходные данные'!$D24","v":0},{"$f":"F21*'Исходные данные'!$D24","v":0},{"$f":"G21*'Исходные данные'!$D24","v":0},{"$f":"H21*'Исходные данные'!$D24","v":0},{"$f":"I21*'Исходные данные'!$D24","v":0},{"$f":"J21*'Исходные данные'!$D24","v":0},{"$f":"K21*'Исходные данные'!$D24","v":0},{"$f":"L21*'Исходные данные'!$D24","v":0},{"$f":"M21*'Исходные данные'!$D24","v":0},{"$f":"N21*'Исходные данные'!$D24","v":0},{"$f":"O21*'Исходные данные'!$D24","v":0},{"$f":"P21*'Исходные данные'!$D24","v":0},{"$f":"Q21*'Исходные данные'!$D24","v":0},{"$f":"R21*'Исходные данные'!$D24","v":0},{"$f":"S21*'Исходные данные'!$D24","v":0},{"$f":"T21*'Исходные данные'!$D24","v":0},{"$f":"U21*'Исходные данные'!$D24","v":0},{"$f":"V21*'Исходные данные'!$D24","v":0},{"$f":"W21*'Исходные данные'!$D24","v":0},{"$f":"X21*'Исходные данные'!$D24","v":0},{"$f":"Y21*'Исходные данные'!$D24","v":0},{"$f":"Z21*'Исходные данные'!$D24","v":0},{"$f":"AA21*'Исходные данные'!$D24","v":0},{"$f":"AB21*'Исходные данные'!$D24","v":0},{"$f":"AC21*'Исходные данные'!$D24","v":0},{"$f":"AD21*'Исходные данные'!$D24","v":0},{"$f":"AE21*'Исходные данные'!$D24","v":0},{"$f":"AF21*'Исходные данные'!$D24","v":0},{"$f":"AG21*'Исходные данные'!$D24","v":0},{"$f":"AH21*'Исходные данные'!$D24","v":0},{"$f":"AI21*'Исходные данные'!$D24","v":0},{"$f":"AJ21*'Исходные данные'!$D24","v":0},{"$f":"AK21*'Исходные данные'!$D24","v":0},{"$f":"AL21*'Исходные данные'!$D24","v":0},{"$f":"AM21*'Исходные данные'!$D24","v":0},{"$f":"AN21*'Исходные данные'!$D24","v":0},{"$f":"AO21*'Исходные данные'!$D24","v":0},{"$f":"AP21*'Исходные данные'!$D24","v":0},{"$f":"AQ21*'Исходные данные'!$D24","v":0},{"$f":"AR21*'Исходные данные'!$D24","v":0},{"$f":"AS21*'Исходные данные'!$D24","v":0},{"$f":"AT21*'Исходные данные'!$D24","v":0},{"$f":"AU21*'Исходные данные'!$D24","v":0},{"$f":"AV21*'Исходные данные'!$D24","v":0},{"$f":"AW21*'Исходные данные'!$D24","v":0},{"$f":"AX21*'Исходные данные'!$D24","v":0},{"$f":"AY21*'Исходные данные'!$D24","v":0},{"$f":"AZ21*'Исходные данные'!$D24","v":0},{"$f":"BA21*'Исходные данные'!$D24","v":0},{"$f":"BB21*'Исходные данные'!$D24","v":0},{"$f":"BC21*'Исходные данные'!$D24","v":0},{"$f":"BD21*'Исходные данные'!$D24","v":0},{"$f":"BE21*'Исходные данные'!$D24","v":0},{"$f":"BF21*'Исходные данные'!$D24","v":0},{"$f":"BG21*'Исходные данные'!$D24","v":0},{"$f":"BH21*'Исходные данные'!$D24","v":0},{"$f":"BI21*'Исходные данные'!$D24","v":0},{"$f":"BJ21*'Исходные данные'!$D24","v":0},{"$f":"BK21*'Исходные данные'!$D24","v":0}]
[11,"",0,{"$f":"D22*'Исходные данные'!$D25","v":0},{"$f":"E22*'Исходные данные'!$D25","v":0},{"$f":"F22*'Исходные данные'!$D25","v":0},{"$f":"G22*'Исходные данные'!$D25","v":0},{"$f":"H22*'Исходные данные'!$D25","v":0},{"$f":"I22*'Исходные данные'!$D25","v":0},{"$f":"J22*'Исходные данные'!$D25","v":0},{"$f":"K22*'Исходные данные'!$D25","v":0},{"$f":"L22*'Исходные данные'!$D25","v":0},{"$f":"M22*'Исходные данные'!$D25","v":0},{"$f":"N22*'Исходные данные'!$D25","v":0},{"$f":"O22*'Исходные данные'!$D25","v":0},{"$f":"P22*'Исходные данные'!$D25","v":0},{"$f":"Q22*'Исходные данные'!$D25","v":0},{"$f":"R22*'Исходные данные'!$D25","v":0},{"$f":"S22*'Исходные данные'!$D25","v":0},{"$f":"T22*'Исходные данные'!$D25","v":0},{"$f":"U22*'Исходные данные'!$D25","v":0},{"$f":"V22*'Исходные данные'!$D25","v":0},{"$f":"W22*'Исходные данные'!$D25","v":0},{"$f":"X22*'Исходные данные'!$D25","v":0},{"$f":"Y22*'Исходные данные'!$D25","v":0},{"$f":"Z22*'Исходные данные'!$D25","v":0},{"$f":"AA22*'Исходные данные'!$D25","v":0},{"$f":"AB22*'Исходные данные'!$D25","v":0},{"$f":"AC22*'Исходные данные'!$D25","v":0},{"$f":"AD22*'Исходные данные'!$D25","v":0},{"$f":"AE22*'Исходные данные'!$D25","v":0},{"$f":"AF22*'Исходные данные'!$D25","v":0},{"$f":"AG22*'Исходные данные'!$D25","v":0},{"$f":"AH22*'Исходные данные'!$D25","v":0},{"$f":"AI22*'Исходные данные'!$D25","v":0},{"$f":"AJ22*'Исходные данные'!$D25","v":0},{"$f":"AK22*'Исходные данные'!$D25","v":0},{"$f":"AL22*'Исходные данные'!$D25","v":0},{"$f":"AM22*'Исходные данные'!$D25","v":0},{"$f":"AN22*'Исходные данные'!$D25","v":0},{"$f":"AO22*'Исходные данные'!$D25","v":0},{"$f":"AP22*'Исходные данные'!$D25","v":0},{"$f":"AQ22*'Исходные данные'!$D25","v":0},{"$f":"AR22*'Исходные данные'!$D25","v":0},{"$f":"AS22*'Исходные данные'!$D25","v":0},{"$f":"AT22*'Исходные данные'!$D25","v":0},{"$f":"AU22*'Исходные данные'!$D25","v":0},{"$f":"AV22*'Исходные данные'!$D25","v":0},{"$f":"AW22*'Исходные данные'!$D25","v":0},{"$f":"AX22*'Исходные данные'!$D25","v":0},{"$f":"AY22*'Исходные данные'!$D25","v":0},{"$f":"AZ22*'Исходные данные'!$D25","v":0},{"$f":"BA22*'Исходные данные'!$D25","v":0},{"$f":"BB22*'Исходные данные'!$D25","v":0},{"$f":"BC22*'Исходные данные'!$D25","v":0},{"$f":"BD22*'Исходные данные'!$D25","v":0},{"$f":"BE22*'Исходные данные'!$D25","v":0},{"$f":"BF22*'Исходные данные'!$D25","v":0},{"$f":"BG22*'Исходные данные'!$D25","v":0},{"$f":"BH22*'Исходные данные'!$D25","v":0},{"$f":"BI22*'Исходные данные'!$D25","v":0},{"$f":"BJ22*'Исходные данные'!$D25","v":0},{"$f":"BK22*'Исходные данные'!$D25","v":0}]
[12,"",0,{"$f":"D23*'Исходные данные'!$D26","v":0},{"$f":"E23*'Исходные данные'!$D26","v":0},{"$f":"F23*'Исходные данные'!$D26","v":0},{"$f":"G23*'Исходные данные'!$D26","v":0},{"$f":"H23*'Исходные данные'!$D26","v":0},{"$f":"I23*'Исходные данные'!$D26","v":0},{"$f":"J23*'Исходные данные'!$D26","v":0},{"$f":"K23*'Исходные данные'!$D26","v":0},{"$f":"L23*'Исходные данные'!$D26","v":0},{"$f":"M23*'Исходные данные'!$D26","v":0},{"$f":"N23*'Исходные данные'!$D26","v":0},{"$f":"O23*'Исходные данные'!$D26","v":0},{"$f":"P23*'Исходные данные'!$D26","v":0},{"$f":"Q23*'Исходные данные'!$D26","v":0},{"$f":"R23*'Исходные данные'!$D26","v":0},{"$f":"S23*'Исходные данные'!$D26","v":0},{"$f":"T23*'Исходные данные'!$D26","v":0},{"$f":"U23*'Исходные данные'!$D26","v":0},{"$f":"V23*'Исходные данные'!$D26","v":0},{"$f":"W23*'Исходные данные'!$D26","v":0},{"$f":"X23*'Исходные данные'!$D26","v":0},{"$f":"Y23*'Исходные данные'!$D26","v":0},{"$f":"Z23*'Исходные данные'!$D26","v":0},{"$f":"AA23*'Исходные данные'!$D26","v":0},{"$f":"AB23*'Исходные данные'!$D26","v":0},{"$f":"AC23*'Исходные данные'!$D26","v":0},{"$f":"AD23*'Исходные данные'!$D26","v":0},{"$f":"AE23*'Исходные данные'!$D26","v":0},{"$f":"AF23*'Исходные данные'!$D26","v":0},{"$f":"AG23*'Исходные данные'!$D26","v":0},{"$f":"AH23*'Исходные данные'!$D26","v":0},{"$f":"AI23*'Исходные данные'!$D26","v":0},{"$f":"AJ23*'Исходные данные'!$D26","v":0},{"$f":"AK23*'Исходные данные'!$D26","v":0},{"$f":"AL23*'Исходные данные'!$D26","v":0},{"$f":"AM23*'Исходные данные'!$D26","v":0},{"$f":"AN23*'Исходные данные'!$D26","v":0},{"$f":"AO23*'Исходные данные'!$D26","v":0},{"$f":"AP23*'Исходные данные'!$D26","v":0},{"$f":"AQ23*'Исходные данные'!$D26","v":0},{"$f":"AR23*'Исходные данные'!$D26","v":0},{"$f":"AS23*'Исходные данные'!$D26","v":0},{"$f":"AT23*'Исходные данные'!$D26","v":0},{"$f":"AU23*'Исходные данные'!$D26","v":0},{"$f":"AV23*'Исходные данные'!$D26","v":0},{"$f":"AW23*'Исходные данные'!$D26","v":0},{"$f":"AX23*'Исходные данные'!$D26","v":0},{"$f":"AY23*'Исходные данные'!$D26","v":0},{"$f":"AZ23*'Исходные данные'!$D26","v":0},{"$f":"BA23*'Исходные данные'!$D26","v":0},{"$f":"BB23*'Исходные данные'!$D26","v":0},{"$f":"BC23*'Исходные данные'!$D26","v":0},{"$f":"BD23*'Исходные данные'!$D26","v":0},{"$f":"BE23*'Исходные данные'!$D26","v":0},{"$f":"BF23*'Исходные данные'!$D26","v":0},{"$f":"BG23*'Исходные данные'!$D26","v":0},{"$f":"BH23*'Исходные данные'!$D26","v":0},{"$f":"BI23*'Исходные данные'!$D26","v":0},{"$f":"BJ23*'Исходные данные'!$D26","v":0},{"$f":"BK23*'Исходные данные'!$D26","v":0}]
[13,"",0,{"$f":"D24*'Исходные данные'!$D27","v":0},{"$f":"E24*'Исходные данные'!$D27","v":0},{"$f":"F24*'Исходные данные'!$D27","v":0},{"$f":"G24*'Исходные данные'!$D27","v":0},{"$f":"H24*'Исходные данные'!$D27","v":0},{"$f":"I24*'Исходные данные'!$D27","v":0},{"$f":"J24*'Исходные данные'!$D27","v":0},{"$f":"K24*'Исходные данные'!$D27","v":0},{"$f":"L24*'Исходные данные'!$D27","v":0},{"$f":"M24*'Исходные данные'!$D27","v":0},{"$f":"N24*'Исходные данные'!$D27","v":0},{"$f":"O24*'Исходные данные'!$D27","v":0},{"$f":"P24*'Исходные данные'!$D27","v":0},{"$f":"Q24*'Исходные данные'!$D27","v":0},{"$f":"R24*'Исходные данные'!$D27","v":0},{"$f":"S24*'Исходные данные'!$D27","v":0},{"$f":"T24*'Исходные данные'!$D27","v":0},{"$f":"U24*'Исходные данные'!$D27","v":0},{"$f":"V24*'Исходные данные'!$D27","v":0},{"$f":"W24*'Исходные данные'!$D27","v":0},{"$f":"X24*'Исходные данные'!$D27","v":0},{"$f":"Y24*'Исходные данные'!$D27","v":0},{"$f":"Z24*'Исходные данные'!$D27","v":0},{"$f":"AA24*'Исходные данные'!$D27","v":0},{"$f":"AB24*'Исходные данные'!$D27","v":0},{"$f":"AC24*'Исходные данные'!$D27","v":0},{"$f":"AD24*'Исходные данные'!$D27","v":0},{"$f":"AE24*'Исходные данные'!$D27","v":0},{"$f":"AF24*'Исходные данные'!$D27","v":0},{"$f":"AG24*'Исходные данные'!$D27","v":0},{"$f":"AH24*'Исходные данные'!$D27","v":0},{"$f":"AI24*'Исходные данные'!$D27","v":0},{"$f":"AJ24*'Исходные данные'!$D27","v":0},{"$f":"AK24*'Исходные данные'!$D27","v":0},{"$f":"AL24*'Исходные данные'!$D27","v":0},{"$f":"AM24*'Исходные данные'!$D27","v":0},{"$f":"AN24*'Исходные данные'!$D27","v":0},{"$f":"AO24*'Исходные данные'!$D27","v":0},{"$f":"AP24*'Исходные данные'!$D27","v":0},{"$f":"AQ24*'Исходные данные'!$D27","v":0},{"$f":"AR24*'Исходные данные'!$D27","v":0},{"$f":"AS24*'Исходные данные'!$D27","v":0},{"$f":"AT24*'Исходные данные'!$D27","v":0},{"$f":"AU24*'Исходные данные'!$D27","v":0},{"$f":"AV24*'Исходные данные'!$D27","v":0},{"$f":"AW24*'Исходные данные'!$D27","v":0},{"$f":"AX24*'Исходные данные'!$D27","v":0},{"$f":"AY24*'Исходные данные'!$D27","v":0},{"$f":"AZ24*'Исходные данные'!$D27","v":0},{"$f":"BA24*'Исходные данные'!$D27","v":0},{"$f":"BB24*'Исходные данные'!$D27","v":0},{"$f":"BC24*'Исходные данные'!$D27","v":0},{"$f":"BD24*'Исходные данные'!$D27","v":0},{"$f":"BE24*'Исходные данные'!$D27","v":0},{"$f":"BF24*'Исходные данные'!$D27","v":0},{"$f":"BG24*'Исходные данные'!$D27","v":0},{"$f":"BH24*'Исходные данные'!$D27","v":0},{"$f":"BI24*'Исходные данные'!$D27","v":0},{"$f":"BJ24*'Исходные данные'!$D27","v":0},{"$f":"BK24*'Исходные данные'!$D27","v":0}]
[14,"",0,{"$f":"D25*'Исходные данные'!$D28","v":0},{"$f":"E25*'Исходные данные'!$D28","v":0},{"$f":"F25*'Исходные данные'!$D28","v":0},{"$f":"G25*'Исходные данные'!$D28","v":0},{"$f":"H25*'Исходные данные'!$D28","v":0},{"$f":"I25*'Исходные данные'!$D28","v":0},{"$f":"J25*'Исходные данные'!$D28","v":0},{"$f":"K25*'Исходные данные'!$D28","v":0},{"$f":"L25*'Исходные данные'!$D28","v":0},{"$f":"M25*'Исходные данные'!$D28","v":0},{"$f":"N25*'Исходные данные'!$D28","v":0},{"$f":"O25*'Исходные данные'!$D28","v":0},{"$f":"P25*'Исходные данные'!$D28","v":0},{"$f":"Q25*'Исходные данные'!$D28","v":0},{"$f":"R25*'Исходные данные'!$D28","v":0},{"$f":"S25*'Исходные данные'!$D28","v":0},{"$f":"T25*'Исходные данные'!$D28","v":0},{"$f":"U25*'Исходные данные'!$D28","v":0},{"$f":"V25*'Исходные данные'!$D28","v":0},{"$f":"W25*'Исходные данные'!$D28","v":0},{"$f":"X25*'Исходные данные'!$D28","v":0},{"$f":"Y25*'Исходные данные'!$D28","v":0},{"$f":"Z25*'Исходные данные'!$D28","v":0},{"$f":"AA25*'Исходные данные'!$D28","v":0},{"$f":"AB25*'Исходные данные'!$D28","v":0},{"$f":"AC25*'Исходные данные'!$D28","v":0},{"$f":"AD25*'Исходные данные'!$D28","v":0},{"$f":"AE25*'Исходные данные'!$D28","v":0},{"$f":"AF25*'Исходные данные'!$D28","v":0},{"$f":"AG25*'Исходные данные'!$D28","v":0},{"$f":"AH25*'Исходные данные'!$D28","v":0},{"$f":"AI25*'Исходные данные'!$D28","v":0},{"$f":"AJ25*'Исходные данные'!$D28","v":0},{"$f":"AK25*'Исходные данные'!$D28","v":0},{"$f":"AL25*'Исходные данные'!$D28","v":0},{"$f":"AM25*'Исходные данные'!$D28","v":0},{"$f":"AN25*'Исходные данные'!$D28","v":0},{"$f":"AO25*'Исходные данные'!$D28","v":0},{"$f":"AP25*'Исходные данные'!$D28","v":0},{"$f":"AQ25*'Исходные данные'!$D28","v":0},{"$f":"AR25*'Исходные данные'!$D28","v":0},{"$f":"AS25*'Исходные данные'!$D28","v":0},{"$f":"AT25*'Исходные данные'!$D28","v":0},{"$f":"AU25*'Исходные данные'!$D28","v":0},{"$f":"AV25*'Исходные данные'!$D28","v":0},{"$f":"AW25*'Исходные данные'!$D28","v":0},{"$f":"AX25*'Исходные данные'!$D28","v":0},{"$f":"AY25*'Исходные данные'!$D28","v":0},{"$f":"AZ25*'Исходные данные'!$D28","v":0},{"$f":"BA25*'Исходные данные'!$D28","v":0},{"$f":"BB25*'Исходные данные'!$D28","v":0},{"$f":"BC25*'Исходные данные'!$D28","v":0},{"$f":"BD25*'Исходные данные'!$D28","v":0},{"$f":"BE25*'Исходные данные'!$D28","v":0},{"$f":"BF25*'Исходные данные'!$D28","v":0},{"$f":"BG25*'Исходные данные'!$D28","v":0},{"$f":"BH25*'Исходные данные'!$D28","v":0},{"$f":"BI25*'Исходные данные'!$D28","v":0},{"$f":"BJ25*'Исходные данные'!$D28","v":0},{"$f":"BK25*'Исходные данные'!$D28","v":0}]
[15,"",0,{"$f":"D26*'Исходные данные'!$D29","v":0},{"$f":"E26*'Исходные данные'!$D29","v":0},{"$f":"F26*'Исходные данные'!$D29","v":0},{"$f":"G26*'Исходные данные'!$D29","v":0},{"$f":"H26*'Исходные данные'!$D29","v":0},{"$f":"I26*'Исходные данные'!$D29","v":0},{"$f":"J26*'Исходные данные'!$D29","v":0},{"$f":"K26*'Исходные данные'!$D29","v":0},{"$f":"L26*'Исходные данные'!$D29","v":0},{"$f":"M26*'Исходные данные'!$D29","v":0},{"$f":"N26*'Исходные данные'!$D29","v":0},{"$f":"O26*'Исходные данные'!$D29","v":0},{"$f":"P26*'Исходные данные'!$D29","v":0},{"$f":"Q26*'Исходные данные'!$D29","v":0},{"$f":"R26*'Исходные данные'!$D29","v":0},{"$f":"S26*'Исходные данные'!$D29","v":0},{"$f":"T26*'Исходные данные'!$D29","v":0},{"$f":"U26*'Исходные данные'!$D29","v":0},{"$f":"V26*'Исходные данные'!$D29","v":0},{"$f":"W26*'Исходные данные'!$D29","v":0},{"$f":"X26*'Исходные данные'!$D29","v":0},{"$f":"Y26*'Исходные данные'!$D29","v":0},{"$f":"Z26*'Исходные данные'!$D29","v":0},{"$f":"AA26*'Исходные данные'!$D29","v":0},{"$f":"AB26*'Исходные данные'!$D29","v":0},{"$f":"AC26*'Исходные данные'!$D29","v":0},{"$f":"AD26*'Исходные данные'!$D29","v":0},{"$f":"AE26*'Исходные данные'!$D29","v":0},{"$f":"AF26*'Исходные данные'!$D29","v":0},{"$f":"AG26*'Исходные данные'!$D29","v":0},{"$f":"AH26*'Исходные данные'!$D29","v":0},{"$f":"AI26*'Исходные данные'!$D29","v":0},{"$f":"AJ26*'Исходные данные'!$D29","v":0},{"$f":"AK26*'Исходные данные'!$D29","v":0},{"$f":"AL26*'Исходные данные'!$D29","v":0},{"$f":"AM26*'Исходные данные'!$D29","v":0},{"$f":"AN26*'Исходные данные'!$D29","v":0},{"$f":"AO26*'Исходные данные'!$D29","v":0},{"$f":"AP26*'Исходные данные'!$D29","v":0},{"$f":"AQ26*'Исходные данные'!$D29","v":0},{"$f":"AR26*'Исходные данные'!$D29","v":0},{"$f":"AS26*'Исходные данные'!$D29","v":0},{"$f":"AT26*'Исходные данные'!$D29","v":0},{"$f":"AU26*'Исходные данные'!$D29","v":0},{"$f":"AV26*'Исходные данные'!$D29","v":0},{"$f":"AW26*'Исходные данные'!$D29","v":0},{"$f":"AX26*'Исходные данные'!$D29","v":0},{"$f":"AY26*'Исходные данные'!$D29","v":0},{"$f":"AZ26*'Исходные данные'!$D29","v":0},{"$f":"BA26*'Исходные данные'!$D29","v":0},{"$f":"BB26*'Исходные данные'!$D29","v":0},{"$f":"BC26*'Исходные данные'!$D29","v":0},{"$f":"BD26*'Исходные данные'!$D29","v":0},{"$f":"BE26*'Исходные данные'!$D29","v":0},{"$f":"BF26*'Исходные данные'!$D29","v":0},{"$f":"BG26*'Исходные данные'!$D29","v":0},{"$f":"BH26*'Исходные данные'!$D29","v":0},{"$f":"BI26*'Исходные данные'!$D29","v":0},{"$f":"BJ26*'Исходные данные'!$D29","v":0},{"$f":"BK26*'Исходные данные'!$D29","v":0}]
[16,"",0,{"$f":"D27*'Исходные данные'!$D30","v":0},{"$f":"E27*'Исходные данные'!$D30","v":0},{"$f":"F27*'Исходные данные'!$D30","v":0},{"$f":"G27*'Исходные данные'!$D30","v":0},{"$f":"H27*'Исходные данные'!$D30","v":0},{"$f":"I27*'Исходные данные'!$D30","v":0},{"$f":"J27*'Исходные данные'!$D30","v":0},{"$f":"K27*'Исходные данные'!$D30","v":0},{"$f":"L27*'Исходные данные'!$D30","v":0},{"$f":"M27*'Исходные данные'!$D30","v":0},{"$f":"N27*'Исходные данные'!$D30","v":0},{"$f":"O27*'Исходные данные'!$D30","v":0},{"$f":"P27*'Исходные данные'!$D30","v":0},{"$f":"Q27*'Исходные данные'!$D30","v":0},{"$f":"R27*'Исходные данные'!$D30","v":0},{"$f":"S27*'Исходные данные'!$D30","v":0},{"$f":"T27*'Исходные данные'!$D30","v":0},{"$f":"U27*'Исходные данные'!$D30","v":0},{"$f":"V27*'Исходные данные'!$D30","v":0},{"$f":"W27*'Исходные данные'!$D30","v":0},{"$f":"X27*'Исходные данные'!$D30","v":0},{"$f":"Y27*'Исходные данные'!$D30","v":0},{"$f":"Z27*'Исходные данные'!$D30","v":0},{"$f":"AA27*'Исходные данные'!$D30","v":0},{"$f":"AB27*'Исходные данные'!$D30","v":0},{"$f":"AC27*'Исходные данные'!$D30","v":0},{"$f":"AD27*'Исходные данные'!$D30","v":0},{"$f":"AE27*'Исходные данные'!$D30","v":0},{"$f":"AF27*'Исходные данные'!$D30","v":0},{"$f":"AG27*'Исходные данные'!$D30","v":0},{"$f":"AH27*'Исходные данные'!$D30","v":0},{"$f":"AI27*'Исходные данные'!$D30","v":0},{"$f":"AJ27*'Исходные данные'!$D30","v":0},{"$f":"AK27*'Исходные данные'!$D30","v":0},{"$f":"AL27*'Исходные данные'!$D30","v":0},{"$f":"AM27*'Исходные данные'!$D30","v":0},{"$f":"AN27*'Исходные данные'!$D30","v":0},{"$f":"AO27*'Исходные данные'!$D30","v":0},{"$f":"AP27*'Исходные данные'!$D30","v":0},{"$f":"AQ27*'Исходные данные'!$D30","v":0},{"$f":"AR27*'Исходные данные'!$D30","v":0},{"$f":"AS27*'Исходные данные'!$D30","v":0},{"$f":"AT27*'Исходные данные'!$D30","v":0},{"$f":"AU27*'Исходные данные'!$D30","v":0},{"$f":"AV27*'Исходные данные'!$D30","v":0},{"$f":"AW27*'Исходные данные'!$D30","v":0},{"$f":"AX27*'Исходные данные'!$D30","v":0},{"$f":"AY27*'Исходные данные'!$D30","v":0},{"$f":"AZ27*'Исходные данные'!$D30","v":0},{"$f":"BA27*'Исходные данные'!$D30","v":0},{"$f":"BB27*'Исходные данные'!$D30","v":0},{"$f":"BC27*'Исходные данные'!$D30","v":0},{"$f":"BD27*'Исходные данные'!$D30","v":0},{"$f":"BE27*'Исходные данные'!$D30","v":0},{"$f":"BF27*'Исходные данные'!$D30","v":0},{"$f":"BG27*'Исходные данные'!$D30","v":0},{"$f":"BH27*'Исходные данные'!$D30","v":0},{"$f":"BI27*'Исходные данные'!$D30","v":0},{"$f":"BJ27*'Исходные данные'!$D30","v":0},{"$f":"BK27*'Исходные данные'!$D30","v":0}]
[17,"",0,{"$f":"D28*'Исходные данные'!$D31","v":0},{"$f":"E28*'Исходные данные'!$D31","v":0},{"$f":"F28*'Исходные данные'!$D31","v":0},{"$f":"G28*'Исходные данные'!$D31","v":0},{"$f":"H28*'Исходные данные'!$D31","v":0},{"$f":"I28*'Исходные данные'!$D31","v":0},{"$f":"J28*'Исходные данные'!$D31","v":0},{"$f":"K28*'Исходные данные'!$D31","v":0},{"$f":"L28*'Исходные данные'!$D31","v":0},{"$f":"M28*'Исходные данные'!$D31","v":0},{"$f":"N28*'Исходные данные'!$D31","v":0},{"$f":"O28*'Исходные данные'!$D31","v":0},{"$f":"P28*'Исходные данные'!$D31","v":0},{"$f":"Q28*'Исходные данные'!$D31","v":0},{"$f":"R28*'Исходные данные'!$D31","v":0},{"$f":"S28*'Исходные данные'!$D31","v":0},{"$f":"T28*'Исходные данные'!$D31","v":0},{"$f":"U28*'Исходные данные'!$D31","v":0},{"$f":"V28*'Исходные данные'!$D31","v":0},{"$f":"W28*'Исходные данные'!$D31","v":0},{"$f":"X28*'Исходные данные'!$D31","v":0},{"$f":"Y28*'Исходные данные'!$D31","v":0},{"$f":"Z28*'Исходные данные'!$D31","v":0},{"$f":"AA28*'Исходные данные'!$D31","v":0},{"$f":"AB28*'Исходные данные'!$D31","v":0},{"$f":"AC28*'Исходные данные'!$D31","v":0},{"$f":"AD28*'Исходные данные'!$D31","v":0},{"$f":"AE28*'Исходные данные'!$D31","v":0},{"$f":"AF28*'Исходные данные'!$D31","v":0},{"$f":"AG28*'Исходные данные'!$D31","v":0},{"$f":"AH28*'Исходные данные'!$D31","v":0},{"$f":"AI28*'Исходные данные'!$D31","v":0},{"$f":"AJ28*'Исходные данные'!$D31","v":0},{"$f":"AK28*'Исходные данные'!$D31","v":0},{"$f":"AL28*'Исходные данные'!$D31","v":0},{"$f":"AM28*'Исходные данные'!$D31","v":0},{"$f":"AN28*'Исходные данные'!$D31","v":0},{"$f":"AO28*'Исходные данные'!$D31","v":0},{"$f":"AP28*'Исходные данные'!$D31","v":0},{"$f":"AQ28*'Исходные данные'!$D31","v":0},{"$f":"AR28*'Исходные данные'!$D31","v":0},{"$f":"AS28*'Исходные данные'!$D31","v":0},{"$f":"AT28*'Исходные данные'!$D31","v":0},{"$f":"AU28*'Исходные данные'!$D31","v":0},{"$f":"AV28*'Исходные данные'!$D31","v":0},{"$f":"AW28*'Исходные данные'!$D31","v":0},{"$f":"AX28*'Исходные данные'!$D31","v":0},{"$f":"AY28*'Исходные данные'!$D31","v":0},{"$f":"AZ28*'Исходные данные'!$D31","v":0},{"$f":"BA28*'Исходные данные'!$D31","v":0},{"$f":"BB28*'Исходные данные'!$D31","v":0},{"$f":"BC28*'Исходные данные'!$D31","v":0},{"$f":"BD28*'Исходные данные'!$D31","v":0},{"$f":"BE28*'Исходные данные'!$D31","v":0},{"$f":"BF28*'Исходные данные'!$D31","v":0},{"$f":"BG28*'Исходные данные'!$D31","v":0},{"$f":"BH28*'Исходные данные'!$D31","v":0},{"$f":"BI28*'Исходные данные'!$D31","v":0},{"$f":"BJ28*'Исходные данные'!$D31","v":0},{"$f":"BK28*'Исходные данные'!$D31","v":0}]
[18,"",0,{"$f":"D29*'Исходные данные'!$D32","v":0},{"$f":"E29*'Исходные данные'!$D32","v":0},{"$f":"F29*'Исходные данные'!$D32","v":0},{"$f":"G29*'Исходные данные'!$D32","v":0},{"$f":"H29*'Исходные данные'!$D32","v":0},{"$f":"I29*'Исходные данные'!$D32","v":0},{"$f":"J29*'Исходные данные'!$D32","v":0},{"$f":"K29*'Исходные данные'!$D32","v":0},{"$f":"L29*'Исходные данные'!$D32","v":0},{"$f":"M29*'Исходные данные'!$D32","v":0},{"$f":"N29*'Исходные данные'!$D32","v":0},{"$f":"O29*'Исходные данные'!$D32","v":0},{"$f":"P29*'Исходные данные'!$D32","v":0},{"$f":"Q29*'Исходные данные'!$D32","v":0},{"$f":"R29*'Исходные данные'!$D32","v":0},{"$f":"S29*'Исходные данные'!$D32","v":0},{"$f":"T29*'Исходные данные'!$D32","v":0},{"$f":"U29*'Исходные данные'!$D32","v":0},{"$f":"V29*'Исходные данные'!$D32","v":0},{"$f":"W29*'Исходные данные'!$D32","v":0},{"$f":"X29*'Исходные данные'!$D32","v":0},{"$f":"Y29*'Исходные данные'!$D32","v":0},{"$f":"Z29*'Исходные данные'!$D32","v":0},{"$f":"AA29*'Исходные данные'!$D32","v":0},{"$f":"AB29*'Исходные данные'!$D32","v":0},{"$f":"AC29*'Исходные данные'!$D32","v":0},{"$f":"AD29*'Исходные данные'!$D32","v":0},{"$f":"AE29*'Исходные данные'!$D32","v":0},{"$f":"AF29*'Исходные данные'!$D32","v":0},{"$f":"AG29*'Исходные данные'!$D32","v":0},{"$f":"AH29*'Исходные данные'!$D32","v":0},{"$f":"AI29*'Исходные данные'!$D32","v":0},{"$f":"AJ29*'Исходные данные'!$D32","v":0},{"$f":"AK29*'Исходные данные'!$D32","v":0},{"$f":"AL29*'Исходные данные'!$D32","v":0},{"$f":"AM29*'Исходные данные'!$D32","v":0},{"$f":"AN29*'Исходные данные'!$D32","v":0},{"$f":"AO29*'Исходные данные'!$D32","v":0},{"$f":"AP29*'Исходные данные'!$D32","v":0},{"$f":"AQ29*'Исходные данные'!$D32","v":0},{"$f":"AR29*'Исходные данные'!$D32","v":0},{"$f":"AS29*'Исходные данные'!$D32","v":0},{"$f":"AT29*'Исходные данные'!$D32","v":0},{"$f":"AU29*'Исходные данные'!$D32","v":0},{"$f":"AV29*'Исходные данные'!$D32","v":0},{"$f":"AW29*'Исходные данные'!$D32","v":0},{"$f":"AX29*'Исходные данные'!$D32","v":0},{"$f":"AY29*'Исходные данные'!$D32","v":0},{"$f":"AZ29*'Исходные данные'!$D32","v":0},{"$f":"BA29*'Исходные данные'!$D32","v":0},{"$f":"BB29*'Исходные данные'!$D32","v":0},{"$f":"BC29*'Исходные данные'!$D32","v":0},{"$f":"BD29*'Исходные данные'!$D32","v":0},{"$f":"BE29*'Исходные данные'!$D32","v":0},{"$f":"BF29*'Исходные данные'!$D32","v":0},{"$f":"BG29*'Исходные данные'!$D32","v":0},{"$f":"BH29*'Исходные данные'!$D32","v":0},{"$f":"BI29*'Исходные данные'!$D32","v":0},{"$f":"BJ29*'Исходные данные'!$D32","v":0},{"$f":"BK29*'Исходные данные'!$D32","v":0}]
[19,"",0,{"$f":"D30*'Исходные данные'!$D33","v":0},{"$f":"E30*'Исходные данные'!$D33","v":0},{"$f":"F30*'Исходные данные'!$D33","v":0},{"$f":"G30*'Исходные данные'!$D33","v":0},{"$f":"H30*'Исходные данные'!$D33","v":0},{"$f":"I30*'Исходные данные'!$D33","v":0},{"$f":"J30*'Исходные данные'!$D33","v":0},{"$f":"K30*'Исходные данные'!$D33","v":0},{"$f":"L30*'Исходные данные'!$D33","v":0},{"$f":"M30*'Исходные данные'!$D33","v":0},{"$f":"N30*'Исходные данные'!$D33","v":0},{"$f":"O30*'Исходные данные'!$D33","v":0},{"$f":"P30*'Исходные данные'!$D33","v":0},{"$f":"Q30*'Исходные данные'!$D33","v":0},{"$f":"R30*'Исходные данные'!$D33","v":0},{"$f":"S30*'Исходные данные'!$D33","v":0},{"$f":"T30*'Исходные данные'!$D33","v":0},{"$f":"U30*'Исходные данные'!$D33","v":0},{"$f":"V30*'Исходные данные'!$D33","v":0},{"$f":"W30*'Исходные данные'!$D33","v":0},{"$f":"X30*'Исходные данные'!$D33","v":0},{"$f":"Y30*'Исходные данные'!$D33","v":0},{"$f":"Z30*'Исходные данные'!$D33","v":0},{"$f":"AA30*'Исходные данные'!$D33","v":0},{"$f":"AB30*'Исходные данные'!$D33","v":0},{"$f":"AC30*'Исходные данные'!$D33","v":0},{"$f":"AD30*'Исходные данные'!$D33","v":0},{"$f":"AE30*'Исходные данные'!$D33","v":0},{"$f":"AF30*'Исходные данные'!$D33","v":0},{"$f":"AG30*'Исходные данные'!$D33","v":0},{"$f":"AH30*'Исходные данные'!$D33","v":0},{"$f":"AI30*'Исходные данные'!$D33","v":0},{"$f":"AJ30*'Исходные данные'!$D33","v":0},{"$f":"AK30*'Исходные данные'!$D33","v":0},{"$f":"AL30*'Исходные данные'!$D33","v":0},{"$f":"AM30*'Исходные данные'!$D33","v":0},{"$f":"AN30*'Исходные данные'!$D33","v":0},{"$f":"AO30*'Исходные данные'!$D33","v":0},{"$f":"AP30*'Исходные данные'!$D33","v":0},{"$f":"AQ30*'Исходные данные'!$D33","v":0},{"$f":"AR30*'Исходные данные'!$D33","v":0},{"$f":"AS30*'Исходные данные'!$D33","v":0},{"$f":"AT30*'Исходные данные'!$D33","v":0},{"$f":"AU30*'Исходные данные'!$D33","v":0},{"$f":"AV30*'Исходные данные'!$D33","v":0},{"$f":"AW30*'Исходные данные'!$D33","v":0},{"$f":"AX30*'Исходные данные'!$D33","v":0},{"$f":"AY30*'Исходные данные'!$D33","v":0},{"$f":"AZ30*'Исходные данные'!$D33","v":0},{"$f":"BA30*'Исходные данные'!$D33","v":0},{"$f":"BB30*'Исходные данные'!$D33","v":0},{"$f":"BC30*'Исходные данные'!$D33","v":0},{"$f":"BD30*'Исходные данные'!$D33","v":0},{"$f":"BE30*'Исходные данные'!$D33","v":0},{"$f":"BF30*'Исходные данные'!$D33","v":0},{"$f":"BG30*'Исходные данные'!$D33","v":0},{"$f":"BH30*'Исходные данные'!$D33","v":0},{"$f":"BI30*'Исходные данные'!$D33","v":0},{"$f":"BJ30*'Исходные данные'!$D33","v":0},{"$f":"BK30*'Исходные данные'!$D33","v":0}]
[20,"",0,{"$f":"D31*'Исходные данные'!$D34","v":0},{"$f":"E31*'Исходные данные'!$D34","v":0},{"$f":"F31*'Исходные данные'!$D34","v":0},{"$f":"G31*'Исходные данные'!$D34","v":0},{"$f":"H31*'Исходные данные'!$D34","v":0},{"$f":"I31*'Исходные данные'!$D34","v":0},{"$f":"J31*'Исходные данные'!$D34","v":0},{"$f":"K31*'Исходные данные'!$D34","v":0},{"$f":"L31*'Исходные данные'!$D34","v":0},{"$f":"M31*'Исходные данные'!$D34","v":0},{"$f":"N31*'Исходные данные'!$D34","v":0},{"$f":"O31*'Исходные данные'!$D34","v":0},{"$f":"P31*'Исходные данные'!$D34","v":0},{"$f":"Q31*'Исходные данные'!$D34","v":0},{"$f":"R31*'Исходные данные'!$D34","v":0},{"$f":"S31*'Исходные данные'!$D34","v":0},{"$f":"T31*'Исходные данные'!$D34","v":0},{"$f":"U31*'Исходные данные'!$D34","v":0},{"$f":"V31*'Исходные данные'!$D34","v":0},{"$f":"W31*'Исходные данные'!$D34","v":0},{"$f":"X31*'Исходные данные'!$D34","v":0},{"$f":"Y31*'Исходные данные'!$D34","v":0},{"$f":"Z31*'Исходные данные'!$D34","v":0},{"$f":"AA31*'Исходные данные'!$D34","v":0},{"$f":"AB31*'Исходные данные'!$D34","v":0},{"$f":"AC31*'Исходные данные'!$D34","v":0},{"$f":"AD31*'Исходные данные'!$D34","v":0},{"$f":"AE31*'Исходные данные'!$D34","v":0},{"$f":"AF31*'Исходные данные'!$D34","v":0},{"$f":"AG31*'Исходные данные'!$D34","v":0},{"$f":"AH31*'Исходные данные'!$D34","v":0},{"$f":"AI31*'Исходные данные'!$D34","v":0},{"$f":"AJ31*'Исходные данные'!$D34","v":0},{"$f":"AK31*'Исходные данные'!$D34","v":0},{"$f":"AL31*'Исходные данные'!$D34","v":0},{"$f":"AM31*'Исходные данные'!$D34","v":0},{"$f":"AN31*'Исходные данные'!$D34","v":0},{"$f":"AO31*'Исходные данные'!$D34","v":0},{"$f":"AP31*'Исходные данные'!$D34","v":0},{"$f":"AQ31*'Исходные данные'!$D34","v":0},{"$f":"AR31*'Исходные данные'!$D34","v":0},{"$f":"AS31*'Исходные данные'!$D34","v":0},{"$f":"AT31*'Исходные данные'!$D34","v":0},{"$f":"AU31*'Исходные данные'!$D34","v":0},{"$f":"AV31*'Исходные данные'!$D34","v":0},{"$f":"AW31*'Исходные данные'!$D34","v":0},{"$f":"AX31*'Исходные данные'!$D34","v":0},{"$f":"AY31*'Исходные данные'!$D34","v":0},{"$f":"AZ31*'Исходные данные'!$D34","v":0},{"$f":"BA31*'Исходные данные'!$D34","v":0},{"$f":"BB31*'Исходные данные'!$D34","v":0},{"$f":"BC31*'Исходные данные'!$D34","v":0},{"$f":"BD31*'Исходные данные'!$D34","v":0},{"$f":"BE31*'Исходные данные'!$D34","v":0},{"$f":"BF31*'Исходные данные'!$D34","v":0},{"$f":"BG31*'Исходные данные'!$D34","v":0},{"$f":"BH31*'Исходные данные'!$D34","v":0},{"$f":"BI31*'Исходные данные'!$D34","v":0},{"$f":"BJ31*'Исходные данные'!$D34","v":0},{"$f":"BK31*'Исходные данные'!$D34","v":0}]
[]
[null,"ВЫРУЧКА ПО КВАРТАЛАМ ЗА 6 ЛЕТ"]
["№ п/п","Наименование","Сумма",{"$f":"D6","v":2021},null,null,null,{"$f":"D55+1","v":2022},null,null,null,{"$f":"H55+1","v":2023},null,null,null,{"$f":"L55+1","v":2024},null,null,null,{"$f":"P55+1","v":2025},null,null,null,{"$f":"T55+1","v":2026}]
[null,null,null,"1кв","2кв","3кв","4кв","1кв","2кв","3кв","4кв","1кв","2кв","3кв","4кв","1кв","2кв","3кв","4кв","1кв","2кв","3кв","4кв","1кв","2кв","3кв","4кв"]
[null,"квартал",null,{"$f":"D56&$D$55","v":"1кв2021"},{"$f":"E56&$D$55","v":"2кв2021"},"3кв2021","4кв2021",{"$f":"H56&$H$55","v":"1кв2022"},{"$f":"I56&$H$55","v":"2кв2022"},"3кв2022","4кв2022",{"$f":"L56&$L$55","v":"1кв2023"},{"$f":"M56&$L$55","v":"2кв2023"},"3кв2023","4кв2023",{"$f":"P56&$P$55","v":"1кв2024"},{"$f":"Q56&$P$55","v":"2кв2024"},"3кв2024","4кв2024",{"$f":"T56&$T$55","v":"1кв2025"},{"$f":"U56&$T$55","v":"2кв2025"},"3кв2025","4кв2025",{"$f":"X56&$X$55","v":"1кв2026"},{"$f":"Y56&$X$55","v":"2кв2026"},"3кв2026","4кв2026"]
["ОБЪЕМ ПРОДАЖ В КОЛИЧЕСТВЕ",null,{"$f":"SUM(C59:C78)","v":608341},0,11712,21956,35308,25507,23514,{"$f":"SUM(J59:J78)","v":23544},35308,25507,23514,23544,35308,{"$f":"SUM(P59:P78)","v":25507},23514,23544,35308,25507,23514,{"$f":"SUM(V59:V78)","v":23544},35308,25507,23514,23544,35308]
[1,{"$f":"B12","v":"Шаурма"},{"$f":"SUM(D59:AA59)","v":219973},{"$f":"SUMIF($D$9:$BK$9,D$57,$D12:$BK12)","v":0},{"$f":"SUMIF($D$9:$BK$9,E$57,$D12:$BK12)","v":3214},6001,17893,7822,6429,6429,17893,7822,6429,6429,17893,7822,6429,6429,17893,7822,6429,6429,17893,{"$f":"T59","v":7822},{"$f":"U59","v":6429},6429,17893]
[{"$f":"A59+1","v":2},{"$f":"B13","v":"Кофе"},{"$f":"SUM(D60:AA60)","v":150714},{"$f":"SUMIF($D$9:$BK$9,D$57,$D13:$BK13)","v":0},2970,5544,7200,7650,6210,5940,7200,7650,6210,5940,7200,7650,6210,5940,7200,7650,6210,5940,7200,{"$f":"T60","v":7650},{"$f":"U60","v":6210},{"$f":"V60","v":5940},{"$f":"W60","v":7200}]
[{"$f":"A60+1","v":3},"Хот-дог",60570,{"$f":"SUMIF($D$9:$BK$9,D$57,$D14:$BK14)","v":0},1350,2520,2700,2700,2700,2700,2700,2700,2700,2700,2700,2700,2700,2700,2700,2700,2700,2700,2700,2700,2700,2700,2700]
[4,"Газированный напиток",101370,{"$f":"SUMIF($D$9:$BK$9,D$57,$D15:$BK15)","v":0},2490,4740,4140,3960,4800,5100,4140,3960,4800,5100,4140,3960,4800,5100,4140,3960,4800,5100,4140,3960,4800,5100,4140]
[5,"Чай",75714,{"$f":"SUMIF($D$9:$BK$9,D$57,$D16:$BK16)","v":0},1688,3151,3375,3375,3375,3375,3375,3375,3375,3375,3375,3375,3375,3375,3375,3375,3375,3375,3375,3375,3375,3375,3375]
[6,"",0,{"$f":"SUMIF($D$9:$BK$9,D$57,$D17:$BK17)","v":0},0,0,0,0,0,0,0,0,0,0,0,0,0,0,0,0,0,0,0,0,0,0,0]
[7,"",0,{"$f":"SUMIF($D$9:$BK$9,D$57,$D18:$BK18)","v":0},0,0,0,0,0,0,0,0,0,0,0,0,0,0,0,0,0,0,0,0,0,0,0]
[8,"",0,{"$f":"SUMIF($D$9:$BK$9,D$57,$D19:$BK19)","v":0},0,0,0,0,0,0,0,0,0,0,0,0,0,0,0,0,0,0,0,0,0,0,0]
[9,"",0,{"$f":"SUMIF($D$9:$BK$9,D$57,$D20:$BK20)","v":0},0,0,0,0,0,0,0,0,0,0,0,0,0,0,0,0,0,0,0,0,0,0,0]
[10,"",0,{"$f":"SUMIF($D$9:$BK$9,D$57,$D21:$BK21)","v":0},0,0,0,0,0,0,0,0,0,0,0,0,0,0,0,0,0,0,0,0,0,0,0]
[11,"",0,{"$f":"SUMIF($D$9:$BK$9,D$57,$D22:$BK22)","v":0},0,0,0,0,0,0,0,0,0,0,0,0,0,0,0,0,0,0,0,0,0,0,0]
[12,"",0,{"$f":"SUMIF($D$9:$BK$9,D$57,$D23:$BK23)","v":0},0,0,0,0,0,0,0,0,0,0,0,0,0,0,0,0,0,0,0,0,0,0,0]
[13,"",0,{"$f":"SUMIF($D$9:$BK$9,D$57,$D24:$BK24)","v":0},0,0,0,0,0,0,0,0,0,0,0,0,0,0,0,0,0,0,0,0,0,0,0]
[14,"",0,{"$f":"SUMIF($D$9:$BK$9,D$57,$D25:$BK25)","v":0},0,0,0,0,0,0,0,0,0,0,0,0,0,0,0,0,0,0,0,0,0,0,0]
[15,"",0,{"$f":"SUMIF($D$9:$BK$9,D$57,$D26:$BK26)","v":0},0,0,0,0,0,0,0,0,0,0,0,0,0,0,0,0,0,0,0,0,0,0,0]
[16,"",0,{"$f":"SUMIF($D$9:$BK$9,D$57,$D27:$BK27)","v":0},0,0,0,0,0,0,0,0,0,0,0,0,0,0,0,0,0,0,0,0,0,0,0]
[17,"",0,{"$f":"SUMIF($D$9:$BK$9,D$57,$D28:$BK28)","v":0},0,0,0,0,0,0,0,0,0,0,0,0,0,0,0,0,0,0,0,0,0,0,0]
[18,"",0,{"$f":"SUMIF($D$9:$BK$9,D$57,$D29:$BK29)","v":0},0,0,0,0,0,0,0,0,0,0,0,0,0,0,0,0,0,0,0,0,0,0,0]
[19,"",0,{"$f":"SUMIF($D$9:$BK$9,D$57,$D30:$BK30)","v":0},0,0,0,0,0,0,0,0,0,0,0,0,0,0,0,0,0,0,0,0,0,0,0]
[20,"",0,{"$f":"SUMIF($D$9:$BK$9,D$57,$D31:$BK31)","v":0},0,0,0,0,0,0,0,0,0,0,0,0,0,0,0,0,0,0,0,0,0,0,0]
["СУММА ВЫРУЧКИ",null,{"$f":"SUM(C80:C99)","v":61035380},{"$f":"SUM(D80:D99)","v":0},1098880,2056980,3878420,2502680,2214060,{"$f":"SUM(J80:J99)","v":2205060},3878420,2502680,2214060,2205060,3878420,{"$f":"SUM(P80:P99)","v":2502680},2214060,2205060,3878420,2502680,2214060,{"$f":"SUM(V80:V99)","v":2205060},3878420,2502680,2214060,2205060,3878420]
[1,{"$f":"B33","v":"Шаурма"},{"$f":"SUM(D80:AA80)","v":30796220},{"$f":"SUMIF($D$9:$BK$9,D$57,$D33:$BK33)","v":0},449960,840140,2505020,1095080,900060,900060,2505020,1095080,900060,900060,2505020,1095080,900060,900060,2505020,1095080,900060,900060,2505020,{"$f":"T80","v":1095080},{"$f":"U80","v":900060},{"$f":"V80","v":900060},{"$f":"W80","v":2505020}]
[{"$f":"A80+1","v":2},{"$f":"B34","v":"Кофе"},{"$f":"SUM(D81:AA81)","v":15071400},{"$f":"SUMIF($D$9:$BK$9,D$57,$D34:$BK34)","v":0},297000,554400,720000,765000,621000,594000,720000,765000,621000,594000,720000,765000,621000,594000,720000,765000,621000,594000,720000,765000,621000,594000,720000]
[{"$f":"A81+1","v":3},"Хот-дог",6057000,{"$f":"SUMIF($D$9:$BK$9,D$57,$D35:$BK35)","v":0},135000,252000,270000,270000,270000,270000,270000,270000,270000,270000,270000,270000,270000,270000,270000,270000,270000,270000,270000,270000,270000,270000,270000]
[4,"Газированный напиток",6082200,{"$f":"SUMIF($D$9:$BK$9,D$57,$D36:$BK36)","v":0},149400,284400,248400,237600,288000,306000,248400,237600,288000,306000,248400,237600,288000,306000,248400,237600,288000,306000,248400,237600,288000,306000,248400]
[5,"Чай",3028560,{"$f":"SUMIF($D$9:$BK$9,D$57,$D37:$BK37)","v":0},67520,126040,135000,135000,135000,135000,135000,135000,135000,135000,135000,135000,135000,135000,135000,135000,135000,135000,135000,135000,135000,135000,135000]
[6,"",0,{"$f":"SUMIF($D$9:$BK$9,D$57,$D38:$BK38)","v":0},0,0,0,0,0,0,0,0,0,0,0,0,0,0,0,0,0,0,0,0,0,0,0]
[7,"",0,{"$f":"SUMIF($D$9:$BK$9,D$57,$D39:$BK39)","v":0},0,0,0,0,0,0,0,0,0,0,0,0,0,0,0,0,0,0,0,0,0,0,0]
[8,"",0,{"$f":"SUMIF($D$9:$BK$9,D$57,$D40:$BK40)","v":0},0,0,0,0,0,0,0,0,0,0,0,0,0,0,0,0,0,0,0,0,0,0,0]
[9,"",0,{"$f":"SUMIF($D$9:$BK$9,D$57,$D41:$BK41)","v":0},0,0,0,0,0,0,0,0,0,0,0,0,0,0,0,0,0,0,0,0,0,0,0]
[10,"",0,{"$f":"SUMIF($D$9:$BK$9,D$57,$D42:$BK42)","v":0},0,0,0,0,0,0,0,0,0,0,0,0,0,0,0,0,0,0,0,0,0,0,0]
[11,"",0,{"$f":"SUMIF($D$9:$BK$9,D$57,$D43:$BK43)","v":0},0,0,0,0,0,0,0,0,0,0,0,0,0,0,0,0,0,0,0,0,0,0,0]
[12,"",0,{"$f":"SUMIF($D$9:$BK$9,D$57,$D44:$BK44)","v":0},0,0,0,0,0,0,0,0,0,0,0,0,0,0,0,0,0,0,0,0,0,0,0]
[13,"",0,{"$f":"SUMIF($D$9:$BK$9,D$57,$D45:$BK45)","v":0},0,0,0,0,0,0,0,0,0,0,0,0,0,0,0,0,0,0,0,0,0,0,0]
[14,"",0,{"$f":"SUMIF($D$9:$BK$9,D$57,$D46:$BK46)","v":0},0,0,0,0,0,0,0,0,0,0,0,0,0,0,0,0,0,0,0,0,0,0,0]
[15,"",0,{"$f":"SUMIF($D$9:$BK$9,D$57,$D47:$BK47)","v":0},0,0,0,0,0,0,0,0,0,0,0,0,0,0,0,0,0,0,0,0,0,0,0]
[16,"",0,{"$f":"SUMIF($D$9:$BK$9,D$57,$D48:$BK48)","v":0},0,0,0,0,0,0,0,0,0,0,0,0,0,0,0,0,0,0,0,0,0,0,0]
[17,"",0,{"$f":"SUMIF($D$9:$BK$9,D$57,$D49:$BK49)","v":0},0,0,0,0,0,0,0,0,0,0,0,0,0,0,0,0,0,0,0,0,0,0,0]
[18,"",0,{"$f":"SUMIF($D$9:$BK$9,D$57,$D50:$BK50)","v":0},0,0,0,0,0,0,0,0,0,0,0,0,0,0,0,0,0,0,0,0,0,0,0]
[19,"",0,{"$f":"SUMIF($D$9:$BK$9,D$57,$D51:$BK51)","v":0},0,0,0,0,0,0,0,0,0,0,0,0,0,0,0,0,0,0,0,0,0,0,0]
[20,"",0,{"$f":"SUMIF($D$9:$BK$9,D$57,$D52:$BK52)","v":0},0,0,0,0,0,0,0,0,0,0,0,0,0,0,0,0,0,0,0,0,0,0,0]
[]
["Выручка, тыс.руб.",null,{"$f":"C79/1000","v":61035.38},{"$f":"D79/1000","v":0},1098.8800000000001,2056.98,3878.42,2502.6799999999998,2214.06,{"$f":"J79/1000","v":2205.06},3878.42,2502.6799999999998,2214.06,2205.06,3878.42,{"$f":"P79/1000","v":2502.6799999999998},2214.06,2205.06,3878.42,2502.6799999999998,2214.06,{"$f":"V79/1000","v":2205.06},3878.42,2502.6799999999998,2214.06,2205.06,3878.42]
["Выручка, млн.руб.",null,{"$f":"C101/1000","v":61.035379999999996},{"$f":"D101/1000","v":0},1.0988800000000001,2.0569799999999998,3.8784200000000002,2.5026799999999998,2.2140599999999999,{"$f":"J101/1000","v":2.20506},3.8784200000000002,2.5026799999999998,2.2140599999999999,2.20506,3.8784200000000002,{"$f":"P101/1000","v":2.5026799999999998},2.2140599999999999,2.20506,3.8784200000000002,2.5026799999999998,2.2140599999999999,{"$f":"V101/1000","v":2.20506},3.8784200000000002,2.5026799999999998,2.2140599999999999,2.20506,3.8784200000000002]
[]
[null,"ВЫРУЧКА ПО ГОДАМ ЗА 6 ЛЕТ"]
["№ п/п","Наименование","Сумма",{"$f":"D6","v":2021},{"$f":"D105+1","v":2022},{"$f":"E105+1","v":2023},2024,2025,2026]
["ОБЪЕМ ПРОДАЖ В КОЛИЧЕСТВЕ",null,{"$f":"SUM(C107:C126)","v":608341},68976,107873,107873,107873,107873,{"$f":"SUM(I107:I126)","v":107873}]
[1,{"$f":"B12","v":"Шаурма"},{"$f":"SUM(D107:I107)","v":219973},{"$f":"SUMIF($D$6:$BK$6,D$105,$D12:$BK12)","v":27108},38573,38573,38573,38573,{"$f":"H107","v":38573}]
[{"$f":"A107+1","v":2},"Кофе",{"$f":"SUM(D108:I108)","v":150714},15714,27000,27000,27000,27000,{"$f":"H108","v":27000}]
[{"$f":"A108+1","v":3},"Хот-дог",60570,6570,10800,10800,10800,10800,10800]
[4,"Газированный напиток",101370,11370,18000,18000,18000,18000,18000]
[5,"Чай",75714,8214,13500,13500,13500,13500,13500]
[6,"",0,0,0,0,0,0,0]
[7,"",0,0,0,0,0,0,0]
[8,"",0,0,0,0,0,0,0]
[9,"",0,0,0,0,0,0,0]
[10,"",0,0,0,0,0,0,0]
[11,"",0,{"$f":"SUMIF($D$6:$BK$6,D$105,$D22:$BK22)","v":0},0,0,0,0,0]
[12,"",0,0,0,0,0,0,0]
[13,"",0,0,0,0,0,0,0]
[14,"",0,0,0,0,0,0,0]
[15,"",0,0,0,0,0,0,0]
[16,"",0,0,0,0,0,0,0]
[17,"",0,0,0,0,0,0,0]
[18,"",0,0,0,0,0,0,0]
[19,"",0,0,0,0,0,0,0]
[20,"",0,0,0,0,0,0,0]
["СУММА ВЫРУЧКИ",null,{"$f":"SUM(C128:C147)","v":61035380},{"$f":"SUM(D128:D147)","v":7034280},10800220,10800220,10800220,10800220,{"$f":"SUM(I128:I147)","v":10800220}]
[1,{"$f":"B33","v":"Шаурма"},{"$f":"SUM(D128:I128)","v":30796220},{"$f":"SUMIF($D$6:$BK$6,D$105,$D33:$BK33)","v":3795120},5400220,5400220,5400220,5400220,{"$f":"H128","v":5400220}]
[{"$f":"A128+1","v":2},"Кофе",{"$f":"SUM(D129:I129)","v":15071400},1571400,2700000,2700000,2700000,2700000,{"$f":"H129","v":2700000}]
[{"$f":"A129+1","v":3},"Хот-дог",6057000,657000,1080000,1080000,1080000,1080000,1080000]
[4,"Газированный напиток",6082200,682200,1080000,1080000,1080000,1080000,1080000]
[5,"Чай",3028560,328560,540000,540000,540000,540000,540000]
[6,"",0,0,0,0,0,0,0]
[7,"",0,0,0,0,0,0,0]
[8,"",0,0,0,0,0,0,0]
[9,"",0,0,0,0,0,0,0]
[10,"",0,0,0,0,0,0,0]
[11,"",0,{"$f":"SUMIF($D$6:$BK$6,D$105,$D43:$BK43)","v":0},0,0,0,0,0]
[12,"",0,0,0,0,0,0,0]
[13,"",0,0,0,0,0,0,0]
[14,"",0,0,0,0,0,0,0]
[15,"",0,0,0,0,0,0,0]
[16,"",0,0,0,0,0,0,0]
[17,"",0,0,0,0,0,0,0]
[18,"",0,0,0,0,0,0,0]
[19,"",0,0,0,0,0,0,0]
[20,"",0,0,0,0,0,0,0]
[]
["Выручка, тыс.руб.",null,{"$f":"C127/1000","v":61035.38},{"$f":"D127/1000","v":7034.28},10800.22,10800.22,10800.22,10800.22,{"$f":"I127/1000","v":10800.22}]
["Выручка, млн.руб.",null,{"$f":"C149/1000","v":61.035379999999996},{"$f":"D149/1000","v":7.0342799999999999},10.800219999999999,10.800219999999999,10.800219999999999,10.800219999999999,{"$f":"I149/1000","v":10.800219999999999}]
[]
[null,"ПЛАН ПРОДАЖ В ГРАФИКАХ"]

{"sheet":"БДДС","index":3,"n_rows":165,"n_cols":63,"rows_kept":165,"cut":false,"hidden":false,"merged":[[73,19,73,22],[73,2,74,2],[73,1,74,1],[3,0,5,0],[3,1,5,1],[3,2,5,2],[73,0,74,0],[73,3,73,6],[73,7,73,10],[73,11,73,14],[73,15,73,18]]}
["БЮДЖЕТ ДВИЖЕНИЯ ДЕНЕЖНЫХ СРЕДСТВ (БДДС)"]
["в руб."]
["БДДС ПО МЕСЯЦАМ"]
["Статья движения ДС",{"$f":"Налоги!B3","v":"Сумма за 63 мес"},"\"0\"","1-й месяц","2-й месяц","3-й месяц","4-й месяц","5-й месяц","6-й месяц","7-й месяц","8-й месяц","9-й месяц","10-й месяц","11-й месяц","12-й месяц","13-й месяц","14-й месяц","15-й месяц","16-й месяц","17-й месяц","18-й месяц","19-й месяц","20-й месяц","21-й месяц","22-й месяц","23-й месяц","24-й месяц","25-й месяц","26-й месяц","27-й месяц","28-й месяц","29-й месяц","30-й месяц","31-й месяц","32-й месяц","33-й месяц","34-й месяц","35-й месяц","36-й месяц","37-й месяц","38-й месяц","39-й месяц","40-й месяц","41-й месяц","42-й месяц","43-й месяц","44-й месяц","45-й месяц","46-й месяц","47-й месяц","48-й месяц","49-й месяц","50-й месяц","51-й месяц","52-й месяц","53-й месяц","54-й месяц","55-й месяц","56-й месяц","57-й месяц","58-й месяц","59-й месяц","60-й месяц"]
[null,null,null,{"$f":"'План продаж'!D5","v":"Май"},{"$f":"'План продаж'!E5","v":"Июнь"},{"$f":"'План продаж'!F5","v":"Июль"},{"$f":"'План продаж'!G5","v":"Август"},{"$f":"'План продаж'!H5","v":"Сентябрь"},{"$f":"'План продаж'!I5","v":"Октябрь"},{"$f":"'План продаж'!J5","v":"Ноябрь"},{"$f":"'План продаж'!K5","v":"Декабрь"},{"$f":"'План продаж'!L5","v":"Январь"},{"$f":"'План продаж'!M5","v":"Февраль"},{"$f":"'План продаж'!N5","v":"Март"},{"$f":"'План продаж'!O5","v":"Апрель"},{"$f":"'План продаж'!P5","v":"Май"},{"$f":"'План продаж'!Q5","v":"Июнь"},{"$f":"'План продаж'!R5","v":"Июль"},{"$f":"'План продаж'!S5","v":"Август"},{"$f":"'План продаж'!T5","v":"Сентябрь"},{"$f":"'План продаж'!U5","v":"Октябрь"},{"$f":"'План продаж'!V5","v":"Ноябрь"},{"$f":"'План продаж'!W5","v":"Декабрь"},{"$f":"'План продаж'!X5","v":"Январь"},{"$f":"'План продаж'!Y5","v":"Февраль"},{"$f":"'План продаж'!Z5","v":"Март"},{"$f":"'План продаж'!AA5","v":"Апрель"},{"$f":"'План продаж'!AB5","v":"Май"},{"$f":"'План продаж'!AC5","v":"Июнь"},{"$f":"'План продаж'!AD5","v":"Июль"},{"$f":"'План продаж'!AE5","v":"Август"},{"$f":"'План продаж'!AF5","v":"Сентябрь"},{"$f":"'План продаж'!AG5","v":"Октябрь"},{"$f":"'План продаж'!AH5","v":"Ноябрь"},{"$f":"'План продаж'!AI5","v":"Декабрь"},{"$f":"'План продаж'!AJ5","v":"Январь"},{"$f":"'План продаж'!AK5","v":"Февраль"},{"$f":"'План продаж'!AL5","v":"Март"},{"$f":"'План продаж'!AM5","v":"Апрель"},{"$f":"'План продаж'!AN5","v":"Май"},{"$f":"'План продаж'!AO5","v":"Июнь"},{"$f":"'План продаж'!AP5","v":"Июль"},{"$f":"'План продаж'!AQ5","v":"Август"},{"$f":"'План продаж'!AR5","v":"Сентябрь"},{"$f":"'План продаж'!AS5","v":"Октябрь"},{"$f":"'План продаж'!AT5","v":"Ноябрь"},{"$f":"'План продаж'!AU5","v":"Декабрь"},{"$f":"'План продаж'!AV5","v":"Январь"},{"$f":"'План продаж'!AW5","v":"Февраль"},{"$f":"'План продаж'!AX5","v":"Март"},{"$f":"'План продаж'!AY5","v":"Апрель"},{"$f":"'План продаж'!AZ5","v":"Май"},{"$f":"'План продаж'!BA5","v":"Июнь"},{"$f":"'План продаж'!BB5","v":"Июль"},{"$f":"'План продаж'!BC5","v":"Август"},{"$f":"'План продаж'!BD5","v":"Сентябрь"},{"$f":"'План продаж'!BE5","v":"Октябрь"},{"$f":"'План продаж'!BF5","v":"Ноябрь"},{"$f":"'План продаж'!BG5","v":"Декабрь"},{"$f":"'План продаж'!BH5","v":"Январь"},{"$f":"'План продаж'!BI5","v":"Февраль"},{"$f":"'План продаж'!BJ5","v":"Март"},{"$f":"'План продаж'!BK5","v":"Апрель"}]
[null,null,null,{"$f":"'План продаж'!D6","v":2021},{"$f":"'План продаж'!E6","v":2021},{"$f":"'План продаж'!F6","v":2021},{"$f":"'План продаж'!G6","v":2021},{"$f":"'План продаж'!H6","v":2021},{"$f":"'План продаж'!I6","v":2021},{"$f":"'План продаж'!J6","v":2021},{"$f":"'План продаж'!K6","v":2021},{"$f":"'План продаж'!L6","v":2022},{"$f":"'План продаж'!M6","v":2022},{"$f":"'План продаж'!N6","v":2022},{"$f":"'План продаж'!O6","v":2022},{"$f":"'План продаж'!P6","v":2022},{"$f":"'План продаж'!Q6","v":2022},{"$f":"'План продаж'!R6","v":2022},{"$f":"'План продаж'!S6","v":2022},{"$f":"'План продаж'!T6","v":2022},{"$f":"'План продаж'!U6","v":2022},{"$f":"'План продаж'!V6","v":2022},{"$f":"'План продаж'!W6","v":2022},{"$f":"'План продаж'!X6","v":2023},{"$f":"'План продаж'!Y6","v":2023},{"$f":"'План продаж'!Z6","v":2023},{"$f":"'План продаж'!AA6","v":2023},{"$f":"'План продаж'!AB6","v":2023},{"$f":"'План продаж'!AC6","v":2023},{"$f":"'План продаж'!AD6","v":2023},{"$f":"'План продаж'!AE6","v":2023},{"$f":"'План продаж'!AF6","v":2023},{"$f":"'План продаж'!AG6","v":2023},{"$f":"'План продаж'!AH6","v":2023},{"$f":"'План продаж'!AI6","v":2023},{"$f":"'План продаж'!AJ6","v":2024},{"$f":"'План продаж'!AK6","v":2024},{"$f":"'План продаж'!AL6","v":2024},{"$f":"'План продаж'!AM6","v":2024},{"$f":"'План продаж'!AN6","v":2024},{"$f":"'План продаж'!AO6","v":2024},{"$f":"'План продаж'!AP6","v":2024},{"$f":"'План продаж'!AQ6","v":2024},{"$f":"'План продаж'!AR6","v":2024},{"$f":"'План продаж'!AS6","v":2024},{"$f":"'План продаж'!AT6","v":2024},{"$f":"'План продаж'!AU6","v":2024},{"$f":"'План продаж'!AV6","v":2025},{"$f":"'План продаж'!AW6","v":2025},{"$f":"'План продаж'!AX6","v":2025},{"$f":"'План продаж'!AY6","v":2025},{"$f":"'План продаж'!AZ6","v":2025},{"$f":"'План продаж'!BA6","v":2025},{"$f":"'План продаж'!BB6","v":2025},{"$f":"'План продаж'!BC6","v":2025},{"$f":"'План продаж'!BD6","v":2025},{"$f":"'План продаж'!BE6","v":2025},{"$f":"'План продаж'!BF6","v":2025},{"$f":"'План продаж'!BG6","v":2025},{"$f":"'План продаж'!BH6","v":2026},{"$f":"'План продаж'!BI6","v":2026},{"$f":"'План продаж'!BJ6","v":2026},{"$f":"'План продаж'!BK6","v":2026}]
["Конец квартала",null,null,{"$f":"IF(D5=\"Март\",\"1кв\",IF(D5=\"Июнь\",\"2кв\",IF(D5=\"Сентябрь\",\"3кв\",IF(D5=\"Декабрь\",\"4кв\",\"\"))))","v":""},"2кв","","","3кв","","","4кв","","","1кв","","","2кв","","","3кв","","","4кв","","","1кв","","","2кв","","","3кв","","","4кв",{"$f":"IF(AJ5=\"Март\",\"1кв\",IF(AJ5=\"Июнь\",\"2кв\",IF(AJ5=\"Сентябрь\",\"3кв\",IF(AJ5=\"Декабрь\",\"4кв\",\"\"))))","v":""},"","1кв","","","2кв","","","3кв","","","4кв","","","1кв","","","2кв","","","3кв","","","4кв","","","1кв",""]
["Квартал",null,null,{"$f":"VLOOKUP(D5,Спровочник!$B$21:$C$32,2,FALSE)&D6","v":"2кв2021"},{"$f":"VLOOKUP(E5,Спровочник!$B$21:$C$32,2,FALSE)&E6","v":"2кв2021"},{"$f":"VLOOKUP(F5,Спровочник!$B$21:$C$32,2,FALSE)&F6","v":"3кв2021"},{"$f":"VLOOKUP(G5,Спровочник!$B$21:$C$32,2,FALSE)&G6","v":"3кв2021"},{"$f":"VLOOKUP(H5,Спровочник!$B$21:$C$32,2,FALSE)&H6","v":"3кв2021"},{"$f":"VLOOKUP(I5,Спровочник!$B$21:$C$32,2,FALSE)&I6","v":"4кв2021"},{"$f":"VLOOKUP(J5,Спровочник!$B$21:$C$32,2,FALSE)&J6","v":"4кв2021"},{"$f":"VLOOKUP(K5,Спровочник!$B$21:$C$32,2,FALSE)&K6","v":"4кв2021"},{"$f":"VLOOKUP(L5,Спровочник!$B$21:$C$32,2,FALSE)&L6","v":"1кв2022"},{"$f":"VLOOKUP(M5,Спровочник!$B$21:$C$32,2,FALSE)&M6","v":"1кв2022"},{"$f":"VLOOKUP(N5,Спровочник!$B$21:$C$32,2,FALSE)&N6","v":"1кв2022"},{"$f":"VLOOKUP(O5,Спровочник!$B$21:$C$32,2,FALSE)&O6","v":"2кв2022"},{"$f":"VLOOKUP(P5,Спровочник!$B$21:$C$32,2,FALSE)&P6","v":"2кв2022"},{"$f":"VLOOKUP(Q5,Спровочник!$B$21:$C$32,2,FALSE)&Q6","v":"2кв2022"},{"$f":"VLOOKUP(R5,Спровочник!$B$21:$C$32,2,FALSE)&R6","v":"3кв2022"},{"$f":"VLOOKUP(S5,Спровочник!$B$21:$C$32,2,FALSE)&S6","v":"3кв2022"},{"$f":"VLOOKUP(T5,Спровочник!$B$21:$C$32,2,FALSE)&T6","v":"3кв2022"},{"$f":"VLOOKUP(U5,Спровочник!$B$21:$C$32,2,FALSE)&U6","v":"4кв2022"},{"$f":"VLOOKUP(V5,Спровочник!$B$21:$C$32,2,FALSE)&V6","v":"4кв2022"},{"$f":"VLOOKUP(W5,Спровочник!$B$21:$C$32,2,FALSE)&W6","v":"4кв2022"},{"$f":"VLOOKUP(X5,Спровочник!$B$21:$C$32,2,FALSE)&X6","v":"1кв2023"},{"$f":"VLOOKUP(Y5,Спровочник!$B$21:$C$32,2,FALSE)&Y6","v":"1кв2023"},{"$f":"VLOOKUP(Z5,Спровочник!$B$21:$C$32,2,FALSE)&Z6","v":"1кв2023"},{"$f":"VLOOKUP(AA5,Спровочник!$B$21:$C$32,2,FALSE)&AA6","v":"2кв2023"},{"$f":"VLOOKUP(AB5,Спровочник!$B$21:$C$32,2,FALSE)&AB6","v":"2кв2023"},{"$f":"VLOOKUP(AC5,Спровочник!$B$21:$C$32,2,FALSE)&AC6","v":"2кв2023"},{"$f":"VLOOKUP(AD5,Спровочник!$B$21:$C$32,2,FALSE)&AD6","v":"3кв2023"},{"$f":"VLOOKUP(AE5,Спровочник!$B$21:$C$32,2,FALSE)&AE6","v":"3кв2023"},{"$f":"VLOOKUP(AF5,Спровочник!$B$21:$C$32,2,FALSE)&AF6","v":"3кв2023"},{"$f":"VLOOKUP(AG5,Спровочник!$B$21:$C$32,2,FALSE)&AG6","v":"4кв2023"},{"$f":"VLOOKUP(AH5,Спровочник!$B$21:$C$32,2,FALSE)&AH6","v":"4кв2023"},{"$f":"VLOOKUP(AI5,Спровочник!$B$21:$C$32,2,FALSE)&AI6","v":"4кв2023"},{"$f":"VLOOKUP(AJ5,Спровочник!$B$21:$C$32,2,FALSE)&AJ6","v":"1кв2024"},{"$f":"VLOOKUP(AK5,Спровочник!$B$21:$C$32,2,FALSE)&AK6","v":"1кв2024"},{"$f":"VLOOKUP(AL5,Спровочник!$B$21:$C$32,2,FALSE)&AL6","v":"1кв2024"},{"$f":"VLOOKUP(AM5,Спровочник!$B$21:$C$32,2,FALSE)&AM6","v":"2кв2024"},{"$f":"VLOOKUP(AN5,Спровочник!$B$21:$C$32,2,FALSE)&AN6","v":"2кв2024"},{"$f":"VLOOKUP(AO5,Спровочник!$B$21:$C$32,2,FALSE)&AO6","v":"2кв2024"},{"$f":"VLOOKUP(AP5,Спровочник!$B$21:$C$32,2,FALSE)&AP6","v":"3кв2024"},{"$f":"VLOOKUP(AQ5,Спровочник!$B$21:$C$32,2,FALSE)&AQ6","v":"3кв2024"},{"$f":"VLOOKUP(AR5,Спровочник!$B$21:$C$32,2,FALSE)&AR6","v":"3кв2024"},{"$f":"VLOOKUP(AS5,Спровочник!$B$21:$C$32,2,FALSE)&AS6","v":"4кв2024"},{"$f":"VLOOKUP(AT5,Спровочник!$B$21:$C$32,2,FALSE)&AT6","v":"4кв2024"},{"$f":"VLOOKUP(AU5,Спровочник!$B$21:$C$32,2,FALSE)&AU6","v":"4кв2024"},{"$f":"VLOOKUP(AV5,Спровочник!$B$21:$C$32,2,FALSE)&AV6","v":"1кв2025"},{"$f":"VLOOKUP(AW5,Спровочник!$B$21:$C$32,2,FALSE)&AW6","v":"1кв2025"},{"$f":"VLOOKUP(AX5,Спровочник!$B$21:$C$32,2,FALSE)&AX6","v":"1кв2025"},{"$f":"VLOOKUP(AY5,Спровочник!$B$21:$C$32,2,FALSE)&AY6","v":"2кв2025"},{"$f":"VLOOKUP(AZ5,Спровочник!$B$21:$C$32,2,FALSE)&AZ6","v":"2кв2025"},{"$f":"VLOOKUP(BA5,Спровочник!$B$21:$C$32,2,FALSE)&BA6","v":"2кв2025"},{"$f":"VLOOKUP(BB5,Спровочник!$B$21:$C$32,2,FALSE)&BB6","v":"3кв2025"},{"$f":"VLOOKUP(BC5,Спровочник!$B$21:$C$32,2,FALSE)&BC6","v":"3кв2025"},{"$f":"VLOOKUP(BD5,Спровочник!$B$21:$C$32,2,FALSE)&BD6","v":"3кв2025"},{"$f":"VLOOKUP(BE5,Спровочник!$B$21:$C$32,2,FALSE)&BE6","v":"4кв2025"},{"$f":"VLOOKUP(BF5,Спровочник!$B$21:$C$32,2,FALSE)&BF6","v":"4кв2025"},{"$f":"VLOOKUP(BG5,Спровочник!$B$21:$C$32,2,FALSE)&BG6","v":"4кв2025"},{"$f":"VLOOKUP(BH5,Спровочник!$B$21:$C$32,2,FALSE)&BH6","v":"1кв2026"},{"$f":"VLOOKUP(BI5,Спровочник!$B$21:$C$32,2,FALSE)&BI6","v":"1кв2026"},{"$f":"VLOOKUP(BJ5,Спровочник!$B$21:$C$32,2,FALSE)&BJ6","v":"1кв2026"},{"$f":"VLOOKUP(BK5,Спровочник!$B$21:$C$32,2,FALSE)&BK6","v":"2кв2026"}]
["Месяц и год",null,{"$f":"CONCATENATE(C5,C6)","v":""},{"$f":"CONCATENATE(D5,D6)","v":"Май2021"},{"$f":"CONCATENATE(E5,E6)","v":"Июнь2021"},"Июль2021","Август2021","Сентябрь2021","Октябрь2021","Ноябрь2021","Декабрь2021","Январь2022","Февраль2022","Март2022","Апрель2022","Май2022","Июнь2022","Июль2022","Август2022","Сентябрь2022","Октябрь2022","Ноябрь2022","Декабрь2022","Январь2023","Февраль2023","Март2023","Апрель2023","Май2023","Июнь2023","Июль2023","Август2023","Сентябрь2023","Октябрь2023","Ноябрь2023","Декабрь2023","Январь2024","Февраль2024","Март2024","Апрель2024","Май2024","Июнь2024","Июль2024","Август2024","Сентябрь2024","Октябрь2024","Ноябрь2024","Декабрь2024","Январь2025","Февраль2025","Март2025","Апрель2025","Май2025","Июнь2025","Июль2025","Август2025","Сентябрь2025","Октябрь2025","Ноябрь2025","Декабрь2025","Январь2026","Февраль2026","Март2026","Апрель2026"]
["Месяцев в квартале",null,{"$f":"'Исходные данные'!Y265","v":3},{"$f":"IF(D7<>\"\",1,0)","v":0},{"$f":"IF(E7<>\"\",2,0)","v":2},{"$f":"IF(F7<>\"\",3,0)","v":0},0,3,0,0,3,0,0,3,0,0,3,0,0,3,0,0,3,0,0,3,0,0,3,0,0,3,0,0,3,0,0,{"$f":"IF(AL7<>\"\",3,0)","v":3},0,0,3,0,0,3,0,0,3,0,0,3,0,0,3,0,0,3,0,0,3,0,0,3,0]
[]
["Остаток ДС на начало периода",0,0,{"$f":"C71","v":2941.5141666666605},65428.038524351527,158517.99708572193,244071.2608213475,350208.62656771502,460134.54123438173,447512.2391510483,504030.94181771507,1316916.4573333338,1536065.1345000006,1703192.4291666674,464165.96133333421,435127.3214166676,556240.81941666757,425229.31466666749,490488.21266666753,628114.91066666751,502173.16466666735,548843.06266666728,606195.09866666736,1320665.5406666677,1542053.5109291677,1710014.1389291678,554341.54466666817,530043.69716666813,651157.19516666816,465662.16466666816,530921.06266666821,668547.76066666818,573515.41466666816,620185.31266666809,677537.34866666817,{"$f":"AI71","v":1225257.790666668},1448395.0703637931,1617955.6983637931,454441.54466666887,351743.69716666883,495457.19516666885,286762.16466666886,353621.06266666891,492847.76066666888,381115.41466666933,429385.31266666926,488337.34866666934,1179357.7906666696,1405114.5910807559,1574675.219080756,393441.54466666933,370743.6971666693,493457.19516666932,286762.16466666933,353621.06266666937,492847.76066666935,381115.41466666979,429385.31266666972,488337.3486666698,1179357.7906666701,1402636.0054592476,1572196.6334592476,393441.54466666887]
[]
["Поступление от операционной деятельности",{"$f":"SUM(C14:BK14)","v":52551822.449999958},0,{"$f":"'План продаж'!D32*(1-'Исходные данные'!$C$161)","v":497262.9},{"$f":"'План продаж'!E32*(1-'Исходные данные'!$C$161)","v":582386.70000000007},{"$f":"'План продаж'!F32*(1-'Исходные данные'!$C$161)","v":655307.85},{"$f":"'План продаж'!G32*(1-'Исходные данные'!$C$161)","v":655307.85},{"$f":"'План продаж'!H32*(1-'Исходные данные'!$C$161)","v":710367.15},{"$f":"'План продаж'!I32*(1-'Исходные данные'!$C$161)","v":736894.65},{"$f":"'План продаж'!J32*(1-'Исходные данные'!$C$161)","v":1094642.55},{"$f":"'План продаж'!K32*(1-'Исходные данные'!$C$161)","v":1979010.4500000002},{"$f":"'План продаж'!L32*(1-'Исходные данные'!$C$161)","v":962103.3},{"$f":"'План продаж'!M32*(1-'Исходные данные'!$C$161)","v":770496.15},{"$f":"'План продаж'!N32*(1-'Исходные данные'!$C$161)","v":726283.65},{"$f":"'План продаж'!O32*(1-'Исходные данные'!$C$161)","v":736894.65},{"$f":"'План продаж'!P32*(1-'Исходные данные'!$C$161)","v":710367.15},{"$f":"'План продаж'!Q32*(1-'Исходные данные'!$C$161)","v":728052.15},{"$f":"'План продаж'!R32*(1-'Исходные данные'!$C$161)","v":728052.15},{"$f":"'План продаж'!S32*(1-'Исходные данные'!$C$161)","v":728052.15},{"$f":"'План продаж'!T32*(1-'Исходные данные'!$C$161)","v":710367.15},{"$f":"'План продаж'!U32*(1-'Исходные данные'!$C$161)","v":736894.65},{"$f":"'План продаж'!V32*(1-'Исходные данные'!$C$161)","v":1094642.55},{"$f":"'План продаж'!W32*(1-'Исходные данные'!$C$161)","v":1979010.4500000002},{"$f":"'План продаж'!X32*(1-'Исходные данные'!$C$161)","v":962103.3},{"$f":"'План продаж'!Y32*(1-'Исходные данные'!$C$161)","v":770496.15},{"$f":"'План продаж'!Z32*(1-'Исходные данные'!$C$161)","v":726283.65},{"$f":"'План продаж'!AA32*(1-'Исходные данные'!$C$161)","v":736894.65},{"$f":"'План продаж'!AB32*(1-'Исходные данные'!$C$161)","v":710367.15},{"$f":"'План продаж'!AC32*(1-'Исходные данные'!$C$161)","v":728052.15},{"$f":"'План продаж'!AD32*(1-'Исходные данные'!$C$161)","v":728052.15},{"$f":"'План продаж'!AE32*(1-'Исходные данные'!$C$161)","v":728052.15},{"$f":"'План продаж'!AF32*(1-'Исходные данные'!$C$161)","v":710367.15},{"$f":"'План продаж'!AG32*(1-'Исходные данные'!$C$161)","v":736894.65},{"$f":"'План продаж'!AH32*(1-'Исходные данные'!$C$161)","v":1094642.55},{"$f":"'План продаж'!AI32*(1-'Исходные данные'!$C$161)","v":1979010.4500000002},{"$f":"'План продаж'!AJ32*(1-'Исходные данные'!$C$161)","v":962103.3},{"$f":"'План продаж'!AK32*(1-'Исходные данные'!$C$161)","v":770496.15},{"$f":"'План продаж'!AL32*(1-'Исходные данные'!$C$161)","v":726283.65},{"$f":"'План продаж'!AM32*(1-'Исходные данные'!$C$161)","v":736894.65},{"$f":"'План продаж'!AN32*(1-'Исходные данные'!$C$161)","v":710367.15},{"$f":"'План продаж'!AO32*(1-'Исходные данные'!$C$161)","v":728052.15},{"$f":"'План продаж'!AP32*(1-'Исходные данные'!$C$161)","v":728052.15},{"$f":"'План продаж'!AQ32*(1-'Исходные данные'!$C$161)","v":728052.15},{"$f":"'План продаж'!AR32*(1-'Исходные данные'!$C$161)","v":710367.15},{"$f":"'План продаж'!AS32*(1-'Исходные данные'!$C$161)","v":736894.65},{"$f":"'План продаж'!AT32*(1-'Исходные данные'!$C$161)","v":1094642.55},{"$f":"'План продаж'!AU32*(1-'Исходные данные'!$C$161)","v":1979010.4500000002},{"$f":"'План продаж'!AV32*(1-'Исходные данные'!$C$161)","v":962103.3},{"$f":"'План продаж'!AW32*(1-'Исходные данные'!$C$161)","v":770496.15},{"$f":"'План продаж'!AX32*(1-'Исходные данные'!$C$161)","v":726283.65},{"$f":"'План продаж'!AY32*(1-'Исходные данные'!$C$161)","v":736894.65},{"$f":"'План продаж'!AZ32*(1-'Исходные данные'!$C$161)","v":710367.15},{"$f":"'План продаж'!BA32*(1-'Исходные данные'!$C$161)","v":728052.15},{"$f":"'План продаж'!BB32*(1-'Исходные данные'!$C$161)","v":728052.15},{"$f":"'План продаж'!BC32*(1-'Исходные данные'!$C$161)","v":728052.15},{"$f":"'План продаж'!BD32*(1-'Исходные данные'!$C$161)","v":710367.15},{"$f":"'План продаж'!BE32*(1-'Исходные данные'!$C$161)","v":736894.65},{"$f":"'План продаж'!BF32*(1-'Исходные данные'!$C$161)","v":1094642.55},{"$f":"'План продаж'!BG32*(1-'Исходные данные'!$C$161)","v":1979010.4500000002},{"$f":"'План продаж'!BH32*(1-'Исходные данные'!$C$161)","v":962103.3},{"$f":"'План продаж'!BI32*(1-'Исходные данные'!$C$161)","v":770496.15},{"$f":"'План продаж'!BJ32*(1-'Исходные данные'!$C$161)","v":726283.65},{"$f":"'План продаж'!BK32*(1-'Исходные данные'!$C$161)","v":736894.65}]
["Операционные расходы",{"$f":"SUM(B16,B22)","v":42895069.616432667},{"$f":"SUM(C16,C22)","v":101058.48583333332},432343.04230898182,{"$f":"SUM(E16,E22)","v":486863.40810529632},567321.25293104106,546737.15092029911,598007.902,747083.61875000014,1035690.514,1068408.8259999999,740521.28949999996,600935.522,602182.522,763916.62324999995,587653.652,672971.00199999998,661193.25199999998,588825.45200000005,598592.152,688624.75200000009,1035690.514,1068993.0759999999,739115.32973750005,600935.522,602840.272,759592.49750000006,587653.652,711288.152,661193.25199999998,588825.45200000005,599249.902,688624.75200000009,1035690.514,{"$f":"SUM(AI16,AI22)","v":1069650.8259999999},738166.02030287497,600935.522,602840.272,769592.49750000006,587653.652,711288.152,661193.25199999998,588825.45200000005,599249.902,688624.75200000009,1035690.514,1069650.8259999999,736346.49958591373,600935.522,602840.272,759592.49750000006,587653.652,711288.152,661193.25199999998,588825.45200000005,599249.902,688624.75200000009,1035690.514,1069650.8259999999,738825.08520742261,600935.522,602840.272,818592.49750000006]
["Прямые расходы",{"$f":"SUM(B17:B21)","v":30700982.008765619},{"$f":"SUM(C17:C21)","v":90839.985833333325},294048.04230898182,341756.074771963,384547.65293104103,379147.15092029906,420199.402,521034.75200000009,868100.51399999997,890600.326,506485.22399999999,433345.522,423789.772,421957.10200000001,420063.652,427235.45199999999,427235.45199999999,421235.45199999999,420199.402,521034.75200000009,868100.51399999997,890600.326,506485.22399999999,433345.522,423789.772,421957.10200000001,420063.652,427235.45199999999,427235.45199999999,421235.45199999999,420199.402,521034.75200000009,868100.51399999997,{"$f":"SUM(AI17:AI21)","v":890600.326},506485.22399999999,433345.522,423789.772,421957.10200000001,420063.652,427235.45199999999,427235.45199999999,421235.45199999999,420199.402,521034.75200000009,868100.51399999997,890600.326,506485.22399999999,433345.522,423789.772,421957.10200000001,420063.652,427235.45199999999,427235.45199999999,421235.45199999999,420199.402,521034.75200000009,868100.51399999997,890600.326,506485.22399999999,433345.522,423789.772,421957.10200000001]
["Покупка товаров",{"$f":"SUM(C17:BK17)","v":26719399.103876397},{"$f":"'Исходные данные'!C194","v":90001.833333333328},{"$f":"'План продаж'!D32*HLOOKUP(D$5,'расчет прямых ТЗР'!$C$4:$N$70,'расчет прямых ТЗР'!$U$48,FALSE)","v":256892.54543442783},{"$f":"'План продаж'!E32*HLOOKUP(E$5,'расчет прямых ТЗР'!$C$4:$N$70,'расчет прямых ТЗР'!$U$48,FALSE)","v":298359.81296051393},{"$f":"'План продаж'!F32*HLOOKUP(F$5,'расчет прямых ТЗР'!$C$4:$N$70,'расчет прямых ТЗР'!$U$48,FALSE)","v":335717.7070794311},{"$f":"'План продаж'!G32*HLOOKUP(G$5,'расчет прямых ТЗР'!$C$4:$N$70,'расчет прямых ТЗР'!$U$48,FALSE)","v":330317.20506868913},{"$f":"'План продаж'!H32*HLOOKUP(H$5,'расчет прямых ТЗР'!$C$4:$N$70,'расчет прямых ТЗР'!$U$48,FALSE)","v":367060},{"$f":"'План продаж'!I32*HLOOKUP(I$5,'расчет прямых ТЗР'!$C$4:$N$70,'расчет прямых ТЗР'!$U$48,FALSE)","v":463265.00000000006},{"$f":"'План продаж'!J32*HLOOKUP(J$5,'расчет прямых ТЗР'!$C$4:$N$70,'расчет прямых ТЗР'!$U$48,FALSE)","v":777300},{"$f":"'План продаж'!K32*HLOOKUP(K$5,'расчет прямых ТЗР'!$C$4:$N$70,'расчет прямых ТЗР'!$U$48,FALSE)","v":742450},{"$f":"'План продаж'!L32*HLOOKUP(L$5,'расчет прямых ТЗР'!$C$4:$N$70,'расчет прямых ТЗР'!$U$48,FALSE)","v":434940},{"$f":"'План продаж'!M32*HLOOKUP(M$5,'расчет прямых ТЗР'!$C$4:$N$70,'расчет прямых ТЗР'!$U$48,FALSE)","v":376060},{"$f":"'План продаж'!N32*HLOOKUP(N$5,'расчет прямых ТЗР'!$C$4:$N$70,'расчет прямых ТЗР'!$U$48,FALSE)","v":369535},{"$f":"'План продаж'!O32*HLOOKUP(O$5,'расчет прямых ТЗР'!$C$4:$N$70,'расчет прямых ТЗР'!$U$48,FALSE)","v":367060},{"$f":"'План продаж'!P32*HLOOKUP(P$5,'расчет прямых ТЗР'!$C$4:$N$70,'расчет прямых ТЗР'!$U$48,FALSE)","v":366985},{"$f":"'План продаж'!Q32*HLOOKUP(Q$5,'расчет прямых ТЗР'!$C$4:$N$70,'расчет прямых ТЗР'!$U$48,FALSE)","v":372985},{"$f":"'План продаж'!R32*HLOOKUP(R$5,'расчет прямых ТЗР'!$C$4:$N$70,'расчет прямых ТЗР'!$U$48,FALSE)","v":372985},{"$f":"'План продаж'!S32*HLOOKUP(S$5,'расчет прямых ТЗР'!$C$4:$N$70,'расчет прямых ТЗР'!$U$48,FALSE)","v":366985},{"$f":"'План продаж'!T32*HLOOKUP(T$5,'расчет прямых ТЗР'!$C$4:$N$70,'расчет прямых ТЗР'!$U$48,FALSE)","v":367060},{"$f":"'План продаж'!U32*HLOOKUP(U$5,'расчет прямых ТЗР'!$C$4:$N$70,'расчет прямых ТЗР'!$U$48,FALSE)","v":463265.00000000006},{"$f":"'План продаж'!V32*HLOOKUP(V$5,'расчет прямых ТЗР'!$C$4:$N$70,'расчет прямых ТЗР'!$U$48,FALSE)","v":777300},{"$f":"'План продаж'!W32*HLOOKUP(W$5,'расчет прямых ТЗР'!$C$4:$N$70,'расчет прямых ТЗР'!$U$48,FALSE)","v":742450},{"$f":"'План продаж'!X32*HLOOKUP(X$5,'расчет прямых ТЗР'!$C$4:$N$70,'расчет прямых ТЗР'!$U$48,FALSE)","v":434940},{"$f":"'План продаж'!Y32*HLOOKUP(Y$5,'расчет прямых ТЗР'!$C$4:$N$70,'расчет прямых ТЗР'!$U$48,FALSE)","v":376060},{"$f":"'План продаж'!Z32*HLOOKUP(Z$5,'расчет прямых ТЗР'!$C$4:$N$70,'расчет прямых ТЗР'!$U$48,FALSE)","v":369535},{"$f":"'План продаж'!AA32*HLOOKUP(AA$5,'расчет прямых ТЗР'!$C$4:$N$70,'расчет прямых ТЗР'!$U$48,FALSE)","v":367060},{"$f":"'План продаж'!AB32*HLOOKUP(AB$5,'расчет прямых ТЗР'!$C$4:$N$70,'расчет прямых ТЗР'!$U$48,FALSE)","v":366985},{"$f":"'План продаж'!AC32*HLOOKUP(AC$5,'расчет прямых ТЗР'!$C$4:$N$70,'расчет прямых ТЗР'!$U$48,FALSE)","v":372985},{"$f":"'План продаж'!AD32*HLOOKUP(AD$5,'расчет прямых ТЗР'!$C$4:$N$70,'расчет прямых ТЗР'!$U$48,FALSE)","v":372985},{"$f":"'План продаж'!AE32*HLOOKUP(AE$5,'расчет прямых ТЗР'!$C$4:$N$70,'расчет прямых ТЗР'!$U$48,FALSE)","v":366985},{"$f":"'План продаж'!AF32*HLOOKUP(AF$5,'расчет прямых ТЗР'!$C$4:$N$70,'расчет прямых ТЗР'!$U$48,FALSE)","v":367060},{"$f":"'План продаж'!AG32*HLOOKUP(AG$5,'расчет прямых ТЗР'!$C$4:$N$70,'расчет прямых ТЗР'!$U$48,FALSE)","v":463265.00000000006},{"$f":"'План продаж'!AH32*HLOOKUP(AH$5,'расчет прямых ТЗР'!$C$4:$N$70,'расчет прямых ТЗР'!$U$48,FALSE)","v":777300},{"$f":"'План продаж'!AI32*HLOOKUP(AI$5,'расчет прямых ТЗР'!$C$4:$N$70,'расчет прямых ТЗР'!$U$48,FALSE)","v":742450},{"$f":"'План продаж'!AJ32*HLOOKUP(AJ$5,'расчет прямых ТЗР'!$C$4:$N$70,'расчет прямых ТЗР'!$U$48,FALSE)","v":434940},{"$f":"'План продаж'!AK32*HLOOKUP(AK$5,'расчет прямых ТЗР'!$C$4:$N$70,'расчет прямых ТЗР'!$U$48,FALSE)","v":376060},{"$f":"'План продаж'!AL32*HLOOKUP(AL$5,'расчет прямых ТЗР'!$C$4:$N$70,'расчет прямых ТЗР'!$U$48,FALSE)","v":369535},{"$f":"'План продаж'!AM32*HLOOKUP(AM$5,'расчет прямых ТЗР'!$C$4:$N$70,'расчет прямых ТЗР'!$U$48,FALSE)","v":367060},{"$f":"'План продаж'!AN32*HLOOKUP(AN$5,'расчет прямых ТЗР'!$C$4:$N$70,'расчет прямых ТЗР'!$U$48,FALSE)","v":366985},{"$f":"'План продаж'!AO32*HLOOKUP(AO$5,'расчет прямых ТЗР'!$C$4:$N$70,'расчет прямых ТЗР'!$U$48,FALSE)","v":372985},{"$f":"'План продаж'!AP32*HLOOKUP(AP$5,'расчет прямых ТЗР'!$C$4:$N$70,'расчет прямых ТЗР'!$U$48,FALSE)","v":372985},{"$f":"'План продаж'!AQ32*HLOOKUP(AQ$5,'расчет прямых ТЗР'!$C$4:$N$70,'расчет прямых ТЗР'!$U$48,FALSE)","v":366985},{"$f":"'План продаж'!AR32*HLOOKUP(AR$5,'расчет прямых ТЗР'!$C$4:$N$70,'расчет прямых ТЗР'!$U$48,FALSE)","v":367060},{"$f":"'План продаж'!AS32*HLOOKUP(AS$5,'расчет прямых ТЗР'!$C$4:$N$70,'расчет прямых ТЗР'!$U$48,FALSE)","v":463265.00000000006},{"$f":"'План продаж'!AT32*HLOOKUP(AT$5,'расчет прямых ТЗР'!$C$4:$N$70,'расчет прямых ТЗР'!$U$48,FALSE)","v":777300},{"$f":"'План продаж'!AU32*HLOOKUP(AU$5,'расчет прямых ТЗР'!$C$4:$N$70,'расчет прямых ТЗР'!$U$48,FALSE)","v":742450},{"$f":"'План продаж'!AV32*HLOOKUP(AV$5,'расчет прямых ТЗР'!$C$4:$N$70,'расчет прямых ТЗР'!$U$48,FALSE)","v":434940},{"$f":"'План продаж'!AW32*HLOOKUP(AW$5,'расчет прямых ТЗР'!$C$4:$N$70,'расчет прямых ТЗР'!$U$48,FALSE)","v":376060},{"$f":"'План продаж'!AX32*HLOOKUP(AX$5,'расчет прямых ТЗР'!$C$4:$N$70,'расчет прямых ТЗР'!$U$48,FALSE)","v":369535},{"$f":"'План продаж'!AY32*HLOOKUP(AY$5,'расчет прямых ТЗР'!$C$4:$N$70,'расчет прямых ТЗР'!$U$48,FALSE)","v":367060},{"$f":"'План продаж'!AZ32*HLOOKUP(AZ$5,'расчет прямых ТЗР'!$C$4:$N$70,'расчет прямых ТЗР'!$U$48,FALSE)","v":366985},{"$f":"'План продаж'!BA32*HLOOKUP(BA$5,'расчет прямых ТЗР'!$C$4:$N$70,'расчет прямых ТЗР'!$U$48,FALSE)","v":372985},{"$f":"'План продаж'!BB32*HLOOKUP(BB$5,'расчет прямых ТЗР'!$C$4:$N$70,'расчет прямых ТЗР'!$U$48,FALSE)","v":372985},{"$f":"'План продаж'!BC32*HLOOKUP(BC$5,'расчет прямых ТЗР'!$C$4:$N$70,'расчет прямых ТЗР'!$U$48,FALSE)","v":366985},{"$f":"'План продаж'!BD32*HLOOKUP(BD$5,'расчет прямых ТЗР'!$C$4:$N$70,'расчет прямых ТЗР'!$U$48,FALSE)","v":367060},{"$f":"'План продаж'!BE32*HLOOKUP(BE$5,'расчет прямых ТЗР'!$C$4:$N$70,'расчет прямых ТЗР'!$U$48,FALSE)","v":463265.00000000006},{"$f":"'План продаж'!BF32*HLOOKUP(BF$5,'расчет прямых ТЗР'!$C$4:$N$70,'расчет прямых ТЗР'!$U$48,FALSE)","v":777300},{"$f":"'План продаж'!BG32*HLOOKUP(BG$5,'расчет прямых ТЗР'!$C$4:$N$70,'расчет прямых ТЗР'!$U$48,FALSE)","v":742450},{"$f":"'План продаж'!BH32*HLOOKUP(BH$5,'расчет прямых ТЗР'!$C$4:$N$70,'расчет прямых ТЗР'!$U$48,FALSE)","v":434940},{"$f":"'План продаж'!BI32*HLOOKUP(BI$5,'расчет прямых ТЗР'!$C$4:$N$70,'расчет прямых ТЗР'!$U$48,FALSE)","v":376060},{"$f":"'План продаж'!BJ32*HLOOKUP(BJ$5,'расчет прямых ТЗР'!$C$4:$N$70,'расчет прямых ТЗР'!$U$48,FALSE)","v":369535},{"$f":"'План продаж'!BK32*HLOOKUP(BK$5,'расчет прямых ТЗР'!$C$4:$N$70,'расчет прямых ТЗР'!$U$48,FALSE)","v":367060}]
["Транспортные расходы",{"$f":"SUM(C18:BK18)","v":499523.21888922271},{"$f":"'Исходные данные'!C262","v":838.15249999999992},{"$f":"'План продаж'!D32*HLOOKUP(D$5,'расчет прямых ТЗР'!$C$4:$N$70,'расчет прямых ТЗР'!$U$70,FALSE)","v":4207.0848745539543},{"$f":"'План продаж'!E32*HLOOKUP(E$5,'расчет прямых ТЗР'!$C$4:$N$70,'расчет прямых ТЗР'!$U$70,FALSE)","v":4807.5858114490838},{"$f":"'План продаж'!F32*HLOOKUP(F$5,'расчет прямых ТЗР'!$C$4:$N$70,'расчет прямых ТЗР'!$U$70,FALSE)","v":5409.5478516099429},{"$f":"'План продаж'!G32*HLOOKUP(G$5,'расчет прямых ТЗР'!$C$4:$N$70,'расчет прямых ТЗР'!$U$70,FALSE)","v":5409.5478516099429},{"$f":"'План продаж'!H32*HLOOKUP(H$5,'расчет прямых ТЗР'!$C$4:$N$70,'расчет прямых ТЗР'!$U$70,FALSE)","v":6070.8},{"$f":"'План продаж'!I32*HLOOKUP(I$5,'расчет прямых ТЗР'!$C$4:$N$70,'расчет прямых ТЗР'!$U$70,FALSE)","v":8943.4500000000007},{"$f":"'План продаж'!J32*HLOOKUP(J$5,'расчет прямых ТЗР'!$C$4:$N$70,'расчет прямых ТЗР'!$U$70,FALSE)","v":18270},{"$f":"'План продаж'!K32*HLOOKUP(K$5,'расчет прямых ТЗР'!$C$4:$N$70,'расчет прямых ТЗР'!$U$70,FALSE)","v":17022},{"$f":"'План продаж'!L32*HLOOKUP(L$5,'расчет прямых ТЗР'!$C$4:$N$70,'расчет прямых ТЗР'!$U$70,FALSE)","v":7796.6999999999989},{"$f":"'План продаж'!M32*HLOOKUP(M$5,'расчет прямых ТЗР'!$C$4:$N$70,'расчет прямых ТЗР'!$U$70,FALSE)","v":6232.8},{"$f":"'План продаж'!N32*HLOOKUP(N$5,'расчет прямых ТЗР'!$C$4:$N$70,'расчет прямых ТЗР'!$U$70,FALSE)","v":6131.55},{"$f":"'План продаж'!O32*HLOOKUP(O$5,'расчет прямых ТЗР'!$C$4:$N$70,'расчет прямых ТЗР'!$U$70,FALSE)","v":6070.8},{"$f":"'План продаж'!P32*HLOOKUP(P$5,'расчет прямых ТЗР'!$C$4:$N$70,'расчет прямых ТЗР'!$U$70,FALSE)","v":6010.05},{"$f":"'План продаж'!Q32*HLOOKUP(Q$5,'расчет прямых ТЗР'!$C$4:$N$70,'расчет прямых ТЗР'!$U$70,FALSE)","v":6010.05},{"$f":"'План продаж'!R32*HLOOKUP(R$5,'расчет прямых ТЗР'!$C$4:$N$70,'расчет прямых ТЗР'!$U$70,FALSE)","v":6010.05},{"$f":"'План продаж'!S32*HLOOKUP(S$5,'расчет прямых ТЗР'!$C$4:$N$70,'расчет прямых ТЗР'!$U$70,FALSE)","v":6010.05},{"$f":"'План продаж'!T32*HLOOKUP(T$5,'расчет прямых ТЗР'!$C$4:$N$70,'расчет прямых ТЗР'!$U$70,FALSE)","v":6070.8},{"$f":"'План продаж'!U32*HLOOKUP(U$5,'расчет прямых ТЗР'!$C$4:$N$70,'расчет прямых ТЗР'!$U$70,FALSE)","v":8943.4500000000007},{"$f":"'План продаж'!V32*HLOOKUP(V$5,'расчет прямых ТЗР'!$C$4:$N$70,'расчет прямых ТЗР'!$U$70,FALSE)","v":18270},{"$f":"'План продаж'!W32*HLOOKUP(W$5,'расчет прямых ТЗР'!$C$4:$N$70,'расчет прямых ТЗР'!$U$70,FALSE)","v":17022},{"$f":"'План продаж'!X32*HLOOKUP(X$5,'расчет прямых ТЗР'!$C$4:$N$70,'расчет прямых ТЗР'!$U$70,FALSE)","v":7796.6999999999989},{"$f":"'План продаж'!Y32*HLOOKUP(Y$5,'расчет прямых ТЗР'!$C$4:$N$70,'расчет прямых ТЗР'!$U$70,FALSE)","v":6232.8},{"$f":"'План продаж'!Z32*HLOOKUP(Z$5,'расчет прямых ТЗР'!$C$4:$N$70,'расчет прямых ТЗР'!$U$70,FALSE)","v":6131.55},{"$f":"'План продаж'!AA32*HLOOKUP(AA$5,'расчет прямых ТЗР'!$C$4:$N$70,'расчет прямых ТЗР'!$U$70,FALSE)","v":6070.8},{"$f":"'План продаж'!AB32*HLOOKUP(AB$5,'расчет прямых ТЗР'!$C$4:$N$70,'расчет прямых ТЗР'!$U$70,FALSE)","v":6010.05},{"$f":"'План продаж'!AC32*HLOOKUP(AC$5,'расчет прямых ТЗР'!$C$4:$N$70,'расчет прямых ТЗР'!$U$70,FALSE)","v":6010.05},{"$f":"'План продаж'!AD32*HLOOKUP(AD$5,'расчет прямых ТЗР'!$C$4:$N$70,'расчет прямых ТЗР'!$U$70,FALSE)","v":6010.05},{"$f":"'План продаж'!AE32*HLOOKUP(AE$5,'расчет прямых ТЗР'!$C$4:$N$70,'расчет прямых ТЗР'!$U$70,FALSE)","v":6010.05},{"$f":"'План продаж'!AF32*HLOOKUP(AF$5,'расчет прямых ТЗР'!$C$4:$N$70,'расчет прямых ТЗР'!$U$70,FALSE)","v":6070.8},{"$f":"'План продаж'!AG32*HLOOKUP(AG$5,'расчет прямых ТЗР'!$C$4:$N$70,'расчет прямых ТЗР'!$U$70,FALSE)","v":8943.4500000000007},{"$f":"'План продаж'!AH32*HLOOKUP(AH$5,'расчет прямых ТЗР'!$C$4:$N$70,'расчет прямых ТЗР'!$U$70,FALSE)","v":18270},{"$f":"'План продаж'!AI32*HLOOKUP(AI$5,'расчет прямых ТЗР'!$C$4:$N$70,'расчет прямых ТЗР'!$U$70,FALSE)","v":17022},{"$f":"'План продаж'!AJ32*HLOOKUP(AJ$5,'расчет прямых ТЗР'!$C$4:$N$70,'расчет прямых ТЗР'!$U$70,FALSE)","v":7796.6999999999989},{"$f":"'План продаж'!AK32*HLOOKUP(AK$5,'расчет прямых ТЗР'!$C$4:$N$70,'расчет прямых ТЗР'!$U$70,FALSE)","v":6232.8},{"$f":"'План продаж'!AL32*HLOOKUP(AL$5,'расчет прямых ТЗР'!$C$4:$N$70,'расчет прямых ТЗР'!$U$70,FALSE)","v":6131.55},{"$f":"'План продаж'!AM32*HLOOKUP(AM$5,'расчет прямых ТЗР'!$C$4:$N$70,'расчет прямых ТЗР'!$U$70,FALSE)","v":6070.8},{"$f":"'План продаж'!AN32*HLOOKUP(AN$5,'расчет прямых ТЗР'!$C$4:$N$70,'расчет прямых ТЗР'!$U$70,FALSE)","v":6010.05},{"$f":"'План продаж'!AO32*HLOOKUP(AO$5,'расчет прямых ТЗР'!$C$4:$N$70,'расчет прямых ТЗР'!$U$70,FALSE)","v":6010.05},{"$f":"'План продаж'!AP32*HLOOKUP(AP$5,'расчет прямых ТЗР'!$C$4:$N$70,'расчет прямых ТЗР'!$U$70,FALSE)","v":6010.05},{"$f":"'План продаж'!AQ32*HLOOKUP(AQ$5,'расчет прямых ТЗР'!$C$4:$N$70,'расчет прямых ТЗР'!$U$70,FALSE)","v":6010.05},{"$f":"'План продаж'!AR32*HLOOKUP(AR$5,'расчет прямых ТЗР'!$C$4:$N$70,'расчет прямых ТЗР'!$U$70,FALSE)","v":6070.8},{"$f":"'План продаж'!AS32*HLOOKUP(AS$5,'расчет прямых ТЗР'!$C$4:$N$70,'расчет прямых ТЗР'!$U$70,FALSE)","v":8943.4500000000007},{"$f":"'План продаж'!AT32*HLOOKUP(AT$5,'расчет прямых ТЗР'!$C$4:$N$70,'расчет прямых ТЗР'!$U$70,FALSE)","v":18270},{"$f":"'План продаж'!AU32*HLOOKUP(AU$5,'расчет прямых ТЗР'!$C$4:$N$70,'расчет прямых ТЗР'!$U$70,FALSE)","v":17022},{"$f":"'План продаж'!AV32*HLOOKUP(AV$5,'расчет прямых ТЗР'!$C$4:$N$70,'расчет прямых ТЗР'!$U$70,FALSE)","v":7796.6999999999989},{"$f":"'План продаж'!AW32*HLOOKUP(AW$5,'расчет прямых ТЗР'!$C$4:$N$70,'расчет прямых ТЗР'!$U$70,FALSE)","v":6232.8},{"$f":"'План продаж'!AX32*HLOOKUP(AX$5,'расчет прямых ТЗР'!$C$4:$N$70,'расчет прямых ТЗР'!$U$70,FALSE)","v":6131.55},{"$f":"'План продаж'!AY32*HLOOKUP(AY$5,'расчет прямых ТЗР'!$C$4:$N$70,'расчет прямых ТЗР'!$U$70,FALSE)","v":6070.8},{"$f":"'План продаж'!AZ32*HLOOKUP(AZ$5,'расчет прямых ТЗР'!$C$4:$N$70,'расчет прямых ТЗР'!$U$70,FALSE)","v":6010.05},{"$f":"'План продаж'!BA32*HLOOKUP(BA$5,'расчет прямых ТЗР'!$C$4:$N$70,'расчет прямых ТЗР'!$U$70,FALSE)","v":6010.05},{"$f":"'План продаж'!BB32*HLOOKUP(BB$5,'расчет прямых ТЗР'!$C$4:$N$70,'расчет прямых ТЗР'!$U$70,FALSE)","v":6010.05},{"$f":"'План продаж'!BC32*HLOOKUP(BC$5,'расчет прямых ТЗР'!$C$4:$N$70,'расчет прямых ТЗР'!$U$70,FALSE)","v":6010.05},{"$f":"'План продаж'!BD32*HLOOKUP(BD$5,'расчет прямых ТЗР'!$C$4:$N$70,'расчет прямых ТЗР'!$U$70,FALSE)","v":6070.8},{"$f":"'План продаж'!BE32*HLOOKUP(BE$5,'расчет прямых ТЗР'!$C$4:$N$70,'расчет прямых ТЗР'!$U$70,FALSE)","v":8943.4500000000007},{"$f":"'План продаж'!BF32*HLOOKUP(BF$5,'расчет прямых ТЗР'!$C$4:$N$70,'расчет прямых ТЗР'!$U$70,FALSE)","v":18270},{"$f":"'План продаж'!BG32*HLOOKUP(BG$5,'расчет прямых ТЗР'!$C$4:$N$70,'расчет прямых ТЗР'!$U$70,FALSE)","v":17022},{"$f":"'План продаж'!BH32*HLOOKUP(BH$5,'расчет прямых ТЗР'!$C$4:$N$70,'расчет прямых ТЗР'!$U$70,FALSE)","v":7796.6999999999989},{"$f":"'План продаж'!BI32*HLOOKUP(BI$5,'расчет прямых ТЗР'!$C$4:$N$70,'расчет прямых ТЗР'!$U$70,FALSE)","v":6232.8},{"$f":"'План продаж'!BJ32*HLOOKUP(BJ$5,'расчет прямых ТЗР'!$C$4:$N$70,'расчет прямых ТЗР'!$U$70,FALSE)","v":6131.55},{"$f":"'План продаж'!BK32*HLOOKUP(BK$5,'расчет прямых ТЗР'!$C$4:$N$70,'расчет прямых ТЗР'!$U$70,FALSE)","v":6070.8}]
["Выплаты персоналу (сдельная часть)",2326721.9100000015,null,{"$f":"'Исходные данные'!$G$108*'План продаж'!D32*(1-'Исходные данные'!$C$287)","v":22016.22},{"$f":"'Исходные данные'!$G$108*'План продаж'!E32*(1-'Исходные данные'!$C$287)","v":25785.06},{"$f":"'Исходные данные'!$G$108*'План продаж'!F32*(1-'Исходные данные'!$C$287)","v":29013.63},{"$f":"'Исходные данные'!$G$108*'План продаж'!G32*(1-'Исходные данные'!$C$287)","v":29013.63},{"$f":"'Исходные данные'!$G$108*'План продаж'!H32*(1-'Исходные данные'!$C$287)","v":31451.37},{"$f":"'Исходные данные'!$G$108*'План продаж'!I32*(1-'Исходные данные'!$C$287)","v":32625.87},{"$f":"'Исходные данные'!$G$108*'План продаж'!J32*(1-'Исходные данные'!$C$287)","v":48465.09},{"$f":"'Исходные данные'!$G$108*'План продаж'!K32*(1-'Исходные данные'!$C$287)","v":87620.31},{"$f":"'Исходные данные'!$G$108*'План продаж'!L32*(1-'Исходные данные'!$C$287)","v":42596.94},{"$f":"'Исходные данные'!$G$108*'План продаж'!M32*(1-'Исходные данные'!$C$287)","v":34113.57},{"$f":"'Исходные данные'!$G$108*'План продаж'!N32*(1-'Исходные данные'!$C$287)","v":32156.07},{"$f":"'Исходные данные'!$G$108*'План продаж'!O32*(1-'Исходные данные'!$C$287)","v":32625.87},{"$f":"'Исходные данные'!$G$108*'План продаж'!P32*(1-'Исходные данные'!$C$287)","v":31451.37},{"$f":"'Исходные данные'!$G$108*'План продаж'!Q32*(1-'Исходные данные'!$C$287)","v":32234.37},{"$f":"'Исходные данные'!$G$108*'План продаж'!R32*(1-'Исходные данные'!$C$287)","v":32234.37},{"$f":"'Исходные данные'!$G$108*'План продаж'!S32*(1-'Исходные данные'!$C$287)","v":32234.37},{"$f":"'Исходные данные'!$G$108*'План продаж'!T32*(1-'Исходные данные'!$C$287)","v":31451.37},{"$f":"'Исходные данные'!$G$108*'План продаж'!U32*(1-'Исходные данные'!$C$287)","v":32625.87},{"$f":"'Исходные данные'!$G$108*'План продаж'!V32*(1-'Исходные данные'!$C$287)","v":48465.09},{"$f":"'Исходные данные'!$G$108*'План продаж'!W32*(1-'Исходные данные'!$C$287)","v":87620.31},{"$f":"'Исходные данные'!$G$108*'План продаж'!X32*(1-'Исходные данные'!$C$287)","v":42596.94},{"$f":"'Исходные данные'!$G$108*'План продаж'!Y32*(1-'Исходные данные'!$C$287)","v":34113.57},{"$f":"'Исходные данные'!$G$108*'План продаж'!Z32*(1-'Исходные данные'!$C$287)","v":32156.07},{"$f":"'Исходные данные'!$G$108*'План продаж'!AA32*(1-'Исходные данные'!$C$287)","v":32625.87},{"$f":"'Исходные данные'!$G$108*'План продаж'!AB32*(1-'Исходные данные'!$C$287)","v":31451.37},{"$f":"'Исходные данные'!$G$108*'План продаж'!AC32*(1-'Исходные данные'!$C$287)","v":32234.37},{"$f":"'Исходные данные'!$G$108*'План продаж'!AD32*(1-'Исходные данные'!$C$287)","v":32234.37},{"$f":"'Исходные данные'!$G$108*'План продаж'!AE32*(1-'Исходные данные'!$C$287)","v":32234.37},{"$f":"'Исходные данные'!$G$108*'План продаж'!AF32*(1-'Исходные данные'!$C$287)","v":31451.37},{"$f":"'Исходные данные'!$G$108*'План продаж'!AG32*(1-'Исходные данные'!$C$287)","v":32625.87},{"$f":"'Исходные данные'!$G$108*'План продаж'!AH32*(1-'Исходные данные'!$C$287)","v":48465.09},{"$f":"'Исходные данные'!$G$108*'План продаж'!AI32*(1-'Исходные данные'!$C$287)","v":87620.31},{"$f":"'Исходные данные'!$G$108*'План продаж'!AJ32*(1-'Исходные данные'!$C$287)","v":42596.94},{"$f":"'Исходные данные'!$G$108*'План продаж'!AK32*(1-'Исходные данные'!$C$287)","v":34113.57},{"$f":"'Исходные данные'!$G$108*'План продаж'!AL32*(1-'Исходные данные'!$C$287)","v":32156.07},{"$f":"'Исходные данные'!$G$108*'План продаж'!AM32*(1-'Исходные данные'!$C$287)","v":32625.87},{"$f":"'Исходные данные'!$G$108*'План продаж'!AN32*(1-'Исходные данные'!$C$287)","v":31451.37},{"$f":"'Исходные данные'!$G$108*'План продаж'!AO32*(1-'Исходные данные'!$C$287)","v":32234.37},{"$f":"'Исходные данные'!$G$108*'План продаж'!AP32*(1-'Исходные данные'!$C$287)","v":32234.37},{"$f":"'Исходные данные'!$G$108*'План продаж'!AQ32*(1-'Исходные данные'!$C$287)","v":32234.37},{"$f":"'Исходные данные'!$G$108*'План продаж'!AR32*(1-'Исходные данные'!$C$287)","v":31451.37},{"$f":"'Исходные данные'!$G$108*'План продаж'!AS32*(1-'Исходные данные'!$C$287)","v":32625.87},{"$f":"'Исходные данные'!$G$108*'План продаж'!AT32*(1-'Исходные данные'!$C$287)","v":48465.09},{"$f":"'Исходные данные'!$G$108*'План продаж'!AU32*(1-'Исходные данные'!$C$287)","v":87620.31},{"$f":"'Исходные данные'!$G$108*'План продаж'!AV32*(1-'Исходные данные'!$C$287)","v":42596.94},{"$f":"'Исходные данные'!$G$108*'План продаж'!AW32*(1-'Исходные данные'!$C$287)","v":34113.57},{"$f":"'Исходные данные'!$G$108*'План продаж'!AX32*(1-'Исходные данные'!$C$287)","v":32156.07},{"$f":"'Исходные данные'!$G$108*'План продаж'!AY32*(1-'Исходные данные'!$C$287)","v":32625.87},{"$f":"'Исходные данные'!$G$108*'План продаж'!AZ32*(1-'Исходные данные'!$C$287)","v":31451.37},{"$f":"'Исходные данные'!$G$108*'План продаж'!BA32*(1-'Исходные данные'!$C$287)","v":32234.37},{"$f":"'Исходные данные'!$G$108*'План продаж'!BB32*(1-'Исходные данные'!$C$287)","v":32234.37},{"$f":"'Исходные данные'!$G$108*'План продаж'!BC32*(1-'Исходные данные'!$C$287)","v":32234.37},{"$f":"'Исходные данные'!$G$108*'План продаж'!BD32*(1-'Исходные данные'!$C$287)","v":31451.37},{"$f":"'Исходные данные'!$G$108*'План продаж'!BE32*(1-'Исходные данные'!$C$287)","v":32625.87},{"$f":"'Исходные данные'!$G$108*'План продаж'!BF32*(1-'Исходные данные'!$C$287)","v":48465.09},{"$f":"'Исходные данные'!$G$108*'План продаж'!BG32*(1-'Исходные данные'!$C$287)","v":87620.31},{"$f":"'Исходные данные'!$G$108*'План продаж'!BH32*(1-'Исходные данные'!$C$287)","v":42596.94},{"$f":"'Исходные данные'!$G$108*'План продаж'!BI32*(1-'Исходные данные'!$C$287)","v":34113.57},{"$f":"'Исходные данные'!$G$108*'План продаж'!BJ32*(1-'Исходные данные'!$C$287)","v":32156.07},{"$f":"'Исходные данные'!$G$108*'План продаж'!BK32*(1-'Исходные данные'!$C$287)","v":32625.87}]
["НДФЛ за персонал (сдельная часть)",347671.09000000008,null,{"$f":"D19/(1-'Исходные данные'!$C$287)*'Исходные данные'!$C$287","v":3289.78},{"$f":"E19/(1-'Исходные данные'!$C$287)*'Исходные данные'!$C$287","v":3852.94},{"$f":"F19/(1-'Исходные данные'!$C$287)*'Исходные данные'!$C$287","v":4335.37},{"$f":"G19/(1-'Исходные данные'!$C$287)*'Исходные данные'!$C$287","v":4335.37},{"$f":"H19/(1-'Исходные данные'!$C$287)*'Исходные данные'!$C$287","v":4699.63},{"$f":"I19/(1-'Исходные данные'!$C$287)*'Исходные данные'!$C$287","v":4875.13},{"$f":"J19/(1-'Исходные данные'!$C$287)*'Исходные данные'!$C$287","v":7241.9099999999989},{"$f":"K19/(1-'Исходные данные'!$C$287)*'Исходные данные'!$C$287","v":13092.69},{"$f":"L19/(1-'Исходные данные'!$C$287)*'Исходные данные'!$C$287","v":6365.06},{"$f":"M19/(1-'Исходные данные'!$C$287)*'Исходные данные'!$C$287","v":5097.43},{"$f":"N19/(1-'Исходные данные'!$C$287)*'Исходные данные'!$C$287","v":4804.93},{"$f":"O19/(1-'Исходные данные'!$C$287)*'Исходные данные'!$C$287","v":4875.13},{"$f":"P19/(1-'Исходные данные'!$C$287)*'Исходные данные'!$C$287","v":4699.63},{"$f":"Q19/(1-'Исходные данные'!$C$287)*'Исходные данные'!$C$287","v":4816.63},{"$f":"R19/(1-'Исходные данные'!$C$287)*'Исходные данные'!$C$287","v":4816.63},{"$f":"S19/(1-'Исходные данные'!$C$287)*'Исходные данные'!$C$287","v":4816.63},{"$f":"T19/(1-'Исходные данные'!$C$287)*'Исходные данные'!$C$287","v":4699.63},{"$f":"U19/(1-'Исходные данные'!$C$287)*'Исходные данные'!$C$287","v":4875.13},{"$f":"V19/(1-'Исходные данные'!$C$287)*'Исходные данные'!$C$287","v":7241.9099999999989},{"$f":"W19/(1-'Исходные данные'!$C$287)*'Исходные данные'!$C$287","v":13092.69},{"$f":"X19/(1-'Исходные данные'!$C$287)*'Исходные данные'!$C$287","v":6365.06},{"$f":"Y19/(1-'Исходные данные'!$C$287)*'Исходные данные'!$C$287","v":5097.43},{"$f":"Z19/(1-'Исходные данные'!$C$287)*'Исходные данные'!$C$287","v":4804.93},{"$f":"AA19/(1-'Исходные данные'!$C$287)*'Исходные данные'!$C$287","v":4875.13},{"$f":"AB19/(1-'Исходные данные'!$C$287)*'Исходные данные'!$C$287","v":4699.63},{"$f":"AC19/(1-'Исходные данные'!$C$287)*'Исходные данные'!$C$287","v":4816.63},{"$f":"AD19/(1-'Исходные данные'!$C$287)*'Исходные данные'!$C$287","v":4816.63},{"$f":"AE19/(1-'Исходные данные'!$C$287)*'Исходные данные'!$C$287","v":4816.63},{"$f":"AF19/(1-'Исходные данные'!$C$287)*'Исходные данные'!$C$287","v":4699.63},{"$f":"AG19/(1-'Исходные данные'!$C$287)*'Исходные данные'!$C$287","v":4875.13},{"$f":"AH19/(1-'Исходные данные'!$C$287)*'Исходные данные'!$C$287","v":7241.9099999999989},{"$f":"AI19/(1-'Исходные данные'!$C$287)*'Исходные данные'!$C$287","v":13092.69},{"$f":"AJ19/(1-'Исходные данные'!$C$287)*'Исходные данные'!$C$287","v":6365.06},{"$f":"AK19/(1-'Исходные данные'!$C$287)*'Исходные данные'!$C$287","v":5097.43},{"$f":"AL19/(1-'Исходные данные'!$C$287)*'Исходные данные'!$C$287","v":4804.93},{"$f":"AM19/(1-'Исходные данные'!$C$287)*'Исходные данные'!$C$287","v":4875.13},{"$f":"AN19/(1-'Исходные данные'!$C$287)*'Исходные данные'!$C$287","v":4699.63},{"$f":"AO19/(1-'Исходные данные'!$C$287)*'Исходные данные'!$C$287","v":4816.63},{"$f":"AP19/(1-'Исходные данные'!$C$287)*'Исходные данные'!$C$287","v":4816.63},{"$f":"AQ19/(1-'Исходные данные'!$C$287)*'Исходные данные'!$C$287","v":4816.63},{"$f":"AR19/(1-'Исходные данные'!$C$287)*'Исходные данные'!$C$287","v":4699.63},{"$f":"AS19/(1-'Исходные данные'!$C$287)*'Исходные данные'!$C$287","v":4875.13},{"$f":"AT19/(1-'Исходные данные'!$C$287)*'Исходные данные'!$C$287","v":7241.9099999999989},{"$f":"AU19/(1-'Исходные данные'!$C$287)*'Исходные данные'!$C$287","v":13092.69},{"$f":"AV19/(1-'Исходные данные'!$C$287)*'Исходные данные'!$C$287","v":6365.06},{"$f":"AW19/(1-'Исходные данные'!$C$287)*'Исходные данные'!$C$287","v":5097.43},{"$f":"AX19/(1-'Исходные данные'!$C$287)*'Исходные данные'!$C$287","v":4804.93},{"$f":"AY19/(1-'Исходные данные'!$C$287)*'Исходные данные'!$C$287","v":4875.13},{"$f":"AZ19/(1-'Исходные данные'!$C$287)*'Исходные данные'!$C$287","v":4699.63},{"$f":"BA19/(1-'Исходные данные'!$C$287)*'Исходные данные'!$C$287","v":4816.63},{"$f":"BB19/(1-'Исходные данные'!$C$287)*'Исходные данные'!$C$287","v":4816.63},{"$f":"BC19/(1-'Исходные данные'!$C$287)*'Исходные данные'!$C$287","v":4816.63},{"$f":"BD19/(1-'Исходные данные'!$C$287)*'Исходные данные'!$C$287","v":4699.63},{"$f":"BE19/(1-'Исходные данные'!$C$287)*'Исходные данные'!$C$287","v":4875.13},{"$f":"BF19/(1-'Исходные данные'!$C$287)*'Исходные данные'!$C$287","v":7241.9099999999989},{"$f":"BG19/(1-'Исходные данные'!$C$287)*'Исходные данные'!$C$287","v":13092.69},{"$f":"BH19/(1-'Исходные данные'!$C$287)*'Исходные данные'!$C$287","v":6365.06},{"$f":"BI19/(1-'Исходные данные'!$C$287)*'Исходные данные'!$C$287","v":5097.43},{"$f":"BJ19/(1-'Исходные данные'!$C$287)*'Исходные данные'!$C$287","v":4804.93},{"$f":"BK19/(1-'Исходные данные'!$C$287)*'Исходные данные'!$C$287","v":4875.13}]
["Страховые отчисления за персонал",807666.68599999987,null,{"$f":"(D19+D20)*('Исходные данные'!$C$293+'Исходные данные'!$C$296)+Налоги!E164+Налоги!E116","v":7642.4120000000003},{"$f":"(E19+E20)*('Исходные данные'!$C$293+'Исходные данные'!$C$296)+Налоги!F164+Налоги!F116","v":8950.6759999999995},{"$f":"(F19+F20)*('Исходные данные'!$C$293+'Исходные данные'!$C$296)+Налоги!G164+Налоги!G116","v":10071.397999999999},{"$f":"(G19+G20)*('Исходные данные'!$C$293+'Исходные данные'!$C$296)+Налоги!H164+Налоги!H116","v":10071.397999999999},{"$f":"(H19+H20)*('Исходные данные'!$C$293+'Исходные данные'!$C$296)+Налоги!I164+Налоги!I116","v":10917.602000000001},{"$f":"(I19+I20)*('Исходные данные'!$C$293+'Исходные данные'!$C$296)+Налоги!J164+Налоги!J116","v":11325.302},{"$f":"(J19+J20)*('Исходные данные'!$C$293+'Исходные данные'!$C$296)+Налоги!K164+Налоги!K116","v":16823.514000000003},{"$f":"(K19+K20)*('Исходные данные'!$C$293+'Исходные данные'!$C$296)+Налоги!L164+Налоги!L116","v":30415.326000000001},{"$f":"(L19+L20)*('Исходные данные'!$C$293+'Исходные данные'!$C$296)+Налоги!M164+Налоги!M116","v":14786.523999999999},{"$f":"(M19+M20)*('Исходные данные'!$C$293+'Исходные данные'!$C$296)+Налоги!N164+Налоги!N116","v":11841.722},{"$f":"(N19+N20)*('Исходные данные'!$C$293+'Исходные данные'!$C$296)+Налоги!O164+Налоги!O116","v":11162.222},{"$f":"(O19+O20)*('Исходные данные'!$C$293+'Исходные данные'!$C$296)+Налоги!P164+Налоги!P116","v":11325.302},{"$f":"(P19+P20)*('Исходные данные'!$C$293+'Исходные данные'!$C$296)+Налоги!Q164+Налоги!Q116","v":10917.602000000001},{"$f":"(Q19+Q20)*('Исходные данные'!$C$293+'Исходные данные'!$C$296)+Налоги!R164+Налоги!R116","v":11189.402},{"$f":"(R19+R20)*('Исходные данные'!$C$293+'Исходные данные'!$C$296)+Налоги!S164+Налоги!S116","v":11189.402},{"$f":"(S19+S20)*('Исходные данные'!$C$293+'Исходные данные'!$C$296)+Налоги!T164+Налоги!T116","v":11189.402},{"$f":"(T19+T20)*('Исходные данные'!$C$293+'Исходные данные'!$C$296)+Налоги!U164+Налоги!U116","v":10917.602000000001},{"$f":"(U19+U20)*('Исходные данные'!$C$293+'Исходные данные'!$C$296)+Налоги!V164+Налоги!V116","v":11325.302},{"$f":"(V19+V20)*('Исходные данные'!$C$293+'Исходные данные'!$C$296)+Налоги!W164+Налоги!W116","v":16823.514000000003},{"$f":"(W19+W20)*('Исходные данные'!$C$293+'Исходные данные'!$C$296)+Налоги!X164+Налоги!X116","v":30415.326000000001},{"$f":"(X19+X20)*('Исходные данные'!$C$293+'Исходные данные'!$C$296)+Налоги!Y164+Налоги!Y116","v":14786.523999999999},{"$f":"(Y19+Y20)*('Исходные данные'!$C$293+'Исходные данные'!$C$296)+Налоги!Z164+Налоги!Z116","v":11841.722},{"$f":"(Z19+Z20)*('Исходные данные'!$C$293+'Исходные данные'!$C$296)+Налоги!AA164+Налоги!AA116","v":11162.222},{"$f":"(AA19+AA20)*('Исходные данные'!$C$293+'Исходные данные'!$C$296)+Налоги!AB164+Налоги!AB116","v":11325.302},{"$f":"(AB19+AB20)*('Исходные данные'!$C$293+'Исходные данные'!$C$296)+Налоги!AC164+Налоги!AC116","v":10917.602000000001},{"$f":"(AC19+AC20)*('Исходные данные'!$C$293+'Исходные данные'!$C$296)+Налоги!AD164+Налоги!AD116","v":11189.402},{"$f":"(AD19+AD20)*('Исходные данные'!$C$293+'Исходные данные'!$C$296)+Налоги!AE164+Налоги!AE116","v":11189.402},{"$f":"(AE19+AE20)*('Исходные данные'!$C$293+'Исходные данные'!$C$296)+Налоги!AF164+Налоги!AF116","v":11189.402},{"$f":"(AF19+AF20)*('Исходные данные'!$C$293+'Исходные данные'!$C$296)+Налоги!AG164+Налоги!AG116","v":10917.602000000001},{"$f":"(AG19+AG20)*('Исходные данные'!$C$293+'Исходные данные'!$C$296)+Налоги!AH164+Налоги!AH116","v":11325.302},{"$f":"(AH19+AH20)*('Исходные данные'!$C$293+'Исходные данные'!$C$296)+Налоги!AI164+Налоги!AI116","v":16823.514000000003},{"$f":"(AI19+AI20)*('Исходные данные'!$C$293+'Исходные данные'!$C$296)+Налоги!AJ164+Налоги!AJ116","v":30415.326000000001},{"$f":"(AJ19+AJ20)*('Исходные данные'!$C$293+'Исходные данные'!$C$296)+Налоги!AK164+Налоги!AK116","v":14786.523999999999},{"$f":"(AK19+AK20)*('Исходные данные'!$C$293+'Исходные данные'!$C$296)+Налоги!AL164+Налоги!AL116","v":11841.722},{"$f":"(AL19+AL20)*('Исходные данные'!$C$293+'Исходные данные'!$C$296)+Налоги!AM164+Налоги!AM116","v":11162.222},{"$f":"(AM19+AM20)*('Исходные данные'!$C$293+'Исходные данные'!$C$296)+Налоги!AN164+Налоги!AN116","v":11325.302},{"$f":"(AN19+AN20)*('Исходные данные'!$C$293+'Исходные данные'!$C$296)+Налоги!AO164+Налоги!AO116","v":10917.602000000001},{"$f":"(AO19+AO20)*('Исходные данные'!$C$293+'Исходные данные'!$C$296)+Налоги!AP164+Налоги!AP116","v":11189.402},{"$f":"(AP19+AP20)*('Исходные данные'!$C$293+'Исходные данные'!$C$296)+Налоги!AQ164+Налоги!AQ116","v":11189.402},{"$f":"(AQ19+AQ20)*('Исходные данные'!$C$293+'Исходные данные'!$C$296)+Налоги!AR164+Налоги!AR116","v":11189.402},{"$f":"(AR19+AR20)*('Исходные данные'!$C$293+'Исходные данные'!$C$296)+Налоги!AS164+Налоги!AS116","v":10917.602000000001},{"$f":"(AS19+AS20)*('Исходные данные'!$C$293+'Исходные данные'!$C$296)+Налоги!AT164+Налоги!AT116","v":11325.302},{"$f":"(AT19+AT20)*('Исходные данные'!$C$293+'Исходные данные'!$C$296)+Налоги!AU164+Налоги!AU116","v":16823.514000000003},{"$f":"(AU19+AU20)*('Исходные данные'!$C$293+'Исходные данные'!$C$296)+Налоги!AV164+Налоги!AV116","v":30415.326000000001},{"$f":"(AV19+AV20)*('Исходные данные'!$C$293+'Исходные данные'!$C$296)+Налоги!AW164+Налоги!AW116","v":14786.523999999999},{"$f":"(AW19+AW20)*('Исходные данные'!$C$293+'Исходные данные'!$C$296)+Налоги!AX164+Налоги!AX116","v":11841.722},{"$f":"(AX19+AX20)*('Исходные данные'!$C$293+'Исходные данные'!$C$296)+Налоги!AY164+Налоги!AY116","v":11162.222},{"$f":"(AY19+AY20)*('Исходные данные'!$C$293+'Исходные данные'!$C$296)+Налоги!AZ164+Налоги!AZ116","v":11325.302},{"$f":"(AZ19+AZ20)*('Исходные данные'!$C$293+'Исходные данные'!$C$296)+Налоги!BA164+Налоги!BA116","v":10917.602000000001},{"$f":"(BA19+BA20)*('Исходные данные'!$C$293+'Исходные данные'!$C$296)+Налоги!BB164+Налоги!BB116","v":11189.402},{"$f":"(BB19+BB20)*('Исходные данные'!$C$293+'Исходные данные'!$C$296)+Налоги!BC164+Налоги!BC116","v":11189.402},{"$f":"(BC19+BC20)*('Исходные данные'!$C$293+'Исходные данные'!$C$296)+Налоги!BD164+Налоги!BD116","v":11189.402},{"$f":"(BD19+BD20)*('Исходные данные'!$C$293+'Исходные данные'!$C$296)+Налоги!BE164+Налоги!BE116","v":10917.602000000001},{"$f":"(BE19+BE20)*('Исходные данные'!$C$293+'Исходные данные'!$C$296)+Налоги!BF164+Налоги!BF116","v":11325.302},{"$f":"(BF19+BF20)*('Исходные данные'!$C$293+'Исходные данные'!$C$296)+Налоги!BG164+Налоги!BG116","v":16823.514000000003},{"$f":"(BG19+BG20)*('Исходные данные'!$C$293+'Исходные данные'!$C$296)+Налоги!BH164+Налоги!BH116","v":30415.326000000001},{"$f":"(BH19+BH20)*('Исходные данные'!$C$293+'Исходные данные'!$C$296)+Налоги!BI164+Налоги!BI116","v":14786.523999999999},{"$f":"(BI19+BI20)*('Исходные данные'!$C$293+'Исходные данные'!$C$296)+Налоги!BJ164+Налоги!BJ116","v":11841.722},{"$f":"(BJ19+BJ20)*('Исходные данные'!$C$293+'Исходные данные'!$C$296)+Налоги!BK164+Налоги!BK116","v":11162.222},{"$f":"(BK19+BK20)*('Исходные данные'!$C$293+'Исходные данные'!$C$296)+Налоги!BL164+Налоги!BL116","v":11325.302}]
["Постоянные расходы",{"$f":"SUM(B23:B41)","v":12194087.607667046},10218.5,138295,145107.33333333334,182773.6,167590,177808.5,226048.86674999999,167590,177808.5,234036.06550000003,167590,178392.75,341959.52124999999,167590,245735.55,233957.8,167590,178392.75,167590,167590,178392.75,232630.10573750001,167590,179050.5,337635.39549999998,167590,284052.7,233957.8,167590,179050.5,167590,{"$f":"SUM(AH23:AH41)","v":167590},179050.5,231680.79630287501,167590,179050.5,347635.39549999998,167590,284052.7,233957.8,167590,179050.5,167590,167590,179050.5,229861.2755859138,167590,179050.5,337635.39549999998,167590,284052.7,233957.8,167590,179050.5,167590,167590,179050.5,232339.86120742263,167590,179050.5,396635.39549999998]
["Выплаты персоналу",{"$f":"SUM(C23:BK23)","v":2309850},null,{"$f":"(SUMPRODUCT('Исходные данные'!C114:C128,'Исходные данные'!$D$92:$D$106)+SUMPRODUCT('Исходные данные'!C114:C128,'Исходные данные'!$D$92:$D$106,'Исходные данные'!$E$92:$E$106))*(1-'Исходные данные'!$C$287)","v":19575},{"$f":"(SUMPRODUCT('Исходные данные'!D114:D128,'Исходные данные'!$D$92:$D$106)+SUMPRODUCT('Исходные данные'!D114:D128,'Исходные данные'!$D$92:$D$106,'Исходные данные'!$E$92:$E$106))*(1-'Исходные данные'!$C$287)","v":19575},{"$f":"(SUMPRODUCT('Исходные данные'!E114:E128,'Исходные данные'!$D$92:$D$106)+SUMPRODUCT('Исходные данные'!E114:E128,'Исходные данные'!$D$92:$D$106,'Исходные данные'!$E$92:$E$106))*(1-'Исходные данные'!$C$287)","v":39150},{"$f":"(SUMPRODUCT('Исходные данные'!F114:F128,'Исходные данные'!$D$92:$D$106)+SUMPRODUCT('Исходные данные'!F114:F128,'Исходные данные'!$D$92:$D$106,'Исходные данные'!$E$92:$E$106))*(1-'Исходные данные'!$C$287)","v":39150},{"$f":"(SUMPRODUCT('Исходные данные'!G114:G128,'Исходные данные'!$D$92:$D$106)+SUMPRODUCT('Исходные данные'!G114:G128,'Исходные данные'!$D$92:$D$106,'Исходные данные'!$E$92:$E$106))*(1-'Исходные данные'!$C$287)","v":39150},{"$f":"(SUMPRODUCT('Исходные данные'!H114:H128,'Исходные данные'!$D$92:$D$106)+SUMPRODUCT('Исходные данные'!H114:H128,'Исходные данные'!$D$92:$D$106,'Исходные данные'!$E$92:$E$106))*(1-'Исходные данные'!$C$287)","v":39150},{"$f":"(SUMPRODUCT('Исходные данные'!I114:I128,'Исходные данные'!$D$92:$D$106)+SUMPRODUCT('Исходные данные'!I114:I128,'Исходные данные'!$D$92:$D$106,'Исходные данные'!$E$92:$E$106))*(1-'Исходные данные'!$C$287)","v":39150},{"$f":"(SUMPRODUCT('Исходные данные'!J114:J128,'Исходные данные'!$D$92:$D$106)+SUMPRODUCT('Исходные данные'!J114:J128,'Исходные данные'!$D$92:$D$106,'Исходные данные'!$E$92:$E$106))*(1-'Исходные данные'!$C$287)","v":39150},{"$f":"(SUMPRODUCT('Исходные данные'!K114:K128,'Исходные данные'!$D$92:$D$106)+SUMPRODUCT('Исходные данные'!K114:K128,'Исходные данные'!$D$92:$D$106,'Исходные данные'!$E$92:$E$106))*(1-'Исходные данные'!$C$287)","v":39150},{"$f":"(SUMPRODUCT('Исходные данные'!L114:L128,'Исходные данные'!$D$92:$D$106)+SUMPRODUCT('Исходные данные'!L114:L128,'Исходные данные'!$D$92:$D$106,'Исходные данные'!$E$92:$E$106))*(1-'Исходные данные'!$C$287)","v":39150},{"$f":"(SUMPRODUCT('Исходные данные'!M114:M128,'Исходные данные'!$D$92:$D$106)+SUMPRODUCT('Исходные данные'!M114:M128,'Исходные данные'!$D$92:$D$106,'Исходные данные'!$E$92:$E$106))*(1-'Исходные данные'!$C$287)","v":39150},{"$f":"(SUMPRODUCT('Исходные данные'!N114:N128,'Исходные данные'!$D$92:$D$106)+SUMPRODUCT('Исходные данные'!N114:N128,'Исходные данные'!$D$92:$D$106,'Исходные данные'!$E$92:$E$106))*(1-'Исходные данные'!$C$287)","v":39150},{"$f":"O23","v":39150},39150,39150,39150,39150,39150,39150,39150,39150,39150,39150,39150,39150,39150,39150,39150,39150,39150,39150,39150,39150,39150,39150,39150,39150,39150,39150,39150,39150,39150,39150,39150,39150,39150,39150,39150,39150,39150,39150,39150,39150,39150,39150,39150,39150,39150,39150,39150]
["НДФЛ за персонал",345150,null,{"$f":"D23/(1-'Исходные данные'!$C$287)*'Исходные данные'!$C$287","v":2925},{"$f":"E23/(1-'Исходные данные'!$C$287)*'Исходные данные'!$C$287","v":2925},{"$f":"F23/(1-'Исходные данные'!$C$287)*'Исходные данные'!$C$287","v":5850},{"$f":"G23/(1-'Исходные данные'!$C$287)*'Исходные данные'!$C$287","v":5850},{"$f":"H23/(1-'Исходные данные'!$C$287)*'Исходные данные'!$C$287","v":5850},{"$f":"I23/(1-'Исходные данные'!$C$287)*'Исходные данные'!$C$287","v":5850},{"$f":"J23/(1-'Исходные данные'!$C$287)*'Исходные данные'!$C$287","v":5850},{"$f":"K23/(1-'Исходные данные'!$C$287)*'Исходные данные'!$C$287","v":5850},{"$f":"L23/(1-'Исходные данные'!$C$287)*'Исходные данные'!$C$287","v":5850},{"$f":"M23/(1-'Исходные данные'!$C$287)*'Исходные данные'!$C$287","v":5850},{"$f":"N23/(1-'Исходные данные'!$C$287)*'Исходные данные'!$C$287","v":5850},{"$f":"O23/(1-'Исходные данные'!$C$287)*'Исходные данные'!$C$287","v":5850},{"$f":"O24","v":5850},{"$f":"P24","v":5850},5850,5850,5850,5850,5850,5850,5850,5850,5850,5850,5850,5850,5850,5850,5850,5850,5850,5850,5850,5850,5850,5850,5850,5850,5850,5850,5850,5850,5850,5850,5850,5850,5850,5850,5850,5850,5850,5850,5850,5850,5850,5850,5850,5850,5850,5850]
["Страховые отчисления за персонал",801810,null,{"$f":"(D23+D24)*('Исходные данные'!$C$293+'Исходные данные'!$C$296)+Налоги!E100+Налоги!E148","v":6795},{"$f":"(E23+E24)*('Исходные данные'!$C$293+'Исходные данные'!$C$296)+Налоги!F100+Налоги!F148","v":6795},{"$f":"(F23+F24)*('Исходные данные'!$C$293+'Исходные данные'!$C$296)+Налоги!G100+Налоги!G148","v":13590},{"$f":"(G23+G24)*('Исходные данные'!$C$293+'Исходные данные'!$C$296)+Налоги!H100+Налоги!H148","v":13590},{"$f":"(H23+H24)*('Исходные данные'!$C$293+'Исходные данные'!$C$296)+Налоги!I100+Налоги!I148","v":13590},{"$f":"(I23+I24)*('Исходные данные'!$C$293+'Исходные данные'!$C$296)+Налоги!J100+Налоги!J148","v":13590},{"$f":"(J23+J24)*('Исходные данные'!$C$293+'Исходные данные'!$C$296)+Налоги!K100+Налоги!K148","v":13590},{"$f":"(K23+K24)*('Исходные данные'!$C$293+'Исходные данные'!$C$296)+Налоги!L100+Налоги!L148","v":13590},{"$f":"(L23+L24)*('Исходные данные'!$C$293+'Исходные данные'!$C$296)+Налоги!M100+Налоги!M148","v":13590},{"$f":"(M23+M24)*('Исходные данные'!$C$293+'Исходные данные'!$C$296)+Налоги!N100+Налоги!N148","v":13590},{"$f":"(N23+N24)*('Исходные данные'!$C$293+'Исходные данные'!$C$296)+Налоги!O100+Налоги!O148","v":13590},{"$f":"(O23+O24)*('Исходные данные'!$C$293+'Исходные данные'!$C$296)+Налоги!P100+Налоги!P148","v":13590},{"$f":"(P23+P24)*('Исходные данные'!$C$293+'Исходные данные'!$C$296)+Налоги!Q100+Налоги!Q148","v":13590},{"$f":"(Q23+Q24)*('Исходные данные'!$C$293+'Исходные данные'!$C$296)+Налоги!R100+Налоги!R148","v":13590},{"$f":"(R23+R24)*('Исходные данные'!$C$293+'Исходные данные'!$C$296)+Налоги!S100+Налоги!S148","v":13590},{"$f":"(S23+S24)*('Исходные данные'!$C$293+'Исходные данные'!$C$296)+Налоги!T100+Налоги!T148","v":13590},{"$f":"(T23+T24)*('Исходные данные'!$C$293+'Исходные данные'!$C$296)+Налоги!U100+Налоги!U148","v":13590},{"$f":"(U23+U24)*('Исходные данные'!$C$293+'Исходные данные'!$C$296)+Налоги!V100+Налоги!V148","v":13590},{"$f":"(V23+V24)*('Исходные данные'!$C$293+'Исходные данные'!$C$296)+Налоги!W100+Налоги!W148","v":13590},{"$f":"(W23+W24)*('Исходные данные'!$C$293+'Исходные данные'!$C$296)+Налоги!X100+Налоги!X148","v":13590},{"$f":"(X23+X24)*('Исходные данные'!$C$293+'Исходные данные'!$C$296)+Налоги!Y100+Налоги!Y148","v":13590},{"$f":"(Y23+Y24)*('Исходные данные'!$C$293+'Исходные данные'!$C$296)+Налоги!Z100+Налоги!Z148","v":13590},{"$f":"(Z23+Z24)*('Исходные данные'!$C$293+'Исходные данные'!$C$296)+Налоги!AA100+Налоги!AA148","v":13590},{"$f":"(AA23+AA24)*('Исходные данные'!$C$293+'Исходные данные'!$C$296)+Налоги!AB100+Налоги!AB148","v":13590},{"$f":"(AB23+AB24)*('Исходные данные'!$C$293+'Исходные данные'!$C$296)+Налоги!AC100+Налоги!AC148","v":13590},{"$f":"(AC23+AC24)*('Исходные данные'!$C$293+'Исходные данные'!$C$296)+Налоги!AD100+Налоги!AD148","v":13590},{"$f":"(AD23+AD24)*('Исходные данные'!$C$293+'Исходные данные'!$C$296)+Налоги!AE100+Налоги!AE148","v":13590},{"$f":"(AE23+AE24)*('Исходные данные'!$C$293+'Исходные данные'!$C$296)+Налоги!AF100+Налоги!AF148","v":13590},{"$f":"(AF23+AF24)*('Исходные данные'!$C$293+'Исходные данные'!$C$296)+Налоги!AG100+Налоги!AG148","v":13590},{"$f":"(AG23+AG24)*('Исходные данные'!$C$293+'Исходные данные'!$C$296)+Налоги!AH100+Налоги!AH148","v":13590},{"$f":"(AH23+AH24)*('Исходные данные'!$C$293+'Исходные данные'!$C$296)+Налоги!AI100+Налоги!AI148","v":13590},{"$f":"(AI23+AI24)*('Исходные данные'!$C$293+'Исходные данные'!$C$296)+Налоги!AJ100+Налоги!AJ148","v":13590},{"$f":"(AJ23+AJ24)*('Исходные данные'!$C$293+'Исходные данные'!$C$296)+Налоги!AK100+Налоги!AK148","v":13590},{"$f":"(AK23+AK24)*('Исходные данные'!$C$293+'Исходные данные'!$C$296)+Налоги!AL100+Налоги!AL148","v":13590},{"$f":"(AL23+AL24)*('Исходные данные'!$C$293+'Исходные данные'!$C$296)+Налоги!AM100+Налоги!AM148","v":13590},{"$f":"(AM23+AM24)*('Исходные данные'!$C$293+'Исходные данные'!$C$296)+Налоги!AN100+Налоги!AN148","v":13590},{"$f":"(AN23+AN24)*('Исходные данные'!$C$293+'Исходные данные'!$C$296)+Налоги!AO100+Налоги!AO148","v":13590},{"$f":"(AO23+AO24)*('Исходные данные'!$C$293+'Исходные данные'!$C$296)+Налоги!AP100+Налоги!AP148","v":13590},{"$f":"(AP23+AP24)*('Исходные данные'!$C$293+'Исходные данные'!$C$296)+Налоги!AQ100+Налоги!AQ148","v":13590},{"$f":"(AQ23+AQ24)*('Исходные данные'!$C$293+'Исходные данные'!$C$296)+Налоги!AR100+Налоги!AR148","v":13590},{"$f":"(AR23+AR24)*('Исходные данные'!$C$293+'Исходные данные'!$C$296)+Налоги!AS100+Налоги!AS148","v":13590},{"$f":"(AS23+AS24)*('Исходные данные'!$C$293+'Исходные данные'!$C$296)+Налоги!AT100+Налоги!AT148","v":13590},{"$f":"(AT23+AT24)*('Исходные данные'!$C$293+'Исходные данные'!$C$296)+Налоги!AU100+Налоги!AU148","v":13590},{"$f":"(AU23+AU24)*('Исходные данные'!$C$293+'Исходные данные'!$C$296)+Налоги!AV100+Налоги!AV148","v":13590},{"$f":"(AV23+AV24)*('Исходные данные'!$C$293+'Исходные данные'!$C$296)+Налоги!AW100+Налоги!AW148","v":13590},{"$f":"(AW23+AW24)*('Исходные данные'!$C$293+'Исходные данные'!$C$296)+Налоги!AX100+Налоги!AX148","v":13590},{"$f":"(AX23+AX24)*('Исходные данные'!$C$293+'Исходные данные'!$C$296)+Налоги!AY100+Налоги!AY148","v":13590},{"$f":"(AY23+AY24)*('Исходные данные'!$C$293+'Исходные данные'!$C$296)+Налоги!AZ100+Налоги!AZ148","v":13590},{"$f":"(AZ23+AZ24)*('Исходные данные'!$C$293+'Исходные данные'!$C$296)+Налоги!BA100+Налоги!BA148","v":13590},{"$f":"(BA23+BA24)*('Исходные данные'!$C$293+'Исходные данные'!$C$296)+Налоги!BB100+Налоги!BB148","v":13590},{"$f":"(BB23+BB24)*('Исходные данные'!$C$293+'Исходные данные'!$C$296)+Налоги!BC100+Налоги!BC148","v":13590},{"$f":"(BC23+BC24)*('Исходные данные'!$C$293+'Исходные данные'!$C$296)+Налоги!BD100+Налоги!BD148","v":13590},{"$f":"(BD23+BD24)*('Исходные данные'!$C$293+'Исходные данные'!$C$296)+Налоги!BE100+Налоги!BE148","v":13590},{"$f":"(BE23+BE24)*('Исходные данные'!$C$293+'Исходные данные'!$C$296)+Налоги!BF100+Налоги!BF148","v":13590},{"$f":"(BF23+BF24)*('Исходные данные'!$C$293+'Исходные данные'!$C$296)+Налоги!BG100+Налоги!BG148","v":13590},{"$f":"(BG23+BG24)*('Исходные данные'!$C$293+'Исходные данные'!$C$296)+Налоги!BH100+Налоги!BH148","v":13590},{"$f":"(BH23+BH24)*('Исходные данные'!$C$293+'Исходные данные'!$C$296)+Налоги!BI100+Налоги!BI148","v":13590},{"$f":"(BI23+BI24)*('Исходные данные'!$C$293+'Исходные данные'!$C$296)+Налоги!BJ100+Налоги!BJ148","v":13590},{"$f":"(BJ23+BJ24)*('Исходные данные'!$C$293+'Исходные данные'!$C$296)+Налоги!BK100+Налоги!BK148","v":13590},{"$f":"(BK23+BK24)*('Исходные данные'!$C$293+'Исходные данные'!$C$296)+Налоги!BL100+Налоги!BL148","v":13590}]
["Страховые отчисления за ИП",229665.33333333331,{"$f":"'Исходные данные'!C265","v":10218.5},{"$f":"IF(D7<>\"\",HLOOKUP(D6,Налоги!$B$204:$G$211,7,FALSE)/12*D10,0)","v":0},{"$f":"IF(E7<>\"\",HLOOKUP(E6,Налоги!$B$204:$G$211,7,FALSE)/12*E10,0)","v":6812.333333333333},{"$f":"IF(F7<>\"\",HLOOKUP(F6,Налоги!$B$204:$G$211,7,FALSE)/12*F10,0)","v":0},{"$f":"IF(G7<>\"\",HLOOKUP(G6,Налоги!$B$204:$G$211,7,FALSE)/12*G10,0)","v":0},{"$f":"IF(H7<>\"\",HLOOKUP(H6,Налоги!$B$204:$G$211,7,FALSE)/12*H10,0)","v":10218.5},{"$f":"IF(I7<>\"\",HLOOKUP(I6,Налоги!$B$204:$G$211,7,FALSE)/12*I10,0)","v":0},{"$f":"IF(J7<>\"\",HLOOKUP(J6,Налоги!$B$204:$G$211,7,FALSE)/12*J10,0)","v":0},{"$f":"IF(K7<>\"\",HLOOKUP(K6,Налоги!$B$204:$G$211,7,FALSE)/12*K10,0)","v":10218.5},{"$f":"IF(L7<>\"\",HLOOKUP(L6,Налоги!$B$204:$G$211,7,FALSE)/12*L10,0)","v":0},{"$f":"IF(M7<>\"\",HLOOKUP(M6,Налоги!$B$204:$G$211,7,FALSE)/12*M10,0)","v":0},{"$f":"IF(N7<>\"\",HLOOKUP(N6,Налоги!$B$204:$G$211,7,FALSE)/12*N10,0)","v":10802.75},{"$f":"IF(O7<>\"\",HLOOKUP(O6,Налоги!$B$204:$G$211,7,FALSE)/12*O10,0)","v":0},{"$f":"IF(P7<>\"\",HLOOKUP(P6,Налоги!$B$204:$G$211,7,FALSE)/12*P10,0)","v":0},{"$f":"IF(Q7<>\"\",HLOOKUP(Q6,Налоги!$B$204:$G$211,7,FALSE)/12*Q10,0)","v":10802.75},{"$f":"IF(R7<>\"\",HLOOKUP(R6,Налоги!$B$204:$G$211,7,FALSE)/12*R10,0)","v":0},{"$f":"IF(S7<>\"\",HLOOKUP(S6,Налоги!$B$204:$G$211,7,FALSE)/12*S10,0)","v":0},{"$f":"IF(T7<>\"\",HLOOKUP(T6,Налоги!$B$204:$G$211,7,FALSE)/12*T10,0)","v":10802.75},{"$f":"IF(U7<>\"\",HLOOKUP(U6,Налоги!$B$204:$G$211,7,FALSE)/12*U10,0)","v":0},{"$f":"IF(V7<>\"\",HLOOKUP(V6,Налоги!$B$204:$G$211,7,FALSE)/12*V10,0)","v":0},{"$f":"IF(W7<>\"\",HLOOKUP(W6,Налоги!$B$204:$G$211,7,FALSE)/12*W10,0)","v":10802.75},{"$f":"IF(X7<>\"\",HLOOKUP(X6,Налоги!$B$204:$G$211,7,FALSE)/12*X10,0)","v":0},{"$f":"IF(Y7<>\"\",HLOOKUP(Y6,Налоги!$B$204:$G$211,7,FALSE)/12*Y10,0)","v":0},{"$f":"IF(Z7<>\"\",HLOOKUP(Z6,Налоги!$B$204:$G$211,7,FALSE)/12*Z10,0)","v":11460.5},{"$f":"IF(AA7<>\"\",HLOOKUP(AA6,Налоги!$B$204:$G$211,7,FALSE)/12*AA10,0)","v":0},{"$f":"IF(AB7<>\"\",HLOOKUP(AB6,Налоги!$B$204:$G$211,7,FALSE)/12*AB10,0)","v":0},{"$f":"IF(AC7<>\"\",HLOOKUP(AC6,Налоги!$B$204:$G$211,7,FALSE)/12*AC10,0)","v":11460.5},{"$f":"IF(AD7<>\"\",HLOOKUP(AD6,Налоги!$B$204:$G$211,7,FALSE)/12*AD10,0)","v":0},{"$f":"IF(AE7<>\"\",HLOOKUP(AE6,Налоги!$B$204:$G$211,7,FALSE)/12*AE10,0)","v":0},{"$f":"IF(AF7<>\"\",HLOOKUP(AF6,Налоги!$B$204:$G$211,7,FALSE)/12*AF10,0)","v":11460.5},{"$f":"IF(AG7<>\"\",HLOOKUP(AG6,Налоги!$B$204:$G$211,7,FALSE)/12*AG10,0)","v":0},{"$f":"IF(AH7<>\"\",HLOOKUP(AH6,Налоги!$B$204:$G$211,7,FALSE)/12*AH10,0)","v":0},{"$f":"IF(AI7<>\"\",HLOOKUP(AI6,Налоги!$B$204:$G$211,7,FALSE)/12*AI10,0)","v":11460.5},{"$f":"IF(AJ7<>\"\",HLOOKUP(AJ6,Налоги!$B$204:$G$211,7,FALSE)/12*AJ10,0)","v":0},{"$f":"IF(AK7<>\"\",HLOOKUP(AK6,Налоги!$B$204:$G$211,7,FALSE)/12*AK10,0)","v":0},{"$f":"IF(AL7<>\"\",HLOOKUP(AL6,Налоги!$B$204:$G$211,7,FALSE)/12*AL10,0)","v":11460.5},{"$f":"IF(AM7<>\"\",HLOOKUP(AM6,Налоги!$B$204:$G$211,7,FALSE)/12*AM10,0)","v":0},{"$f":"IF(AN7<>\"\",HLOOKUP(AN6,Налоги!$B$204:$G$211,7,FALSE)/12*AN10,0)","v":0},{"$f":"IF(AO7<>\"\",HLOOKUP(AO6,Налоги!$B$204:$G$211,7,FALSE)/12*AO10,0)","v":11460.5},{"$f":"IF(AP7<>\"\",HLOOKUP(AP6,Налоги!$B$204:$G$211,7,FALSE)/12*AP10,0)","v":0},{"$f":"IF(AQ7<>\"\",HLOOKUP(AQ6,Налоги!$B$204:$G$211,7,FALSE)/12*AQ10,0)","v":0},{"$f":"IF(AR7<>\"\",HLOOKUP(AR6,Налоги!$B$204:$G$211,7,FALSE)/12*AR10,0)","v":11460.5},{"$f":"IF(AS7<>\"\",HLOOKUP(AS6,Налоги!$B$204:$G$211,7,FALSE)/12*AS10,0)","v":0},{"$f":"IF(AT7<>\"\",HLOOKUP(AT6,Налоги!$B$204:$G$211,7,FALSE)/12*AT10,0)","v":0},{"$f":"IF(AU7<>\"\",HLOOKUP(AU6,Налоги!$B$204:$G$211,7,FALSE)/12*AU10,0)","v":11460.5},{"$f":"IF(AV7<>\"\",HLOOKUP(AV6,Налоги!$B$204:$G$211,7,FALSE)/12*AV10,0)","v":0},{"$f":"IF(AW7<>\"\",HLOOKUP(AW6,Налоги!$B$204:$G$211,7,FALSE)/12*AW10,0)","v":0},{"$f":"IF(AX7<>\"\",HLOOKUP(AX6,Налоги!$B$204:$G$211,7,FALSE)/12*AX10,0)","v":11460.5},{"$f":"IF(AY7<>\"\",HLOOKUP(AY6,Налоги!$B$204:$G$211,7,FALSE)/12*AY10,0)","v":0},{"$f":"IF(AZ7<>\"\",HLOOKUP(AZ6,Налоги!$B$204:$G$211,7,FALSE)/12*AZ10,0)","v":0},{"$f":"IF(BA7<>\"\",HLOOKUP(BA6,Налоги!$B$204:$G$211,7,FALSE)/12*BA10,0)","v":11460.5},{"$f":"IF(BB7<>\"\",HLOOKUP(BB6,Налоги!$B$204:$G$211,7,FALSE)/12*BB10,0)","v":0},{"$f":"IF(BC7<>\"\",HLOOKUP(BC6,Налоги!$B$204:$G$211,7,FALSE)/12*BC10,0)","v":0},{"$f":"IF(BD7<>\"\",HLOOKUP(BD6,Налоги!$B$204:$G$211,7,FALSE)/12*BD10,0)","v":11460.5},{"$f":"IF(BE7<>\"\",HLOOKUP(BE6,Налоги!$B$204:$G$211,7,FALSE)/12*BE10,0)","v":0},{"$f":"IF(BF7<>\"\",HLOOKUP(BF6,Налоги!$B$204:$G$211,7,FALSE)/12*BF10,0)","v":0},{"$f":"IF(BG7<>\"\",HLOOKUP(BG6,Налоги!$B$204:$G$211,7,FALSE)/12*BG10,0)","v":11460.5},{"$f":"IF(BH7<>\"\",HLOOKUP(BH6,Налоги!$B$204:$G$211,7,FALSE)/12*BH10,0)","v":0},{"$f":"IF(BI7<>\"\",HLOOKUP(BI6,Налоги!$B$204:$G$211,7,FALSE)/12*BI10,0)","v":0},{"$f":"IF(BJ7<>\"\",HLOOKUP(BJ6,Налоги!$B$204:$G$211,7,FALSE)/12*BJ10,0)","v":11460.5},{"$f":"IF(BK7<>\"\",HLOOKUP(BK6,Налоги!$B$204:$G$211,7,FALSE)/12*BK10,0)","v":0}]
["Страховые отчисления за ИП (с оборота выше 300 т.р.)",382349.4,null,{"$f":"Налоги!E31","v":0},{"$f":"Налоги!F31","v":0},{"$f":"Налоги!G31","v":0},{"$f":"Налоги!H31","v":0},{"$f":"Налоги!I31","v":0},{"$f":"Налоги!J31","v":0},{"$f":"Налоги!K31","v":0},{"$f":"Налоги!L31","v":0},{"$f":"Налоги!M31","v":0},{"$f":"Налоги!N31","v":0},{"$f":"Налоги!O31","v":0},{"$f":"Налоги!P31","v":0},{"$f":"Налоги!Q31","v":0},{"$f":"Налоги!R31","v":67342.8},{"$f":"Налоги!S31","v":0},{"$f":"Налоги!T31","v":0},{"$f":"Налоги!U31","v":0},{"$f":"Налоги!V31","v":0},{"$f":"Налоги!W31","v":0},{"$f":"Налоги!X31","v":0},{"$f":"Налоги!Y31","v":0},{"$f":"Налоги!Z31","v":0},{"$f":"Налоги!AA31","v":0},{"$f":"Налоги!AB31","v":0},{"$f":"Налоги!AC31","v":0},{"$f":"Налоги!AD31","v":105002.2},{"$f":"Налоги!AE31","v":0},{"$f":"Налоги!AF31","v":0},{"$f":"Налоги!AG31","v":0},{"$f":"Налоги!AH31","v":0},{"$f":"Налоги!AI31","v":0},{"$f":"Налоги!AJ31","v":0},{"$f":"Налоги!AK31","v":0},{"$f":"Налоги!AL31","v":0},{"$f":"Налоги!AM31","v":0},{"$f":"Налоги!AN31","v":0},{"$f":"Налоги!AO31","v":0},{"$f":"Налоги!AP31","v":105002.2},{"$f":"Налоги!AQ31","v":0},{"$f":"Налоги!AR31","v":0},{"$f":"Налоги!AS31","v":0},{"$f":"Налоги!AT31","v":0},{"$f":"Налоги!AU31","v":0},{"$f":"Налоги!AV31","v":0},{"$f":"Налоги!AW31","v":0},{"$f":"Налоги!AX31","v":0},{"$f":"Налоги!AY31","v":0},{"$f":"Налоги!AZ31","v":0},{"$f":"Налоги!BA31","v":0},{"$f":"Налоги!BB31","v":105002.2},{"$f":"Налоги!BC31","v":0},{"$f":"Налоги!BD31","v":0},{"$f":"Налоги!BE31","v":0},{"$f":"Налоги!BF31","v":0},{"$f":"Налоги!BG31","v":0},{"$f":"Налоги!BH31","v":0},{"$f":"Налоги!BI31","v":0},{"$f":"Налоги!BJ31","v":0},{"$f":"Налоги!BK31","v":0},{"$f":"Налоги!BL31","v":0}]
["Расходы на рекламу",3000000,null,{"$f":"'Исходные данные'!$E$48","v":50000},{"$f":"'Исходные данные'!$E$48","v":50000},{"$f":"'Исходные данные'!$E$48","v":50000},{"$f":"'Исходные данные'!$E$48","v":50000},{"$f":"'Исходные данные'!$E$48","v":50000},{"$f":"'Исходные данные'!$E$48","v":50000},{"$f":"'Исходные данные'!$E$48","v":50000},{"$f":"'Исходные данные'!$E$48","v":50000},{"$f":"'Исходные данные'!$E$48","v":50000},{"$f":"'Исходные данные'!$E$48","v":50000},{"$f":"'Исходные данные'!$E$48","v":50000},{"$f":"'Исходные данные'!$E$48","v":50000},{"$f":"'Исходные данные'!$E$48","v":50000},{"$f":"'Исходные данные'!$E$48","v":50000},{"$f":"'Исходные данные'!$E$48","v":50000},{"$f":"'Исходные данные'!$E$48","v":50000},{"$f":"'Исходные данные'!$E$48","v":50000},{"$f":"'Исходные данные'!$E$48","v":50000},{"$f":"'Исходные данные'!$E$48","v":50000},{"$f":"'Исходные данные'!$E$48","v":50000},{"$f":"'Исходные данные'!$E$48","v":50000},{"$f":"'Исходные данные'!$E$48","v":50000},{"$f":"'Исходные данные'!$E$48","v":50000},{"$f":"'Исходные данные'!$E$48","v":50000},{"$f":"'Исходные данные'!$E$48","v":50000},{"$f":"'Исходные данные'!$E$48","v":50000},{"$f":"'Исходные данные'!$E$48","v":50000},{"$f":"'Исходные данные'!$E$48","v":50000},{"$f":"'Исходные данные'!$E$48","v":50000},{"$f":"'Исходные данные'!$E$48","v":50000},{"$f":"'Исходные данные'!$E$48","v":50000},{"$f":"'Исходные данные'!$E$48","v":50000},{"$f":"'Исходные данные'!$E$48","v":50000},{"$f":"'Исходные данные'!$E$48","v":50000},{"$f":"'Исходные данные'!$E$48","v":50000},{"$f":"'Исходные данные'!$E$48","v":50000},{"$f":"'Исходные данные'!$E$48","v":50000},{"$f":"'Исходные данные'!$E$48","v":50000},{"$f":"'Исходные данные'!$E$48","v":50000},{"$f":"'Исходные данные'!$E$48","v":50000},{"$f":"'Исходные данные'!$E$48","v":50000},{"$f":"'Исходные данные'!$E$48","v":50000},{"$f":"'Исходные данные'!$E$48","v":50000},{"$f":"'Исходные данные'!$E$48","v":50000},{"$f":"'Исходные данные'!$E$48","v":50000},{"$f":"'Исходные данные'!$E$48","v":50000},{"$f":"'Исходные данные'!$E$48","v":50000},{"$f":"'Исходные данные'!$E$48","v":50000},{"$f":"'Исходные данные'!$E$48","v":50000},{"$f":"'Исходные данные'!$E$48","v":50000},{"$f":"'Исходные данные'!$E$48","v":50000},{"$f":"'Исходные данные'!$E$48","v":50000},{"$f":"'Исходные данные'!$E$48","v":50000},{"$f":"'Исходные данные'!$E$48","v":50000},{"$f":"'Исходные данные'!$E$48","v":50000},{"$f":"'Исходные данные'!$E$48","v":50000},{"$f":"'Исходные данные'!$E$48","v":50000},{"$f":"'Исходные данные'!$E$48","v":50000},{"$f":"'Исходные данные'!$E$48","v":50000},{"$f":"'Исходные данные'!$E$48","v":50000}]
["Инструменты, приспособления, оборудование",104000,null,{"$f":"SUMIF($C$143:$C$162,0,D$143:D$162)","v":0},{"$f":"SUMIF($C$143:$C$162,0,E$143:E$162)","v":0},0,0,0,0,0,0,0,0,0,7000,0,0,0,0,0,0,0,0,0,0,0,7000,0,0,0,0,0,0,0,0,0,0,0,17000,0,0,0,0,0,0,0,0,0,0,0,7000,0,0,0,0,0,0,0,0,0,0,0,66000]
[{"$f":"IF(OR('Исходные данные'!B135=0,'Исходные данные'!B135=\"\"),\"\",'Исходные данные'!B135)","v":"Услуги банков"},120000,null,{"$f":"'Исходные данные'!$C135","v":2000},{"$f":"'Исходные данные'!$C135","v":2000},{"$f":"'Исходные данные'!$C135","v":2000},{"$f":"'Исходные данные'!$C135","v":2000},{"$f":"'Исходные данные'!$C135","v":2000},{"$f":"'Исходные данные'!$C135","v":2000},{"$f":"'Исходные данные'!$C135","v":2000},{"$f":"'Исходные данные'!$C135","v":2000},{"$f":"'Исходные данные'!$C135","v":2000},{"$f":"'Исходные данные'!$C135","v":2000},{"$f":"'Исходные данные'!$C135","v":2000},{"$f":"'Исходные данные'!$C135","v":2000},{"$f":"'Исходные данные'!$C135","v":2000},{"$f":"'Исходные данные'!$C135","v":2000},{"$f":"'Исходные данные'!$C135","v":2000},{"$f":"'Исходные данные'!$C135","v":2000},{"$f":"'Исходные данные'!$C135","v":2000},{"$f":"'Исходные данные'!$C135","v":2000},{"$f":"'Исходные данные'!$C135","v":2000},{"$f":"'Исходные данные'!$C135","v":2000},{"$f":"'Исходные данные'!$C135","v":2000},{"$f":"'Исходные данные'!$C135","v":2000},{"$f":"'Исходные данные'!$C135","v":2000},{"$f":"'Исходные данные'!$C135","v":2000},{"$f":"'Исходные данные'!$C135","v":2000},{"$f":"'Исходные данные'!$C135","v":2000},{"$f":"'Исходные данные'!$C135","v":2000},{"$f":"'Исходные данные'!$C135","v":2000},{"$f":"'Исходные данные'!$C135","v":2000},{"$f":"'Исходные данные'!$C135","v":2000},{"$f":"'Исходные данные'!$C135","v":2000},{"$f":"'Исходные данные'!$C135","v":2000},{"$f":"'Исходные данные'!$C135","v":2000},{"$f":"'Исходные данные'!$C135","v":2000},{"$f":"'Исходные данные'!$C135","v":2000},{"$f":"'Исходные данные'!$C135","v":2000},{"$f":"'Исходные данные'!$C135","v":2000},{"$f":"'Исходные данные'!$C135","v":2000},{"$f":"'Исходные данные'!$C135","v":2000},{"$f":"'Исходные данные'!$C135","v":2000},{"$f":"'Исходные данные'!$C135","v":2000},{"$f":"'Исходные данные'!$C135","v":2000},{"$f":"'Исходные данные'!$C135","v":2000},{"$f":"'Исходные данные'!$C135","v":2000},{"$f":"'Исходные данные'!$C135","v":2000},{"$f":"'Исходные данные'!$C135","v":2000},{"$f":"'Исходные данные'!$C135","v":2000},{"$f":"'Исходные данные'!$C135","v":2000},{"$f":"'Исходные данные'!$C135","v":2000},{"$f":"'Исходные данные'!$C135","v":2000},{"$f":"'Исходные данные'!$C135","v":2000},{"$f":"'Исходные данные'!$C135","v":2000},{"$f":"'Исходные данные'!$C135","v":2000},{"$f":"'Исходные данные'!$C135","v":2000},{"$f":"'Исходные данные'!$C135","v":2000},{"$f":"'Исходные данные'!$C135","v":2000},{"$f":"'Исходные данные'!$C135","v":2000},{"$f":"'Исходные данные'!$C135","v":2000},{"$f":"'Исходные данные'!$C135","v":2000},{"$f":"'Исходные данные'!$C135","v":2000}]
[{"$f":"IF(OR('Исходные данные'!B136=0,'Исходные данные'!B136=\"\"),\"\",'Исходные данные'!B136)","v":"Арендная плата"},{"$f":"SUM(C31:BK31)","v":1500000},null,{"$f":"'Исходные данные'!$C136","v":25000},{"$f":"'Исходные данные'!$C136","v":25000},{"$f":"'Исходные данные'!$C136","v":25000},{"$f":"'Исходные данные'!$C136","v":25000},{"$f":"'Исходные данные'!$C136","v":25000},{"$f":"'Исходные данные'!$C136","v":25000},{"$f":"'Исходные данные'!$C136","v":25000},{"$f":"'Исходные данные'!$C136","v":25000},{"$f":"'Исходные данные'!$C136","v":25000},{"$f":"'Исходные данные'!$C136","v":25000},{"$f":"'Исходные данные'!$C136","v":25000},{"$f":"'Исходные данные'!$C136","v":25000},{"$f":"'Исходные данные'!$C136","v":25000},{"$f":"'Исходные данные'!$C136","v":25000},{"$f":"'Исходные данные'!$C136","v":25000},{"$f":"'Исходные данные'!$C136","v":25000},{"$f":"'Исходные данные'!$C136","v":25000},{"$f":"'Исходные данные'!$C136","v":25000},{"$f":"'Исходные данные'!$C136","v":25000},{"$f":"'Исходные данные'!$C136","v":25000},{"$f":"'Исходные данные'!$C136","v":25000},{"$f":"'Исходные данные'!$C136","v":25000},{"$f":"'Исходные данные'!$C136","v":25000},{"$f":"'Исходные данные'!$C136","v":25000},{"$f":"'Исходные данные'!$C136","v":25000},{"$f":"'Исходные данные'!$C136","v":25000},{"$f":"'Исходные данные'!$C136","v":25000},{"$f":"'Исходные данные'!$C136","v":25000},{"$f":"'Исходные данные'!$C136","v":25000},{"$f":"'Исходные данные'!$C136","v":25000},{"$f":"'Исходные данные'!$C136","v":25000},{"$f":"'Исходные данные'!$C136","v":25000},{"$f":"'Исходные данные'!$C136","v":25000},{"$f":"'Исходные данные'!$C136","v":25000},{"$f":"'Исходные данные'!$C136","v":25000},{"$f":"'Исходные данные'!$C136","v":25000},{"$f":"'Исходные данные'!$C136","v":25000},{"$f":"'Исходные данные'!$C136","v":25000},{"$f":"'Исходные данные'!$C136","v":25000},{"$f":"'Исходные данные'!$C136","v":25000},{"$f":"'Исходные данные'!$C136","v":25000},{"$f":"'Исходные данные'!$C136","v":25000},{"$f":"'Исходные данные'!$C136","v":25000},{"$f":"'Исходные данные'!$C136","v":25000},{"$f":"'Исходные данные'!$C136","v":25000},{"$f":"'Исходные данные'!$C136","v":25000},{"$f":"'Исходные данные'!$C136","v":25000},{"$f":"'Исходные данные'!$C136","v":25000},{"$f":"'Исходные данные'!$C136","v":25000},{"$f":"'Исходные данные'!$C136","v":25000},{"$f":"'Исходные данные'!$C136","v":25000},{"$f":"'Исходные данные'!$C136","v":25000},{"$f":"'Исходные данные'!$C136","v":25000},{"$f":"'Исходные данные'!$C136","v":25000},{"$f":"'Исходные данные'!$C136","v":25000},{"$f":"'Исходные данные'!$C136","v":25000},{"$f":"'Исходные данные'!$C136","v":25000},{"$f":"'Исходные данные'!$C136","v":25000},{"$f":"'Исходные данные'!$C136","v":25000},{"$f":"'Исходные данные'!$C136","v":25000}]
[{"$f":"IF(OR('Исходные данные'!B137=0,'Исходные данные'!B137=\"\"),\"\",'Исходные данные'!B137)","v":"Затраты на электроэнергию"},1200000,null,{"$f":"'Исходные данные'!$C137","v":20000},{"$f":"'Исходные данные'!$C137","v":20000},{"$f":"'Исходные данные'!$C137","v":20000},{"$f":"'Исходные данные'!$C137","v":20000},{"$f":"'Исходные данные'!$C137","v":20000},{"$f":"'Исходные данные'!$C137","v":20000},{"$f":"'Исходные данные'!$C137","v":20000},{"$f":"'Исходные данные'!$C137","v":20000},{"$f":"'Исходные данные'!$C137","v":20000},{"$f":"'Исходные данные'!$C137","v":20000},{"$f":"'Исходные данные'!$C137","v":20000},{"$f":"'Исходные данные'!$C137","v":20000},{"$f":"'Исходные данные'!$C137","v":20000},{"$f":"'Исходные данные'!$C137","v":20000},{"$f":"'Исходные данные'!$C137","v":20000},{"$f":"'Исходные данные'!$C137","v":20000},{"$f":"'Исходные данные'!$C137","v":20000},{"$f":"'Исходные данные'!$C137","v":20000},{"$f":"'Исходные данные'!$C137","v":20000},{"$f":"'Исходные данные'!$C137","v":20000},{"$f":"'Исходные данные'!$C137","v":20000},{"$f":"'Исходные данные'!$C137","v":20000},{"$f":"'Исходные данные'!$C137","v":20000},{"$f":"'Исходные данные'!$C137","v":20000},{"$f":"'Исходные данные'!$C137","v":20000},{"$f":"'Исходные данные'!$C137","v":20000},{"$f":"'Исходные данные'!$C137","v":20000},{"$f":"'Исходные данные'!$C137","v":20000},{"$f":"'Исходные данные'!$C137","v":20000},{"$f":"'Исходные данные'!$C137","v":20000},{"$f":"'Исходные данные'!$C137","v":20000},{"$f":"'Исходные данные'!$C137","v":20000},{"$f":"'Исходные данные'!$C137","v":20000},{"$f":"'Исходные данные'!$C137","v":20000},{"$f":"'Исходные данные'!$C137","v":20000},{"$f":"'Исходные данные'!$C137","v":20000},{"$f":"'Исходные данные'!$C137","v":20000},{"$f":"'Исходные данные'!$C137","v":20000},{"$f":"'Исходные данные'!$C137","v":20000},{"$f":"'Исходные данные'!$C137","v":20000},{"$f":"'Исходные данные'!$C137","v":20000},{"$f":"'Исходные данные'!$C137","v":20000},{"$f":"'Исходные данные'!$C137","v":20000},{"$f":"'Исходные данные'!$C137","v":20000},{"$f":"'Исходные данные'!$C137","v":20000},{"$f":"'Исходные данные'!$C137","v":20000},{"$f":"'Исходные данные'!$C137","v":20000},{"$f":"'Исходные данные'!$C137","v":20000},{"$f":"'Исходные данные'!$C137","v":20000},{"$f":"'Исходные данные'!$C137","v":20000},{"$f":"'Исходные данные'!$C137","v":20000},{"$f":"'Исходные данные'!$C137","v":20000},{"$f":"'Исходные данные'!$C137","v":20000},{"$f":"'Исходные данные'!$C137","v":20000},{"$f":"'Исходные данные'!$C137","v":20000},{"$f":"'Исходные данные'!$C137","v":20000},{"$f":"'Исходные данные'!$C137","v":20000},{"$f":"'Исходные данные'!$C137","v":20000},{"$f":"'Исходные данные'!$C137","v":20000},{"$f":"'Исходные данные'!$C137","v":20000}]
[{"$f":"IF(OR('Исходные данные'!B138=0,'Исходные данные'!B138=\"\"),\"\",'Исходные данные'!B138)","v":"Канцелярские расходы"},60000,null,{"$f":"'Исходные данные'!$C138","v":1000},{"$f":"'Исходные данные'!$C138","v":1000},{"$f":"'Исходные данные'!$C138","v":1000},{"$f":"'Исходные данные'!$C138","v":1000},{"$f":"'Исходные данные'!$C138","v":1000},{"$f":"'Исходные данные'!$C138","v":1000},{"$f":"'Исходные данные'!$C138","v":1000},{"$f":"'Исходные данные'!$C138","v":1000},{"$f":"'Исходные данные'!$C138","v":1000},{"$f":"'Исходные данные'!$C138","v":1000},{"$f":"'Исходные данные'!$C138","v":1000},{"$f":"'Исходные данные'!$C138","v":1000},{"$f":"'Исходные данные'!$C138","v":1000},{"$f":"'Исходные данные'!$C138","v":1000},{"$f":"'Исходные данные'!$C138","v":1000},{"$f":"'Исходные данные'!$C138","v":1000},{"$f":"'Исходные данные'!$C138","v":1000},{"$f":"'Исходные данные'!$C138","v":1000},{"$f":"'Исходные данные'!$C138","v":1000},{"$f":"'Исходные данные'!$C138","v":1000},{"$f":"'Исходные данные'!$C138","v":1000},{"$f":"'Исходные данные'!$C138","v":1000},{"$f":"'Исходные данные'!$C138","v":1000},{"$f":"'Исходные данные'!$C138","v":1000},{"$f":"'Исходные данные'!$C138","v":1000},{"$f":"'Исходные данные'!$C138","v":1000},{"$f":"'Исходные данные'!$C138","v":1000},{"$f":"'Исходные данные'!$C138","v":1000},{"$f":"'Исходные данные'!$C138","v":1000},{"$f":"'Исходные данные'!$C138","v":1000},{"$f":"'Исходные данные'!$C138","v":1000},{"$f":"'Исходные данные'!$C138","v":1000},{"$f":"'Исходные данные'!$C138","v":1000},{"$f":"'Исходные данные'!$C138","v":1000},{"$f":"'Исходные данные'!$C138","v":1000},{"$f":"'Исходные данные'!$C138","v":1000},{"$f":"'Исходные данные'!$C138","v":1000},{"$f":"'Исходные данные'!$C138","v":1000},{"$f":"'Исходные данные'!$C138","v":1000},{"$f":"'Исходные данные'!$C138","v":1000},{"$f":"'Исходные данные'!$C138","v":1000},{"$f":"'Исходные данные'!$C138","v":1000},{"$f":"'Исходные данные'!$C138","v":1000},{"$f":"'Исходные данные'!$C138","v":1000},{"$f":"'Исходные данные'!$C138","v":1000},{"$f":"'Исходные данные'!$C138","v":1000},{"$f":"'Исходные данные'!$C138","v":1000},{"$f":"'Исходные данные'!$C138","v":1000},{"$f":"'Исходные данные'!$C138","v":1000},{"$f":"'Исходные данные'!$C138","v":1000},{"$f":"'Исходные данные'!$C138","v":1000},{"$f":"'Исходные данные'!$C138","v":1000},{"$f":"'Исходные данные'!$C138","v":1000},{"$f":"'Исходные данные'!$C138","v":1000},{"$f":"'Исходные данные'!$C138","v":1000},{"$f":"'Исходные данные'!$C138","v":1000},{"$f":"'Исходные данные'!$C138","v":1000},{"$f":"'Исходные данные'!$C138","v":1000},{"$f":"'Исходные данные'!$C138","v":1000},{"$f":"'Исходные данные'!$C138","v":1000}]
[{"$f":"IF(OR('Исходные данные'!B139=0,'Исходные данные'!B139=\"\"),\"\",'Исходные данные'!B139)","v":"Коммунальные расходы"},0,null,{"$f":"'Исходные данные'!$C139","v":0},{"$f":"'Исходные данные'!$C139","v":0},{"$f":"'Исходные данные'!$C139","v":0},{"$f":"'Исходные данные'!$C139","v":0},{"$f":"'Исходные данные'!$C139","v":0},{"$f":"'Исходные данные'!$C139","v":0},{"$f":"'Исходные данные'!$C139","v":0},{"$f":"'Исходные данные'!$C139","v":0},{"$f":"'Исходные данные'!$C139","v":0},{"$f":"'Исходные данные'!$C139","v":0},{"$f":"'Исходные данные'!$C139","v":0},{"$f":"'Исходные данные'!$C139","v":0},{"$f":"'Исходные данные'!$C139","v":0},{"$f":"'Исходные данные'!$C139","v":0},{"$f":"'Исходные данные'!$C139","v":0},{"$f":"'Исходные данные'!$C139","v":0},{"$f":"'Исходные данные'!$C139","v":0},{"$f":"'Исходные данные'!$C139","v":0},{"$f":"'Исходные данные'!$C139","v":0},{"$f":"'Исходные данные'!$C139","v":0},{"$f":"'Исходные данные'!$C139","v":0},{"$f":"'Исходные данные'!$C139","v":0},{"$f":"'Исходные данные'!$C139","v":0},{"$f":"'Исходные данные'!$C139","v":0},{"$f":"'Исходные данные'!$C139","v":0},{"$f":"'Исходные данные'!$C139","v":0},{"$f":"'Исходные данные'!$C139","v":0},{"$f":"'Исходные данные'!$C139","v":0},{"$f":"'Исходные данные'!$C139","v":0},{"$f":"'Исходные данные'!$C139","v":0},{"$f":"'Исходные данные'!$C139","v":0},{"$f":"'Исходные данные'!$C139","v":0},{"$f":"'Исходные данные'!$C139","v":0},{"$f":"'Исходные данные'!$C139","v":0},{"$f":"'Исходные данные'!$C139","v":0},{"$f":"'Исходные данные'!$C139","v":0},{"$f":"'Исходные данные'!$C139","v":0},{"$f":"'Исходные данные'!$C139","v":0},{"$f":"'Исходные данные'!$C139","v":0},{"$f":"'Исходные данные'!$C139","v":0},{"$f":"'Исходные данные'!$C139","v":0},{"$f":"'Исходные данные'!$C139","v":0},{"$f":"'Исходные данные'!$C139","v":0},{"$f":"'Исходные данные'!$C139","v":0},{"$f":"'Исходные данные'!$C139","v":0},{"$f":"'Исходные данные'!$C139","v":0},{"$f":"'Исходные данные'!$C139","v":0},{"$f":"'Исходные данные'!$C139","v":0},{"$f":"'Исходные данные'!$C139","v":0},{"$f":"'Исходные данные'!$C139","v":0},{"$f":"'Исходные данные'!$C139","v":0},{"$f":"'Исходные данные'!$C139","v":0},{"$f":"'Исходные данные'!$C139","v":0},{"$f":"'Исходные данные'!$C139","v":0},{"$f":"'Исходные данные'!$C139","v":0},{"$f":"'Исходные данные'!$C139","v":0},{"$f":"'Исходные данные'!$C139","v":0},{"$f":"'Исходные данные'!$C139","v":0},{"$f":"'Исходные данные'!$C139","v":0},{"$f":"'Исходные данные'!$C139","v":0}]
[{"$f":"IF(OR('Исходные данные'!B140=0,'Исходные данные'!B140=\"\"),\"\",'Исходные данные'!B140)","v":"Прочие затраты"},600000,null,{"$f":"'Исходные данные'!$C140","v":10000},{"$f":"'Исходные данные'!$C140","v":10000},{"$f":"'Исходные данные'!$C140","v":10000},{"$f":"'Исходные данные'!$C140","v":10000},{"$f":"'Исходные данные'!$C140","v":10000},{"$f":"'Исходные данные'!$C140","v":10000},{"$f":"'Исходные данные'!$C140","v":10000},{"$f":"'Исходные данные'!$C140","v":10000},{"$f":"'Исходные данные'!$C140","v":10000},{"$f":"'Исходные данные'!$C140","v":10000},{"$f":"'Исходные данные'!$C140","v":10000},{"$f":"'Исходные данные'!$C140","v":10000},{"$f":"'Исходные данные'!$C140","v":10000},{"$f":"'Исходные данные'!$C140","v":10000},{"$f":"'Исходные данные'!$C140","v":10000},{"$f":"'Исходные данные'!$C140","v":10000},{"$f":"'Исходные данные'!$C140","v":10000},{"$f":"'Исходные данные'!$C140","v":10000},{"$f":"'Исходные данные'!$C140","v":10000},{"$f":"'Исходные данные'!$C140","v":10000},{"$f":"'Исходные данные'!$C140","v":10000},{"$f":"'Исходные данные'!$C140","v":10000},{"$f":"'Исходные данные'!$C140","v":10000},{"$f":"'Исходные данные'!$C140","v":10000},{"$f":"'Исходные данные'!$C140","v":10000},{"$f":"'Исходные данные'!$C140","v":10000},{"$f":"'Исходные данные'!$C140","v":10000},{"$f":"'Исходные данные'!$C140","v":10000},{"$f":"'Исходные данные'!$C140","v":10000},{"$f":"'Исходные данные'!$C140","v":10000},{"$f":"'Исходные данные'!$C140","v":10000},{"$f":"'Исходные данные'!$C140","v":10000},{"$f":"'Исходные данные'!$C140","v":10000},{"$f":"'Исходные данные'!$C140","v":10000},{"$f":"'Исходные данные'!$C140","v":10000},{"$f":"'Исходные данные'!$C140","v":10000},{"$f":"'Исходные данные'!$C140","v":10000},{"$f":"'Исходные данные'!$C140","v":10000},{"$f":"'Исходные данные'!$C140","v":10000},{"$f":"'Исходные данные'!$C140","v":10000},{"$f":"'Исходные данные'!$C140","v":10000},{"$f":"'Исходные данные'!$C140","v":10000},{"$f":"'Исходные данные'!$C140","v":10000},{"$f":"'Исходные данные'!$C140","v":10000},{"$f":"'Исходные данные'!$C140","v":10000},{"$f":"'Исходные данные'!$C140","v":10000},{"$f":"'Исходные данные'!$C140","v":10000},{"$f":"'Исходные данные'!$C140","v":10000},{"$f":"'Исходные данные'!$C140","v":10000},{"$f":"'Исходные данные'!$C140","v":10000},{"$f":"'Исходные данные'!$C140","v":10000},{"$f":"'Исходные данные'!$C140","v":10000},{"$f":"'Исходные данные'!$C140","v":10000},{"$f":"'Исходные данные'!$C140","v":10000},{"$f":"'Исходные данные'!$C140","v":10000},{"$f":"'Исходные данные'!$C140","v":10000},{"$f":"'Исходные данные'!$C140","v":10000},{"$f":"'Исходные данные'!$C140","v":10000},{"$f":"'Исходные данные'!$C140","v":10000},{"$f":"'Исходные данные'!$C140","v":10000}]
[{"$f":"IF(OR('Исходные данные'!B141=0,'Исходные данные'!B141=\"\"),\"\",'Исходные данные'!B141)","v":"Вывоз мусора"},60000,null,{"$f":"'Исходные данные'!$C141","v":1000},{"$f":"'Исходные данные'!$C141","v":1000},{"$f":"'Исходные данные'!$C141","v":1000},{"$f":"'Исходные данные'!$C141","v":1000},{"$f":"'Исходные данные'!$C141","v":1000},{"$f":"'Исходные данные'!$C141","v":1000},{"$f":"'Исходные данные'!$C141","v":1000},{"$f":"'Исходные данные'!$C141","v":1000},{"$f":"'Исходные данные'!$C141","v":1000},{"$f":"'Исходные данные'!$C141","v":1000},{"$f":"'Исходные данные'!$C141","v":1000},{"$f":"'Исходные данные'!$C141","v":1000},{"$f":"'Исходные данные'!$C141","v":1000},{"$f":"'Исходные данные'!$C141","v":1000},{"$f":"'Исходные данные'!$C141","v":1000},{"$f":"'Исходные данные'!$C141","v":1000},{"$f":"'Исходные данные'!$C141","v":1000},{"$f":"'Исходные данные'!$C141","v":1000},{"$f":"'Исходные данные'!$C141","v":1000},{"$f":"'Исходные данные'!$C141","v":1000},{"$f":"'Исходные данные'!$C141","v":1000},{"$f":"'Исходные данные'!$C141","v":1000},{"$f":"'Исходные данные'!$C141","v":1000},{"$f":"'Исходные данные'!$C141","v":1000},{"$f":"'Исходные данные'!$C141","v":1000},{"$f":"'Исходные данные'!$C141","v":1000},{"$f":"'Исходные данные'!$C141","v":1000},{"$f":"'Исходные данные'!$C141","v":1000},{"$f":"'Исходные данные'!$C141","v":1000},{"$f":"'Исходные данные'!$C141","v":1000},{"$f":"'Исходные данные'!$C141","v":1000},{"$f":"'Исходные данные'!$C141","v":1000},{"$f":"'Исходные данные'!$C141","v":1000},{"$f":"'Исходные данные'!$C141","v":1000},{"$f":"'Исходные данные'!$C141","v":1000},{"$f":"'Исходные данные'!$C141","v":1000},{"$f":"'Исходные данные'!$C141","v":1000},{"$f":"'Исходные данные'!$C141","v":1000},{"$f":"'Исходные данные'!$C141","v":1000},{"$f":"'Исходные данные'!$C141","v":1000},{"$f":"'Исходные данные'!$C141","v":1000},{"$f":"'Исходные данные'!$C141","v":1000},{"$f":"'Исходные данные'!$C141","v":1000},{"$f":"'Исходные данные'!$C141","v":1000},{"$f":"'Исходные данные'!$C141","v":1000},{"$f":"'Исходные данные'!$C141","v":1000},{"$f":"'Исходные данные'!$C141","v":1000},{"$f":"'Исходные данные'!$C141","v":1000},{"$f":"'Исходные данные'!$C141","v":1000},{"$f":"'Исходные данные'!$C141","v":1000},{"$f":"'Исходные данные'!$C141","v":1000},{"$f":"'Исходные данные'!$C141","v":1000},{"$f":"'Исходные данные'!$C141","v":1000},{"$f":"'Исходные данные'!$C141","v":1000},{"$f":"'Исходные данные'!$C141","v":1000},{"$f":"'Исходные данные'!$C141","v":1000},{"$f":"'Исходные данные'!$C141","v":1000},{"$f":"'Исходные данные'!$C141","v":1000},{"$f":"'Исходные данные'!$C141","v":1000},{"$f":"'Исходные данные'!$C141","v":1000}]
[{"$f":"IF(OR('Исходные данные'!B142=0,'Исходные данные'!B142=\"\"),\"\",'Исходные данные'!B142)","v":""},0,null,{"$f":"'Исходные данные'!$C142","v":0},{"$f":"'Исходные данные'!$C142","v":0},{"$f":"'Исходные данные'!$C142","v":0},{"$f":"'Исходные данные'!$C142","v":0},{"$f":"'Исходные данные'!$C142","v":0},{"$f":"'Исходные данные'!$C142","v":0},{"$f":"'Исходные данные'!$C142","v":0},{"$f":"'Исходные данные'!$C142","v":0},{"$f":"'Исходные данные'!$C142","v":0},{"$f":"'Исходные данные'!$C142","v":0},{"$f":"'Исходные данные'!$C142","v":0},{"$f":"'Исходные данные'!$C142","v":0},{"$f":"'Исходные данные'!$C142","v":0},{"$f":"'Исходные данные'!$C142","v":0},{"$f":"'Исходные данные'!$C142","v":0},{"$f":"'Исходные данные'!$C142","v":0},{"$f":"'Исходные данные'!$C142","v":0},{"$f":"'Исходные данные'!$C142","v":0},{"$f":"'Исходные данные'!$C142","v":0},{"$f":"'Исходные данные'!$C142","v":0},{"$f":"'Исходные данные'!$C142","v":0},{"$f":"'Исходные данные'!$C142","v":0},{"$f":"'Исходные данные'!$C142","v":0},{"$f":"'Исходные данные'!$C142","v":0},{"$f":"'Исходные данные'!$C142","v":0},{"$f":"'Исходные данные'!$C142","v":0},{"$f":"'Исходные данные'!$C142","v":0},{"$f":"'Исходные данные'!$C142","v":0},{"$f":"'Исходные данные'!$C142","v":0},{"$f":"'Исходные данные'!$C142","v":0},{"$f":"'Исходные данные'!$C142","v":0},{"$f":"'Исходные данные'!$C142","v":0},{"$f":"'Исходные данные'!$C142","v":0},{"$f":"'Исходные данные'!$C142","v":0},{"$f":"'Исходные данные'!$C142","v":0},{"$f":"'Исходные данные'!$C142","v":0},{"$f":"'Исходные данные'!$C142","v":0},{"$f":"'Исходные данные'!$C142","v":0},{"$f":"'Исходные данные'!$C142","v":0},{"$f":"'Исходные данные'!$C142","v":0},{"$f":"'Исходные данные'!$C142","v":0},{"$f":"'Исходные данные'!$C142","v":0},{"$f":"'Исходные данные'!$C142","v":0},{"$f":"'Исходные данные'!$C142","v":0},{"$f":"'Исходные данные'!$C142","v":0},{"$f":"'Исходные данные'!$C142","v":0},{"$f":"'Исходные данные'!$C142","v":0},{"$f":"'Исходные данные'!$C142","v":0},{"$f":"'Исходные данные'!$C142","v":0},{"$f":"'Исходные данные'!$C142","v":0},{"$f":"'Исходные данные'!$C142","v":0},{"$f":"'Исходные данные'!$C142","v":0},{"$f":"'Исходные данные'!$C142","v":0},{"$f":"'Исходные данные'!$C142","v":0},{"$f":"'Исходные данные'!$C142","v":0},{"$f":"'Исходные данные'!$C142","v":0},{"$f":"'Исходные данные'!$C142","v":0},{"$f":"'Исходные данные'!$C142","v":0},{"$f":"'Исходные данные'!$C142","v":0},{"$f":"'Исходные данные'!$C142","v":0}]
[{"$f":"IF(OR('Исходные данные'!B143=0,'Исходные данные'!B143=\"\"),\"\",'Исходные данные'!B143)","v":""},0,null,{"$f":"'Исходные данные'!$C143","v":0},{"$f":"'Исходные данные'!$C143","v":0},{"$f":"'Исходные данные'!$C143","v":0},{"$f":"'Исходные данные'!$C143","v":0},{"$f":"'Исходные данные'!$C143","v":0},{"$f":"'Исходные данные'!$C143","v":0},{"$f":"'Исходные данные'!$C143","v":0},{"$f":"'Исходные данные'!$C143","v":0},{"$f":"'Исходные данные'!$C143","v":0},{"$f":"'Исходные данные'!$C143","v":0},{"$f":"'Исходные данные'!$C143","v":0},{"$f":"'Исходные данные'!$C143","v":0},{"$f":"'Исходные данные'!$C143","v":0},{"$f":"'Исходные данные'!$C143","v":0},{"$f":"'Исходные данные'!$C143","v":0},{"$f":"'Исходные данные'!$C143","v":0},{"$f":"'Исходные данные'!$C143","v":0},{"$f":"'Исходные данные'!$C143","v":0},{"$f":"'Исходные данные'!$C143","v":0},{"$f":"'Исходные данные'!$C143","v":0},{"$f":"'Исходные данные'!$C143","v":0},{"$f":"'Исходные данные'!$C143","v":0},{"$f":"'Исходные данные'!$C143","v":0},{"$f":"'Исходные данные'!$C143","v":0},{"$f":"'Исходные данные'!$C143","v":0},{"$f":"'Исходные данные'!$C143","v":0},{"$f":"'Исходные данные'!$C143","v":0},{"$f":"'Исходные данные'!$C143","v":0},{"$f":"'Исходные данные'!$C143","v":0},{"$f":"'Исходные данные'!$C143","v":0},{"$f":"'Исходные данные'!$C143","v":0},{"$f":"'Исходные данные'!$C143","v":0},{"$f":"'Исходные данные'!$C143","v":0},{"$f":"'Исходные данные'!$C143","v":0},{"$f":"'Исходные данные'!$C143","v":0},{"$f":"'Исходные данные'!$C143","v":0},{"$f":"'Исходные данные'!$C143","v":0},{"$f":"'Исходные данные'!$C143","v":0},{"$f":"'Исходные данные'!$C143","v":0},{"$f":"'Исходные данные'!$C143","v":0},{"$f":"'Исходные данные'!$C143","v":0},{"$f":"'Исходные данные'!$C143","v":0},{"$f":"'Исходные данные'!$C143","v":0},{"$f":"'Исходные данные'!$C143","v":0},{"$f":"'Исходные данные'!$C143","v":0},{"$f":"'Исходные данные'!$C143","v":0},{"$f":"'Исходные данные'!$C143","v":0},{"$f":"'Исходные данные'!$C143","v":0},{"$f":"'Исходные данные'!$C143","v":0},{"$f":"'Исходные данные'!$C143","v":0},{"$f":"'Исходные данные'!$C143","v":0},{"$f":"'Исходные данные'!$C143","v":0},{"$f":"'Исходные данные'!$C143","v":0},{"$f":"'Исходные данные'!$C143","v":0},{"$f":"'Исходные данные'!$C143","v":0},{"$f":"'Исходные данные'!$C143","v":0},{"$f":"'Исходные данные'!$C143","v":0},{"$f":"'Исходные данные'!$C143","v":0},{"$f":"'Исходные данные'!$C143","v":0},{"$f":"'Исходные данные'!$C143","v":0}]
[{"$f":"IF(OR('Исходные данные'!B144=0,'Исходные данные'!B144=\"\"),\"\",'Исходные данные'!B144)","v":""},0,null,{"$f":"'Исходные данные'!$C144","v":0},{"$f":"'Исходные данные'!$C144","v":0},{"$f":"'Исходные данные'!$C144","v":0},{"$f":"'Исходные данные'!$C144","v":0},{"$f":"'Исходные данные'!$C144","v":0},{"$f":"'Исходные данные'!$C144","v":0},{"$f":"'Исходные данные'!$C144","v":0},{"$f":"'Исходные данные'!$C144","v":0},{"$f":"'Исходные данные'!$C144","v":0},{"$f":"'Исходные данные'!$C144","v":0},{"$f":"'Исходные данные'!$C144","v":0},{"$f":"'Исходные данные'!$C144","v":0},{"$f":"'Исходные данные'!$C144","v":0},{"$f":"'Исходные данные'!$C144","v":0},{"$f":"'Исходные данные'!$C144","v":0},{"$f":"'Исходные данные'!$C144","v":0},{"$f":"'Исходные данные'!$C144","v":0},{"$f":"'Исходные данные'!$C144","v":0},{"$f":"'Исходные данные'!$C144","v":0},{"$f":"'Исходные данные'!$C144","v":0},{"$f":"'Исходные данные'!$C144","v":0},{"$f":"'Исходные данные'!$C144","v":0},{"$f":"'Исходные данные'!$C144","v":0},{"$f":"'Исходные данные'!$C144","v":0},{"$f":"'Исходные данные'!$C144","v":0},{"$f":"'Исходные данные'!$C144","v":0},{"$f":"'Исходные данные'!$C144","v":0},{"$f":"'Исходные данные'!$C144","v":0},{"$f":"'Исходные данные'!$C144","v":0},{"$f":"'Исходные данные'!$C144","v":0},{"$f":"'Исходные данные'!$C144","v":0},{"$f":"'Исходные данные'!$C144","v":0},{"$f":"'Исходные данные'!$C144","v":0},{"$f":"'Исходные данные'!$C144","v":0},{"$f":"'Исходные данные'!$C144","v":0},{"$f":"'Исходные данные'!$C144","v":0},{"$f":"'Исходные данные'!$C144","v":0},{"$f":"'Исходные данные'!$C144","v":0},{"$f":"'Исходные данные'!$C144","v":0},{"$f":"'Исходные данные'!$C144","v":0},{"$f":"'Исходные данные'!$C144","v":0},{"$f":"'Исходные данные'!$C144","v":0},{"$f":"'Исходные данные'!$C144","v":0},{"$f":"'Исходные данные'!$C144","v":0},{"$f":"'Исходные данные'!$C144","v":0},{"$f":"'Исходные данные'!$C144","v":0},{"$f":"'Исходные данные'!$C144","v":0},{"$f":"'Исходные данные'!$C144","v":0},{"$f":"'Исходные данные'!$C144","v":0},{"$f":"'Исходные данные'!$C144","v":0},{"$f":"'Исходные данные'!$C144","v":0},{"$f":"'Исходные данные'!$C144","v":0},{"$f":"'Исходные данные'!$C144","v":0},{"$f":"'Исходные данные'!$C144","v":0},{"$f":"'Исходные данные'!$C144","v":0},{"$f":"'Исходные данные'!$C144","v":0},{"$f":"'Исходные данные'!$C144","v":0},{"$f":"'Исходные данные'!$C144","v":0},{"$f":"'Исходные данные'!$C144","v":0},{"$f":"'Исходные данные'!$C144","v":0}]
[{"$f":"\"Уплата налога \"&'Исходные данные'!C8","v":"Уплата налога УСН доходы"},1481262.8743337113,null,{"$f":"Налоги!E32","v":0},{"$f":"Налоги!F32","v":0},{"$f":"Налоги!G32","v":15183.599999999999},{"$f":"Налоги!H32","v":0},{"$f":"Налоги!I32","v":0},{"$f":"Налоги!J32","v":58458.866749999994},{"$f":"Налоги!K32","v":0},{"$f":"Налоги!L32","v":0},{"$f":"Налоги!M32","v":66446.065500000026},{"$f":"Налоги!N32","v":0},{"$f":"Налоги!O32","v":0},{"$f":"Налоги!P32","v":167369.52124999999},{"$f":"Налоги!Q32","v":0},{"$f":"Налоги!R32","v":0},{"$f":"Налоги!S32","v":66367.8},{"$f":"Налоги!T32","v":0},{"$f":"Налоги!U32","v":0},{"$f":"Налоги!V32","v":0},{"$f":"Налоги!W32","v":0},{"$f":"Налоги!X32","v":0},{"$f":"Налоги!Y32","v":65040.105737500024},{"$f":"Налоги!Z32","v":0},{"$f":"Налоги!AA32","v":0},{"$f":"Налоги!AB32","v":163045.39549999998},{"$f":"Налоги!AC32","v":0},{"$f":"Налоги!AD32","v":0},{"$f":"Налоги!AE32","v":66367.8},{"$f":"Налоги!AF32","v":0},{"$f":"Налоги!AG32","v":0},{"$f":"Налоги!AH32","v":0},{"$f":"Налоги!AI32","v":0},{"$f":"Налоги!AJ32","v":0},{"$f":"Налоги!AK32","v":64090.796302875002},{"$f":"Налоги!AL32","v":0},{"$f":"Налоги!AM32","v":0},{"$f":"Налоги!AN32","v":163045.39549999998},{"$f":"Налоги!AO32","v":0},{"$f":"Налоги!AP32","v":0},{"$f":"Налоги!AQ32","v":66367.8},{"$f":"Налоги!AR32","v":0},{"$f":"Налоги!AS32","v":0},{"$f":"Налоги!AT32","v":0},{"$f":"Налоги!AU32","v":0},{"$f":"Налоги!AV32","v":0},{"$f":"Налоги!AW32","v":62271.275585913783},{"$f":"Налоги!AX32","v":0},{"$f":"Налоги!AY32","v":0},{"$f":"Налоги!AZ32","v":163045.39549999998},{"$f":"Налоги!BA32","v":0},{"$f":"Налоги!BB32","v":0},{"$f":"Налоги!BC32","v":66367.8},{"$f":"Налоги!BD32","v":0},{"$f":"Налоги!BE32","v":0},{"$f":"Налоги!BF32","v":0},{"$f":"Налоги!BG32","v":0},{"$f":"Налоги!BH32","v":0},{"$f":"Налоги!BI32","v":64749.861207422633},{"$f":"Налоги!BJ32","v":0},{"$f":"Налоги!BK32","v":0},{"$f":"Налоги!BL32","v":163045.39549999998}]
[{"$f":"'Исходные данные'!B152","v":"Роялти"},0,null,{"$f":"'Исходные данные'!$C$152*'План продаж'!D32","v":0},{"$f":"'Исходные данные'!$C$152*'План продаж'!E32","v":0},{"$f":"'Исходные данные'!$C$152*'План продаж'!F32","v":0},{"$f":"'Исходные данные'!$C$152*'План продаж'!G32","v":0},{"$f":"'Исходные данные'!$C$152*'План продаж'!H32","v":0},{"$f":"'Исходные данные'!$C$152*'План продаж'!I32","v":0},{"$f":"'Исходные данные'!$C$152*'План продаж'!J32","v":0},{"$f":"'Исходные данные'!$C$152*'План продаж'!K32","v":0},{"$f":"'Исходные данные'!$C$152*'План продаж'!L32","v":0},{"$f":"'Исходные данные'!$C$152*'План продаж'!M32","v":0},{"$f":"'Исходные данные'!$C$152*'План продаж'!N32","v":0},{"$f":"'Исходные данные'!$C$152*'План продаж'!O32","v":0},{"$f":"'Исходные данные'!$C$152*'План продаж'!P32","v":0},{"$f":"'Исходные данные'!$C$152*'План продаж'!Q32","v":0},{"$f":"'Исходные данные'!$C$152*'План продаж'!R32","v":0},{"$f":"'Исходные данные'!$C$152*'План продаж'!S32","v":0},{"$f":"'Исходные данные'!$C$152*'План продаж'!T32","v":0},{"$f":"'Исходные данные'!$C$152*'План продаж'!U32","v":0},{"$f":"'Исходные данные'!$C$152*'План продаж'!V32","v":0},{"$f":"'Исходные данные'!$C$152*'План продаж'!W32","v":0},{"$f":"'Исходные данные'!$C$152*'План продаж'!X32","v":0},{"$f":"'Исходные данные'!$C$152*'План продаж'!Y32","v":0},{"$f":"'Исходные данные'!$C$152*'План продаж'!Z32","v":0},{"$f":"'Исходные данные'!$C$152*'План продаж'!AA32","v":0},{"$f":"'Исходные данные'!$C$152*'План продаж'!AB32","v":0},{"$f":"'Исходные данные'!$C$152*'План продаж'!AC32","v":0},{"$f":"'Исходные данные'!$C$152*'План продаж'!AD32","v":0},{"$f":"'Исходные данные'!$C$152*'План продаж'!AE32","v":0},{"$f":"'Исходные данные'!$C$152*'План продаж'!AF32","v":0},{"$f":"'Исходные данные'!$C$152*'План продаж'!AG32","v":0},{"$f":"'Исходные данные'!$C$152*'План продаж'!AH32","v":0},{"$f":"'Исходные данные'!$C$152*'План продаж'!AI32","v":0},{"$f":"'Исходные данные'!$C$152*'План продаж'!AJ32","v":0},{"$f":"'Исходные данные'!$C$152*'План продаж'!AK32","v":0},{"$f":"'Исходные данные'!$C$152*'План продаж'!AL32","v":0},{"$f":"'Исходные данные'!$C$152*'План продаж'!AM32","v":0},{"$f":"'Исходные данные'!$C$152*'План продаж'!AN32","v":0},{"$f":"'Исходные данные'!$C$152*'План продаж'!AO32","v":0},{"$f":"'Исходные данные'!$C$152*'План продаж'!AP32","v":0},{"$f":"'Исходные данные'!$C$152*'План продаж'!AQ32","v":0},{"$f":"'Исходные данные'!$C$152*'План продаж'!AR32","v":0},{"$f":"'Исходные данные'!$C$152*'План продаж'!AS32","v":0},{"$f":"'Исходные данные'!$C$152*'План продаж'!AT32","v":0},{"$f":"'Исходные данные'!$C$152*'План продаж'!AU32","v":0},{"$f":"'Исходные данные'!$C$152*'План продаж'!AV32","v":0},{"$f":"'Исходные данные'!$C$152*'План продаж'!AW32","v":0},{"$f":"'Исходные данные'!$C$152*'План продаж'!AX32","v":0},{"$f":"'Исходные данные'!$C$152*'План продаж'!AY32","v":0},{"$f":"'Исходные данные'!$C$152*'План продаж'!AZ32","v":0},{"$f":"'Исходные данные'!$C$152*'План продаж'!BA32","v":0},{"$f":"'Исходные данные'!$C$152*'План продаж'!BB32","v":0},{"$f":"'Исходные данные'!$C$152*'План продаж'!BC32","v":0},{"$f":"'Исходные данные'!$C$152*'План продаж'!BD32","v":0},{"$f":"'Исходные данные'!$C$152*'План продаж'!BE32","v":0},{"$f":"'Исходные данные'!$C$152*'План продаж'!BF32","v":0},{"$f":"'Исходные данные'!$C$152*'План продаж'!BG32","v":0},{"$f":"'Исходные данные'!$C$152*'План продаж'!BH32","v":0},{"$f":"'Исходные данные'!$C$152*'План продаж'!BI32","v":0},{"$f":"'Исходные данные'!$C$152*'План продаж'!BJ32","v":0},{"$f":"'Исходные данные'!$C$152*'План продаж'!BK32","v":0}]
["Чистый операционный поток",{"$f":"B14-B15","v":9656752.8335672915},-101058.48583333332,64919.857691018202,95523.291894703754,87986.597068958916,108570.69907970086,112359.24800000002,-10188.968750000116,58952.03600000008,910601.6240000003,221582.01050000009,169560.62800000003,124101.12800000003,-27021.973249999923,122713.49800000002,55081.148000000045,66858.898000000045,139226.69799999997,111774.99800000002,48269.897999999928,58952.03600000008,910017.3740000003,222987.97026249999,169560.62800000003,123443.37800000003,-22697.847500000033,122713.49800000002,16763.998000000021,66858.898000000045,139226.69799999997,111117.24800000002,48269.897999999928,{"$f":"AH14-AH15","v":58952.03600000008},909359.6240000003,223937.27969712508,169560.62800000003,123443.37800000003,-32697.847500000033,122713.49800000002,16763.998000000021,66858.898000000045,139226.69799999997,111117.24800000002,48269.897999999928,58952.03600000008,909359.6240000003,225756.80041408632,169560.62800000003,123443.37800000003,-22697.847500000033,122713.49800000002,16763.998000000021,66858.898000000045,139226.69799999997,111117.24800000002,48269.897999999928,58952.03600000008,909359.6240000003,223278.21479257743,169560.62800000003,123443.37800000003,-81697.847500000033]
[]
["Финансовые поступления",{"$f":"SUM(B45:B48)","v":760000},{"$f":"SUM(C45:C48)","v":760000},{"$f":"SUM(D45:D48)","v":0},0,0,0,0,0,0,0,0,0,0,0,0,0,0,0,0,0,0,0,0,0,0,0,0,0,0,0,0,0,0,0,0,0,0,0,0,0,0,0,0,0,0,0,0,0,0,0,0,0,0,0,0,0,0,0,0,0,0,0]
["Поступление собственных средств",{"$f":"SUM(C45:BK45)","v":500000},{"$f":"'Исходные данные'!C207","v":500000}]
["Поступление грантов и субсидий",0,{"$f":"'Исходные данные'!C210","v":0}]
["Поступление заемных средств",100000,{"$f":"'Исходные данные'!C268","v":100000}]
["Поступление кредитных средств",160000,{"$f":"'Исходные данные'!C269","v":160000}]
["Финансовые расходы",{"$f":"SUM(B50:B53)","v":321583.33333333331},{"$f":"SUM(C50:C53)","v":0},2433.3333333333335,2433.3333333333335,2433.3333333333335,2433.3333333333335,2433.3333333333335,2433.3333333333335,2433.3333333333335,2433.3333333333335,2433.3333333333335,2433.3333333333335,102433.33333333333,2016.6666666666667,1600,1600,1600,1600,1600,1600,1600,1600,1600,1600,1600,1600,1600,1600,1600,1600,1600,1600,1600,{"$f":"SUM(AI50:AI53)","v":161600},800,0,0,0,0,0,0,0,0,0,0,0,0,0,0,0,0,0,0,0,0,0,0,0,0,0,0,0]
["Погашение займа",{"$f":"SUM(C50:BK50)","v":100000},null,{"$f":"IFERROR(HLOOKUP(D7&D6,'Исходные данные'!$D$244:$W$246,2,FALSE),0)","v":0},{"$f":"IFERROR(HLOOKUP(E7&E6,'Исходные данные'!$D$244:$W$246,2,FALSE),0)","v":0},{"$f":"IFERROR(HLOOKUP(F7&F6,'Исходные данные'!$D$244:$W$246,2,FALSE),0)","v":0},{"$f":"IFERROR(HLOOKUP(G7&G6,'Исходные данные'!$D$244:$W$246,2,FALSE),0)","v":0},{"$f":"IFERROR(HLOOKUP(H7&H6,'Исходные данные'!$D$244:$W$246,2,FALSE),0)","v":0},{"$f":"IFERROR(HLOOKUP(I7&I6,'Исходные данные'!$D$244:$W$246,2,FALSE),0)","v":0},{"$f":"IFERROR(HLOOKUP(J7&J6,'Исходные данные'!$D$244:$W$246,2,FALSE),0)","v":0},{"$f":"IFERROR(HLOOKUP(K7&K6,'Исходные данные'!$D$244:$W$246,2,FALSE),0)","v":0},{"$f":"IFERROR(HLOOKUP(L7&L6,'Исходные данные'!$D$244:$W$246,2,FALSE),0)","v":0},{"$f":"IFERROR(HLOOKUP(M7&M6,'Исходные данные'!$D$244:$W$246,2,FALSE),0)","v":0},{"$f":"IFERROR(HLOOKUP(N7&N6,'Исходные данные'!$D$244:$W$246,2,FALSE),0)","v":100000},{"$f":"IFERROR(HLOOKUP(O7&O6,'Исходные данные'!$D$244:$W$246,2,FALSE),0)","v":0},{"$f":"IFERROR(HLOOKUP(P7&P6,'Исходные данные'!$D$244:$W$246,2,FALSE),0)","v":0},{"$f":"IFERROR(HLOOKUP(Q7&Q6,'Исходные данные'!$D$244:$W$246,2,FALSE),0)","v":0},{"$f":"IFERROR(HLOOKUP(R7&R6,'Исходные данные'!$D$244:$W$246,2,FALSE),0)","v":0},{"$f":"IFERROR(HLOOKUP(S7&S6,'Исходные данные'!$D$244:$W$246,2,FALSE),0)","v":0},{"$f":"IFERROR(HLOOKUP(T7&T6,'Исходные данные'!$D$244:$W$246,2,FALSE),0)","v":0},{"$f":"IFERROR(HLOOKUP(U7&U6,'Исходные данные'!$D$244:$W$246,2,FALSE),0)","v":0},{"$f":"IFERROR(HLOOKUP(V7&V6,'Исходные данные'!$D$244:$W$246,2,FALSE),0)","v":0},{"$f":"IFERROR(HLOOKUP(W7&W6,'Исходные данные'!$D$244:$W$246,2,FALSE),0)","v":0},{"$f":"IFERROR(HLOOKUP(X7&X6,'Исходные данные'!$D$244:$W$246,2,FALSE),0)","v":0},{"$f":"IFERROR(HLOOKUP(Y7&Y6,'Исходные данные'!$D$244:$W$246,2,FALSE),0)","v":0},{"$f":"IFERROR(HLOOKUP(Z7&Z6,'Исходные данные'!$D$244:$W$246,2,FALSE),0)","v":0},{"$f":"IFERROR(HLOOKUP(AA7&AA6,'Исходные данные'!$D$244:$W$246,2,FALSE),0)","v":0},{"$f":"IFERROR(HLOOKUP(AB7&AB6,'Исходные данные'!$D$244:$W$246,2,FALSE),0)","v":0},{"$f":"IFERROR(HLOOKUP(AC7&AC6,'Исходные данные'!$D$244:$W$246,2,FALSE),0)","v":0},{"$f":"IFERROR(HLOOKUP(AD7&AD6,'Исходные данные'!$D$244:$W$246,2,FALSE),0)","v":0},{"$f":"IFERROR(HLOOKUP(AE7&AE6,'Исходные данные'!$D$244:$W$246,2,FALSE),0)","v":0},{"$f":"IFERROR(HLOOKUP(AF7&AF6,'Исходные данные'!$D$244:$W$246,2,FALSE),0)","v":0},{"$f":"IFERROR(HLOOKUP(AG7&AG6,'Исходные данные'!$D$244:$W$246,2,FALSE),0)","v":0},{"$f":"IFERROR(HLOOKUP(AH7&AH6,'Исходные данные'!$D$244:$W$246,2,FALSE),0)","v":0},{"$f":"IFERROR(HLOOKUP(AI7&AI6,'Исходные данные'!$D$244:$W$246,2,FALSE),0)","v":0},{"$f":"IFERROR(HLOOKUP(AJ7&AJ6,'Исходные данные'!$D$244:$W$246,2,FALSE),0)","v":0},{"$f":"IFERROR(HLOOKUP(AK7&AK6,'Исходные данные'!$D$244:$W$246,2,FALSE),0)","v":0},{"$f":"IFERROR(HLOOKUP(AL7&AL6,'Исходные данные'!$D$244:$W$246,2,FALSE),0)","v":0},{"$f":"IFERROR(HLOOKUP(AM7&AM6,'Исходные данные'!$D$244:$W$246,2,FALSE),0)","v":0},{"$f":"IFERROR(HLOOKUP(AN7&AN6,'Исходные данные'!$D$244:$W$246,2,FALSE),0)","v":0},{"$f":"IFERROR(HLOOKUP(AO7&AO6,'Исходные данные'!$D$244:$W$246,2,FALSE),0)","v":0},{"$f":"IFERROR(HLOOKUP(AP7&AP6,'Исходные данные'!$D$244:$W$246,2,FALSE),0)","v":0},{"$f":"IFERROR(HLOOKUP(AQ7&AQ6,'Исходные данные'!$D$244:$W$246,2,FALSE),0)","v":0},{"$f":"IFERROR(HLOOKUP(AR7&AR6,'Исходные данные'!$D$244:$W$246,2,FALSE),0)","v":0},{"$f":"IFERROR(HLOOKUP(AS7&AS6,'Исходные данные'!$D$244:$W$246,2,FALSE),0)","v":0},{"$f":"IFERROR(HLOOKUP(AT7&AT6,'Исходные данные'!$D$244:$W$246,2,FALSE),0)","v":0},{"$f":"IFERROR(HLOOKUP(AU7&AU6,'Исходные данные'!$D$244:$W$246,2,FALSE),0)","v":0},{"$f":"IFERROR(HLOOKUP(AV7&AV6,'Исходные данные'!$D$244:$W$246,2,FALSE),0)","v":0},{"$f":"IFERROR(HLOOKUP(AW7&AW6,'Исходные данные'!$D$244:$W$246,2,FALSE),0)","v":0},{"$f":"IFERROR(HLOOKUP(AX7&AX6,'Исходные данные'!$D$244:$W$246,2,FALSE),0)","v":0},{"$f":"IFERROR(HLOOKUP(AY7&AY6,'Исходные данные'!$D$244:$W$246,2,FALSE),0)","v":0},{"$f":"IFERROR(HLOOKUP(AZ7&AZ6,'Исходные данные'!$D$244:$W$246,2,FALSE),0)","v":0},{"$f":"IFERROR(HLOOKUP(BA7&BA6,'Исходные данные'!$D$244:$W$246,2,FALSE),0)","v":0},{"$f":"IFERROR(HLOOKUP(BB7&BB6,'Исходные данные'!$D$244:$W$246,2,FALSE),0)","v":0},{"$f":"IFERROR(HLOOKUP(BC7&BC6,'Исходные данные'!$D$244:$W$246,2,FALSE),0)","v":0},{"$f":"IFERROR(HLOOKUP(BD7&BD6,'Исходные данные'!$D$244:$W$246,2,FALSE),0)","v":0},{"$f":"IFERROR(HLOOKUP(BE7&BE6,'Исходные данные'!$D$244:$W$246,2,FALSE),0)","v":0},{"$f":"IFERROR(HLOOKUP(BF7&BF6,'Исходные данные'!$D$244:$W$246,2,FALSE),0)","v":0},{"$f":"IFERROR(HLOOKUP(BG7&BG6,'Исходные данные'!$D$244:$W$246,2,FALSE),0)","v":0},{"$f":"IFERROR(HLOOKUP(BH7&BH6,'Исходные данные'!$D$244:$W$246,2,FALSE),0)","v":0},{"$f":"IFERROR(HLOOKUP(BI7&BI6,'Исходные данные'!$D$244:$W$246,2,FALSE),0)","v":0},{"$f":"IFERROR(HLOOKUP(BJ7&BJ6,'Исходные данные'!$D$244:$W$246,2,FALSE),0)","v":0},{"$f":"IFERROR(HLOOKUP(BK7&BK6,'Исходные данные'!$D$244:$W$246,2,FALSE),0)","v":0}]
["Выплаты процентов по займу",9583.3333333333321,{"$f":"'Исходные данные'!C263","v":0},{"$f":"C47*'Исходные данные'!D208/12","v":833.33333333333337},{"$f":"(C47+D131)/2*'Исходные данные'!D208/12","v":833.33333333333337},{"$f":"(D131+E131)/2*'Исходные данные'!$D$208/12","v":833.33333333333337},{"$f":"(E131+F131)/2*'Исходные данные'!$D$208/12","v":833.33333333333337},{"$f":"(F131+G131)/2*'Исходные данные'!$D$208/12","v":833.33333333333337},{"$f":"(G131+H131)/2*'Исходные данные'!$D$208/12","v":833.33333333333337},{"$f":"(H131+I131)/2*'Исходные данные'!$D$208/12","v":833.33333333333337},{"$f":"(I131+J131)/2*'Исходные данные'!$D$208/12","v":833.33333333333337},{"$f":"(J131+K131)/2*'Исходные данные'!$D$208/12","v":833.33333333333337},{"$f":"(K131+L131)/2*'Исходные данные'!$D$208/12","v":833.33333333333337},{"$f":"(L131+M131)/2*'Исходные данные'!$D$208/12","v":833.33333333333337},{"$f":"(M131+N131)/2*'Исходные данные'!$D$208/12","v":416.66666666666669},{"$f":"(N131+O131)/2*'Исходные данные'!$D$208/12","v":0},{"$f":"(O131+P131)/2*'Исходные данные'!$D$208/12","v":0},{"$f":"(P131+Q131)/2*'Исходные данные'!$D$208/12","v":0},{"$f":"(Q131+R131)/2*'Исходные данные'!$D$208/12","v":0},{"$f":"(R131+S131)/2*'Исходные данные'!$D$208/12","v":0},{"$f":"(S131+T131)/2*'Исходные данные'!$D$208/12","v":0},{"$f":"(T131+U131)/2*'Исходные данные'!$D$208/12","v":0},{"$f":"(U131+V131)/2*'Исходные данные'!$D$208/12","v":0},{"$f":"(V131+W131)/2*'Исходные данные'!$D$208/12","v":0},{"$f":"(W131+X131)/2*'Исходные данные'!$D$208/12","v":0},{"$f":"(X131+Y131)/2*'Исходные данные'!$D$208/12","v":0},{"$f":"(Y131+Z131)/2*'Исходные данные'!$D$208/12","v":0},{"$f":"(Z131+AA131)/2*'Исходные данные'!$D$208/12","v":0},{"$f":"(AA131+AB131)/2*'Исходные данные'!$D$208/12","v":0},{"$f":"(AB131+AC131)/2*'Исходные данные'!$D$208/12","v":0},{"$f":"(AC131+AD131)/2*'Исходные данные'!$D$208/12","v":0},{"$f":"(AD131+AE131)/2*'Исходные данные'!$D$208/12","v":0},{"$f":"(AE131+AF131)/2*'Исходные данные'!$D$208/12","v":0},{"$f":"(AF131+AG131)/2*'Исходные данные'!$D$208/12","v":0},{"$f":"(AG131+AH131)/2*'Исходные данные'!$D$208/12","v":0},{"$f":"(AH131+AI131)/2*'Исходные данные'!$D$208/12","v":0},{"$f":"(AI131+AJ131)/2*'Исходные данные'!$D$208/12","v":0},{"$f":"(AJ131+AK131)/2*'Исходные данные'!$D$208/12","v":0},{"$f":"(AK131+AL131)/2*'Исходные данные'!$D$208/12","v":0},{"$f":"(AL131+AM131)/2*'Исходные данные'!$D$208/12","v":0},{"$f":"(AM131+AN131)/2*'Исходные данные'!$D$208/12","v":0},{"$f":"(AN131+AO131)/2*'Исходные данные'!$D$208/12","v":0},{"$f":"(AO131+AP131)/2*'Исходные данные'!$D$208/12","v":0},{"$f":"(AP131+AQ131)/2*'Исходные данные'!$D$208/12","v":0},{"$f":"(AQ131+AR131)/2*'Исходные данные'!$D$208/12","v":0},{"$f":"(AR131+AS131)/2*'Исходные данные'!$D$208/12","v":0},{"$f":"(AS131+AT131)/2*'Исходные данные'!$D$208/12","v":0},{"$f":"(AT131+AU131)/2*'Исходные данные'!$D$208/12","v":0},{"$f":"(AU131+AV131)/2*'Исходные данные'!$D$208/12","v":0},{"$f":"(AV131+AW131)/2*'Исходные данные'!$D$208/12","v":0},{"$f":"(AW131+AX131)/2*'Исходные данные'!$D$208/12","v":0},{"$f":"(AX131+AY131)/2*'Исходные данные'!$D$208/12","v":0},{"$f":"(AY131+AZ131)/2*'Исходные данные'!$D$208/12","v":0},{"$f":"(AZ131+BA131)/2*'Исходные данные'!$D$208/12","v":0},{"$f":"(BA131+BB131)/2*'Исходные данные'!$D$208/12","v":0},{"$f":"(BB131+BC131)/2*'Исходные данные'!$D$208/12","v":0},{"$f":"(BC131+BD131)/2*'Исходные данные'!$D$208/12","v":0},{"$f":"(BD131+BE131)/2*'Исходные данные'!$D$208/12","v":0},{"$f":"(BE131+BF131)/2*'Исходные данные'!$D$208/12","v":0},{"$f":"(BF131+BG131)/2*'Исходные данные'!$D$208/12","v":0},{"$f":"(BG131+BH131)/2*'Исходные данные'!$D$208/12","v":0},{"$f":"(BH131+BI131)/2*'Исходные данные'!$D$208/12","v":0},{"$f":"(BI131+BJ131)/2*'Исходные данные'!$D$208/12","v":0}]
["Погашение кредита",160000,null,{"$f":"IFERROR(HLOOKUP(D7&D6,'Исходные данные'!$D$244:$W$246,3,FALSE),0)","v":0},{"$f":"IFERROR(HLOOKUP(E7&E6,'Исходные данные'!$D$244:$W$246,3,FALSE),0)","v":0},{"$f":"IFERROR(HLOOKUP(F7&F6,'Исходные данные'!$D$244:$W$246,3,FALSE),0)","v":0},{"$f":"IFERROR(HLOOKUP(G7&G6,'Исходные данные'!$D$244:$W$246,3,FALSE),0)","v":0},{"$f":"IFERROR(HLOOKUP(H7&H6,'Исходные данные'!$D$244:$W$246,3,FALSE),0)","v":0},{"$f":"IFERROR(HLOOKUP(I7&I6,'Исходные данные'!$D$244:$W$246,3,FALSE),0)","v":0},{"$f":"IFERROR(HLOOKUP(J7&J6,'Исходные данные'!$D$244:$W$246,3,FALSE),0)","v":0},{"$f":"IFERROR(HLOOKUP(K7&K6,'Исходные данные'!$D$244:$W$246,3,FALSE),0)","v":0},{"$f":"IFERROR(HLOOKUP(L7&L6,'Исходные данные'!$D$244:$W$246,3,FALSE),0)","v":0},{"$f":"IFERROR(HLOOKUP(M7&M6,'Исходные данные'!$D$244:$W$246,3,FALSE),0)","v":0},{"$f":"IFERROR(HLOOKUP(N7&N6,'Исходные данные'!$D$244:$W$246,3,FALSE),0)","v":0},{"$f":"IFERROR(HLOOKUP(O7&O6,'Исходные данные'!$D$244:$W$246,3,FALSE),0)","v":0},{"$f":"IFERROR(HLOOKUP(P7&P6,'Исходные данные'!$D$244:$W$246,3,FALSE),0)","v":0},{"$f":"IFERROR(HLOOKUP(Q7&Q6,'Исходные данные'!$D$244:$W$246,3,FALSE),0)","v":0},{"$f":"IFERROR(HLOOKUP(R7&R6,'Исходные данные'!$D$244:$W$246,3,FALSE),0)","v":0},{"$f":"IFERROR(HLOOKUP(S7&S6,'Исходные данные'!$D$244:$W$246,3,FALSE),0)","v":0},{"$f":"IFERROR(HLOOKUP(T7&T6,'Исходные данные'!$D$244:$W$246,3,FALSE),0)","v":0},{"$f":"IFERROR(HLOOKUP(U7&U6,'Исходные данные'!$D$244:$W$246,3,FALSE),0)","v":0},{"$f":"IFERROR(HLOOKUP(V7&V6,'Исходные данные'!$D$244:$W$246,3,FALSE),0)","v":0},{"$f":"IFERROR(HLOOKUP(W7&W6,'Исходные данные'!$D$244:$W$246,3,FALSE),0)","v":0},{"$f":"IFERROR(HLOOKUP(X7&X6,'Исходные данные'!$D$244:$W$246,3,FALSE),0)","v":0},{"$f":"IFERROR(HLOOKUP(Y7&Y6,'Исходные данные'!$D$244:$W$246,3,FALSE),0)","v":0},{"$f":"IFERROR(HLOOKUP(Z7&Z6,'Исходные данные'!$D$244:$W$246,3,FALSE),0)","v":0},{"$f":"IFERROR(HLOOKUP(AA7&AA6,'Исходные данные'!$D$244:$W$246,3,FALSE),0)","v":0},{"$f":"IFERROR(HLOOKUP(AB7&AB6,'Исходные данные'!$D$244:$W$246,3,FALSE),0)","v":0},{"$f":"IFERROR(HLOOKUP(AC7&AC6,'Исходные данные'!$D$244:$W$246,3,FALSE),0)","v":0},{"$f":"IFERROR(HLOOKUP(AD7&AD6,'Исходные данные'!$D$244:$W$246,3,FALSE),0)","v":0},{"$f":"IFERROR(HLOOKUP(AE7&AE6,'Исходные данные'!$D$244:$W$246,3,FALSE),0)","v":0},{"$f":"IFERROR(HLOOKUP(AF7&AF6,'Исходные данные'!$D$244:$W$246,3,FALSE),0)","v":0},{"$f":"IFERROR(HLOOKUP(AG7&AG6,'Исходные данные'!$D$244:$W$246,3,FALSE),0)","v":0},{"$f":"IFERROR(HLOOKUP(AH7&AH6,'Исходные данные'!$D$244:$W$246,3,FALSE),0)","v":0},{"$f":"IFERROR(HLOOKUP(AI7&AI6,'Исходные данные'!$D$244:$W$246,3,FALSE),0)","v":160000},{"$f":"IFERROR(HLOOKUP(AJ7&AJ6,'Исходные данные'!$D$244:$W$246,3,FALSE),0)","v":0},{"$f":"IFERROR(HLOOKUP(AK7&AK6,'Исходные данные'!$D$244:$W$246,3,FALSE),0)","v":0},{"$f":"IFERROR(HLOOKUP(AL7&AL6,'Исходные данные'!$D$244:$W$246,3,FALSE),0)","v":0},{"$f":"IFERROR(HLOOKUP(AM7&AM6,'Исходные данные'!$D$244:$W$246,3,FALSE),0)","v":0},{"$f":"IFERROR(HLOOKUP(AN7&AN6,'Исходные данные'!$D$244:$W$246,3,FALSE),0)","v":0},{"$f":"IFERROR(HLOOKUP(AO7&AO6,'Исходные данные'!$D$244:$W$246,3,FALSE),0)","v":0},{"$f":"IFERROR(HLOOKUP(AP7&AP6,'Исходные данные'!$D$244:$W$246,3,FALSE),0)","v":0},{"$f":"IFERROR(HLOOKUP(AQ7&AQ6,'Исходные данные'!$D$244:$W$246,3,FALSE),0)","v":0},{"$f":"IFERROR(HLOOKUP(AR7&AR6,'Исходные данные'!$D$244:$W$246,3,FALSE),0)","v":0},{"$f":"IFERROR(HLOOKUP(AS7&AS6,'Исходные данные'!$D$244:$W$246,3,FALSE),0)","v":0},{"$f":"IFERROR(HLOOKUP(AT7&AT6,'Исходные данные'!$D$244:$W$246,3,FALSE),0)","v":0},{"$f":"IFERROR(HLOOKUP(AU7&AU6,'Исходные данные'!$D$244:$W$246,3,FALSE),0)","v":0},{"$f":"IFERROR(HLOOKUP(AV7&AV6,'Исходные данные'!$D$244:$W$246,3,FALSE),0)","v":0},{"$f":"IFERROR(HLOOKUP(AW7&AW6,'Исходные данные'!$D$244:$W$246,3,FALSE),0)","v":0},{"$f":"IFERROR(HLOOKUP(AX7&AX6,'Исходные данные'!$D$244:$W$246,3,FALSE),0)","v":0},{"$f":"IFERROR(HLOOKUP(AY7&AY6,'Исходные данные'!$D$244:$W$246,3,FALSE),0)","v":0},{"$f":"IFERROR(HLOOKUP(AZ7&AZ6,'Исходные данные'!$D$244:$W$246,3,FALSE),0)","v":0},{"$f":"IFERROR(HLOOKUP(BA7&BA6,'Исходные данные'!$D$244:$W$246,3,FALSE),0)","v":0},{"$f":"IFERROR(HLOOKUP(BB7&BB6,'Исходные данные'!$D$244:$W$246,3,FALSE),0)","v":0},{"$f":"IFERROR(HLOOKUP(BC7&BC6,'Исходные данные'!$D$244:$W$246,3,FALSE),0)","v":0},{"$f":"IFERROR(HLOOKUP(BD7&BD6,'Исходные данные'!$D$244:$W$246,3,FALSE),0)","v":0},{"$f":"IFERROR(HLOOKUP(BE7&BE6,'Исходные данные'!$D$244:$W$246,3,FALSE),0)","v":0},{"$f":"IFERROR(HLOOKUP(BF7&BF6,'Исходные данные'!$D$244:$W$246,3,FALSE),0)","v":0},{"$f":"IFERROR(HLOOKUP(BG7&BG6,'Исходные данные'!$D$244:$W$246,3,FALSE),0)","v":0},{"$f":"IFERROR(HLOOKUP(BH7&BH6,'Исходные данные'!$D$244:$W$246,3,FALSE),0)","v":0},{"$f":"IFERROR(HLOOKUP(BI7&BI6,'Исходные данные'!$D$244:$W$246,3,FALSE),0)","v":0},{"$f":"IFERROR(HLOOKUP(BJ7&BJ6,'Исходные данные'!$D$244:$W$246,3,FALSE),0)","v":0},{"$f":"IFERROR(HLOOKUP(BK7&BK6,'Исходные данные'!$D$244:$W$246,3,FALSE),0)","v":0}]
["Выплаты процентов по кредиту",52000,{"$f":"'Исходные данные'!C264","v":0},{"$f":"C48*'Исходные данные'!D209/12","v":1600},{"$f":"(C48+D132)/2*'Исходные данные'!D209/12","v":1600},{"$f":"(D132+E132)/2*'Исходные данные'!$D$209/12","v":1600},{"$f":"(E132+F132)/2*'Исходные данные'!$D$209/12","v":1600},{"$f":"(F132+G132)/2*'Исходные данные'!$D$209/12","v":1600},{"$f":"(G132+H132)/2*'Исходные данные'!$D$209/12","v":1600},{"$f":"(H132+I132)/2*'Исходные данные'!$D$209/12","v":1600},{"$f":"(I132+J132)/2*'Исходные данные'!$D$209/12","v":1600},{"$f":"(J132+K132)/2*'Исходные данные'!$D$209/12","v":1600},{"$f":"(K132+L132)/2*'Исходные данные'!$D$209/12","v":1600},{"$f":"(L132+M132)/2*'Исходные данные'!$D$209/12","v":1600},{"$f":"(M132+N132)/2*'Исходные данные'!$D$209/12","v":1600},{"$f":"(N132+O132)/2*'Исходные данные'!$D$209/12","v":1600},{"$f":"(O132+P132)/2*'Исходные данные'!$D$209/12","v":1600},{"$f":"(P132+Q132)/2*'Исходные данные'!$D$209/12","v":1600},{"$f":"(Q132+R132)/2*'Исходные данные'!$D$209/12","v":1600},{"$f":"(R132+S132)/2*'Исходные данные'!$D$209/12","v":1600},{"$f":"(S132+T132)/2*'Исходные данные'!$D$209/12","v":1600},{"$f":"(T132+U132)/2*'Исходные данные'!$D$209/12","v":1600},{"$f":"(U132+V132)/2*'Исходные данные'!$D$209/12","v":1600},{"$f":"(V132+W132)/2*'Исходные данные'!$D$209/12","v":1600},{"$f":"(W132+X132)/2*'Исходные данные'!$D$209/12","v":1600},{"$f":"(X132+Y132)/2*'Исходные данные'!$D$209/12","v":1600},{"$f":"(Y132+Z132)/2*'Исходные данные'!$D$209/12","v":1600},{"$f":"(Z132+AA132)/2*'Исходные данные'!$D$209/12","v":1600},{"$f":"(AA132+AB132)/2*'Исходные данные'!$D$209/12","v":1600},{"$f":"(AB132+AC132)/2*'Исходные данные'!$D$209/12","v":1600},{"$f":"(AC132+AD132)/2*'Исходные данные'!$D$209/12","v":1600},{"$f":"(AD132+AE132)/2*'Исходные данные'!$D$209/12","v":1600},{"$f":"(AE132+AF132)/2*'Исходные данные'!$D$209/12","v":1600},{"$f":"(AF132+AG132)/2*'Исходные данные'!$D$209/12","v":1600},{"$f":"(AG132+AH132)/2*'Исходные данные'!$D$209/12","v":1600},{"$f":"(AH132+AI132)/2*'Исходные данные'!$D$209/12","v":800},{"$f":"(AI132+AJ132)/2*'Исходные данные'!$D$209/12","v":0},{"$f":"(AJ132+AK132)/2*'Исходные данные'!$D$209/12","v":0},{"$f":"(AK132+AL132)/2*'Исходные данные'!$D$209/12","v":0},{"$f":"(AL132+AM132)/2*'Исходные данные'!$D$209/12","v":0},{"$f":"(AM132+AN132)/2*'Исходные данные'!$D$209/12","v":0},{"$f":"(AN132+AO132)/2*'Исходные данные'!$D$209/12","v":0},{"$f":"(AO132+AP132)/2*'Исходные данные'!$D$209/12","v":0},{"$f":"(AP132+AQ132)/2*'Исходные данные'!$D$209/12","v":0},{"$f":"(AQ132+AR132)/2*'Исходные данные'!$D$209/12","v":0},{"$f":"(AR132+AS132)/2*'Исходные данные'!$D$209/12","v":0},{"$f":"(AS132+AT132)/2*'Исходные данные'!$D$209/12","v":0},{"$f":"(AT132+AU132)/2*'Исходные данные'!$D$209/12","v":0},{"$f":"(AU132+AV132)/2*'Исходные данные'!$D$209/12","v":0},{"$f":"(AV132+AW132)/2*'Исходные данные'!$D$209/12","v":0},{"$f":"(AW132+AX132)/2*'Исходные данные'!$D$209/12","v":0},{"$f":"(AX132+AY132)/2*'Исходные данные'!$D$209/12","v":0},{"$f":"(AY132+AZ132)/2*'Исходные данные'!$D$209/12","v":0},{"$f":"(AZ132+BA132)/2*'Исходные данные'!$D$209/12","v":0},{"$f":"(BA132+BB132)/2*'Исходные данные'!$D$209/12","v":0},{"$f":"(BB132+BC132)/2*'Исходные данные'!$D$209/12","v":0},{"$f":"(BC132+BD132)/2*'Исходные данные'!$D$209/12","v":0},{"$f":"(BD132+BE132)/2*'Исходные данные'!$D$209/12","v":0},{"$f":"(BE132+BF132)/2*'Исходные данные'!$D$209/12","v":0},{"$f":"(BF132+BG132)/2*'Исходные данные'!$D$209/12","v":0},{"$f":"(BG132+BH132)/2*'Исходные данные'!$D$209/12","v":0},{"$f":"(BH132+BI132)/2*'Исходные данные'!$D$209/12","v":0},{"$f":"(BI132+BJ132)/2*'Исходные данные'!$D$209/12","v":0}]
["Чистый финансовый поток",{"$f":"B44-B49","v":438416.66666666669},760000,-2433.3333333333335,-2433.3333333333335,-2433.3333333333335,-2433.3333333333335,-2433.3333333333335,-2433.3333333333335,-2433.3333333333335,-2433.3333333333335,-2433.3333333333335,-2433.3333333333335,-102433.33333333333,-2016.6666666666667,-1600,-1600,-1600,-1600,-1600,-1600,-1600,-1600,-1600,-1600,-1600,-1600,-1600,-1600,-1600,-1600,-1600,-1600,{"$f":"AH44-AH49","v":-1600},-161600,-800,0,0,0,0,0,0,0,0,0,0,0,0,0,0,0,0,0,0,0,0,0,0,0,0,0,0,0]
[]
["Инвестиционные поступления",{"$f":"B57","v":21000},{"$f":"C57","v":0},{"$f":"D57","v":0},0,0,0,0,0,0,0,0,0,0,0,0,0,0,0,0,0,0,0,0,0,0,0,0,0,0,0,0,0,0,0,0,0,0,0,21000,0,0,0,0,0,0,0,0,0,0,0,0,0,0,0,0,0,0,0,0,0,0,0]
["Выручка от реализации основных средств",{"$f":"SUM(C57:BK57)","v":21000},null,0,{"$f":"D59*0.3","v":0},{"$f":"E59*0.3","v":0},0,0,0,0,0,0,0,0,0,0,0,0,0,0,0,0,0,0,0,0,0,0,0,0,0,0,0,0,0,0,0,0,0,21000,0,0,0,0,0,0,0,0,0,0,0,0,0,0,0,0,0,0,0,0,0,0,0]
["Инвестиционные и разовые платежи",{"$f":"SUM(B59:B68)","v":9804425.8030673377},{"$f":"SUM(C59:C68)","v":656000},{"$f":"SUM(D59:D68)","v":0},0,0,0,0,0,0,95282.775151048379,0,0,1260694.2625,0,0,184492.65275000012,0,0,236116.74400000018,0,0,193946.93200000003,0,0,1277515.9722624996,0,0,200659.02850000001,0,0,204549.59400000004,0,0,{"$f":"SUM(AI59:AI68)","v":200039.1820000005},0,0,1286957.5316971242,70000,0,225459.02850000001,0,0,222849.59399999958,0,0,218339.18200000003,0,0,1304677.0524140866,0,0,223459.02850000001,0,0,222849.59399999958,0,0,218339.18200000003,0,0,1302198.4667925788,0]
["Закупка оборудования",{"$f":"SUM(C59:BK59)","v":501000},{"$f":"'Исходные данные'!C187","v":431000},{"$f":"SUMIF($C$143:$C$162,1,D143:D162)","v":0},{"$f":"SUMIF($C$143:$C$162,1,E143:E162)","v":0},0,0,0,0,0,0,0,0,0,0,0,0,0,0,0,0,0,0,0,0,0,0,0,0,0,0,0,0,0,0,0,0,0,70000,0,0,0,0,0,0,0,0,0,0,0,0,0,0,0,0,0,0,0,0,0,0,0,0]
[{"$f":"'Исходные данные'!B191","v":"Расходы на земельный участок"},0,{"$f":"'Исходные данные'!C191","v":0}]
[{"$f":"'Исходные данные'!B192","v":"Реконструкция и ремонт помещений"},100000,{"$f":"'Исходные данные'!C192","v":100000}]
[{"$f":"'Исходные данные'!B194","v":"Приобретение запасов товаров, сырья и материалов"},0]
[{"$f":"'Исходные данные'!B195","v":"Строительно - монтажные работы"},100000,{"$f":"'Исходные данные'!C195","v":100000}]
[{"$f":"'Исходные данные'!B196","v":"Проектно-изыскательские работы"},0,{"$f":"'Исходные данные'!C196","v":0}]
[{"$f":"'Исходные данные'!B197","v":"Содержание дирекции строящегося предприятия"},0,{"$f":"'Исходные данные'!C197","v":0}]
[{"$f":"'Исходные данные'!B151","v":"Паушальный (первоначальный) взнос"},0,{"$f":"'Исходные данные'!C151","v":0}]
[{"$f":"'Исходные данные'!B199","v":"Другие инвестиционные издержки"},25000,{"$f":"'Исходные данные'!C199","v":25000}]
["Выплата дивидендов (в том числе НДФЛ)",9078425.8030673377,null,{"$f":"Баланс!C11","v":0},{"$f":"Баланс!D11","v":0},{"$f":"Баланс!E11","v":0},{"$f":"Баланс!F11","v":0},{"$f":"Баланс!G11","v":0},{"$f":"Баланс!H11","v":0},{"$f":"Баланс!I11","v":0},{"$f":"Баланс!J11","v":95282.775151048379},{"$f":"Баланс!K11","v":0},{"$f":"Баланс!L11","v":0},{"$f":"Баланс!M11","v":1260694.2625},{"$f":"Баланс!N11","v":0},{"$f":"Баланс!O11","v":0},{"$f":"Баланс!P11","v":184492.65275000012},{"$f":"Баланс!Q11","v":0},{"$f":"Баланс!R11","v":0},{"$f":"Баланс!S11","v":236116.74400000018},{"$f":"Баланс!T11","v":0},{"$f":"Баланс!U11","v":0},{"$f":"Баланс!V11","v":193946.93200000003},{"$f":"Баланс!W11","v":0},{"$f":"Баланс!X11","v":0},{"$f":"Баланс!Y11","v":1277515.9722624996},{"$f":"Баланс!Z11","v":0},{"$f":"Баланс!AA11","v":0},{"$f":"Баланс!AB11","v":200659.02850000001},{"$f":"Баланс!AC11","v":0},{"$f":"Баланс!AD11","v":0},{"$f":"Баланс!AE11","v":204549.59400000004},{"$f":"Баланс!AF11","v":0},{"$f":"Баланс!AG11","v":0},{"$f":"Баланс!AH11","v":200039.1820000005},{"$f":"Баланс!AI11","v":0},{"$f":"Баланс!AJ11","v":0},{"$f":"Баланс!AK11","v":1286957.5316971242},{"$f":"Баланс!AL11","v":0},{"$f":"Баланс!AM11","v":0},{"$f":"Баланс!AN11","v":225459.02850000001},{"$f":"Баланс!AO11","v":0},{"$f":"Баланс!AP11","v":0},{"$f":"Баланс!AQ11","v":222849.59399999958},{"$f":"Баланс!AR11","v":0},{"$f":"Баланс!AS11","v":0},{"$f":"Баланс!AT11","v":218339.18200000003},{"$f":"Баланс!AU11","v":0},{"$f":"Баланс!AV11","v":0},{"$f":"Баланс!AW11","v":1304677.0524140866},{"$f":"Баланс!AX11","v":0},{"$f":"Баланс!AY11","v":0},{"$f":"Баланс!AZ11","v":223459.02850000001},{"$f":"Баланс!BA11","v":0},{"$f":"Баланс!BB11","v":0},{"$f":"Баланс!BC11","v":222849.59399999958},{"$f":"Баланс!BD11","v":0},{"$f":"Баланс!BE11","v":0},{"$f":"Баланс!BF11","v":218339.18200000003},{"$f":"Баланс!BG11","v":0},{"$f":"Баланс!BH11","v":0},{"$f":"Баланс!BI11","v":1302198.4667925788},{"$f":"Баланс!BJ11","v":0}]
["Чистый инвестиционный поток",{"$f":"B56-B58","v":-9783425.8030673377},-656000,0,0,0,0,0,0,0,-95282.775151048379,0,0,-1260694.2625,0,0,-184492.65275000012,0,0,-236116.74400000018,0,0,-193946.93200000003,0,0,-1277515.9722624996,0,0,-200659.02850000001,0,0,-204549.59400000004,0,{"$f":"AH56-AH58","v":0},-200039.1820000005,0,0,-1286957.5316971242,-70000,21000,-225459.02850000001,0,0,-222849.59399999958,0,0,-218339.18200000003,0,0,-1304677.0524140866,0,0,-223459.02850000001,0,0,-222849.59399999958,0,0,-218339.18200000003,0,0,-1302198.4667925788,0]
[]
["Остаток ДС на конец периода",{"$f":"B12+B42+B54+B69","v":311743.69716661982},2941.5141666666605,65428.038524351527,158517.99708572193,244071.2608213475,350208.62656771502,460134.54123438173,447512.2391510483,504030.94181771507,1316916.4573333338,1536065.1345000006,1703192.4291666674,464165.96133333421,435127.3214166676,556240.81941666757,425229.31466666749,490488.21266666753,628114.91066666751,502173.16466666735,548843.06266666728,606195.09866666736,1320665.5406666677,1542053.5109291677,1710014.1389291678,554341.54466666817,530043.69716666813,651157.19516666816,465662.16466666816,530921.06266666821,668547.76066666818,573515.41466666816,620185.31266666809,{"$f":"AH12+AH42+AH54+AH69","v":677537.34866666817},1225257.790666668,1448395.0703637931,1617955.6983637931,454441.54466666887,351743.69716666883,495457.19516666885,286762.16466666886,353621.06266666891,492847.76066666888,381115.41466666933,429385.31266666926,488337.34866666934,1179357.7906666696,1405114.5910807559,1574675.219080756,393441.54466666933,370743.6971666693,493457.19516666932,286762.16466666933,353621.06266666937,492847.76066666935,381115.41466666979,429385.31266666972,488337.3486666698,1179357.7906666701,1402636.0054592476,1572196.6334592476,393441.54466666887,311743.69716666883]
[]
["БДДС ПО КВАРТАЛАМ"]
["Статья движения ДС","Сумма","\"0\"",{"$f":"'План продаж'!D55:G55","v":2021},null,null,null,{"$f":"D74+1","v":2022},null,null,null,{"$f":"H74+1","v":2023},null,null,null,{"$f":"L74+1","v":2024},null,null,null,{"$f":"P74+1","v":2025}]
[null,null,null,"1кв","2кв","3кв","4кв","1кв","2кв","3кв","4кв","1кв","2кв","3кв","4кв","1кв","2кв","3кв","4кв","1кв","2кв","3кв","4кв"]
["Квартал",null,"\"0\"",{"$f":"D75&$D$74","v":"1кв2021"},{"$f":"E75&$D$74","v":"2кв2021"},"3кв2021","4кв2021",{"$f":"H75&$H$74","v":"1кв2022"},{"$f":"I75&$H$74","v":"2кв2022"},"3кв2022","4кв2022",{"$f":"L75&$L$74","v":"1кв2023"},{"$f":"M75&$L$74","v":"2кв2023"},"3кв2023","4кв2023",{"$f":"P75&$P$74","v":"1кв2024"},{"$f":"Q75&$P$74","v":"2кв2024"},"3кв2024","4кв2024",{"$f":"T75&$T$74","v":"1кв2025"},{"$f":"U75&$T$74","v":"2кв2025"},"3кв2025","4кв2025"]
[]
["Остаток ДС на начало периода",{"$f":"C78","v":0},{"$f":"C12","v":0},{"$f":"C92","v":2941.5141666666605},{"$f":"D92","v":2941.5141666666605},158517.99708572202,460134.54123438208,1316916.4573333338,464165.96133333421,425229.31466666784,502173.16466666793,1320665.5406666682,554341.54466666863,465662.16466666874,573515.41466666898,1225257.7906666687,454441.5446666698,286762.16466666991,381115.41466667061,1179357.7906666708,393441.5446666705,286762.16466667061,381115.41466667131]
[]
["Поступление от операционной деятельности",{"$f":"SUM(C80:W80)","v":49356044.700000003},{"$f":"C99","v":0},{"$f":"SUMIF($D$8:$BK$8,D$76,$D$14:$BK$14)","v":0},{"$f":"SUMIF($D$8:$BK$8,E$76,$D$14:$BK$14)","v":1079649.6000000001},2020982.85,3810547.6500000004,2458883.1,2175313.9500000002,2166471.4500000002,3810547.6500000004,2458883.1,2175313.9500000002,2166471.4500000002,3810547.6500000004,2458883.1,2175313.9500000002,2166471.4500000002,3810547.6500000004,2458883.1,2175313.9500000002,2166471.4500000002,3810547.6500000004]
["Операционные расходы",{"$f":"SUM(C81:W81)","v":40133876.239725232},{"$f":"C100","v":101058.48583333332},{"$f":"SUMIF($D$8:$BK$8,D$76,$D$15:$BK$15)","v":0},{"$f":"SUMIF($D$8:$BK$8,E$76,$D$15:$BK$15)","v":919206.45041427808},1712066.3058513401,2851182.9587500002,1943639.3334999997,2024541.2772499998,1848610.8559999999,2793308.3420000002,1942891.1237375,2058534.3015000001,1849268.6059999999,2793966.0920000002,1941941.8143028747,2068534.3015000001,1849268.6059999999,2793966.0920000002,1940122.2935859137,2058534.3015000001,1849268.6059999999,2793966.0920000002]
["Чистый операционный поток",{"$f":"B80-B81","v":9222168.4602747709},{"$f":"C80-C81","v":-101058.48583333332},0,160443.14958572201,308916.54414866003,959364.69125000015,515243.76650000038,150772.67275000038,317860.59400000027,1017239.3080000002,515991.97626250004,116779.64850000013,317202.84400000027,1016581.5580000002,516941.28569712536,106779.64850000013,317202.84400000027,1016581.5580000002,518760.80641408637,116779.64850000013,317202.84400000027,1016581.5580000002]
[]
["Финансовые поступления",{"$f":"SUM(C84:W84)","v":760000},{"$f":"C103","v":760000},{"$f":"SUMIF($D$8:$BK$8,D$76,$D$44:$BK$44)","v":0},{"$f":"SUMIF($D$8:$BK$8,E$76,$D$44:$BK$44)","v":0},0,0,0,0,0,0,0,0,0,0,0,0,0,0,0,0,0,0]
["Финансовые расходы",{"$f":"SUM(C85:W85)","v":321583.33333333337},0,{"$f":"SUMIF($D$8:$BK$8,D$76,$D$49:$BK$49)","v":0},{"$f":"SUMIF($D$8:$BK$8,E$76,$D$49:$BK$49)","v":4866.666666666667},7300,7300,107300,5216.666666666667,4800,4800,4800,4800,4800,164800,800,0,0,0,0,0,0,0]
["Чистый финансовый поток",{"$f":"B84-B85","v":438416.66666666663},{"$f":"C84-C85","v":760000},0,-4866.666666666667,-7300,-7300,-107300,-5216.666666666667,-4800,-4800,-4800,-4800,-4800,-164800,-800,0,0,0,0,0,0,0]
[]
["Инвестиционные поступления",{"$f":"SUM(C88:W88)","v":21000},{"$f":"C107","v":0},{"$f":"SUMIF($D$8:$BK$8,D$76,$D$56:$BK$56)","v":0},{"$f":"SUMIF($D$8:$BK$8,E$76,$D$56:$BK$56)","v":0},0,0,0,0,0,0,0,0,0,0,0,21000,0,0,0,0,0,0]
["Инвестиционные и разовые платежи",{"$f":"SUM(C89:W89)","v":8502227.336274758},656000,{"$f":"SUMIF($D$8:$BK$8,D$76,$D$58:$BK$58)","v":0},{"$f":"SUMIF($D$8:$BK$8,E$76,$D$58:$BK$58)","v":0},0,95282.775151048379,1260694.2625,184492.65275000012,236116.74400000018,193946.93200000003,1277515.9722624996,200659.02850000001,204549.59400000004,200039.1820000005,1286957.5316971242,295459.02850000001,222849.59399999958,218339.18200000003,1304677.0524140866,223459.02850000001,222849.59399999958,218339.18200000003]
["Чистый инвестиционный поток",{"$f":"B88-B89","v":-8481227.336274758},{"$f":"C88-C89","v":-656000},0,0,0,-95282.775151048379,-1260694.2625,-184492.65275000012,-236116.74400000018,-193946.93200000003,-1277515.9722624996,-200659.02850000001,-204549.59400000004,-200039.1820000005,-1286957.5316971242,-274459.02850000001,-222849.59399999958,-218339.18200000003,-1304677.0524140866,-223459.02850000001,-222849.59399999958,-218339.18200000003]
[]
["Остаток ДС на конец периода",{"$f":"B78+B82+B86+B90","v":1179357.7906666789},{"$f":"C78+C82+C86+C90","v":2941.5141666666605},2941.5141666666605,158517.99708572202,460134.54123438208,1316916.4573333338,464165.96133333421,425229.31466666784,502173.16466666793,1320665.5406666682,554341.54466666863,465662.16466666874,573515.41466666898,1225257.7906666687,454441.5446666698,286762.16466666991,381115.41466667061,1179357.7906666708,393441.5446666705,286762.16466667061,381115.41466667131,1179357.7906666715]
[]
["БДДС ПО ГОДАМ"]
["Статья движения ДС","Сумма","\"0\"",{"$f":"D6","v":2021},{"$f":"D95+1","v":2022},{"$f":"E95+1","v":2023},2024,2025]
[]
["Остаток ДС на начало периода",{"$f":"C97","v":0},{"$f":"B12","v":0},{"$f":"C111","v":2941.5141666666605},{"$f":"D111","v":1316916.457333334},1320665.5406666712,1225257.7906666736,1179357.790666678]
[]
["Поступление от операционной деятельности",{"$f":"SUM(C99:H99)","v":49356044.700000018},{"$f":"C14","v":0},{"$f":"SUMIF($D$6:$BK$6,D$95,$D$14:$BK$14)","v":6911180.1000000006},{"$f":"SUMIF($D$6:$BK$6,E$95,$D$14:$BK$14)","v":10611216.150000002},{"$f":"SUMIF($D$6:$BK$6,F$95,$D$14:$BK$14)","v":10611216.150000002},{"$f":"SUMIF($D$6:$BK$6,G$95,$D$14:$BK$14)","v":10611216.150000002},{"$f":"SUMIF($D$6:$BK$6,H$95,$D$14:$BK$14)","v":10611216.150000002}]
["Операционные расходы",{"$f":"SUM(C100:H100)","v":40133876.239725232},{"$f":"C15","v":101058.48583333332},{"$f":"SUMIF($D$6:$BK$6,D$95,$D$15:$BK$15)","v":5482455.7150156181},{"$f":"SUMIF($D$6:$BK$6,E$95,$D$15:$BK$15)","v":8610099.808749998},{"$f":"SUMIF($D$6:$BK$6,F$95,$D$15:$BK$15)","v":8644660.1232375},{"$f":"SUMIF($D$6:$BK$6,G$95,$D$15:$BK$15)","v":8653710.8138028737},{"$f":"SUMIF($D$6:$BK$6,H$95,$D$15:$BK$15)","v":8641891.2930859122}]
["Чистый операционный поток",{"$f":"B99-B100","v":9222168.4602747858},{"$f":"C99-C100","v":-101058.48583333332},{"$f":"D99-D100","v":1428724.3849843824},2001116.3412500042,1966556.0267625023,1957505.3361971285,1969324.85691409]
[]
["Финансовые поступления",{"$f":"SUM(C103:H103)","v":760000},{"$f":"C44","v":760000},{"$f":"SUMIF($D$6:$BK$6,D$95,$D$44:$BK$44)","v":0},{"$f":"SUMIF($D$6:$BK$6,E$95,$D$44:$BK$44)","v":0},{"$f":"SUMIF($D$6:$BK$6,F$95,$D$44:$BK$44)","v":0},{"$f":"SUMIF($D$6:$BK$6,G$95,$D$44:$BK$44)","v":0},{"$f":"SUMIF($D$6:$BK$6,H$95,$D$44:$BK$44)","v":0}]
["Финансовые расходы",321583.33333333337,{"$f":"C49","v":0},{"$f":"SUMIF($D$6:$BK$6,D$95,$D$49:$BK$49)","v":19466.666666666668},{"$f":"SUMIF($D$6:$BK$6,E$95,$D$49:$BK$49)","v":122116.66666666667},{"$f":"SUMIF($D$6:$BK$6,F$95,$D$49:$BK$49)","v":179200},{"$f":"SUMIF($D$6:$BK$6,G$95,$D$49:$BK$49)","v":800},{"$f":"SUMIF($D$6:$BK$6,H$95,$D$49:$BK$49)","v":0}]
["Чистый финансовый поток",{"$f":"B103-B104","v":438416.66666666663},{"$f":"C103-C104","v":760000},{"$f":"D103-D104","v":-19466.666666666668},-122116.66666666667,-179200,-800,0]
[]
["Инвестиционные поступления",{"$f":"SUM(C107:H107)","v":21000},{"$f":"C56","v":0},{"$f":"SUMIF($D$6:$BK$6,D$95,$D$56:$BK$56)","v":0},{"$f":"SUMIF($D$6:$BK$6,E$95,$D$56:$BK$56)","v":0},{"$f":"SUMIF($D$6:$BK$6,F$95,$D$56:$BK$56)","v":0},{"$f":"SUMIF($D$6:$BK$6,G$95,$D$56:$BK$56)","v":21000},{"$f":"SUMIF($D$6:$BK$6,H$95,$D$56:$BK$56)","v":0}]
["Инвестиционные и разовые платежи",8502227.336274758,{"$f":"C58","v":656000},{"$f":"SUMIF($D$6:$BK$6,D$95,$D$58:$BK$58)","v":95282.775151048379},{"$f":"SUMIF($D$6:$BK$6,E$95,$D$58:$BK$58)","v":1875250.5912500003},{"$f":"SUMIF($D$6:$BK$6,F$95,$D$58:$BK$58)","v":1882763.7767625002},{"$f":"SUMIF($D$6:$BK$6,G$95,$D$58:$BK$58)","v":2023605.3361971239},{"$f":"SUMIF($D$6:$BK$6,H$95,$D$58:$BK$58)","v":1969324.8569140863}]
["Чистый инвестиционный поток",{"$f":"B107-B108","v":-8481227.336274758},{"$f":"C107-C108","v":-656000},{"$f":"D107-D108","v":-95282.775151048379},-1875250.5912500003,-1882763.7767625002,-2002605.3361971239,-1969324.8569140863]
[]
["Остаток ДС на конец периода",{"$f":"B97+B101+B105+B109","v":1179357.7906666938},{"$f":"C97+C101+C105+C109","v":2941.5141666666605},{"$f":"D97+D101+D105+D109","v":1316916.457333334},1320665.5406666712,1225257.7906666736,1179357.790666678,1179357.7906666817]
[]
[]
[]
[]
[]
[]
[]
[]
[]
[]
[]
[]
[]
[]
[]
[]
[]
[]
[]
["Остаток задолженности по займу на конец периода",null,{"$f":"C47","v":100000},{"$f":"C47-D50","v":100000},{"$f":"D131-E50","v":100000},100000,100000,100000,100000,100000,100000,100000,100000,0,0,0,0,0,0,0,0,0,0,0,0,0,0,0,0,0,0,0,0,0,0,0,{"$f":"AJ131-AK50","v":0},0,0,0,0,0,0,0,0,0,0,0,0,0,0,0,0,0,0,0,0,0,0,0,0,0,0]
["Остаток задолженности по кредиту на конец периода",null,{"$f":"C48","v":160000},{"$f":"C48-D52","v":160000},{"$f":"D132-E52","v":160000},160000,160000,160000,160000,160000,160000,160000,160000,160000,160000,160000,160000,160000,160000,160000,160000,160000,160000,160000,160000,160000,160000,160000,160000,160000,160000,160000,160000,160000,0,0,{"$f":"AJ132-AK52","v":0},0,0,0,0,0,0,0,0,0,0,0,0,0,0,0,0,0,0,0,0,0,0,0,0,0,0]
[]
["Начислено персоналу",{"$f":"SUM(C134:BK134)","v":5329393},null,{"$f":"D135+D136","v":47806},{"$f":"E135+E136","v":52138},78349,78349,81151,82501,100707,145713,93962,84211,81961,82501,81151,82051,82051,82051,81151,82501,100707,145713,93962,84211,81961,82501,81151,82051,82051,82051,81151,82501,100707,145713,93962,84211,81961,82501,81151,82051,82051,82051,81151,82501,100707,145713,93962,84211,81961,82501,81151,82051,82051,82051,81151,82501,100707,145713,93962,84211,81961,82501]
["Выплаты персоналу",4636571.910000002,null,{"$f":"D19+D23","v":41591.22},45360.06,68163.63,68163.63,70601.37,71775.87,87615.09,126770.31,81746.94,73263.570000000007,71306.070000000007,71775.87,70601.37,71384.37,71384.37,71384.37,70601.37,71775.87,87615.09,126770.31,81746.94,73263.570000000007,71306.070000000007,71775.87,70601.37,71384.37,71384.37,71384.37,70601.37,71775.87,87615.09,126770.31,{"$f":"AJ19+AJ23","v":81746.94},73263.570000000007,71306.070000000007,71775.87,70601.37,71384.37,71384.37,71384.37,70601.37,71775.87,87615.09,126770.31,81746.94,73263.570000000007,71306.070000000007,71775.87,70601.37,71384.37,71384.37,71384.37,70601.37,71775.87,87615.09,126770.31,81746.94,73263.570000000007,71306.070000000007,71775.87]
["НДФЛ за персонал",692821.0900000002,null,{"$f":"D20+D24","v":6214.7800000000007},6777.9400000000005,10185.369999999999,10185.369999999999,10549.630000000001,10725.130000000001,13091.91,18942.690000000002,12215.060000000001,10947.43,10654.93,10725.130000000001,10549.630000000001,10666.630000000001,10666.630000000001,10666.630000000001,10549.630000000001,10725.130000000001,13091.91,18942.690000000002,12215.060000000001,10947.43,10654.93,10725.130000000001,10549.630000000001,10666.630000000001,10666.630000000001,10666.630000000001,10549.630000000001,10725.130000000001,13091.91,18942.690000000002,{"$f":"AJ20+AJ24","v":12215.060000000001},10947.43,10654.93,10725.130000000001,10549.630000000001,10666.630000000001,10666.630000000001,10666.630000000001,10549.630000000001,10725.130000000001,13091.91,18942.690000000002,12215.060000000001,10947.43,10654.93,10725.130000000001,10549.630000000001,10666.630000000001,10666.630000000001,10666.630000000001,10549.630000000001,10725.130000000001,13091.91,18942.690000000002,12215.060000000001,10947.43,10654.93,10725.130000000001]
["% от начисления",{"$f":"IFERROR(B136/B$134,\"\")","v":0.13000000000000003},null,{"$f":"IFERROR(D136/D$134,\"\")","v":0.13},{"$f":"IFERROR(E136/E$134,\"\")","v":0.13},0.12999999999999998,0.12999999999999998,0.13,0.13,0.13,0.13,0.13,0.13,0.13,0.13,0.13,0.13,0.13,0.13,0.13,0.13,0.13,0.13,0.13,0.13,0.13,0.13,0.13,0.13,0.13,0.13,0.13,0.13,0.13,0.13,0.13,0.13,0.13,0.13,0.13,0.13,0.13,0.13,0.13,0.13,0.13,0.13,0.13,0.13,0.13,0.13,0.13,0.13,0.13,0.13,0.13,0.13,0.13,0.13,0.13,0.13,0.13,0.13]
["Страховые взносы за персонал",1609476.6859999993,null,{"$f":"D21+D25","v":14437.412},15745.675999999999,23661.398000000001,23661.398000000001,24507.601999999999,24915.302,30413.514000000003,44005.326000000001,28376.523999999998,25431.722000000002,24752.222000000002,24915.302,24507.601999999999,24779.402000000002,24779.402000000002,24779.402000000002,24507.601999999999,24915.302,30413.514000000003,44005.326000000001,28376.523999999998,25431.722000000002,24752.222000000002,24915.302,24507.601999999999,24779.402000000002,24779.402000000002,24779.402000000002,24507.601999999999,24915.302,30413.514000000003,44005.326000000001,{"$f":"AJ21+AJ25","v":28376.523999999998},25431.722000000002,24752.222000000002,24915.302,24507.601999999999,24779.402000000002,24779.402000000002,24779.402000000002,24507.601999999999,24915.302,30413.514000000003,44005.326000000001,28376.523999999998,25431.722000000002,24752.222000000002,24915.302,24507.601999999999,24779.402000000002,24779.402000000002,24779.402000000002,24507.601999999999,24915.302,30413.514000000003,44005.326000000001,28376.523999999998,25431.722000000002,24752.222000000002,24915.302]
["% от начисления",{"$f":"IFERROR(B138/B$134,\"\")","v":0.30199999999999988},null,{"$f":"IFERROR(D138/D$134,\"\")","v":0.30199999999999999},{"$f":"IFERROR(E138/E$134,\"\")","v":0.30199999999999999},0.30199999999999999,0.30199999999999999,0.30199999999999999,0.30199999999999999,0.30200000000000005,0.30199999999999999,0.30199999999999999,0.30200000000000005,0.30200000000000005,0.30199999999999999,0.30199999999999999,0.30200000000000005,0.30200000000000005,0.30200000000000005,0.30199999999999999,0.30199999999999999,0.30200000000000005,0.30199999999999999,0.30199999999999999,0.30200000000000005,0.30200000000000005,0.30199999999999999,0.30199999999999999,0.30200000000000005,0.30200000000000005,0.30200000000000005,0.30199999999999999,0.30199999999999999,0.30200000000000005,0.30199999999999999,0.30199999999999999,0.30200000000000005,0.30200000000000005,0.30199999999999999,0.30199999999999999,0.30200000000000005,0.30200000000000005,0.30200000000000005,0.30199999999999999,0.30199999999999999,0.30200000000000005,0.30199999999999999,0.30199999999999999,0.30200000000000005,0.30200000000000005,0.30199999999999999,0.30199999999999999,0.30200000000000005,0.30200000000000005,0.30200000000000005,0.30199999999999999,0.30199999999999999,0.30200000000000005,0.30199999999999999,0.30199999999999999,0.30200000000000005,0.30200000000000005,0.30199999999999999]
[]
["График обновления (Инструменты, приспособления, оборудование)",{"$f":"SUM(D141:BK141)","v":174000},null,{"$f":"SUM(D143:D162)","v":0},0,0,0,0,0,0,0,0,0,0,7000,0,0,0,0,0,0,0,0,0,0,0,7000,0,0,0,0,0,0,0,0,0,0,0,87000,0,0,0,0,0,0,0,0,0,0,0,7000,0,{"$f":"SUM(BA143:BA162)","v":0},{"$f":"SUM(BB143:BB162)","v":0},0,0,0,0,0,0,0,0,66000]
["Наименование",null,"Аморт",1,{"$f":"D142+1","v":2},{"$f":"E142+1","v":3},4,5,6,7,8,9,10,11,12,13,14,15,16,17,18,19,20,21,22,23,24,25,26,27,28,29,30,31,32,33,34,35,36,37,38,39,40,41,42,43,44,45,46,47,48,49,50,51,52,53,54,55,56,57,58,59,60]
[{"$f":"'Исходные данные'!B167","v":"Павильон"},{"$f":"SUM(D143:BK143)","v":0},{"$f":"IF('Исходные данные'!G167=0,0,1)","v":1},{"$f":"IFERROR(IF(MOD(D$142,'Исходные данные'!$F167)=0,1,0)*'Исходные данные'!$C167,0)","v":0},{"$f":"IFERROR(IF(MOD(E$142,'Исходные данные'!$F167)=0,1,0)*'Исходные данные'!$C167,0)","v":0},{"$f":"IFERROR(IF(MOD(F$142,'Исходные данные'!$F167)=0,1,0)*'Исходные данные'!$C167,0)","v":0},{"$f":"IFERROR(IF(MOD(G$142,'Исходные данные'!$F167)=0,1,0)*'Исходные данные'!$C167,0)","v":0},{"$f":"IFERROR(IF(MOD(H$142,'Исходные данные'!$F167)=0,1,0)*'Исходные данные'!$C167,0)","v":0},{"$f":"IFERROR(IF(MOD(I$142,'Исходные данные'!$F167)=0,1,0)*'Исходные данные'!$C167,0)","v":0},{"$f":"IFERROR(IF(MOD(J$142,'Исходные данные'!$F167)=0,1,0)*'Исходные данные'!$C167,0)","v":0},{"$f":"IFERROR(IF(MOD(K$142,'Исходные данные'!$F167)=0,1,0)*'Исходные данные'!$C167,0)","v":0},{"$f":"IFERROR(IF(MOD(L$142,'Исходные данные'!$F167)=0,1,0)*'Исходные данные'!$C167,0)","v":0},{"$f":"IFERROR(IF(MOD(M$142,'Исходные данные'!$F167)=0,1,0)*'Исходные данные'!$C167,0)","v":0},{"$f":"IFERROR(IF(MOD(N$142,'Исходные данные'!$F167)=0,1,0)*'Исходные данные'!$C167,0)","v":0},{"$f":"IFERROR(IF(MOD(O$142,'Исходные данные'!$F167)=0,1,0)*'Исходные данные'!$C167,0)","v":0},{"$f":"IFERROR(IF(MOD(P$142,'Исходные данные'!$F167)=0,1,0)*'Исходные данные'!$C167,0)","v":0},{"$f":"IFERROR(IF(MOD(Q$142,'Исходные данные'!$F167)=0,1,0)*'Исходные данные'!$C167,0)","v":0},{"$f":"IFERROR(IF(MOD(R$142,'Исходные данные'!$F167)=0,1,0)*'Исходные данные'!$C167,0)","v":0},{"$f":"IFERROR(IF(MOD(S$142,'Исходные данные'!$F167)=0,1,0)*'Исходные данные'!$C167,0)","v":0},{"$f":"IFERROR(IF(MOD(T$142,'Исходные данные'!$F167)=0,1,0)*'Исходные данные'!$C167,0)","v":0},{"$f":"IFERROR(IF(MOD(U$142,'Исходные данные'!$F167)=0,1,0)*'Исходные данные'!$C167,0)","v":0},{"$f":"IFERROR(IF(MOD(V$142,'Исходные данные'!$F167)=0,1,0)*'Исходные данные'!$C167,0)","v":0},{"$f":"IFERROR(IF(MOD(W$142,'Исходные данные'!$F167)=0,1,0)*'Исходные данные'!$C167,0)","v":0},{"$f":"IFERROR(IF(MOD(X$142,'Исходные данные'!$F167)=0,1,0)*'Исходные данные'!$C167,0)","v":0},{"$f":"IFERROR(IF(MOD(Y$142,'Исходные данные'!$F167)=0,1,0)*'Исходные данные'!$C167,0)","v":0},{"$f":"IFERROR(IF(MOD(Z$142,'Исходные данные'!$F167)=0,1,0)*'Исходные данные'!$C167,0)","v":0},{"$f":"IFERROR(IF(MOD(AA$142,'Исходные данные'!$F167)=0,1,0)*'Исходные данные'!$C167,0)","v":0},{"$f":"IFERROR(IF(MOD(AB$142,'Исходные данные'!$F167)=0,1,0)*'Исходные данные'!$C167,0)","v":0},{"$f":"IFERROR(IF(MOD(AC$142,'Исходные данные'!$F167)=0,1,0)*'Исходные данные'!$C167,0)","v":0},{"$f":"IFERROR(IF(MOD(AD$142,'Исходные данные'!$F167)=0,1,0)*'Исходные данные'!$C167,0)","v":0},{"$f":"IFERROR(IF(MOD(AE$142,'Исходные данные'!$F167)=0,1,0)*'Исходные данные'!$C167,0)","v":0},{"$f":"IFERROR(IF(MOD(AF$142,'Исходные данные'!$F167)=0,1,0)*'Исходные данные'!$C167,0)","v":0},{"$f":"IFERROR(IF(MOD(AG$142,'Исходные данные'!$F167)=0,1,0)*'Исходные данные'!$C167,0)","v":0},{"$f":"IFERROR(IF(MOD(AH$142,'Исходные данные'!$F167)=0,1,0)*'Исходные данные'!$C167,0)","v":0},{"$f":"IFERROR(IF(MOD(AI$142,'Исходные данные'!$F167)=0,1,0)*'Исходные данные'!$C167,0)","v":0},{"$f":"IFERROR(IF(MOD(AJ$142,'Исходные данные'!$F167)=0,1,0)*'Исходные данные'!$C167,0)","v":0},{"$f":"IFERROR(IF(MOD(AK$142,'Исходные данные'!$F167)=0,1,0)*'Исходные данные'!$C167,0)","v":0},{"$f":"IFERROR(IF(MOD(AL$142,'Исходные данные'!$F167)=0,1,0)*'Исходные данные'!$C167,0)","v":0},{"$f":"IFERROR(IF(MOD(AM$142,'Исходные данные'!$F167)=0,1,0)*'Исходные данные'!$C167,0)","v":0},{"$f":"IFERROR(IF(MOD(AN$142,'Исходные данные'!$F167)=0,1,0)*'Исходные данные'!$C167,0)","v":0},{"$f":"IFERROR(IF(MOD(AO$142,'Исходные данные'!$F167)=0,1,0)*'Исходные данные'!$C167,0)","v":0},{"$f":"IFERROR(IF(MOD(AP$142,'Исходные данные'!$F167)=0,1,0)*'Исходные данные'!$C167,0)","v":0},{"$f":"IFERROR(IF(MOD(AQ$142,'Исходные данные'!$F167)=0,1,0)*'Исходные данные'!$C167,0)","v":0},{"$f":"IFERROR(IF(MOD(AR$142,'Исходные данные'!$F167)=0,1,0)*'Исходные данные'!$C167,0)","v":0},{"$f":"IFERROR(IF(MOD(AS$142,'Исходные данные'!$F167)=0,1,0)*'Исходные данные'!$C167,0)","v":0},{"$f":"IFERROR(IF(MOD(AT$142,'Исходные данные'!$F167)=0,1,0)*'Исходные данные'!$C167,0)","v":0},{"$f":"IFERROR(IF(MOD(AU$142,'Исходные данные'!$F167)=0,1,0)*'Исходные данные'!$C167,0)","v":0},{"$f":"IFERROR(IF(MOD(AV$142,'Исходные данные'!$F167)=0,1,0)*'Исходные данные'!$C167,0)","v":0},{"$f":"IFERROR(IF(MOD(AW$142,'Исходные данные'!$F167)=0,1,0)*'Исходные данные'!$C167,0)","v":0},{"$f":"IFERROR(IF(MOD(AX$142,'Исходные данные'!$F167)=0,1,0)*'Исходные данные'!$C167,0)","v":0},{"$f":"IFERROR(IF(MOD(AY$142,'Исходные данные'!$F167)=0,1,0)*'Исходные данные'!$C167,0)","v":0},{"$f":"IFERROR(IF(MOD(AZ$142,'Исходные данные'!$F167)=0,1,0)*'Исходные данные'!$C167,0)","v":0},{"$f":"IFERROR(IF(MOD(BA$142,'Исходные данные'!$F167)=0,1,0)*'Исходные данные'!$C167,0)","v":0},{"$f":"IFERROR(IF(MOD(BB$142,'Исходные данные'!$F167)=0,1,0)*'Исходные данные'!$C167,0)","v":0},{"$f":"IFERROR(IF(MOD(BC$142,'Исходные данные'!$F167)=0,1,0)*'Исходные данные'!$C167,0)","v":0},{"$f":"IFERROR(IF(MOD(BD$142,'Исходные данные'!$F167)=0,1,0)*'Исходные данные'!$C167,0)","v":0},{"$f":"IFERROR(IF(MOD(BE$142,'Исходные данные'!$F167)=0,1,0)*'Исходные данные'!$C167,0)","v":0},{"$f":"IFERROR(IF(MOD(BF$142,'Исходные данные'!$F167)=0,1,0)*'Исходные данные'!$C167,0)","v":0},{"$f":"IFERROR(IF(MOD(BG$142,'Исходные данные'!$F167)=0,1,0)*'Исходные данные'!$C167,0)","v":0},{"$f":"IFERROR(IF(MOD(BH$142,'Исходные данные'!$F167)=0,1,0)*'Исходные данные'!$C167,0)","v":0},{"$f":"IFERROR(IF(MOD(BI$142,'Исходные данные'!$F167)=0,1,0)*'Исходные данные'!$C167,0)","v":0},{"$f":"IFERROR(IF(MOD(BJ$142,'Исходные данные'!$F167)=0,1,0)*'Исходные данные'!$C167,0)","v":0},{"$f":"IFERROR(IF(MOD(BK$142,'Исходные данные'!$F167)=0,1,0)*'Исходные данные'!$C167,0)","v":0}]
[{"$f":"'Исходные данные'!B168","v":"Кофе машина"},70000,{"$f":"IF('Исходные данные'!G168=0,0,1)","v":1},{"$f":"IFERROR(IF(MOD(D$142,'Исходные данные'!$F168)=0,1,0)*'Исходные данные'!$C168,0)","v":0},{"$f":"IFERROR(IF(MOD(E$142,'Исходные данные'!$F168)=0,1,0)*'Исходные данные'!$C168,0)","v":0},{"$f":"IFERROR(IF(MOD(F$142,'Исходные данные'!$F168)=0,1,0)*'Исходные данные'!$C168,0)","v":0},{"$f":"IFERROR(IF(MOD(G$142,'Исходные данные'!$F168)=0,1,0)*'Исходные данные'!$C168,0)","v":0},{"$f":"IFERROR(IF(MOD(H$142,'Исходные данные'!$F168)=0,1,0)*'Исходные данные'!$C168,0)","v":0},{"$f":"IFERROR(IF(MOD(I$142,'Исходные данные'!$F168)=0,1,0)*'Исходные данные'!$C168,0)","v":0},{"$f":"IFERROR(IF(MOD(J$142,'Исходные данные'!$F168)=0,1,0)*'Исходные данные'!$C168,0)","v":0},{"$f":"IFERROR(IF(MOD(K$142,'Исходные данные'!$F168)=0,1,0)*'Исходные данные'!$C168,0)","v":0},{"$f":"IFERROR(IF(MOD(L$142,'Исходные данные'!$F168)=0,1,0)*'Исходные данные'!$C168,0)","v":0},{"$f":"IFERROR(IF(MOD(M$142,'Исходные данные'!$F168)=0,1,0)*'Исходные данные'!$C168,0)","v":0},{"$f":"IFERROR(IF(MOD(N$142,'Исходные данные'!$F168)=0,1,0)*'Исходные данные'!$C168,0)","v":0},{"$f":"IFERROR(IF(MOD(O$142,'Исходные данные'!$F168)=0,1,0)*'Исходные данные'!$C168,0)","v":0},{"$f":"IFERROR(IF(MOD(P$142,'Исходные данные'!$F168)=0,1,0)*'Исходные данные'!$C168,0)","v":0},{"$f":"IFERROR(IF(MOD(Q$142,'Исходные данные'!$F168)=0,1,0)*'Исходные данные'!$C168,0)","v":0},{"$f":"IFERROR(IF(MOD(R$142,'Исходные данные'!$F168)=0,1,0)*'Исходные данные'!$C168,0)","v":0},{"$f":"IFERROR(IF(MOD(S$142,'Исходные данные'!$F168)=0,1,0)*'Исходные данные'!$C168,0)","v":0},{"$f":"IFERROR(IF(MOD(T$142,'Исходные данные'!$F168)=0,1,0)*'Исходные данные'!$C168,0)","v":0},{"$f":"IFERROR(IF(MOD(U$142,'Исходные данные'!$F168)=0,1,0)*'Исходные данные'!$C168,0)","v":0},{"$f":"IFERROR(IF(MOD(V$142,'Исходные данные'!$F168)=0,1,0)*'Исходные данные'!$C168,0)","v":0},{"$f":"IFERROR(IF(MOD(W$142,'Исходные данные'!$F168)=0,1,0)*'Исходные данные'!$C168,0)","v":0},{"$f":"IFERROR(IF(MOD(X$142,'Исходные данные'!$F168)=0,1,0)*'Исходные данные'!$C168,0)","v":0},{"$f":"IFERROR(IF(MOD(Y$142,'Исходные данные'!$F168)=0,1,0)*'Исходные данные'!$C168,0)","v":0},{"$f":"IFERROR(IF(MOD(Z$142,'Исходные данные'!$F168)=0,1,0)*'Исходные данные'!$C168,0)","v":0},{"$f":"IFERROR(IF(MOD(AA$142,'Исходные данные'!$F168)=0,1,0)*'Исходные данные'!$C168,0)","v":0},{"$f":"IFERROR(IF(MOD(AB$142,'Исходные данные'!$F168)=0,1,0)*'Исходные данные'!$C168,0)","v":0},{"$f":"IFERROR(IF(MOD(AC$142,'Исходные данные'!$F168)=0,1,0)*'Исходные данные'!$C168,0)","v":0},{"$f":"IFERROR(IF(MOD(AD$142,'Исходные данные'!$F168)=0,1,0)*'Исходные данные'!$C168,0)","v":0},{"$f":"IFERROR(IF(MOD(AE$142,'Исходные данные'!$F168)=0,1,0)*'Исходные данные'!$C168,0)","v":0},{"$f":"IFERROR(IF(MOD(AF$142,'Исходные данные'!$F168)=0,1,0)*'Исходные данные'!$C168,0)","v":0},{"$f":"IFERROR(IF(MOD(AG$142,'Исходные данные'!$F168)=0,1,0)*'Исходные данные'!$C168,0)","v":0},{"$f":"IFERROR(IF(MOD(AH$142,'Исходные данные'!$F168)=0,1,0)*'Исходные данные'!$C168,0)","v":0},{"$f":"IFERROR(IF(MOD(AI$142,'Исходные данные'!$F168)=0,1,0)*'Исходные данные'!$C168,0)","v":0},{"$f":"IFERROR(IF(MOD(AJ$142,'Исходные данные'!$F168)=0,1,0)*'Исходные данные'!$C168,0)","v":0},{"$f":"IFERROR(IF(MOD(AK$142,'Исходные данные'!$F168)=0,1,0)*'Исходные данные'!$C168,0)","v":0},{"$f":"IFERROR(IF(MOD(AL$142,'Исходные данные'!$F168)=0,1,0)*'Исходные данные'!$C168,0)","v":0},{"$f":"IFERROR(IF(MOD(AM$142,'Исходные данные'!$F168)=0,1,0)*'Исходные данные'!$C168,0)","v":70000},{"$f":"IFERROR(IF(MOD(AN$142,'Исходные данные'!$F168)=0,1,0)*'Исходные данные'!$C168,0)","v":0},{"$f":"IFERROR(IF(MOD(AO$142,'Исходные данные'!$F168)=0,1,0)*'Исходные данные'!$C168,0)","v":0},{"$f":"IFERROR(IF(MOD(AP$142,'Исходные данные'!$F168)=0,1,0)*'Исходные данные'!$C168,0)","v":0},{"$f":"IFERROR(IF(MOD(AQ$142,'Исходные данные'!$F168)=0,1,0)*'Исходные данные'!$C168,0)","v":0},{"$f":"IFERROR(IF(MOD(AR$142,'Исходные данные'!$F168)=0,1,0)*'Исходные данные'!$C168,0)","v":0},{"$f":"IFERROR(IF(MOD(AS$142,'Исходные данные'!$F168)=0,1,0)*'Исходные данные'!$C168,0)","v":0},{"$f":"IFERROR(IF(MOD(AT$142,'Исходные данные'!$F168)=0,1,0)*'Исходные данные'!$C168,0)","v":0},{"$f":"IFERROR(IF(MOD(AU$142,'Исходные данные'!$F168)=0,1,0)*'Исходные данные'!$C168,0)","v":0},{"$f":"IFERROR(IF(MOD(AV$142,'Исходные данные'!$F168)=0,1,0)*'Исходные данные'!$C168,0)","v":0},{"$f":"IFERROR(IF(MOD(AW$142,'Исходные данные'!$F168)=0,1,0)*'Исходные данные'!$C168,0)","v":0},{"$f":"IFERROR(IF(MOD(AX$142,'Исходные данные'!$F168)=0,1,0)*'Исходные данные'!$C168,0)","v":0},{"$f":"IFERROR(IF(MOD(AY$142,'Исходные данные'!$F168)=0,1,0)*'Исходные данные'!$C168,0)","v":0},{"$f":"IFERROR(IF(MOD(AZ$142,'Исходные данные'!$F168)=0,1,0)*'Исходные данные'!$C168,0)","v":0},{"$f":"IFERROR(IF(MOD(BA$142,'Исходные данные'!$F168)=0,1,0)*'Исходные данные'!$C168,0)","v":0},{"$f":"IFERROR(IF(MOD(BB$142,'Исходные данные'!$F168)=0,1,0)*'Исходные данные'!$C168,0)","v":0},{"$f":"IFERROR(IF(MOD(BC$142,'Исходные данные'!$F168)=0,1,0)*'Исходные данные'!$C168,0)","v":0},{"$f":"IFERROR(IF(MOD(BD$142,'Исходные данные'!$F168)=0,1,0)*'Исходные данные'!$C168,0)","v":0},{"$f":"IFERROR(IF(MOD(BE$142,'Исходные данные'!$F168)=0,1,0)*'Исходные данные'!$C168,0)","v":0},{"$f":"IFERROR(IF(MOD(BF$142,'Исходные данные'!$F168)=0,1,0)*'Исходные данные'!$C168,0)","v":0},{"$f":"IFERROR(IF(MOD(BG$142,'Исходные данные'!$F168)=0,1,0)*'Исходные данные'!$C168,0)","v":0},{"$f":"IFERROR(IF(MOD(BH$142,'Исходные данные'!$F168)=0,1,0)*'Исходные данные'!$C168,0)","v":0},{"$f":"IFERROR(IF(MOD(BI$142,'Исходные данные'!$F168)=0,1,0)*'Исходные данные'!$C168,0)","v":0},{"$f":"IFERROR(IF(MOD(BJ$142,'Исходные данные'!$F168)=0,1,0)*'Исходные данные'!$C168,0)","v":0},{"$f":"IFERROR(IF(MOD(BK$142,'Исходные данные'!$F168)=0,1,0)*'Исходные данные'!$C168,0)","v":0}]
[{"$f":"'Исходные данные'!B169","v":"Морозилка"},0,{"$f":"IF('Исходные данные'!G169=0,0,1)","v":0},{"$f":"IFERROR(IF(MOD(D$142,'Исходные данные'!$F169)=0,1,0)*'Исходные данные'!$C169,0)","v":0},{"$f":"IFERROR(IF(MOD(E$142,'Исходные данные'!$F169)=0,1,0)*'Исходные данные'!$C169,0)","v":0},{"$f":"IFERROR(IF(MOD(F$142,'Исходные данные'!$F169)=0,1,0)*'Исходные данные'!$C169,0)","v":0},{"$f":"IFERROR(IF(MOD(G$142,'Исходные данные'!$F169)=0,1,0)*'Исходные данные'!$C169,0)","v":0},{"$f":"IFERROR(IF(MOD(H$142,'Исходные данные'!$F169)=0,1,0)*'Исходные данные'!$C169,0)","v":0},{"$f":"IFERROR(IF(MOD(I$142,'Исходные данные'!$F169)=0,1,0)*'Исходные данные'!$C169,0)","v":0},{"$f":"IFERROR(IF(MOD(J$142,'Исходные данные'!$F169)=0,1,0)*'Исходные данные'!$C169,0)","v":0},{"$f":"IFERROR(IF(MOD(K$142,'Исходные данные'!$F169)=0,1,0)*'Исходные данные'!$C169,0)","v":0},{"$f":"IFERROR(IF(MOD(L$142,'Исходные данные'!$F169)=0,1,0)*'Исходные данные'!$C169,0)","v":0},{"$f":"IFERROR(IF(MOD(M$142,'Исходные данные'!$F169)=0,1,0)*'Исходные данные'!$C169,0)","v":0},{"$f":"IFERROR(IF(MOD(N$142,'Исходные данные'!$F169)=0,1,0)*'Исходные данные'!$C169,0)","v":0},{"$f":"IFERROR(IF(MOD(O$142,'Исходные данные'!$F169)=0,1,0)*'Исходные данные'!$C169,0)","v":0},{"$f":"IFERROR(IF(MOD(P$142,'Исходные данные'!$F169)=0,1,0)*'Исходные данные'!$C169,0)","v":0},{"$f":"IFERROR(IF(MOD(Q$142,'Исходные данные'!$F169)=0,1,0)*'Исходные данные'!$C169,0)","v":0},{"$f":"IFERROR(IF(MOD(R$142,'Исходные данные'!$F169)=0,1,0)*'Исходные данные'!$C169,0)","v":0},{"$f":"IFERROR(IF(MOD(S$142,'Исходные данные'!$F169)=0,1,0)*'Исходные данные'!$C169,0)","v":0},{"$f":"IFERROR(IF(MOD(T$142,'Исходные данные'!$F169)=0,1,0)*'Исходные данные'!$C169,0)","v":0},{"$f":"IFERROR(IF(MOD(U$142,'Исходные данные'!$F169)=0,1,0)*'Исходные данные'!$C169,0)","v":0},{"$f":"IFERROR(IF(MOD(V$142,'Исходные данные'!$F169)=0,1,0)*'Исходные данные'!$C169,0)","v":0},{"$f":"IFERROR(IF(MOD(W$142,'Исходные данные'!$F169)=0,1,0)*'Исходные данные'!$C169,0)","v":0},{"$f":"IFERROR(IF(MOD(X$142,'Исходные данные'!$F169)=0,1,0)*'Исходные данные'!$C169,0)","v":0},{"$f":"IFERROR(IF(MOD(Y$142,'Исходные данные'!$F169)=0,1,0)*'Исходные данные'!$C169,0)","v":0},{"$f":"IFERROR(IF(MOD(Z$142,'Исходные данные'!$F169)=0,1,0)*'Исходные данные'!$C169,0)","v":0},{"$f":"IFERROR(IF(MOD(AA$142,'Исходные данные'!$F169)=0,1,0)*'Исходные данные'!$C169,0)","v":0},{"$f":"IFERROR(IF(MOD(AB$142,'Исходные данные'!$F169)=0,1,0)*'Исходные данные'!$C169,0)","v":0},{"$f":"IFERROR(IF(MOD(AC$142,'Исходные данные'!$F169)=0,1,0)*'Исходные данные'!$C169,0)","v":0},{"$f":"IFERROR(IF(MOD(AD$142,'Исходные данные'!$F169)=0,1,0)*'Исходные данные'!$C169,0)","v":0},{"$f":"IFERROR(IF(MOD(AE$142,'Исходные данные'!$F169)=0,1,0)*'Исходные данные'!$C169,0)","v":0},{"$f":"IFERROR(IF(MOD(AF$142,'Исходные данные'!$F169)=0,1,0)*'Исходные данные'!$C169,0)","v":0},{"$f":"IFERROR(IF(MOD(AG$142,'Исходные данные'!$F169)=0,1,0)*'Исходные данные'!$C169,0)","v":0},{"$f":"IFERROR(IF(MOD(AH$142,'Исходные данные'!$F169)=0,1,0)*'Исходные данные'!$C169,0)","v":0},{"$f":"IFERROR(IF(MOD(AI$142,'Исходные данные'!$F169)=0,1,0)*'Исходные данные'!$C169,0)","v":0},{"$f":"IFERROR(IF(MOD(AJ$142,'Исходные данные'!$F169)=0,1,0)*'Исходные данные'!$C169,0)","v":0},{"$f":"IFERROR(IF(MOD(AK$142,'Исходные данные'!$F169)=0,1,0)*'Исходные данные'!$C169,0)","v":0},{"$f":"IFERROR(IF(MOD(AL$142,'Исходные данные'!$F169)=0,1,0)*'Исходные данные'!$C169,0)","v":0},{"$f":"IFERROR(IF(MOD(AM$142,'Исходные данные'!$F169)=0,1,0)*'Исходные данные'!$C169,0)","v":0},{"$f":"IFERROR(IF(MOD(AN$142,'Исходные данные'!$F169)=0,1,0)*'Исходные данные'!$C169,0)","v":0},{"$f":"IFERROR(IF(MOD(AO$142,'Исходные данные'!$F169)=0,1,0)*'Исходные данные'!$C169,0)","v":0},{"$f":"IFERROR(IF(MOD(AP$142,'Исходные данные'!$F169)=0,1,0)*'Исходные данные'!$C169,0)","v":0},{"$f":"IFERROR(IF(MOD(AQ$142,'Исходные данные'!$F169)=0,1,0)*'Исходные данные'!$C169,0)","v":0},{"$f":"IFERROR(IF(MOD(AR$142,'Исходные данные'!$F169)=0,1,0)*'Исходные данные'!$C169,0)","v":0},{"$f":"IFERROR(IF(MOD(AS$142,'Исходные данные'!$F169)=0,1,0)*'Исходные данные'!$C169,0)","v":0},{"$f":"IFERROR(IF(MOD(AT$142,'Исходные данные'!$F169)=0,1,0)*'Исходные данные'!$C169,0)","v":0},{"$f":"IFERROR(IF(MOD(AU$142,'Исходные данные'!$F169)=0,1,0)*'Исходные данные'!$C169,0)","v":0},{"$f":"IFERROR(IF(MOD(AV$142,'Исходные данные'!$F169)=0,1,0)*'Исходные данные'!$C169,0)","v":0},{"$f":"IFERROR(IF(MOD(AW$142,'Исходные данные'!$F169)=0,1,0)*'Исходные данные'!$C169,0)","v":0},{"$f":"IFERROR(IF(MOD(AX$142,'Исходные данные'!$F169)=0,1,0)*'Исходные данные'!$C169,0)","v":0},{"$f":"IFERROR(IF(MOD(AY$142,'Исходные данные'!$F169)=0,1,0)*'Исходные данные'!$C169,0)","v":0},{"$f":"IFERROR(IF(MOD(AZ$142,'Исходные данные'!$F169)=0,1,0)*'Исходные данные'!$C169,0)","v":0},{"$f":"IFERROR(IF(MOD(BA$142,'Исходные данные'!$F169)=0,1,0)*'Исходные данные'!$C169,0)","v":0},{"$f":"IFERROR(IF(MOD(BB$142,'Исходные данные'!$F169)=0,1,0)*'Исходные данные'!$C169,0)","v":0},{"$f":"IFERROR(IF(MOD(BC$142,'Исходные данные'!$F169)=0,1,0)*'Исходные данные'!$C169,0)","v":0},{"$f":"IFERROR(IF(MOD(BD$142,'Исходные данные'!$F169)=0,1,0)*'Исходные данные'!$C169,0)","v":0},{"$f":"IFERROR(IF(MOD(BE$142,'Исходные данные'!$F169)=0,1,0)*'Исходные данные'!$C169,0)","v":0},{"$f":"IFERROR(IF(MOD(BF$142,'Исходные данные'!$F169)=0,1,0)*'Исходные данные'!$C169,0)","v":0},{"$f":"IFERROR(IF(MOD(BG$142,'Исходные данные'!$F169)=0,1,0)*'Исходные данные'!$C169,0)","v":0},{"$f":"IFERROR(IF(MOD(BH$142,'Исходные данные'!$F169)=0,1,0)*'Исходные данные'!$C169,0)","v":0},{"$f":"IFERROR(IF(MOD(BI$142,'Исходные данные'!$F169)=0,1,0)*'Исходные данные'!$C169,0)","v":0},{"$f":"IFERROR(IF(MOD(BJ$142,'Исходные данные'!$F169)=0,1,0)*'Исходные данные'!$C169,0)","v":0},{"$f":"IFERROR(IF(MOD(BK$142,'Исходные данные'!$F169)=0,1,0)*'Исходные данные'!$C169,0)","v":0}]
[{"$f":"'Исходные данные'!B170","v":"Холодильник"},0,{"$f":"IF('Исходные данные'!G170=0,0,1)","v":0},{"$f":"IFERROR(IF(MOD(D$142,'Исходные данные'!$F170)=0,1,0)*'Исходные данные'!$C170,0)","v":0},{"$f":"IFERROR(IF(MOD(E$142,'Исходные данные'!$F170)=0,1,0)*'Исходные данные'!$C170,0)","v":0},{"$f":"IFERROR(IF(MOD(F$142,'Исходные данные'!$F170)=0,1,0)*'Исходные данные'!$C170,0)","v":0},{"$f":"IFERROR(IF(MOD(G$142,'Исходные данные'!$F170)=0,1,0)*'Исходные данные'!$C170,0)","v":0},{"$f":"IFERROR(IF(MOD(H$142,'Исходные данные'!$F170)=0,1,0)*'Исходные данные'!$C170,0)","v":0},{"$f":"IFERROR(IF(MOD(I$142,'Исходные данные'!$F170)=0,1,0)*'Исходные данные'!$C170,0)","v":0},{"$f":"IFERROR(IF(MOD(J$142,'Исходные данные'!$F170)=0,1,0)*'Исходные данные'!$C170,0)","v":0},{"$f":"IFERROR(IF(MOD(K$142,'Исходные данные'!$F170)=0,1,0)*'Исходные данные'!$C170,0)","v":0},{"$f":"IFERROR(IF(MOD(L$142,'Исходные данные'!$F170)=0,1,0)*'Исходные данные'!$C170,0)","v":0},{"$f":"IFERROR(IF(MOD(M$142,'Исходные данные'!$F170)=0,1,0)*'Исходные данные'!$C170,0)","v":0},{"$f":"IFERROR(IF(MOD(N$142,'Исходные данные'!$F170)=0,1,0)*'Исходные данные'!$C170,0)","v":0},{"$f":"IFERROR(IF(MOD(O$142,'Исходные данные'!$F170)=0,1,0)*'Исходные данные'!$C170,0)","v":0},{"$f":"IFERROR(IF(MOD(P$142,'Исходные данные'!$F170)=0,1,0)*'Исходные данные'!$C170,0)","v":0},{"$f":"IFERROR(IF(MOD(Q$142,'Исходные данные'!$F170)=0,1,0)*'Исходные данные'!$C170,0)","v":0},{"$f":"IFERROR(IF(MOD(R$142,'Исходные данные'!$F170)=0,1,0)*'Исходные данные'!$C170,0)","v":0},{"$f":"IFERROR(IF(MOD(S$142,'Исходные данные'!$F170)=0,1,0)*'Исходные данные'!$C170,0)","v":0},{"$f":"IFERROR(IF(MOD(T$142,'Исходные данные'!$F170)=0,1,0)*'Исходные данные'!$C170,0)","v":0},{"$f":"IFERROR(IF(MOD(U$142,'Исходные данные'!$F170)=0,1,0)*'Исходные данные'!$C170,0)","v":0},{"$f":"IFERROR(IF(MOD(V$142,'Исходные данные'!$F170)=0,1,0)*'Исходные данные'!$C170,0)","v":0},{"$f":"IFERROR(IF(MOD(W$142,'Исходные данные'!$F170)=0,1,0)*'Исходные данные'!$C170,0)","v":0},{"$f":"IFERROR(IF(MOD(X$142,'Исходные данные'!$F170)=0,1,0)*'Исходные данные'!$C170,0)","v":0},{"$f":"IFERROR(IF(MOD(Y$142,'Исходные данные'!$F170)=0,1,0)*'Исходные данные'!$C170,0)","v":0},{"$f":"IFERROR(IF(MOD(Z$142,'Исходные данные'!$F170)=0,1,0)*'Исходные данные'!$C170,0)","v":0},{"$f":"IFERROR(IF(MOD(AA$142,'Исходные данные'!$F170)=0,1,0)*'Исходные данные'!$C170,0)","v":0},{"$f":"IFERROR(IF(MOD(AB$142,'Исходные данные'!$F170)=0,1,0)*'Исходные данные'!$C170,0)","v":0},{"$f":"IFERROR(IF(MOD(AC$142,'Исходные данные'!$F170)=0,1,0)*'Исходные данные'!$C170,0)","v":0},{"$f":"IFERROR(IF(MOD(AD$142,'Исходные данные'!$F170)=0,1,0)*'Исходные данные'!$C170,0)","v":0},{"$f":"IFERROR(IF(MOD(AE$142,'Исходные данные'!$F170)=0,1,0)*'Исходные данные'!$C170,0)","v":0},{"$f":"IFERROR(IF(MOD(AF$142,'Исходные данные'!$F170)=0,1,0)*'Исходные данные'!$C170,0)","v":0},{"$f":"IFERROR(IF(MOD(AG$142,'Исходные данные'!$F170)=0,1,0)*'Исходные данные'!$C170,0)","v":0},{"$f":"IFERROR(IF(MOD(AH$142,'Исходные данные'!$F170)=0,1,0)*'Исходные данные'!$C170,0)","v":0},{"$f":"IFERROR(IF(MOD(AI$142,'Исходные данные'!$F170)=0,1,0)*'Исходные данные'!$C170,0)","v":0},{"$f":"IFERROR(IF(MOD(AJ$142,'Исходные данные'!$F170)=0,1,0)*'Исходные данные'!$C170,0)","v":0},{"$f":"IFERROR(IF(MOD(AK$142,'Исходные данные'!$F170)=0,1,0)*'Исходные данные'!$C170,0)","v":0},{"$f":"IFERROR(IF(MOD(AL$142,'Исходные данные'!$F170)=0,1,0)*'Исходные данные'!$C170,0)","v":0},{"$f":"IFERROR(IF(MOD(AM$142,'Исходные данные'!$F170)=0,1,0)*'Исходные данные'!$C170,0)","v":0},{"$f":"IFERROR(IF(MOD(AN$142,'Исходные данные'!$F170)=0,1,0)*'Исходные данные'!$C170,0)","v":0},{"$f":"IFERROR(IF(MOD(AO$142,'Исходные данные'!$F170)=0,1,0)*'Исходные данные'!$C170,0)","v":0},{"$f":"IFERROR(IF(MOD(AP$142,'Исходные данные'!$F170)=0,1,0)*'Исходные данные'!$C170,0)","v":0},{"$f":"IFERROR(IF(MOD(AQ$142,'Исходные данные'!$F170)=0,1,0)*'Исходные данные'!$C170,0)","v":0},{"$f":"IFERROR(IF(MOD(AR$142,'Исходные данные'!$F170)=0,1,0)*'Исходные данные'!$C170,0)","v":0},{"$f":"IFERROR(IF(MOD(AS$142,'Исходные данные'!$F170)=0,1,0)*'Исходные данные'!$C170,0)","v":0},{"$f":"IFERROR(IF(MOD(AT$142,'Исходные данные'!$F170)=0,1,0)*'Исходные данные'!$C170,0)","v":0},{"$f":"IFERROR(IF(MOD(AU$142,'Исходные данные'!$F170)=0,1,0)*'Исходные данные'!$C170,0)","v":0},{"$f":"IFERROR(IF(MOD(AV$142,'Исходные данные'!$F170)=0,1,0)*'Исходные данные'!$C170,0)","v":0},{"$f":"IFERROR(IF(MOD(AW$142,'Исходные данные'!$F170)=0,1,0)*'Исходные данные'!$C170,0)","v":0},{"$f":"IFERROR(IF(MOD(AX$142,'Исходные данные'!$F170)=0,1,0)*'Исходные данные'!$C170,0)","v":0},{"$f":"IFERROR(IF(MOD(AY$142,'Исходные данные'!$F170)=0,1,0)*'Исходные данные'!$C170,0)","v":0},{"$f":"IFERROR(IF(MOD(AZ$142,'Исходные данные'!$F170)=0,1,0)*'Исходные данные'!$C170,0)","v":0},{"$f":"IFERROR(IF(MOD(BA$142,'Исходные данные'!$F170)=0,1,0)*'Исходные данные'!$C170,0)","v":0},{"$f":"IFERROR(IF(MOD(BB$142,'Исходные данные'!$F170)=0,1,0)*'Исходные данные'!$C170,0)","v":0},{"$f":"IFERROR(IF(MOD(BC$142,'Исходные данные'!$F170)=0,1,0)*'Исходные данные'!$C170,0)","v":0},{"$f":"IFERROR(IF(MOD(BD$142,'Исходные данные'!$F170)=0,1,0)*'Исходные данные'!$C170,0)","v":0},{"$f":"IFERROR(IF(MOD(BE$142,'Исходные данные'!$F170)=0,1,0)*'Исходные данные'!$C170,0)","v":0},{"$f":"IFERROR(IF(MOD(BF$142,'Исходные данные'!$F170)=0,1,0)*'Исходные данные'!$C170,0)","v":0},{"$f":"IFERROR(IF(MOD(BG$142,'Исходные данные'!$F170)=0,1,0)*'Исходные данные'!$C170,0)","v":0},{"$f":"IFERROR(IF(MOD(BH$142,'Исходные данные'!$F170)=0,1,0)*'Исходные данные'!$C170,0)","v":0},{"$f":"IFERROR(IF(MOD(BI$142,'Исходные данные'!$F170)=0,1,0)*'Исходные данные'!$C170,0)","v":0},{"$f":"IFERROR(IF(MOD(BJ$142,'Исходные данные'!$F170)=0,1,0)*'Исходные данные'!$C170,0)","v":0},{"$f":"IFERROR(IF(MOD(BK$142,'Исходные данные'!$F170)=0,1,0)*'Исходные данные'!$C170,0)","v":0}]
[{"$f":"'Исходные данные'!B171","v":"Гриль"},35000,{"$f":"IF('Исходные данные'!G171=0,0,1)","v":0},{"$f":"IFERROR(IF(MOD(D$142,'Исходные данные'!$F171)=0,1,0)*'Исходные данные'!$C171,0)","v":0},{"$f":"IFERROR(IF(MOD(E$142,'Исходные данные'!$F171)=0,1,0)*'Исходные данные'!$C171,0)","v":0},{"$f":"IFERROR(IF(MOD(F$142,'Исходные данные'!$F171)=0,1,0)*'Исходные данные'!$C171,0)","v":0},{"$f":"IFERROR(IF(MOD(G$142,'Исходные данные'!$F171)=0,1,0)*'Исходные данные'!$C171,0)","v":0},{"$f":"IFERROR(IF(MOD(H$142,'Исходные данные'!$F171)=0,1,0)*'Исходные данные'!$C171,0)","v":0},{"$f":"IFERROR(IF(MOD(I$142,'Исходные данные'!$F171)=0,1,0)*'Исходные данные'!$C171,0)","v":0},{"$f":"IFERROR(IF(MOD(J$142,'Исходные данные'!$F171)=0,1,0)*'Исходные данные'!$C171,0)","v":0},{"$f":"IFERROR(IF(MOD(K$142,'Исходные данные'!$F171)=0,1,0)*'Исходные данные'!$C171,0)","v":0},{"$f":"IFERROR(IF(MOD(L$142,'Исходные данные'!$F171)=0,1,0)*'Исходные данные'!$C171,0)","v":0},{"$f":"IFERROR(IF(MOD(M$142,'Исходные данные'!$F171)=0,1,0)*'Исходные данные'!$C171,0)","v":0},{"$f":"IFERROR(IF(MOD(N$142,'Исходные данные'!$F171)=0,1,0)*'Исходные данные'!$C171,0)","v":0},{"$f":"IFERROR(IF(MOD(O$142,'Исходные данные'!$F171)=0,1,0)*'Исходные данные'!$C171,0)","v":7000},{"$f":"IFERROR(IF(MOD(P$142,'Исходные данные'!$F171)=0,1,0)*'Исходные данные'!$C171,0)","v":0},{"$f":"IFERROR(IF(MOD(Q$142,'Исходные данные'!$F171)=0,1,0)*'Исходные данные'!$C171,0)","v":0},{"$f":"IFERROR(IF(MOD(R$142,'Исходные данные'!$F171)=0,1,0)*'Исходные данные'!$C171,0)","v":0},{"$f":"IFERROR(IF(MOD(S$142,'Исходные данные'!$F171)=0,1,0)*'Исходные данные'!$C171,0)","v":0},{"$f":"IFERROR(IF(MOD(T$142,'Исходные данные'!$F171)=0,1,0)*'Исходные данные'!$C171,0)","v":0},{"$f":"IFERROR(IF(MOD(U$142,'Исходные данные'!$F171)=0,1,0)*'Исходные данные'!$C171,0)","v":0},{"$f":"IFERROR(IF(MOD(V$142,'Исходные данные'!$F171)=0,1,0)*'Исходные данные'!$C171,0)","v":0},{"$f":"IFERROR(IF(MOD(W$142,'Исходные данные'!$F171)=0,1,0)*'Исходные данные'!$C171,0)","v":0},{"$f":"IFERROR(IF(MOD(X$142,'Исходные данные'!$F171)=0,1,0)*'Исходные данные'!$C171,0)","v":0},{"$f":"IFERROR(IF(MOD(Y$142,'Исходные данные'!$F171)=0,1,0)*'Исходные данные'!$C171,0)","v":0},{"$f":"IFERROR(IF(MOD(Z$142,'Исходные данные'!$F171)=0,1,0)*'Исходные данные'!$C171,0)","v":0},{"$f":"IFERROR(IF(MOD(AA$142,'Исходные данные'!$F171)=0,1,0)*'Исходные данные'!$C171,0)","v":7000},{"$f":"IFERROR(IF(MOD(AB$142,'Исходные данные'!$F171)=0,1,0)*'Исходные данные'!$C171,0)","v":0},{"$f":"IFERROR(IF(MOD(AC$142,'Исходные данные'!$F171)=0,1,0)*'Исходные данные'!$C171,0)","v":0},{"$f":"IFERROR(IF(MOD(AD$142,'Исходные данные'!$F171)=0,1,0)*'Исходные данные'!$C171,0)","v":0},{"$f":"IFERROR(IF(MOD(AE$142,'Исходные данные'!$F171)=0,1,0)*'Исходные данные'!$C171,0)","v":0},{"$f":"IFERROR(IF(MOD(AF$142,'Исходные данные'!$F171)=0,1,0)*'Исходные данные'!$C171,0)","v":0},{"$f":"IFERROR(IF(MOD(AG$142,'Исходные данные'!$F171)=0,1,0)*'Исходные данные'!$C171,0)","v":0},{"$f":"IFERROR(IF(MOD(AH$142,'Исходные данные'!$F171)=0,1,0)*'Исходные данные'!$C171,0)","v":0},{"$f":"IFERROR(IF(MOD(AI$142,'Исходные данные'!$F171)=0,1,0)*'Исходные данные'!$C171,0)","v":0},{"$f":"IFERROR(IF(MOD(AJ$142,'Исходные данные'!$F171)=0,1,0)*'Исходные данные'!$C171,0)","v":0},{"$f":"IFERROR(IF(MOD(AK$142,'Исходные данные'!$F171)=0,1,0)*'Исходные данные'!$C171,0)","v":0},{"$f":"IFERROR(IF(MOD(AL$142,'Исходные данные'!$F171)=0,1,0)*'Исходные данные'!$C171,0)","v":0},{"$f":"IFERROR(IF(MOD(AM$142,'Исходные данные'!$F171)=0,1,0)*'Исходные данные'!$C171,0)","v":7000},{"$f":"IFERROR(IF(MOD(AN$142,'Исходные данные'!$F171)=0,1,0)*'Исходные данные'!$C171,0)","v":0},{"$f":"IFERROR(IF(MOD(AO$142,'Исходные данные'!$F171)=0,1,0)*'Исходные данные'!$C171,0)","v":0},{"$f":"IFERROR(IF(MOD(AP$142,'Исходные данные'!$F171)=0,1,0)*'Исходные данные'!$C171,0)","v":0},{"$f":"IFERROR(IF(MOD(AQ$142,'Исходные данные'!$F171)=0,1,0)*'Исходные данные'!$C171,0)","v":0},{"$f":"IFERROR(IF(MOD(AR$142,'Исходные данные'!$F171)=0,1,0)*'Исходные данные'!$C171,0)","v":0},{"$f":"IFERROR(IF(MOD(AS$142,'Исходные данные'!$F171)=0,1,0)*'Исходные данные'!$C171,0)","v":0},{"$f":"IFERROR(IF(MOD(AT$142,'Исходные данные'!$F171)=0,1,0)*'Исходные данные'!$C171,0)","v":0},{"$f":"IFERROR(IF(MOD(AU$142,'Исходные данные'!$F171)=0,1,0)*'Исходные данные'!$C171,0)","v":0},{"$f":"IFERROR(IF(MOD(AV$142,'Исходные данные'!$F171)=0,1,0)*'Исходные данные'!$C171,0)","v":0},{"$f":"IFERROR(IF(MOD(AW$142,'Исходные данные'!$F171)=0,1,0)*'Исходные данные'!$C171,0)","v":0},{"$f":"IFERROR(IF(MOD(AX$142,'Исходные данные'!$F171)=0,1,0)*'Исходные данные'!$C171,0)","v":0},{"$f":"IFERROR(IF(MOD(AY$142,'Исходные данные'!$F171)=0,1,0)*'Исходные данные'!$C171,0)","v":7000},{"$f":"IFERROR(IF(MOD(AZ$142,'Исходные данные'!$F171)=0,1,0)*'Исходные данные'!$C171,0)","v":0},{"$f":"IFERROR(IF(MOD(BA$142,'Исходные данные'!$F171)=0,1,0)*'Исходные данные'!$C171,0)","v":0},{"$f":"IFERROR(IF(MOD(BB$142,'Исходные данные'!$F171)=0,1,0)*'Исходные данные'!$C171,0)","v":0},{"$f":"IFERROR(IF(MOD(BC$142,'Исходные данные'!$F171)=0,1,0)*'Исходные данные'!$C171,0)","v":0},{"$f":"IFERROR(IF(MOD(BD$142,'Исходные данные'!$F171)=0,1,0)*'Исходные данные'!$C171,0)","v":0},{"$f":"IFERROR(IF(MOD(BE$142,'Исходные данные'!$F171)=0,1,0)*'Исходные данные'!$C171,0)","v":0},{"$f":"IFERROR(IF(MOD(BF$142,'Исходные данные'!$F171)=0,1,0)*'Исходные данные'!$C171,0)","v":0},{"$f":"IFERROR(IF(MOD(BG$142,'Исходные данные'!$F171)=0,1,0)*'Исходные данные'!$C171,0)","v":0},{"$f":"IFERROR(IF(MOD(BH$142,'Исходные данные'!$F171)=0,1,0)*'Исходные данные'!$C171,0)","v":0},{"$f":"IFERROR(IF(MOD(BI$142,'Исходные данные'!$F171)=0,1,0)*'Исходные данные'!$C171,0)","v":0},{"$f":"IFERROR(IF(MOD(BJ$142,'Исходные данные'!$F171)=0,1,0)*'Исходные данные'!$C171,0)","v":0},{"$f":"IFERROR(IF(MOD(BK$142,'Исходные данные'!$F171)=0,1,0)*'Исходные данные'!$C171,0)","v":7000}]
[{"$f":"'Исходные данные'!B172","v":"Печь для выпечки"},10000,{"$f":"IF('Исходные данные'!G172=0,0,1)","v":0},{"$f":"IFERROR(IF(MOD(D$142,'Исходные данные'!$F172)=0,1,0)*'Исходные данные'!$C172,0)","v":0},{"$f":"IFERROR(IF(MOD(E$142,'Исходные данные'!$F172)=0,1,0)*'Исходные данные'!$C172,0)","v":0},{"$f":"IFERROR(IF(MOD(F$142,'Исходные данные'!$F172)=0,1,0)*'Исходные данные'!$C172,0)","v":0},{"$f":"IFERROR(IF(MOD(G$142,'Исходные данные'!$F172)=0,1,0)*'Исходные данные'!$C172,0)","v":0},{"$f":"IFERROR(IF(MOD(H$142,'Исходные данные'!$F172)=0,1,0)*'Исходные данные'!$C172,0)","v":0},{"$f":"IFERROR(IF(MOD(I$142,'Исходные данные'!$F172)=0,1,0)*'Исходные данные'!$C172,0)","v":0},{"$f":"IFERROR(IF(MOD(J$142,'Исходные данные'!$F172)=0,1,0)*'Исходные данные'!$C172,0)","v":0},{"$f":"IFERROR(IF(MOD(K$142,'Исходные данные'!$F172)=0,1,0)*'Исходные данные'!$C172,0)","v":0},{"$f":"IFERROR(IF(MOD(L$142,'Исходные данные'!$F172)=0,1,0)*'Исходные данные'!$C172,0)","v":0},{"$f":"IFERROR(IF(MOD(M$142,'Исходные данные'!$F172)=0,1,0)*'Исходные данные'!$C172,0)","v":0},{"$f":"IFERROR(IF(MOD(N$142,'Исходные данные'!$F172)=0,1,0)*'Исходные данные'!$C172,0)","v":0},{"$f":"IFERROR(IF(MOD(O$142,'Исходные данные'!$F172)=0,1,0)*'Исходные данные'!$C172,0)","v":0},{"$f":"IFERROR(IF(MOD(P$142,'Исходные данные'!$F172)=0,1,0)*'Исходные данные'!$C172,0)","v":0},{"$f":"IFERROR(IF(MOD(Q$142,'Исходные данные'!$F172)=0,1,0)*'Исходные данные'!$C172,0)","v":0},{"$f":"IFERROR(IF(MOD(R$142,'Исходные данные'!$F172)=0,1,0)*'Исходные данные'!$C172,0)","v":0},{"$f":"IFERROR(IF(MOD(S$142,'Исходные данные'!$F172)=0,1,0)*'Исходные данные'!$C172,0)","v":0},{"$f":"IFERROR(IF(MOD(T$142,'Исходные данные'!$F172)=0,1,0)*'Исходные данные'!$C172,0)","v":0},{"$f":"IFERROR(IF(MOD(U$142,'Исходные данные'!$F172)=0,1,0)*'Исходные данные'!$C172,0)","v":0},{"$f":"IFERROR(IF(MOD(V$142,'Исходные данные'!$F172)=0,1,0)*'Исходные данные'!$C172,0)","v":0},{"$f":"IFERROR(IF(MOD(W$142,'Исходные данные'!$F172)=0,1,0)*'Исходные данные'!$C172,0)","v":0},{"$f":"IFERROR(IF(MOD(X$142,'Исходные данные'!$F172)=0,1,0)*'Исходные данные'!$C172,0)","v":0},{"$f":"IFERROR(IF(MOD(Y$142,'Исходные данные'!$F172)=0,1,0)*'Исходные данные'!$C172,0)","v":0},{"$f":"IFERROR(IF(MOD(Z$142,'Исходные данные'!$F172)=0,1,0)*'Исходные данные'!$C172,0)","v":0},{"$f":"IFERROR(IF(MOD(AA$142,'Исходные данные'!$F172)=0,1,0)*'Исходные данные'!$C172,0)","v":0},{"$f":"IFERROR(IF(MOD(AB$142,'Исходные данные'!$F172)=0,1,0)*'Исходные данные'!$C172,0)","v":0},{"$f":"IFERROR(IF(MOD(AC$142,'Исходные данные'!$F172)=0,1,0)*'Исходные данные'!$C172,0)","v":0},{"$f":"IFERROR(IF(MOD(AD$142,'Исходные данные'!$F172)=0,1,0)*'Исходные данные'!$C172,0)","v":0},{"$f":"IFERROR(IF(MOD(AE$142,'Исходные данные'!$F172)=0,1,0)*'Исходные данные'!$C172,0)","v":0},{"$f":"IFERROR(IF(MOD(AF$142,'Исходные данные'!$F172)=0,1,0)*'Исходные данные'!$C172,0)","v":0},{"$f":"IFERROR(IF(MOD(AG$142,'Исходные данные'!$F172)=0,1,0)*'Исходные данные'!$C172,0)","v":0},{"$f":"IFERROR(IF(MOD(AH$142,'Исходные данные'!$F172)=0,1,0)*'Исходные данные'!$C172,0)","v":0},{"$f":"IFERROR(IF(MOD(AI$142,'Исходные данные'!$F172)=0,1,0)*'Исходные данные'!$C172,0)","v":0},{"$f":"IFERROR(IF(MOD(AJ$142,'Исходные данные'!$F172)=0,1,0)*'Исходные данные'!$C172,0)","v":0},{"$f":"IFERROR(IF(MOD(AK$142,'Исходные данные'!$F172)=0,1,0)*'Исходные данные'!$C172,0)","v":0},{"$f":"IFERROR(IF(MOD(AL$142,'Исходные данные'!$F172)=0,1,0)*'Исходные данные'!$C172,0)","v":0},{"$f":"IFERROR(IF(MOD(AM$142,'Исходные данные'!$F172)=0,1,0)*'Исходные данные'!$C172,0)","v":10000},{"$f":"IFERROR(IF(MOD(AN$142,'Исходные данные'!$F172)=0,1,0)*'Исходные данные'!$C172,0)","v":0},{"$f":"IFERROR(IF(MOD(AO$142,'Исходные данные'!$F172)=0,1,0)*'Исходные данные'!$C172,0)","v":0},{"$f":"IFERROR(IF(MOD(AP$142,'Исходные данные'!$F172)=0,1,0)*'Исходные данные'!$C172,0)","v":0},{"$f":"IFERROR(IF(MOD(AQ$142,'Исходные данные'!$F172)=0,1,0)*'Исходные данные'!$C172,0)","v":0},{"$f":"IFERROR(IF(MOD(AR$142,'Исходные данные'!$F172)=0,1,0)*'Исходные данные'!$C172,0)","v":0},{"$f":"IFERROR(IF(MOD(AS$142,'Исходные данные'!$F172)=0,1,0)*'Исходные данные'!$C172,0)","v":0},{"$f":"IFERROR(IF(MOD(AT$142,'Исходные данные'!$F172)=0,1,0)*'Исходные данные'!$C172,0)","v":0},{"$f":"IFERROR(IF(MOD(AU$142,'Исходные данные'!$F172)=0,1,0)*'Исходные данные'!$C172,0)","v":0},{"$f":"IFERROR(IF(MOD(AV$142,'Исходные данные'!$F172)=0,1,0)*'Исходные данные'!$C172,0)","v":0},{"$f":"IFERROR(IF(MOD(AW$142,'Исходные данные'!$F172)=0,1,0)*'Исходные данные'!$C172,0)","v":0},{"$f":"IFERROR(IF(MOD(AX$142,'Исходные данные'!$F172)=0,1,0)*'Исходные данные'!$C172,0)","v":0},{"$f":"IFERROR(IF(MOD(AY$142,'Исходные данные'!$F172)=0,1,0)*'Исходные данные'!$C172,0)","v":0},{"$f":"IFERROR(IF(MOD(AZ$142,'Исходные данные'!$F172)=0,1,0)*'Исходные данные'!$C172,0)","v":0},{"$f":"IFERROR(IF(MOD(BA$142,'Исходные данные'!$F172)=0,1,0)*'Исходные данные'!$C172,0)","v":0},{"$f":"IFERROR(IF(MOD(BB$142,'Исходные данные'!$F172)=0,1,0)*'Исходные данные'!$C172,0)","v":0},{"$f":"IFERROR(IF(MOD(BC$142,'Исходные данные'!$F172)=0,1,0)*'Исходные данные'!$C172,0)","v":0},{"$f":"IFERROR(IF(MOD(BD$142,'Исходные данные'!$F172)=0,1,0)*'Исходные данные'!$C172,0)","v":0},{"$f":"IFERROR(IF(MOD(BE$142,'Исходные данные'!$F172)=0,1,0)*'Исходные данные'!$C172,0)","v":0},{"$f":"IFERROR(IF(MOD(BF$142,'Исходные данные'!$F172)=0,1,0)*'Исходные данные'!$C172,0)","v":0},{"$f":"IFERROR(IF(MOD(BG$142,'Исходные данные'!$F172)=0,1,0)*'Исходные данные'!$C172,0)","v":0},{"$f":"IFERROR(IF(MOD(BH$142,'Исходные данные'!$F172)=0,1,0)*'Исходные данные'!$C172,0)","v":0},{"$f":"IFERROR(IF(MOD(BI$142,'Исходные данные'!$F172)=0,1,0)*'Исходные данные'!$C172,0)","v":0},{"$f":"IFERROR(IF(MOD(BJ$142,'Исходные данные'!$F172)=0,1,0)*'Исходные данные'!$C172,0)","v":0},{"$f":"IFERROR(IF(MOD(BK$142,'Исходные данные'!$F172)=0,1,0)*'Исходные данные'!$C172,0)","v":0}]
[{"$f":"'Исходные данные'!B173","v":"Стол разделочный"},0,{"$f":"IF('Исходные данные'!G173=0,0,1)","v":0},{"$f":"IFERROR(IF(MOD(D$142,'Исходные данные'!$F173)=0,1,0)*'Исходные данные'!$C173,0)","v":0},{"$f":"IFERROR(IF(MOD(E$142,'Исходные данные'!$F173)=0,1,0)*'Исходные данные'!$C173,0)","v":0},{"$f":"IFERROR(IF(MOD(F$142,'Исходные данные'!$F173)=0,1,0)*'Исходные данные'!$C173,0)","v":0},{"$f":"IFERROR(IF(MOD(G$142,'Исходные данные'!$F173)=0,1,0)*'Исходные данные'!$C173,0)","v":0},{"$f":"IFERROR(IF(MOD(H$142,'Исходные данные'!$F173)=0,1,0)*'Исходные данные'!$C173,0)","v":0},{"$f":"IFERROR(IF(MOD(I$142,'Исходные данные'!$F173)=0,1,0)*'Исходные данные'!$C173,0)","v":0},{"$f":"IFERROR(IF(MOD(J$142,'Исходные данные'!$F173)=0,1,0)*'Исходные данные'!$C173,0)","v":0},{"$f":"IFERROR(IF(MOD(K$142,'Исходные данные'!$F173)=0,1,0)*'Исходные данные'!$C173,0)","v":0},{"$f":"IFERROR(IF(MOD(L$142,'Исходные данные'!$F173)=0,1,0)*'Исходные данные'!$C173,0)","v":0},{"$f":"IFERROR(IF(MOD(M$142,'Исходные данные'!$F173)=0,1,0)*'Исходные данные'!$C173,0)","v":0},{"$f":"IFERROR(IF(MOD(N$142,'Исходные данные'!$F173)=0,1,0)*'Исходные данные'!$C173,0)","v":0},{"$f":"IFERROR(IF(MOD(O$142,'Исходные данные'!$F173)=0,1,0)*'Исходные данные'!$C173,0)","v":0},{"$f":"IFERROR(IF(MOD(P$142,'Исходные данные'!$F173)=0,1,0)*'Исходные данные'!$C173,0)","v":0},{"$f":"IFERROR(IF(MOD(Q$142,'Исходные данные'!$F173)=0,1,0)*'Исходные данные'!$C173,0)","v":0},{"$f":"IFERROR(IF(MOD(R$142,'Исходные данные'!$F173)=0,1,0)*'Исходные данные'!$C173,0)","v":0},{"$f":"IFERROR(IF(MOD(S$142,'Исходные данные'!$F173)=0,1,0)*'Исходные данные'!$C173,0)","v":0},{"$f":"IFERROR(IF(MOD(T$142,'Исходные данные'!$F173)=0,1,0)*'Исходные данные'!$C173,0)","v":0},{"$f":"IFERROR(IF(MOD(U$142,'Исходные данные'!$F173)=0,1,0)*'Исходные данные'!$C173,0)","v":0},{"$f":"IFERROR(IF(MOD(V$142,'Исходные данные'!$F173)=0,1,0)*'Исходные данные'!$C173,0)","v":0},{"$f":"IFERROR(IF(MOD(W$142,'Исходные данные'!$F173)=0,1,0)*'Исходные данные'!$C173,0)","v":0},{"$f":"IFERROR(IF(MOD(X$142,'Исходные данные'!$F173)=0,1,0)*'Исходные данные'!$C173,0)","v":0},{"$f":"IFERROR(IF(MOD(Y$142,'Исходные данные'!$F173)=0,1,0)*'Исходные данные'!$C173,0)","v":0},{"$f":"IFERROR(IF(MOD(Z$142,'Исходные данные'!$F173)=0,1,0)*'Исходные данные'!$C173,0)","v":0},{"$f":"IFERROR(IF(MOD(AA$142,'Исходные данные'!$F173)=0,1,0)*'Исходные данные'!$C173,0)","v":0},{"$f":"IFERROR(IF(MOD(AB$142,'Исходные данные'!$F173)=0,1,0)*'Исходные данные'!$C173,0)","v":0},{"$f":"IFERROR(IF(MOD(AC$142,'Исходные данные'!$F173)=0,1,0)*'Исходные данные'!$C173,0)","v":0},{"$f":"IFERROR(IF(MOD(AD$142,'Исходные данные'!$F173)=0,1,0)*'Исходные данные'!$C173,0)","v":0},{"$f":"IFERROR(IF(MOD(AE$142,'Исходные данные'!$F173)=0,1,0)*'Исходные данные'!$C173,0)","v":0},{"$f":"IFERROR(IF(MOD(AF$142,'Исходные данные'!$F173)=0,1,0)*'Исходные данные'!$C173,0)","v":0},{"$f":"IFERROR(IF(MOD(AG$142,'Исходные данные'!$F173)=0,1,0)*'Исходные данные'!$C173,0)","v":0},{"$f":"IFERROR(IF(MOD(AH$142,'Исходные данные'!$F173)=0,1,0)*'Исходные данные'!$C173,0)","v":0},{"$f":"IFERROR(IF(MOD(AI$142,'Исходные данные'!$F173)=0,1,0)*'Исходные данные'!$C173,0)","v":0},{"$f":"IFERROR(IF(MOD(AJ$142,'Исходные данные'!$F173)=0,1,0)*'Исходные данные'!$C173,0)","v":0},{"$f":"IFERROR(IF(MOD(AK$142,'Исходные данные'!$F173)=0,1,0)*'Исходные данные'!$C173,0)","v":0},{"$f":"IFERROR(IF(MOD(AL$142,'Исходные данные'!$F173)=0,1,0)*'Исходные данные'!$C173,0)","v":0},{"$f":"IFERROR(IF(MOD(AM$142,'Исходные данные'!$F173)=0,1,0)*'Исходные данные'!$C173,0)","v":0},{"$f":"IFERROR(IF(MOD(AN$142,'Исходные данные'!$F173)=0,1,0)*'Исходные данные'!$C173,0)","v":0},{"$f":"IFERROR(IF(MOD(AO$142,'Исходные данные'!$F173)=0,1,0)*'Исходные данные'!$C173,0)","v":0},{"$f":"IFERROR(IF(MOD(AP$142,'Исходные данные'!$F173)=0,1,0)*'Исходные данные'!$C173,0)","v":0},{"$f":"IFERROR(IF(MOD(AQ$142,'Исходные данные'!$F173)=0,1,0)*'Исходные данные'!$C173,0)","v":0},{"$f":"IFERROR(IF(MOD(AR$142,'Исходные данные'!$F173)=0,1,0)*'Исходные данные'!$C173,0)","v":0},{"$f":"IFERROR(IF(MOD(AS$142,'Исходные данные'!$F173)=0,1,0)*'Исходные данные'!$C173,0)","v":0},{"$f":"IFERROR(IF(MOD(AT$142,'Исходные данные'!$F173)=0,1,0)*'Исходные данные'!$C173,0)","v":0},{"$f":"IFERROR(IF(MOD(AU$142,'Исходные данные'!$F173)=0,1,0)*'Исходные данные'!$C173,0)","v":0},{"$f":"IFERROR(IF(MOD(AV$142,'Исходные данные'!$F173)=0,1,0)*'Исходные данные'!$C173,0)","v":0},{"$f":"IFERROR(IF(MOD(AW$142,'Исходные данные'!$F173)=0,1,0)*'Исходные данные'!$C173,0)","v":0},{"$f":"IFERROR(IF(MOD(AX$142,'Исходные данные'!$F173)=0,1,0)*'Исходные данные'!$C173,0)","v":0},{"$f":"IFERROR(IF(MOD(AY$142,'Исходные данные'!$F173)=0,1,0)*'Исходные данные'!$C173,0)","v":0},{"$f":"IFERROR(IF(MOD(AZ$142,'Исходные данные'!$F173)=0,1,0)*'Исходные данные'!$C173,0)","v":0},{"$f":"IFERROR(IF(MOD(BA$142,'Исходные данные'!$F173)=0,1,0)*'Исходные данные'!$C173,0)","v":0},{"$f":"IFERROR(IF(MOD(BB$142,'Исходные данные'!$F173)=0,1,0)*'Исходные данные'!$C173,0)","v":0},{"$f":"IFERROR(IF(MOD(BC$142,'Исходные данные'!$F173)=0,1,0)*'Исходные данные'!$C173,0)","v":0},{"$f":"IFERROR(IF(MOD(BD$142,'Исходные данные'!$F173)=0,1,0)*'Исходные данные'!$C173,0)","v":0},{"$f":"IFERROR(IF(MOD(BE$142,'Исходные данные'!$F173)=0,1,0)*'Исходные данные'!$C173,0)","v":0},{"$f":"IFERROR(IF(MOD(BF$142,'Исходные данные'!$F173)=0,1,0)*'Исходные данные'!$C173,0)","v":0},{"$f":"IFERROR(IF(MOD(BG$142,'Исходные данные'!$F173)=0,1,0)*'Исходные данные'!$C173,0)","v":0},{"$f":"IFERROR(IF(MOD(BH$142,'Исходные данные'!$F173)=0,1,0)*'Исходные данные'!$C173,0)","v":0},{"$f":"IFERROR(IF(MOD(BI$142,'Исходные данные'!$F173)=0,1,0)*'Исходные данные'!$C173,0)","v":0},{"$f":"IFERROR(IF(MOD(BJ$142,'Исходные данные'!$F173)=0,1,0)*'Исходные данные'!$C173,0)","v":0},{"$f":"IFERROR(IF(MOD(BK$142,'Исходные данные'!$F173)=0,1,0)*'Исходные данные'!$C173,0)","v":0}]
[{"$f":"'Исходные данные'!B174","v":"Вертел для шаурмы электрический"},0,{"$f":"IF('Исходные данные'!G174=0,0,1)","v":0},{"$f":"IFERROR(IF(MOD(D$142,'Исходные данные'!$F174)=0,1,0)*'Исходные данные'!$C174,0)","v":0},{"$f":"IFERROR(IF(MOD(E$142,'Исходные данные'!$F174)=0,1,0)*'Исходные данные'!$C174,0)","v":0},{"$f":"IFERROR(IF(MOD(F$142,'Исходные данные'!$F174)=0,1,0)*'Исходные данные'!$C174,0)","v":0},{"$f":"IFERROR(IF(MOD(G$142,'Исходные данные'!$F174)=0,1,0)*'Исходные данные'!$C174,0)","v":0},{"$f":"IFERROR(IF(MOD(H$142,'Исходные данные'!$F174)=0,1,0)*'Исходные данные'!$C174,0)","v":0},{"$f":"IFERROR(IF(MOD(I$142,'Исходные данные'!$F174)=0,1,0)*'Исходные данные'!$C174,0)","v":0},{"$f":"IFERROR(IF(MOD(J$142,'Исходные данные'!$F174)=0,1,0)*'Исходные данные'!$C174,0)","v":0},{"$f":"IFERROR(IF(MOD(K$142,'Исходные данные'!$F174)=0,1,0)*'Исходные данные'!$C174,0)","v":0},{"$f":"IFERROR(IF(MOD(L$142,'Исходные данные'!$F174)=0,1,0)*'Исходные данные'!$C174,0)","v":0},{"$f":"IFERROR(IF(MOD(M$142,'Исходные данные'!$F174)=0,1,0)*'Исходные данные'!$C174,0)","v":0},{"$f":"IFERROR(IF(MOD(N$142,'Исходные данные'!$F174)=0,1,0)*'Исходные данные'!$C174,0)","v":0},{"$f":"IFERROR(IF(MOD(O$142,'Исходные данные'!$F174)=0,1,0)*'Исходные данные'!$C174,0)","v":0},{"$f":"IFERROR(IF(MOD(P$142,'Исходные данные'!$F174)=0,1,0)*'Исходные данные'!$C174,0)","v":0},{"$f":"IFERROR(IF(MOD(Q$142,'Исходные данные'!$F174)=0,1,0)*'Исходные данные'!$C174,0)","v":0},{"$f":"IFERROR(IF(MOD(R$142,'Исходные данные'!$F174)=0,1,0)*'Исходные данные'!$C174,0)","v":0},{"$f":"IFERROR(IF(MOD(S$142,'Исходные данные'!$F174)=0,1,0)*'Исходные данные'!$C174,0)","v":0},{"$f":"IFERROR(IF(MOD(T$142,'Исходные данные'!$F174)=0,1,0)*'Исходные данные'!$C174,0)","v":0},{"$f":"IFERROR(IF(MOD(U$142,'Исходные данные'!$F174)=0,1,0)*'Исходные данные'!$C174,0)","v":0},{"$f":"IFERROR(IF(MOD(V$142,'Исходные данные'!$F174)=0,1,0)*'Исходные данные'!$C174,0)","v":0},{"$f":"IFERROR(IF(MOD(W$142,'Исходные данные'!$F174)=0,1,0)*'Исходные данные'!$C174,0)","v":0},{"$f":"IFERROR(IF(MOD(X$142,'Исходные данные'!$F174)=0,1,0)*'Исходные данные'!$C174,0)","v":0},{"$f":"IFERROR(IF(MOD(Y$142,'Исходные данные'!$F174)=0,1,0)*'Исходные данные'!$C174,0)","v":0},{"$f":"IFERROR(IF(MOD(Z$142,'Исходные данные'!$F174)=0,1,0)*'Исходные данные'!$C174,0)","v":0},{"$f":"IFERROR(IF(MOD(AA$142,'Исходные данные'!$F174)=0,1,0)*'Исходные данные'!$C174,0)","v":0},{"$f":"IFERROR(IF(MOD(AB$142,'Исходные данные'!$F174)=0,1,0)*'Исходные данные'!$C174,0)","v":0},{"$f":"IFERROR(IF(MOD(AC$142,'Исходные данные'!$F174)=0,1,0)*'Исходные данные'!$C174,0)","v":0},{"$f":"IFERROR(IF(MOD(AD$142,'Исходные данные'!$F174)=0,1,0)*'Исходные данные'!$C174,0)","v":0},{"$f":"IFERROR(IF(MOD(AE$142,'Исходные данные'!$F174)=0,1,0)*'Исходные данные'!$C174,0)","v":0},{"$f":"IFERROR(IF(MOD(AF$142,'Исходные данные'!$F174)=0,1,0)*'Исходные данные'!$C174,0)","v":0},{"$f":"IFERROR(IF(MOD(AG$142,'Исходные данные'!$F174)=0,1,0)*'Исходные данные'!$C174,0)","v":0},{"$f":"IFERROR(IF(MOD(AH$142,'Исходные данные'!$F174)=0,1,0)*'Исходные данные'!$C174,0)","v":0},{"$f":"IFERROR(IF(MOD(AI$142,'Исходные данные'!$F174)=0,1,0)*'Исходные данные'!$C174,0)","v":0},{"$f":"IFERROR(IF(MOD(AJ$142,'Исходные данные'!$F174)=0,1,0)*'Исходные данные'!$C174,0)","v":0},{"$f":"IFERROR(IF(MOD(AK$142,'Исходные данные'!$F174)=0,1,0)*'Исходные данные'!$C174,0)","v":0},{"$f":"IFERROR(IF(MOD(AL$142,'Исходные данные'!$F174)=0,1,0)*'Исходные данные'!$C174,0)","v":0},{"$f":"IFERROR(IF(MOD(AM$142,'Исходные данные'!$F174)=0,1,0)*'Исходные данные'!$C174,0)","v":0},{"$f":"IFERROR(IF(MOD(AN$142,'Исходные данные'!$F174)=0,1,0)*'Исходные данные'!$C174,0)","v":0},{"$f":"IFERROR(IF(MOD(AO$142,'Исходные данные'!$F174)=0,1,0)*'Исходные данные'!$C174,0)","v":0},{"$f":"IFERROR(IF(MOD(AP$142,'Исходные данные'!$F174)=0,1,0)*'Исходные данные'!$C174,0)","v":0},{"$f":"IFERROR(IF(MOD(AQ$142,'Исходные данные'!$F174)=0,1,0)*'Исходные данные'!$C174,0)","v":0},{"$f":"IFERROR(IF(MOD(AR$142,'Исходные данные'!$F174)=0,1,0)*'Исходные данные'!$C174,0)","v":0},{"$f":"IFERROR(IF(MOD(AS$142,'Исходные данные'!$F174)=0,1,0)*'Исходные данные'!$C174,0)","v":0},{"$f":"IFERROR(IF(MOD(AT$142,'Исходные данные'!$F174)=0,1,0)*'Исходные данные'!$C174,0)","v":0},{"$f":"IFERROR(IF(MOD(AU$142,'Исходные данные'!$F174)=0,1,0)*'Исходные данные'!$C174,0)","v":0},{"$f":"IFERROR(IF(MOD(AV$142,'Исходные данные'!$F174)=0,1,0)*'Исходные данные'!$C174,0)","v":0},{"$f":"IFERROR(IF(MOD(AW$142,'Исходные данные'!$F174)=0,1,0)*'Исходные данные'!$C174,0)","v":0},{"$f":"IFERROR(IF(MOD(AX$142,'Исходные данные'!$F174)=0,1,0)*'Исходные данные'!$C174,0)","v":0},{"$f":"IFERROR(IF(MOD(AY$142,'Исходные данные'!$F174)=0,1,0)*'Исходные данные'!$C174,0)","v":0},{"$f":"IFERROR(IF(MOD(AZ$142,'Исходные данные'!$F174)=0,1,0)*'Исходные данные'!$C174,0)","v":0},{"$f":"IFERROR(IF(MOD(BA$142,'Исходные данные'!$F174)=0,1,0)*'Исходные данные'!$C174,0)","v":0},{"$f":"IFERROR(IF(MOD(BB$142,'Исходные данные'!$F174)=0,1,0)*'Исходные данные'!$C174,0)","v":0},{"$f":"IFERROR(IF(MOD(BC$142,'Исходные данные'!$F174)=0,1,0)*'Исходные данные'!$C174,0)","v":0},{"$f":"IFERROR(IF(MOD(BD$142,'Исходные данные'!$F174)=0,1,0)*'Исходные данные'!$C174,0)","v":0},{"$f":"IFERROR(IF(MOD(BE$142,'Исходные данные'!$F174)=0,1,0)*'Исходные данные'!$C174,0)","v":0},{"$f":"IFERROR(IF(MOD(BF$142,'Исходные данные'!$F174)=0,1,0)*'Исходные данные'!$C174,0)","v":0},{"$f":"IFERROR(IF(MOD(BG$142,'Исходные данные'!$F174)=0,1,0)*'Исходные данные'!$C174,0)","v":0},{"$f":"IFERROR(IF(MOD(BH$142,'Исходные данные'!$F174)=0,1,0)*'Исходные данные'!$C174,0)","v":0},{"$f":"IFERROR(IF(MOD(BI$142,'Исходные данные'!$F174)=0,1,0)*'Исходные данные'!$C174,0)","v":0},{"$f":"IFERROR(IF(MOD(BJ$142,'Исходные данные'!$F174)=0,1,0)*'Исходные данные'!$C174,0)","v":0},{"$f":"IFERROR(IF(MOD(BK$142,'Исходные данные'!$F174)=0,1,0)*'Исходные данные'!$C174,0)","v":0}]
[{"$f":"'Исходные данные'!B175","v":"Рукамойник"},3000,{"$f":"IF('Исходные данные'!G175=0,0,1)","v":0},{"$f":"IFERROR(IF(MOD(D$142,'Исходные данные'!$F175)=0,1,0)*'Исходные данные'!$C175,0)","v":0},{"$f":"IFERROR(IF(MOD(E$142,'Исходные данные'!$F175)=0,1,0)*'Исходные данные'!$C175,0)","v":0},{"$f":"IFERROR(IF(MOD(F$142,'Исходные данные'!$F175)=0,1,0)*'Исходные данные'!$C175,0)","v":0},{"$f":"IFERROR(IF(MOD(G$142,'Исходные данные'!$F175)=0,1,0)*'Исходные данные'!$C175,0)","v":0},{"$f":"IFERROR(IF(MOD(H$142,'Исходные данные'!$F175)=0,1,0)*'Исходные данные'!$C175,0)","v":0},{"$f":"IFERROR(IF(MOD(I$142,'Исходные данные'!$F175)=0,1,0)*'Исходные данные'!$C175,0)","v":0},{"$f":"IFERROR(IF(MOD(J$142,'Исходные данные'!$F175)=0,1,0)*'Исходные данные'!$C175,0)","v":0},{"$f":"IFERROR(IF(MOD(K$142,'Исходные данные'!$F175)=0,1,0)*'Исходные данные'!$C175,0)","v":0},{"$f":"IFERROR(IF(MOD(L$142,'Исходные данные'!$F175)=0,1,0)*'Исходные данные'!$C175,0)","v":0},{"$f":"IFERROR(IF(MOD(M$142,'Исходные данные'!$F175)=0,1,0)*'Исходные данные'!$C175,0)","v":0},{"$f":"IFERROR(IF(MOD(N$142,'Исходные данные'!$F175)=0,1,0)*'Исходные данные'!$C175,0)","v":0},{"$f":"IFERROR(IF(MOD(O$142,'Исходные данные'!$F175)=0,1,0)*'Исходные данные'!$C175,0)","v":0},{"$f":"IFERROR(IF(MOD(P$142,'Исходные данные'!$F175)=0,1,0)*'Исходные данные'!$C175,0)","v":0},{"$f":"IFERROR(IF(MOD(Q$142,'Исходные данные'!$F175)=0,1,0)*'Исходные данные'!$C175,0)","v":0},{"$f":"IFERROR(IF(MOD(R$142,'Исходные данные'!$F175)=0,1,0)*'Исходные данные'!$C175,0)","v":0},{"$f":"IFERROR(IF(MOD(S$142,'Исходные данные'!$F175)=0,1,0)*'Исходные данные'!$C175,0)","v":0},{"$f":"IFERROR(IF(MOD(T$142,'Исходные данные'!$F175)=0,1,0)*'Исходные данные'!$C175,0)","v":0},{"$f":"IFERROR(IF(MOD(U$142,'Исходные данные'!$F175)=0,1,0)*'Исходные данные'!$C175,0)","v":0},{"$f":"IFERROR(IF(MOD(V$142,'Исходные данные'!$F175)=0,1,0)*'Исходные данные'!$C175,0)","v":0},{"$f":"IFERROR(IF(MOD(W$142,'Исходные данные'!$F175)=0,1,0)*'Исходные данные'!$C175,0)","v":0},{"$f":"IFERROR(IF(MOD(X$142,'Исходные данные'!$F175)=0,1,0)*'Исходные данные'!$C175,0)","v":0},{"$f":"IFERROR(IF(MOD(Y$142,'Исходные данные'!$F175)=0,1,0)*'Исходные данные'!$C175,0)","v":0},{"$f":"IFERROR(IF(MOD(Z$142,'Исходные данные'!$F175)=0,1,0)*'Исходные данные'!$C175,0)","v":0},{"$f":"IFERROR(IF(MOD(AA$142,'Исходные данные'!$F175)=0,1,0)*'Исходные данные'!$C175,0)","v":0},{"$f":"IFERROR(IF(MOD(AB$142,'Исходные данные'!$F175)=0,1,0)*'Исходные данные'!$C175,0)","v":0},{"$f":"IFERROR(IF(MOD(AC$142,'Исходные данные'!$F175)=0,1,0)*'Исходные данные'!$C175,0)","v":0},{"$f":"IFERROR(IF(MOD(AD$142,'Исходные данные'!$F175)=0,1,0)*'Исходные данные'!$C175,0)","v":0},{"$f":"IFERROR(IF(MOD(AE$142,'Исходные данные'!$F175)=0,1,0)*'Исходные данные'!$C175,0)","v":0},{"$f":"IFERROR(IF(MOD(AF$142,'Исходные данные'!$F175)=0,1,0)*'Исходные данные'!$C175,0)","v":0},{"$f":"IFERROR(IF(MOD(AG$142,'Исходные данные'!$F175)=0,1,0)*'Исходные данные'!$C175,0)","v":0},{"$f":"IFERROR(IF(MOD(AH$142,'Исходные данные'!$F175)=0,1,0)*'Исходные данные'!$C175,0)","v":0},{"$f":"IFERROR(IF(MOD(AI$142,'Исходные данные'!$F175)=0,1,0)*'Исходные данные'!$C175,0)","v":0},{"$f":"IFERROR(IF(MOD(AJ$142,'Исходные данные'!$F175)=0,1,0)*'Исходные данные'!$C175,0)","v":0},{"$f":"IFERROR(IF(MOD(AK$142,'Исходные данные'!$F175)=0,1,0)*'Исходные данные'!$C175,0)","v":0},{"$f":"IFERROR(IF(MOD(AL$142,'Исходные данные'!$F175)=0,1,0)*'Исходные данные'!$C175,0)","v":0},{"$f":"IFERROR(IF(MOD(AM$142,'Исходные данные'!$F175)=0,1,0)*'Исходные данные'!$C175,0)","v":0},{"$f":"IFERROR(IF(MOD(AN$142,'Исходные данные'!$F175)=0,1,0)*'Исходные данные'!$C175,0)","v":0},{"$f":"IFERROR(IF(MOD(AO$142,'Исходные данные'!$F175)=0,1,0)*'Исходные данные'!$C175,0)","v":0},{"$f":"IFERROR(IF(MOD(AP$142,'Исходные данные'!$F175)=0,1,0)*'Исходные данные'!$C175,0)","v":0},{"$f":"IFERROR(IF(MOD(AQ$142,'Исходные данные'!$F175)=0,1,0)*'Исходные данные'!$C175,0)","v":0},{"$f":"IFERROR(IF(MOD(AR$142,'Исходные данные'!$F175)=0,1,0)*'Исходные данные'!$C175,0)","v":0},{"$f":"IFERROR(IF(MOD(AS$142,'Исходные данные'!$F175)=0,1,0)*'Исходные данные'!$C175,0)","v":0},{"$f":"IFERROR(IF(MOD(AT$142,'Исходные данные'!$F175)=0,1,0)*'Исходные данные'!$C175,0)","v":0},{"$f":"IFERROR(IF(MOD(AU$142,'Исходные данные'!$F175)=0,1,0)*'Исходные данные'!$C175,0)","v":0},{"$f":"IFERROR(IF(MOD(AV$142,'Исходные данные'!$F175)=0,1,0)*'Исходные данные'!$C175,0)","v":0},{"$f":"IFERROR(IF(MOD(AW$142,'Исходные данные'!$F175)=0,1,0)*'Исходные данные'!$C175,0)","v":0},{"$f":"IFERROR(IF(MOD(AX$142,'Исходные данные'!$F175)=0,1,0)*'Исходные данные'!$C175,0)","v":0},{"$f":"IFERROR(IF(MOD(AY$142,'Исходные данные'!$F175)=0,1,0)*'Исходные данные'!$C175,0)","v":0},{"$f":"IFERROR(IF(MOD(AZ$142,'Исходные данные'!$F175)=0,1,0)*'Исходные данные'!$C175,0)","v":0},{"$f":"IFERROR(IF(MOD(BA$142,'Исходные данные'!$F175)=0,1,0)*'Исходные данные'!$C175,0)","v":0},{"$f":"IFERROR(IF(MOD(BB$142,'Исходные данные'!$F175)=0,1,0)*'Исходные данные'!$C175,0)","v":0},{"$f":"IFERROR(IF(MOD(BC$142,'Исходные данные'!$F175)=0,1,0)*'Исходные данные'!$C175,0)","v":0},{"$f":"IFERROR(IF(MOD(BD$142,'Исходные данные'!$F175)=0,1,0)*'Исходные данные'!$C175,0)","v":0},{"$f":"IFERROR(IF(MOD(BE$142,'Исходные данные'!$F175)=0,1,0)*'Исходные данные'!$C175,0)","v":0},{"$f":"IFERROR(IF(MOD(BF$142,'Исходные данные'!$F175)=0,1,0)*'Исходные данные'!$C175,0)","v":0},{"$f":"IFERROR(IF(MOD(BG$142,'Исходные данные'!$F175)=0,1,0)*'Исходные данные'!$C175,0)","v":0},{"$f":"IFERROR(IF(MOD(BH$142,'Исходные данные'!$F175)=0,1,0)*'Исходные данные'!$C175,0)","v":0},{"$f":"IFERROR(IF(MOD(BI$142,'Исходные данные'!$F175)=0,1,0)*'Исходные данные'!$C175,0)","v":0},{"$f":"IFERROR(IF(MOD(BJ$142,'Исходные данные'!$F175)=0,1,0)*'Исходные данные'!$C175,0)","v":0},{"$f":"IFERROR(IF(MOD(BK$142,'Исходные данные'!$F175)=0,1,0)*'Исходные данные'!$C175,0)","v":3000}]
[{"$f":"'Исходные данные'!B176","v":"Кассовое оборудование"},30000,{"$f":"IF('Исходные данные'!G176=0,0,1)","v":0},{"$f":"IFERROR(IF(MOD(D$142,'Исходные данные'!$F176)=0,1,0)*'Исходные данные'!$C176,0)","v":0},{"$f":"IFERROR(IF(MOD(E$142,'Исходные данные'!$F176)=0,1,0)*'Исходные данные'!$C176,0)","v":0},{"$f":"IFERROR(IF(MOD(F$142,'Исходные данные'!$F176)=0,1,0)*'Исходные данные'!$C176,0)","v":0},{"$f":"IFERROR(IF(MOD(G$142,'Исходные данные'!$F176)=0,1,0)*'Исходные данные'!$C176,0)","v":0},{"$f":"IFERROR(IF(MOD(H$142,'Исходные данные'!$F176)=0,1,0)*'Исходные данные'!$C176,0)","v":0},{"$f":"IFERROR(IF(MOD(I$142,'Исходные данные'!$F176)=0,1,0)*'Исходные данные'!$C176,0)","v":0},{"$f":"IFERROR(IF(MOD(J$142,'Исходные данные'!$F176)=0,1,0)*'Исходные данные'!$C176,0)","v":0},{"$f":"IFERROR(IF(MOD(K$142,'Исходные данные'!$F176)=0,1,0)*'Исходные данные'!$C176,0)","v":0},{"$f":"IFERROR(IF(MOD(L$142,'Исходные данные'!$F176)=0,1,0)*'Исходные данные'!$C176,0)","v":0},{"$f":"IFERROR(IF(MOD(M$142,'Исходные данные'!$F176)=0,1,0)*'Исходные данные'!$C176,0)","v":0},{"$f":"IFERROR(IF(MOD(N$142,'Исходные данные'!$F176)=0,1,0)*'Исходные данные'!$C176,0)","v":0},{"$f":"IFERROR(IF(MOD(O$142,'Исходные данные'!$F176)=0,1,0)*'Исходные данные'!$C176,0)","v":0},{"$f":"IFERROR(IF(MOD(P$142,'Исходные данные'!$F176)=0,1,0)*'Исходные данные'!$C176,0)","v":0},{"$f":"IFERROR(IF(MOD(Q$142,'Исходные данные'!$F176)=0,1,0)*'Исходные данные'!$C176,0)","v":0},{"$f":"IFERROR(IF(MOD(R$142,'Исходные данные'!$F176)=0,1,0)*'Исходные данные'!$C176,0)","v":0},{"$f":"IFERROR(IF(MOD(S$142,'Исходные данные'!$F176)=0,1,0)*'Исходные данные'!$C176,0)","v":0},{"$f":"IFERROR(IF(MOD(T$142,'Исходные данные'!$F176)=0,1,0)*'Исходные данные'!$C176,0)","v":0},{"$f":"IFERROR(IF(MOD(U$142,'Исходные данные'!$F176)=0,1,0)*'Исходные данные'!$C176,0)","v":0},{"$f":"IFERROR(IF(MOD(V$142,'Исходные данные'!$F176)=0,1,0)*'Исходные данные'!$C176,0)","v":0},{"$f":"IFERROR(IF(MOD(W$142,'Исходные данные'!$F176)=0,1,0)*'Исходные данные'!$C176,0)","v":0},{"$f":"IFERROR(IF(MOD(X$142,'Исходные данные'!$F176)=0,1,0)*'Исходные данные'!$C176,0)","v":0},{"$f":"IFERROR(IF(MOD(Y$142,'Исходные данные'!$F176)=0,1,0)*'Исходные данные'!$C176,0)","v":0},{"$f":"IFERROR(IF(MOD(Z$142,'Исходные данные'!$F176)=0,1,0)*'Исходные данные'!$C176,0)","v":0},{"$f":"IFERROR(IF(MOD(AA$142,'Исходные данные'!$F176)=0,1,0)*'Исходные данные'!$C176,0)","v":0},{"$f":"IFERROR(IF(MOD(AB$142,'Исходные данные'!$F176)=0,1,0)*'Исходные данные'!$C176,0)","v":0},{"$f":"IFERROR(IF(MOD(AC$142,'Исходные данные'!$F176)=0,1,0)*'Исходные данные'!$C176,0)","v":0},{"$f":"IFERROR(IF(MOD(AD$142,'Исходные данные'!$F176)=0,1,0)*'Исходные данные'!$C176,0)","v":0},{"$f":"IFERROR(IF(MOD(AE$142,'Исходные данные'!$F176)=0,1,0)*'Исходные данные'!$C176,0)","v":0},{"$f":"IFERROR(IF(MOD(AF$142,'Исходные данные'!$F176)=0,1,0)*'Исходные данные'!$C176,0)","v":0},{"$f":"IFERROR(IF(MOD(AG$142,'Исходные данные'!$F176)=0,1,0)*'Исходные данные'!$C176,0)","v":0},{"$f":"IFERROR(IF(MOD(AH$142,'Исходные данные'!$F176)=0,1,0)*'Исходные данные'!$C176,0)","v":0},{"$f":"IFERROR(IF(MOD(AI$142,'Исходные данные'!$F176)=0,1,0)*'Исходные данные'!$C176,0)","v":0},{"$f":"IFERROR(IF(MOD(AJ$142,'Исходные данные'!$F176)=0,1,0)*'Исходные данные'!$C176,0)","v":0},{"$f":"IFERROR(IF(MOD(AK$142,'Исходные данные'!$F176)=0,1,0)*'Исходные данные'!$C176,0)","v":0},{"$f":"IFERROR(IF(MOD(AL$142,'Исходные данные'!$F176)=0,1,0)*'Исходные данные'!$C176,0)","v":0},{"$f":"IFERROR(IF(MOD(AM$142,'Исходные данные'!$F176)=0,1,0)*'Исходные данные'!$C176,0)","v":0},{"$f":"IFERROR(IF(MOD(AN$142,'Исходные данные'!$F176)=0,1,0)*'Исходные данные'!$C176,0)","v":0},{"$f":"IFERROR(IF(MOD(AO$142,'Исходные данные'!$F176)=0,1,0)*'Исходные данные'!$C176,0)","v":0},{"$f":"IFERROR(IF(MOD(AP$142,'Исходные данные'!$F176)=0,1,0)*'Исходные данные'!$C176,0)","v":0},{"$f":"IFERROR(IF(MOD(AQ$142,'Исходные данные'!$F176)=0,1,0)*'Исходные данные'!$C176,0)","v":0},{"$f":"IFERROR(IF(MOD(AR$142,'Исходные данные'!$F176)=0,1,0)*'Исходные данные'!$C176,0)","v":0},{"$f":"IFERROR(IF(MOD(AS$142,'Исходные данные'!$F176)=0,1,0)*'Исходные данные'!$C176,0)","v":0},{"$f":"IFERROR(IF(MOD(AT$142,'Исходные данные'!$F176)=0,1,0)*'Исходные данные'!$C176,0)","v":0},{"$f":"IFERROR(IF(MOD(AU$142,'Исходные данные'!$F176)=0,1,0)*'Исходные данные'!$C176,0)","v":0},{"$f":"IFERROR(IF(MOD(AV$142,'Исходные данные'!$F176)=0,1,0)*'Исходные данные'!$C176,0)","v":0},{"$f":"IFERROR(IF(MOD(AW$142,'Исходные данные'!$F176)=0,1,0)*'Исходные данные'!$C176,0)","v":0},{"$f":"IFERROR(IF(MOD(AX$142,'Исходные данные'!$F176)=0,1,0)*'Исходные данные'!$C176,0)","v":0},{"$f":"IFERROR(IF(MOD(AY$142,'Исходные данные'!$F176)=0,1,0)*'Исходные данные'!$C176,0)","v":0},{"$f":"IFERROR(IF(MOD(AZ$142,'Исходные данные'!$F176)=0,1,0)*'Исходные данные'!$C176,0)","v":0},{"$f":"IFERROR(IF(MOD(BA$142,'Исходные данные'!$F176)=0,1,0)*'Исходные данные'!$C176,0)","v":0},{"$f":"IFERROR(IF(MOD(BB$142,'Исходные данные'!$F176)=0,1,0)*'Исходные данные'!$C176,0)","v":0},{"$f":"IFERROR(IF(MOD(BC$142,'Исходные данные'!$F176)=0,1,0)*'Исходные данные'!$C176,0)","v":0},{"$f":"IFERROR(IF(MOD(BD$142,'Исходные данные'!$F176)=0,1,0)*'Исходные данные'!$C176,0)","v":0},{"$f":"IFERROR(IF(MOD(BE$142,'Исходные данные'!$F176)=0,1,0)*'Исходные данные'!$C176,0)","v":0},{"$f":"IFERROR(IF(MOD(BF$142,'Исходные данные'!$F176)=0,1,0)*'Исходные данные'!$C176,0)","v":0},{"$f":"IFERROR(IF(MOD(BG$142,'Исходные данные'!$F176)=0,1,0)*'Исходные данные'!$C176,0)","v":0},{"$f":"IFERROR(IF(MOD(BH$142,'Исходные данные'!$F176)=0,1,0)*'Исходные данные'!$C176,0)","v":0},{"$f":"IFERROR(IF(MOD(BI$142,'Исходные данные'!$F176)=0,1,0)*'Исходные данные'!$C176,0)","v":0},{"$f":"IFERROR(IF(MOD(BJ$142,'Исходные данные'!$F176)=0,1,0)*'Исходные данные'!$C176,0)","v":0},{"$f":"IFERROR(IF(MOD(BK$142,'Исходные данные'!$F176)=0,1,0)*'Исходные данные'!$C176,0)","v":30000}]
[{"$f":"'Исходные данные'!B177","v":"Барный стулья для посетителей"},21000,{"$f":"IF('Исходные данные'!G177=0,0,1)","v":0},{"$f":"IFERROR(IF(MOD(D$142,'Исходные данные'!$F177)=0,1,0)*'Исходные данные'!$C177,0)","v":0},{"$f":"IFERROR(IF(MOD(E$142,'Исходные данные'!$F177)=0,1,0)*'Исходные данные'!$C177,0)","v":0},{"$f":"IFERROR(IF(MOD(F$142,'Исходные данные'!$F177)=0,1,0)*'Исходные данные'!$C177,0)","v":0},{"$f":"IFERROR(IF(MOD(G$142,'Исходные данные'!$F177)=0,1,0)*'Исходные данные'!$C177,0)","v":0},{"$f":"IFERROR(IF(MOD(H$142,'Исходные данные'!$F177)=0,1,0)*'Исходные данные'!$C177,0)","v":0},{"$f":"IFERROR(IF(MOD(I$142,'Исходные данные'!$F177)=0,1,0)*'Исходные данные'!$C177,0)","v":0},{"$f":"IFERROR(IF(MOD(J$142,'Исходные данные'!$F177)=0,1,0)*'Исходные данные'!$C177,0)","v":0},{"$f":"IFERROR(IF(MOD(K$142,'Исходные данные'!$F177)=0,1,0)*'Исходные данные'!$C177,0)","v":0},{"$f":"IFERROR(IF(MOD(L$142,'Исходные данные'!$F177)=0,1,0)*'Исходные данные'!$C177,0)","v":0},{"$f":"IFERROR(IF(MOD(M$142,'Исходные данные'!$F177)=0,1,0)*'Исходные данные'!$C177,0)","v":0},{"$f":"IFERROR(IF(MOD(N$142,'Исходные данные'!$F177)=0,1,0)*'Исходные данные'!$C177,0)","v":0},{"$f":"IFERROR(IF(MOD(O$142,'Исходные данные'!$F177)=0,1,0)*'Исходные данные'!$C177,0)","v":0},{"$f":"IFERROR(IF(MOD(P$142,'Исходные данные'!$F177)=0,1,0)*'Исходные данные'!$C177,0)","v":0},{"$f":"IFERROR(IF(MOD(Q$142,'Исходные данные'!$F177)=0,1,0)*'Исходные данные'!$C177,0)","v":0},{"$f":"IFERROR(IF(MOD(R$142,'Исходные данные'!$F177)=0,1,0)*'Исходные данные'!$C177,0)","v":0},{"$f":"IFERROR(IF(MOD(S$142,'Исходные данные'!$F177)=0,1,0)*'Исходные данные'!$C177,0)","v":0},{"$f":"IFERROR(IF(MOD(T$142,'Исходные данные'!$F177)=0,1,0)*'Исходные данные'!$C177,0)","v":0},{"$f":"IFERROR(IF(MOD(U$142,'Исходные данные'!$F177)=0,1,0)*'Исходные данные'!$C177,0)","v":0},{"$f":"IFERROR(IF(MOD(V$142,'Исходные данные'!$F177)=0,1,0)*'Исходные данные'!$C177,0)","v":0},{"$f":"IFERROR(IF(MOD(W$142,'Исходные данные'!$F177)=0,1,0)*'Исходные данные'!$C177,0)","v":0},{"$f":"IFERROR(IF(MOD(X$142,'Исходные данные'!$F177)=0,1,0)*'Исходные данные'!$C177,0)","v":0},{"$f":"IFERROR(IF(MOD(Y$142,'Исходные данные'!$F177)=0,1,0)*'Исходные данные'!$C177,0)","v":0},{"$f":"IFERROR(IF(MOD(Z$142,'Исходные данные'!$F177)=0,1,0)*'Исходные данные'!$C177,0)","v":0},{"$f":"IFERROR(IF(MOD(AA$142,'Исходные данные'!$F177)=0,1,0)*'Исходные данные'!$C177,0)","v":0},{"$f":"IFERROR(IF(MOD(AB$142,'Исходные данные'!$F177)=0,1,0)*'Исходные данные'!$C177,0)","v":0},{"$f":"IFERROR(IF(MOD(AC$142,'Исходные данные'!$F177)=0,1,0)*'Исходные данные'!$C177,0)","v":0},{"$f":"IFERROR(IF(MOD(AD$142,'Исходные данные'!$F177)=0,1,0)*'Исходные данные'!$C177,0)","v":0},{"$f":"IFERROR(IF(MOD(AE$142,'Исходные данные'!$F177)=0,1,0)*'Исходные данные'!$C177,0)","v":0},{"$f":"IFERROR(IF(MOD(AF$142,'Исходные данные'!$F177)=0,1,0)*'Исходные данные'!$C177,0)","v":0},{"$f":"IFERROR(IF(MOD(AG$142,'Исходные данные'!$F177)=0,1,0)*'Исходные данные'!$C177,0)","v":0},{"$f":"IFERROR(IF(MOD(AH$142,'Исходные данные'!$F177)=0,1,0)*'Исходные данные'!$C177,0)","v":0},{"$f":"IFERROR(IF(MOD(AI$142,'Исходные данные'!$F177)=0,1,0)*'Исходные данные'!$C177,0)","v":0},{"$f":"IFERROR(IF(MOD(AJ$142,'Исходные данные'!$F177)=0,1,0)*'Исходные данные'!$C177,0)","v":0},{"$f":"IFERROR(IF(MOD(AK$142,'Исходные данные'!$F177)=0,1,0)*'Исходные данные'!$C177,0)","v":0},{"$f":"IFERROR(IF(MOD(AL$142,'Исходные данные'!$F177)=0,1,0)*'Исходные данные'!$C177,0)","v":0},{"$f":"IFERROR(IF(MOD(AM$142,'Исходные данные'!$F177)=0,1,0)*'Исходные данные'!$C177,0)","v":0},{"$f":"IFERROR(IF(MOD(AN$142,'Исходные данные'!$F177)=0,1,0)*'Исходные данные'!$C177,0)","v":0},{"$f":"IFERROR(IF(MOD(AO$142,'Исходные данные'!$F177)=0,1,0)*'Исходные данные'!$C177,0)","v":0},{"$f":"IFERROR(IF(MOD(AP$142,'Исходные данные'!$F177)=0,1,0)*'Исходные данные'!$C177,0)","v":0},{"$f":"IFERROR(IF(MOD(AQ$142,'Исходные данные'!$F177)=0,1,0)*'Исходные данные'!$C177,0)","v":0},{"$f":"IFERROR(IF(MOD(AR$142,'Исходные данные'!$F177)=0,1,0)*'Исходные данные'!$C177,0)","v":0},{"$f":"IFERROR(IF(MOD(AS$142,'Исходные данные'!$F177)=0,1,0)*'Исходные данные'!$C177,0)","v":0},{"$f":"IFERROR(IF(MOD(AT$142,'Исходные данные'!$F177)=0,1,0)*'Исходные данные'!$C177,0)","v":0},{"$f":"IFERROR(IF(MOD(AU$142,'Исходные данные'!$F177)=0,1,0)*'Исходные данные'!$C177,0)","v":0},{"$f":"IFERROR(IF(MOD(AV$142,'Исходные данные'!$F177)=0,1,0)*'Исходные данные'!$C177,0)","v":0},{"$f":"IFERROR(IF(MOD(AW$142,'Исходные данные'!$F177)=0,1,0)*'Исходные данные'!$C177,0)","v":0},{"$f":"IFERROR(IF(MOD(AX$142,'Исходные данные'!$F177)=0,1,0)*'Исходные данные'!$C177,0)","v":0},{"$f":"IFERROR(IF(MOD(AY$142,'Исходные данные'!$F177)=0,1,0)*'Исходные данные'!$C177,0)","v":0},{"$f":"IFERROR(IF(MOD(AZ$142,'Исходные данные'!$F177)=0,1,0)*'Исходные данные'!$C177,0)","v":0},{"$f":"IFERROR(IF(MOD(BA$142,'Исходные данные'!$F177)=0,1,0)*'Исходные данные'!$C177,0)","v":0},{"$f":"IFERROR(IF(MOD(BB$142,'Исходные данные'!$F177)=0,1,0)*'Исходные данные'!$C177,0)","v":0},{"$f":"IFERROR(IF(MOD(BC$142,'Исходные данные'!$F177)=0,1,0)*'Исходные данные'!$C177,0)","v":0},{"$f":"IFERROR(IF(MOD(BD$142,'Исходные данные'!$F177)=0,1,0)*'Исходные данные'!$C177,0)","v":0},{"$f":"IFERROR(IF(MOD(BE$142,'Исходные данные'!$F177)=0,1,0)*'Исходные данные'!$C177,0)","v":0},{"$f":"IFERROR(IF(MOD(BF$142,'Исходные данные'!$F177)=0,1,0)*'Исходные данные'!$C177,0)","v":0},{"$f":"IFERROR(IF(MOD(BG$142,'Исходные данные'!$F177)=0,1,0)*'Исходные данные'!$C177,0)","v":0},{"$f":"IFERROR(IF(MOD(BH$142,'Исходные данные'!$F177)=0,1,0)*'Исходные данные'!$C177,0)","v":0},{"$f":"IFERROR(IF(MOD(BI$142,'Исходные данные'!$F177)=0,1,0)*'Исходные данные'!$C177,0)","v":0},{"$f":"IFERROR(IF(MOD(BJ$142,'Исходные данные'!$F177)=0,1,0)*'Исходные данные'!$C177,0)","v":0},{"$f":"IFERROR(IF(MOD(BK$142,'Исходные данные'!$F177)=0,1,0)*'Исходные данные'!$C177,0)","v":21000}]
[{"$f":"'Исходные данные'!B178","v":"Микроволновая печь для посетителей"},5000,{"$f":"IF('Исходные данные'!G178=0,0,1)","v":0},{"$f":"IFERROR(IF(MOD(D$142,'Исходные данные'!$F178)=0,1,0)*'Исходные данные'!$C178,0)","v":0},{"$f":"IFERROR(IF(MOD(E$142,'Исходные данные'!$F178)=0,1,0)*'Исходные данные'!$C178,0)","v":0},{"$f":"IFERROR(IF(MOD(F$142,'Исходные данные'!$F178)=0,1,0)*'Исходные данные'!$C178,0)","v":0},{"$f":"IFERROR(IF(MOD(G$142,'Исходные данные'!$F178)=0,1,0)*'Исходные данные'!$C178,0)","v":0},{"$f":"IFERROR(IF(MOD(H$142,'Исходные данные'!$F178)=0,1,0)*'Исходные данные'!$C178,0)","v":0},{"$f":"IFERROR(IF(MOD(I$142,'Исходные данные'!$F178)=0,1,0)*'Исходные данные'!$C178,0)","v":0},{"$f":"IFERROR(IF(MOD(J$142,'Исходные данные'!$F178)=0,1,0)*'Исходные данные'!$C178,0)","v":0},{"$f":"IFERROR(IF(MOD(K$142,'Исходные данные'!$F178)=0,1,0)*'Исходные данные'!$C178,0)","v":0},{"$f":"IFERROR(IF(MOD(L$142,'Исходные данные'!$F178)=0,1,0)*'Исходные данные'!$C178,0)","v":0},{"$f":"IFERROR(IF(MOD(M$142,'Исходные данные'!$F178)=0,1,0)*'Исходные данные'!$C178,0)","v":0},{"$f":"IFERROR(IF(MOD(N$142,'Исходные данные'!$F178)=0,1,0)*'Исходные данные'!$C178,0)","v":0},{"$f":"IFERROR(IF(MOD(O$142,'Исходные данные'!$F178)=0,1,0)*'Исходные данные'!$C178,0)","v":0},{"$f":"IFERROR(IF(MOD(P$142,'Исходные данные'!$F178)=0,1,0)*'Исходные данные'!$C178,0)","v":0},{"$f":"IFERROR(IF(MOD(Q$142,'Исходные данные'!$F178)=0,1,0)*'Исходные данные'!$C178,0)","v":0},{"$f":"IFERROR(IF(MOD(R$142,'Исходные данные'!$F178)=0,1,0)*'Исходные данные'!$C178,0)","v":0},{"$f":"IFERROR(IF(MOD(S$142,'Исходные данные'!$F178)=0,1,0)*'Исходные данные'!$C178,0)","v":0},{"$f":"IFERROR(IF(MOD(T$142,'Исходные данные'!$F178)=0,1,0)*'Исходные данные'!$C178,0)","v":0},{"$f":"IFERROR(IF(MOD(U$142,'Исходные данные'!$F178)=0,1,0)*'Исходные данные'!$C178,0)","v":0},{"$f":"IFERROR(IF(MOD(V$142,'Исходные данные'!$F178)=0,1,0)*'Исходные данные'!$C178,0)","v":0},{"$f":"IFERROR(IF(MOD(W$142,'Исходные данные'!$F178)=0,1,0)*'Исходные данные'!$C178,0)","v":0},{"$f":"IFERROR(IF(MOD(X$142,'Исходные данные'!$F178)=0,1,0)*'Исходные данные'!$C178,0)","v":0},{"$f":"IFERROR(IF(MOD(Y$142,'Исходные данные'!$F178)=0,1,0)*'Исходные данные'!$C178,0)","v":0},{"$f":"IFERROR(IF(MOD(Z$142,'Исходные данные'!$F178)=0,1,0)*'Исходные данные'!$C178,0)","v":0},{"$f":"IFERROR(IF(MOD(AA$142,'Исходные данные'!$F178)=0,1,0)*'Исходные данные'!$C178,0)","v":0},{"$f":"IFERROR(IF(MOD(AB$142,'Исходные данные'!$F178)=0,1,0)*'Исходные данные'!$C178,0)","v":0},{"$f":"IFERROR(IF(MOD(AC$142,'Исходные данные'!$F178)=0,1,0)*'Исходные данные'!$C178,0)","v":0},{"$f":"IFERROR(IF(MOD(AD$142,'Исходные данные'!$F178)=0,1,0)*'Исходные данные'!$C178,0)","v":0},{"$f":"IFERROR(IF(MOD(AE$142,'Исходные данные'!$F178)=0,1,0)*'Исходные данные'!$C178,0)","v":0},{"$f":"IFERROR(IF(MOD(AF$142,'Исходные данные'!$F178)=0,1,0)*'Исходные данные'!$C178,0)","v":0},{"$f":"IFERROR(IF(MOD(AG$142,'Исходные данные'!$F178)=0,1,0)*'Исходные данные'!$C178,0)","v":0},{"$f":"IFERROR(IF(MOD(AH$142,'Исходные данные'!$F178)=0,1,0)*'Исходные данные'!$C178,0)","v":0},{"$f":"IFERROR(IF(MOD(AI$142,'Исходные данные'!$F178)=0,1,0)*'Исходные данные'!$C178,0)","v":0},{"$f":"IFERROR(IF(MOD(AJ$142,'Исходные данные'!$F178)=0,1,0)*'Исходные данные'!$C178,0)","v":0},{"$f":"IFERROR(IF(MOD(AK$142,'Исходные данные'!$F178)=0,1,0)*'Исходные данные'!$C178,0)","v":0},{"$f":"IFERROR(IF(MOD(AL$142,'Исходные данные'!$F178)=0,1,0)*'Исходные данные'!$C178,0)","v":0},{"$f":"IFERROR(IF(MOD(AM$142,'Исходные данные'!$F178)=0,1,0)*'Исходные данные'!$C178,0)","v":0},{"$f":"IFERROR(IF(MOD(AN$142,'Исходные данные'!$F178)=0,1,0)*'Исходные данные'!$C178,0)","v":0},{"$f":"IFERROR(IF(MOD(AO$142,'Исходные данные'!$F178)=0,1,0)*'Исходные данные'!$C178,0)","v":0},{"$f":"IFERROR(IF(MOD(AP$142,'Исходные данные'!$F178)=0,1,0)*'Исходные данные'!$C178,0)","v":0},{"$f":"IFERROR(IF(MOD(AQ$142,'Исходные данные'!$F178)=0,1,0)*'Исходные данные'!$C178,0)","v":0},{"$f":"IFERROR(IF(MOD(AR$142,'Исходные данные'!$F178)=0,1,0)*'Исходные данные'!$C178,0)","v":0},{"$f":"IFERROR(IF(MOD(AS$142,'Исходные данные'!$F178)=0,1,0)*'Исходные данные'!$C178,0)","v":0},{"$f":"IFERROR(IF(MOD(AT$142,'Исходные данные'!$F178)=0,1,0)*'Исходные данные'!$C178,0)","v":0},{"$f":"IFERROR(IF(MOD(AU$142,'Исходные данные'!$F178)=0,1,0)*'Исходные данные'!$C178,0)","v":0},{"$f":"IFERROR(IF(MOD(AV$142,'Исходные данные'!$F178)=0,1,0)*'Исходные данные'!$C178,0)","v":0},{"$f":"IFERROR(IF(MOD(AW$142,'Исходные данные'!$F178)=0,1,0)*'Исходные данные'!$C178,0)","v":0},{"$f":"IFERROR(IF(MOD(AX$142,'Исходные данные'!$F178)=0,1,0)*'Исходные данные'!$C178,0)","v":0},{"$f":"IFERROR(IF(MOD(AY$142,'Исходные данные'!$F178)=0,1,0)*'Исходные данные'!$C178,0)","v":0},{"$f":"IFERROR(IF(MOD(AZ$142,'Исходные данные'!$F178)=0,1,0)*'Исходные данные'!$C178,0)","v":0},{"$f":"IFERROR(IF(MOD(BA$142,'Исходные данные'!$F178)=0,1,0)*'Исходные данные'!$C178,0)","v":0},{"$f":"IFERROR(IF(MOD(BB$142,'Исходные данные'!$F178)=0,1,0)*'Исходные данные'!$C178,0)","v":0},{"$f":"IFERROR(IF(MOD(BC$142,'Исходные данные'!$F178)=0,1,0)*'Исходные данные'!$C178,0)","v":0},{"$f":"IFERROR(IF(MOD(BD$142,'Исходные данные'!$F178)=0,1,0)*'Исходные данные'!$C178,0)","v":0},{"$f":"IFERROR(IF(MOD(BE$142,'Исходные данные'!$F178)=0,1,0)*'Исходные данные'!$C178,0)","v":0},{"$f":"IFERROR(IF(MOD(BF$142,'Исходные данные'!$F178)=0,1,0)*'Исходные данные'!$C178,0)","v":0},{"$f":"IFERROR(IF(MOD(BG$142,'Исходные данные'!$F178)=0,1,0)*'Исходные данные'!$C178,0)","v":0},{"$f":"IFERROR(IF(MOD(BH$142,'Исходные данные'!$F178)=0,1,0)*'Исходные данные'!$C178,0)","v":0},{"$f":"IFERROR(IF(MOD(BI$142,'Исходные данные'!$F178)=0,1,0)*'Исходные данные'!$C178,0)","v":0},{"$f":"IFERROR(IF(MOD(BJ$142,'Исходные данные'!$F178)=0,1,0)*'Исходные данные'!$C178,0)","v":0},{"$f":"IFERROR(IF(MOD(BK$142,'Исходные данные'!$F178)=0,1,0)*'Исходные данные'!$C178,0)","v":5000}]
[{"$f":"'Исходные данные'!B179","v":0},0,{"$f":"IF('Исходные данные'!G179=0,0,1)","v":0},{"$f":"IFERROR(IF(MOD(D$142,'Исходные данные'!$F179)=0,1,0)*'Исходные данные'!$C179,0)","v":0},{"$f":"IFERROR(IF(MOD(E$142,'Исходные данные'!$F179)=0,1,0)*'Исходные данные'!$C179,0)","v":0},{"$f":"IFERROR(IF(MOD(F$142,'Исходные данные'!$F179)=0,1,0)*'Исходные данные'!$C179,0)","v":0},{"$f":"IFERROR(IF(MOD(G$142,'Исходные данные'!$F179)=0,1,0)*'Исходные данные'!$C179,0)","v":0},{"$f":"IFERROR(IF(MOD(H$142,'Исходные данные'!$F179)=0,1,0)*'Исходные данные'!$C179,0)","v":0},{"$f":"IFERROR(IF(MOD(I$142,'Исходные данные'!$F179)=0,1,0)*'Исходные данные'!$C179,0)","v":0},{"$f":"IFERROR(IF(MOD(J$142,'Исходные данные'!$F179)=0,1,0)*'Исходные данные'!$C179,0)","v":0},{"$f":"IFERROR(IF(MOD(K$142,'Исходные данные'!$F179)=0,1,0)*'Исходные данные'!$C179,0)","v":0},{"$f":"IFERROR(IF(MOD(L$142,'Исходные данные'!$F179)=0,1,0)*'Исходные данные'!$C179,0)","v":0},{"$f":"IFERROR(IF(MOD(M$142,'Исходные данные'!$F179)=0,1,0)*'Исходные данные'!$C179,0)","v":0},{"$f":"IFERROR(IF(MOD(N$142,'Исходные данные'!$F179)=0,1,0)*'Исходные данные'!$C179,0)","v":0},{"$f":"IFERROR(IF(MOD(O$142,'Исходные данные'!$F179)=0,1,0)*'Исходные данные'!$C179,0)","v":0},{"$f":"IFERROR(IF(MOD(P$142,'Исходные данные'!$F179)=0,1,0)*'Исходные данные'!$C179,0)","v":0},{"$f":"IFERROR(IF(MOD(Q$142,'Исходные данные'!$F179)=0,1,0)*'Исходные данные'!$C179,0)","v":0},{"$f":"IFERROR(IF(MOD(R$142,'Исходные данные'!$F179)=0,1,0)*'Исходные данные'!$C179,0)","v":0},{"$f":"IFERROR(IF(MOD(S$142,'Исходные данные'!$F179)=0,1,0)*'Исходные данные'!$C179,0)","v":0},{"$f":"IFERROR(IF(MOD(T$142,'Исходные данные'!$F179)=0,1,0)*'Исходные данные'!$C179,0)","v":0},{"$f":"IFERROR(IF(MOD(U$142,'Исходные данные'!$F179)=0,1,0)*'Исходные данные'!$C179,0)","v":0},{"$f":"IFERROR(IF(MOD(V$142,'Исходные данные'!$F179)=0,1,0)*'Исходные данные'!$C179,0)","v":0},{"$f":"IFERROR(IF(MOD(W$142,'Исходные данные'!$F179)=0,1,0)*'Исходные данные'!$C179,0)","v":0},{"$f":"IFERROR(IF(MOD(X$142,'Исходные данные'!$F179)=0,1,0)*'Исходные данные'!$C179,0)","v":0},{"$f":"IFERROR(IF(MOD(Y$142,'Исходные данные'!$F179)=0,1,0)*'Исходные данные'!$C179,0)","v":0},{"$f":"IFERROR(IF(MOD(Z$142,'Исходные данные'!$F179)=0,1,0)*'Исходные данные'!$C179,0)","v":0},{"$f":"IFERROR(IF(MOD(AA$142,'Исходные данные'!$F179)=0,1,0)*'Исходные данные'!$C179,0)","v":0},{"$f":"IFERROR(IF(MOD(AB$142,'Исходные данные'!$F179)=0,1,0)*'Исходные данные'!$C179,0)","v":0},{"$f":"IFERROR(IF(MOD(AC$142,'Исходные данные'!$F179)=0,1,0)*'Исходные данные'!$C179,0)","v":0},{"$f":"IFERROR(IF(MOD(AD$142,'Исходные данные'!$F179)=0,1,0)*'Исходные данные'!$C179,0)","v":0},{"$f":"IFERROR(IF(MOD(AE$142,'Исходные данные'!$F179)=0,1,0)*'Исходные данные'!$C179,0)","v":0},{"$f":"IFERROR(IF(MOD(AF$142,'Исходные данные'!$F179)=0,1,0)*'Исходные данные'!$C179,0)","v":0},{"$f":"IFERROR(IF(MOD(AG$142,'Исходные данные'!$F179)=0,1,0)*'Исходные данные'!$C179,0)","v":0},{"$f":"IFERROR(IF(MOD(AH$142,'Исходные данные'!$F179)=0,1,0)*'Исходные данные'!$C179,0)","v":0},{"$f":"IFERROR(IF(MOD(AI$142,'Исходные данные'!$F179)=0,1,0)*'Исходные данные'!$C179,0)","v":0},{"$f":"IFERROR(IF(MOD(AJ$142,'Исходные данные'!$F179)=0,1,0)*'Исходные данные'!$C179,0)","v":0},{"$f":"IFERROR(IF(MOD(AK$142,'Исходные данные'!$F179)=0,1,0)*'Исходные данные'!$C179,0)","v":0},{"$f":"IFERROR(IF(MOD(AL$142,'Исходные данные'!$F179)=0,1,0)*'Исходные данные'!$C179,0)","v":0},{"$f":"IFERROR(IF(MOD(AM$142,'Исходные данные'!$F179)=0,1,0)*'Исходные данные'!$C179,0)","v":0},{"$f":"IFERROR(IF(MOD(AN$142,'Исходные данные'!$F179)=0,1,0)*'Исходные данные'!$C179,0)","v":0},{"$f":"IFERROR(IF(MOD(AO$142,'Исходные данные'!$F179)=0,1,0)*'Исходные данные'!$C179,0)","v":0},{"$f":"IFERROR(IF(MOD(AP$142,'Исходные данные'!$F179)=0,1,0)*'Исходные данные'!$C179,0)","v":0},{"$f":"IFERROR(IF(MOD(AQ$142,'Исходные данные'!$F179)=0,1,0)*'Исходные данные'!$C179,0)","v":0},{"$f":"IFERROR(IF(MOD(AR$142,'Исходные данные'!$F179)=0,1,0)*'Исходные данные'!$C179,0)","v":0},{"$f":"IFERROR(IF(MOD(AS$142,'Исходные данные'!$F179)=0,1,0)*'Исходные данные'!$C179,0)","v":0},{"$f":"IFERROR(IF(MOD(AT$142,'Исходные данные'!$F179)=0,1,0)*'Исходные данные'!$C179,0)","v":0},{"$f":"IFERROR(IF(MOD(AU$142,'Исходные данные'!$F179)=0,1,0)*'Исходные данные'!$C179,0)","v":0},{"$f":"IFERROR(IF(MOD(AV$142,'Исходные данные'!$F179)=0,1,0)*'Исходные данные'!$C179,0)","v":0},{"$f":"IFERROR(IF(MOD(AW$142,'Исходные данные'!$F179)=0,1,0)*'Исходные данные'!$C179,0)","v":0},{"$f":"IFERROR(IF(MOD(AX$142,'Исходные данные'!$F179)=0,1,0)*'Исходные данные'!$C179,0)","v":0},{"$f":"IFERROR(IF(MOD(AY$142,'Исходные данные'!$F179)=0,1,0)*'Исходные данные'!$C179,0)","v":0},{"$f":"IFERROR(IF(MOD(AZ$142,'Исходные данные'!$F179)=0,1,0)*'Исходные данные'!$C179,0)","v":0},{"$f":"IFERROR(IF(MOD(BA$142,'Исходные данные'!$F179)=0,1,0)*'Исходные данные'!$C179,0)","v":0},{"$f":"IFERROR(IF(MOD(BB$142,'Исходные данные'!$F179)=0,1,0)*'Исходные данные'!$C179,0)","v":0},{"$f":"IFERROR(IF(MOD(BC$142,'Исходные данные'!$F179)=0,1,0)*'Исходные данные'!$C179,0)","v":0},{"$f":"IFERROR(IF(MOD(BD$142,'Исходные данные'!$F179)=0,1,0)*'Исходные данные'!$C179,0)","v":0},{"$f":"IFERROR(IF(MOD(BE$142,'Исходные данные'!$F179)=0,1,0)*'Исходные данные'!$C179,0)","v":0},{"$f":"IFERROR(IF(MOD(BF$142,'Исходные данные'!$F179)=0,1,0)*'Исходные данные'!$C179,0)","v":0},{"$f":"IFERROR(IF(MOD(BG$142,'Исходные данные'!$F179)=0,1,0)*'Исходные данные'!$C179,0)","v":0},{"$f":"IFERROR(IF(MOD(BH$142,'Исходные данные'!$F179)=0,1,0)*'Исходные данные'!$C179,0)","v":0},{"$f":"IFERROR(IF(MOD(BI$142,'Исходные данные'!$F179)=0,1,0)*'Исходные данные'!$C179,0)","v":0},{"$f":"IFERROR(IF(MOD(BJ$142,'Исходные данные'!$F179)=0,1,0)*'Исходные данные'!$C179,0)","v":0},{"$f":"IFERROR(IF(MOD(BK$142,'Исходные данные'!$F179)=0,1,0)*'Исходные данные'!$C179,0)","v":0}]
[{"$f":"'Исходные данные'!B180","v":0},0,{"$f":"IF('Исходные данные'!G180=0,0,1)","v":0},{"$f":"IFERROR(IF(MOD(D$142,'Исходные данные'!$F180)=0,1,0)*'Исходные данные'!$C180,0)","v":0},{"$f":"IFERROR(IF(MOD(E$142,'Исходные данные'!$F180)=0,1,0)*'Исходные данные'!$C180,0)","v":0},{"$f":"IFERROR(IF(MOD(F$142,'Исходные данные'!$F180)=0,1,0)*'Исходные данные'!$C180,0)","v":0},{"$f":"IFERROR(IF(MOD(G$142,'Исходные данные'!$F180)=0,1,0)*'Исходные данные'!$C180,0)","v":0},{"$f":"IFERROR(IF(MOD(H$142,'Исходные данные'!$F180)=0,1,0)*'Исходные данные'!$C180,0)","v":0},{"$f":"IFERROR(IF(MOD(I$142,'Исходные данные'!$F180)=0,1,0)*'Исходные данные'!$C180,0)","v":0},{"$f":"IFERROR(IF(MOD(J$142,'Исходные данные'!$F180)=0,1,0)*'Исходные данные'!$C180,0)","v":0},{"$f":"IFERROR(IF(MOD(K$142,'Исходные данные'!$F180)=0,1,0)*'Исходные данные'!$C180,0)","v":0},{"$f":"IFERROR(IF(MOD(L$142,'Исходные данные'!$F180)=0,1,0)*'Исходные данные'!$C180,0)","v":0},{"$f":"IFERROR(IF(MOD(M$142,'Исходные данные'!$F180)=0,1,0)*'Исходные данные'!$C180,0)","v":0},{"$f":"IFERROR(IF(MOD(N$142,'Исходные данные'!$F180)=0,1,0)*'Исходные данные'!$C180,0)","v":0},{"$f":"IFERROR(IF(MOD(O$142,'Исходные данные'!$F180)=0,1,0)*'Исходные данные'!$C180,0)","v":0},{"$f":"IFERROR(IF(MOD(P$142,'Исходные данные'!$F180)=0,1,0)*'Исходные данные'!$C180,0)","v":0},{"$f":"IFERROR(IF(MOD(Q$142,'Исходные данные'!$F180)=0,1,0)*'Исходные данные'!$C180,0)","v":0},{"$f":"IFERROR(IF(MOD(R$142,'Исходные данные'!$F180)=0,1,0)*'Исходные данные'!$C180,0)","v":0},{"$f":"IFERROR(IF(MOD(S$142,'Исходные данные'!$F180)=0,1,0)*'Исходные данные'!$C180,0)","v":0},{"$f":"IFERROR(IF(MOD(T$142,'Исходные данные'!$F180)=0,1,0)*'Исходные данные'!$C180,0)","v":0},{"$f":"IFERROR(IF(MOD(U$142,'Исходные данные'!$F180)=0,1,0)*'Исходные данные'!$C180,0)","v":0},{"$f":"IFERROR(IF(MOD(V$142,'Исходные данные'!$F180)=0,1,0)*'Исходные данные'!$C180,0)","v":0},{"$f":"IFERROR(IF(MOD(W$142,'Исходные данные'!$F180)=0,1,0)*'Исходные данные'!$C180,0)","v":0},{"$f":"IFERROR(IF(MOD(X$142,'Исходные данные'!$F180)=0,1,0)*'Исходные данные'!$C180,0)","v":0},{"$f":"IFERROR(IF(MOD(Y$142,'Исходные данные'!$F180)=0,1,0)*'Исходные данные'!$C180,0)","v":0},{"$f":"IFERROR(IF(MOD(Z$142,'Исходные данные'!$F180)=0,1,0)*'Исходные данные'!$C180,0)","v":0},{"$f":"IFERROR(IF(MOD(AA$142,'Исходные данные'!$F180)=0,1,0)*'Исходные данные'!$C180,0)","v":0},{"$f":"IFERROR(IF(MOD(AB$142,'Исходные данные'!$F180)=0,1,0)*'Исходные данные'!$C180,0)","v":0},{"$f":"IFERROR(IF(MOD(AC$142,'Исходные данные'!$F180)=0,1,0)*'Исходные данные'!$C180,0)","v":0},{"$f":"IFERROR(IF(MOD(AD$142,'Исходные данные'!$F180)=0,1,0)*'Исходные данные'!$C180,0)","v":0},{"$f":"IFERROR(IF(MOD(AE$142,'Исходные данные'!$F180)=0,1,0)*'Исходные данные'!$C180,0)","v":0},{"$f":"IFERROR(IF(MOD(AF$142,'Исходные данные'!$F180)=0,1,0)*'Исходные данные'!$C180,0)","v":0},{"$f":"IFERROR(IF(MOD(AG$142,'Исходные данные'!$F180)=0,1,0)*'Исходные данные'!$C180,0)","v":0},{"$f":"IFERROR(IF(MOD(AH$142,'Исходные данные'!$F180)=0,1,0)*'Исходные данные'!$C180,0)","v":0},{"$f":"IFERROR(IF(MOD(AI$142,'Исходные данные'!$F180)=0,1,0)*'Исходные данные'!$C180,0)","v":0},{"$f":"IFERROR(IF(MOD(AJ$142,'Исходные данные'!$F180)=0,1,0)*'Исходные данные'!$C180,0)","v":0},{"$f":"IFERROR(IF(MOD(AK$142,'Исходные данные'!$F180)=0,1,0)*'Исходные данные'!$C180,0)","v":0},{"$f":"IFERROR(IF(MOD(AL$142,'Исходные данные'!$F180)=0,1,0)*'Исходные данные'!$C180,0)","v":0},{"$f":"IFERROR(IF(MOD(AM$142,'Исходные данные'!$F180)=0,1,0)*'Исходные данные'!$C180,0)","v":0},{"$f":"IFERROR(IF(MOD(AN$142,'Исходные данные'!$F180)=0,1,0)*'Исходные данные'!$C180,0)","v":0},{"$f":"IFERROR(IF(MOD(AO$142,'Исходные данные'!$F180)=0,1,0)*'Исходные данные'!$C180,0)","v":0},{"$f":"IFERROR(IF(MOD(AP$142,'Исходные данные'!$F180)=0,1,0)*'Исходные данные'!$C180,0)","v":0},{"$f":"IFERROR(IF(MOD(AQ$142,'Исходные данные'!$F180)=0,1,0)*'Исходные данные'!$C180,0)","v":0},{"$f":"IFERROR(IF(MOD(AR$142,'Исходные данные'!$F180)=0,1,0)*'Исходные данные'!$C180,0)","v":0},{"$f":"IFERROR(IF(MOD(AS$142,'Исходные данные'!$F180)=0,1,0)*'Исходные данные'!$C180,0)","v":0},{"$f":"IFERROR(IF(MOD(AT$142,'Исходные данные'!$F180)=0,1,0)*'Исходные данные'!$C180,0)","v":0},{"$f":"IFERROR(IF(MOD(AU$142,'Исходные данные'!$F180)=0,1,0)*'Исходные данные'!$C180,0)","v":0},{"$f":"IFERROR(IF(MOD(AV$142,'Исходные данные'!$F180)=0,1,0)*'Исходные данные'!$C180,0)","v":0},{"$f":"IFERROR(IF(MOD(AW$142,'Исходные данные'!$F180)=0,1,0)*'Исходные данные'!$C180,0)","v":0},{"$f":"IFERROR(IF(MOD(AX$142,'Исходные данные'!$F180)=0,1,0)*'Исходные данные'!$C180,0)","v":0},{"$f":"IFERROR(IF(MOD(AY$142,'Исходные данные'!$F180)=0,1,0)*'Исходные данные'!$C180,0)","v":0},{"$f":"IFERROR(IF(MOD(AZ$142,'Исходные данные'!$F180)=0,1,0)*'Исходные данные'!$C180,0)","v":0},{"$f":"IFERROR(IF(MOD(BA$142,'Исходные данные'!$F180)=0,1,0)*'Исходные данные'!$C180,0)","v":0},{"$f":"IFERROR(IF(MOD(BB$142,'Исходные данные'!$F180)=0,1,0)*'Исходные данные'!$C180,0)","v":0},{"$f":"IFERROR(IF(MOD(BC$142,'Исходные данные'!$F180)=0,1,0)*'Исходные данные'!$C180,0)","v":0},{"$f":"IFERROR(IF(MOD(BD$142,'Исходные данные'!$F180)=0,1,0)*'Исходные данные'!$C180,0)","v":0},{"$f":"IFERROR(IF(MOD(BE$142,'Исходные данные'!$F180)=0,1,0)*'Исходные данные'!$C180,0)","v":0},{"$f":"IFERROR(IF(MOD(BF$142,'Исходные данные'!$F180)=0,1,0)*'Исходные данные'!$C180,0)","v":0},{"$f":"IFERROR(IF(MOD(BG$142,'Исходные данные'!$F180)=0,1,0)*'Исходные данные'!$C180,0)","v":0},{"$f":"IFERROR(IF(MOD(BH$142,'Исходные данные'!$F180)=0,1,0)*'Исходные данные'!$C180,0)","v":0},{"$f":"IFERROR(IF(MOD(BI$142,'Исходные данные'!$F180)=0,1,0)*'Исходные данные'!$C180,0)","v":0},{"$f":"IFERROR(IF(MOD(BJ$142,'Исходные данные'!$F180)=0,1,0)*'Исходные данные'!$C180,0)","v":0},{"$f":"IFERROR(IF(MOD(BK$142,'Исходные данные'!$F180)=0,1,0)*'Исходные данные'!$C180,0)","v":0}]
[{"$f":"'Исходные данные'!B181","v":0},0,{"$f":"IF('Исходные данные'!G181=0,0,1)","v":0},{"$f":"IFERROR(IF(MOD(D$142,'Исходные данные'!$F181)=0,1,0)*'Исходные данные'!$C181,0)","v":0},{"$f":"IFERROR(IF(MOD(E$142,'Исходные данные'!$F181)=0,1,0)*'Исходные данные'!$C181,0)","v":0},{"$f":"IFERROR(IF(MOD(F$142,'Исходные данные'!$F181)=0,1,0)*'Исходные данные'!$C181,0)","v":0},{"$f":"IFERROR(IF(MOD(G$142,'Исходные данные'!$F181)=0,1,0)*'Исходные данные'!$C181,0)","v":0},{"$f":"IFERROR(IF(MOD(H$142,'Исходные данные'!$F181)=0,1,0)*'Исходные данные'!$C181,0)","v":0},{"$f":"IFERROR(IF(MOD(I$142,'Исходные данные'!$F181)=0,1,0)*'Исходные данные'!$C181,0)","v":0},{"$f":"IFERROR(IF(MOD(J$142,'Исходные данные'!$F181)=0,1,0)*'Исходные данные'!$C181,0)","v":0},{"$f":"IFERROR(IF(MOD(K$142,'Исходные данные'!$F181)=0,1,0)*'Исходные данные'!$C181,0)","v":0},{"$f":"IFERROR(IF(MOD(L$142,'Исходные данные'!$F181)=0,1,0)*'Исходные данные'!$C181,0)","v":0},{"$f":"IFERROR(IF(MOD(M$142,'Исходные данные'!$F181)=0,1,0)*'Исходные данные'!$C181,0)","v":0},{"$f":"IFERROR(IF(MOD(N$142,'Исходные данные'!$F181)=0,1,0)*'Исходные данные'!$C181,0)","v":0},{"$f":"IFERROR(IF(MOD(O$142,'Исходные данные'!$F181)=0,1,0)*'Исходные данные'!$C181,0)","v":0},{"$f":"IFERROR(IF(MOD(P$142,'Исходные данные'!$F181)=0,1,0)*'Исходные данные'!$C181,0)","v":0},{"$f":"IFERROR(IF(MOD(Q$142,'Исходные данные'!$F181)=0,1,0)*'Исходные данные'!$C181,0)","v":0},{"$f":"IFERROR(IF(MOD(R$142,'Исходные данные'!$F181)=0,1,0)*'Исходные данные'!$C181,0)","v":0},{"$f":"IFERROR(IF(MOD(S$142,'Исходные данные'!$F181)=0,1,0)*'Исходные данные'!$C181,0)","v":0},{"$f":"IFERROR(IF(MOD(T$142,'Исходные данные'!$F181)=0,1,0)*'Исходные данные'!$C181,0)","v":0},{"$f":"IFERROR(IF(MOD(U$142,'Исходные данные'!$F181)=0,1,0)*'Исходные данные'!$C181,0)","v":0},{"$f":"IFERROR(IF(MOD(V$142,'Исходные данные'!$F181)=0,1,0)*'Исходные данные'!$C181,0)","v":0},{"$f":"IFERROR(IF(MOD(W$142,'Исходные данные'!$F181)=0,1,0)*'Исходные данные'!$C181,0)","v":0},{"$f":"IFERROR(IF(MOD(X$142,'Исходные данные'!$F181)=0,1,0)*'Исходные данные'!$C181,0)","v":0},{"$f":"IFERROR(IF(MOD(Y$142,'Исходные данные'!$F181)=0,1,0)*'Исходные данные'!$C181,0)","v":0},{"$f":"IFERROR(IF(MOD(Z$142,'Исходные данные'!$F181)=0,1,0)*'Исходные данные'!$C181,0)","v":0},{"$f":"IFERROR(IF(MOD(AA$142,'Исходные данные'!$F181)=0,1,0)*'Исходные данные'!$C181,0)","v":0},{"$f":"IFERROR(IF(MOD(AB$142,'Исходные данные'!$F181)=0,1,0)*'Исходные данные'!$C181,0)","v":0},{"$f":"IFERROR(IF(MOD(AC$142,'Исходные данные'!$F181)=0,1,0)*'Исходные данные'!$C181,0)","v":0},{"$f":"IFERROR(IF(MOD(AD$142,'Исходные данные'!$F181)=0,1,0)*'Исходные данные'!$C181,0)","v":0},{"$f":"IFERROR(IF(MOD(AE$142,'Исходные данные'!$F181)=0,1,0)*'Исходные данные'!$C181,0)","v":0},{"$f":"IFERROR(IF(MOD(AF$142,'Исходные данные'!$F181)=0,1,0)*'Исходные данные'!$C181,0)","v":0},{"$f":"IFERROR(IF(MOD(AG$142,'Исходные данные'!$F181)=0,1,0)*'Исходные данные'!$C181,0)","v":0},{"$f":"IFERROR(IF(MOD(AH$142,'Исходные данные'!$F181)=0,1,0)*'Исходные данные'!$C181,0)","v":0},{"$f":"IFERROR(IF(MOD(AI$142,'Исходные данные'!$F181)=0,1,0)*'Исходные данные'!$C181,0)","v":0},{"$f":"IFERROR(IF(MOD(AJ$142,'Исходные данные'!$F181)=0,1,0)*'Исходные данные'!$C181,0)","v":0},{"$f":"IFERROR(IF(MOD(AK$142,'Исходные данные'!$F181)=0,1,0)*'Исходные данные'!$C181,0)","v":0},{"$f":"IFERROR(IF(MOD(AL$142,'Исходные данные'!$F181)=0,1,0)*'Исходные данные'!$C181,0)","v":0},{"$f":"IFERROR(IF(MOD(AM$142,'Исходные данные'!$F181)=0,1,0)*'Исходные данные'!$C181,0)","v":0},{"$f":"IFERROR(IF(MOD(AN$142,'Исходные данные'!$F181)=0,1,0)*'Исходные данные'!$C181,0)","v":0},{"$f":"IFERROR(IF(MOD(AO$142,'Исходные данные'!$F181)=0,1,0)*'Исходные данные'!$C181,0)","v":0},{"$f":"IFERROR(IF(MOD(AP$142,'Исходные данные'!$F181)=0,1,0)*'Исходные данные'!$C181,0)","v":0},{"$f":"IFERROR(IF(MOD(AQ$142,'Исходные данные'!$F181)=0,1,0)*'Исходные данные'!$C181,0)","v":0},{"$f":"IFERROR(IF(MOD(AR$142,'Исходные данные'!$F181)=0,1,0)*'Исходные данные'!$C181,0)","v":0},{"$f":"IFERROR(IF(MOD(AS$142,'Исходные данные'!$F181)=0,1,0)*'Исходные данные'!$C181,0)","v":0},{"$f":"IFERROR(IF(MOD(AT$142,'Исходные данные'!$F181)=0,1,0)*'Исходные данные'!$C181,0)","v":0},{"$f":"IFERROR(IF(MOD(AU$142,'Исходные данные'!$F181)=0,1,0)*'Исходные данные'!$C181,0)","v":0},{"$f":"IFERROR(IF(MOD(AV$142,'Исходные данные'!$F181)=0,1,0)*'Исходные данные'!$C181,0)","v":0},{"$f":"IFERROR(IF(MOD(AW$142,'Исходные данные'!$F181)=0,1,0)*'Исходные данные'!$C181,0)","v":0},{"$f":"IFERROR(IF(MOD(AX$142,'Исходные данные'!$F181)=0,1,0)*'Исходные данные'!$C181,0)","v":0},{"$f":"IFERROR(IF(MOD(AY$142,'Исходные данные'!$F181)=0,1,0)*'Исходные данные'!$C181,0)","v":0},{"$f":"IFERROR(IF(MOD(AZ$142,'Исходные данные'!$F181)=0,1,0)*'Исходные данные'!$C181,0)","v":0},{"$f":"IFERROR(IF(MOD(BA$142,'Исходные данные'!$F181)=0,1,0)*'Исходные данные'!$C181,0)","v":0},{"$f":"IFERROR(IF(MOD(BB$142,'Исходные данные'!$F181)=0,1,0)*'Исходные данные'!$C181,0)","v":0},{"$f":"IFERROR(IF(MOD(BC$142,'Исходные данные'!$F181)=0,1,0)*'Исходные данные'!$C181,0)","v":0},{"$f":"IFERROR(IF(MOD(BD$142,'Исходные данные'!$F181)=0,1,0)*'Исходные данные'!$C181,0)","v":0},{"$f":"IFERROR(IF(MOD(BE$142,'Исходные данные'!$F181)=0,1,0)*'Исходные данные'!$C181,0)","v":0},{"$f":"IFERROR(IF(MOD(BF$142,'Исходные данные'!$F181)=0,1,0)*'Исходные данные'!$C181,0)","v":0},{"$f":"IFERROR(IF(MOD(BG$142,'Исходные данные'!$F181)=0,1,0)*'Исходные данные'!$C181,0)","v":0},{"$f":"IFERROR(IF(MOD(BH$142,'Исходные данные'!$F181)=0,1,0)*'Исходные данные'!$C181,0)","v":0},{"$f":"IFERROR(IF(MOD(BI$142,'Исходные данные'!$F181)=0,1,0)*'Исходные данные'!$C181,0)","v":0},{"$f":"IFERROR(IF(MOD(BJ$142,'Исходные данные'!$F181)=0,1,0)*'Исходные данные'!$C181,0)","v":0},{"$f":"IFERROR(IF(MOD(BK$142,'Исходные данные'!$F181)=0,1,0)*'Исходные данные'!$C181,0)","v":0}]
[{"$f":"'Исходные данные'!B182","v":0},0,{"$f":"IF('Исходные данные'!G182=0,0,1)","v":0},{"$f":"IFERROR(IF(MOD(D$142,'Исходные данные'!$F182)=0,1,0)*'Исходные данные'!$C182,0)","v":0},{"$f":"IFERROR(IF(MOD(E$142,'Исходные данные'!$F182)=0,1,0)*'Исходные данные'!$C182,0)","v":0},{"$f":"IFERROR(IF(MOD(F$142,'Исходные данные'!$F182)=0,1,0)*'Исходные данные'!$C182,0)","v":0},{"$f":"IFERROR(IF(MOD(G$142,'Исходные данные'!$F182)=0,1,0)*'Исходные данные'!$C182,0)","v":0},{"$f":"IFERROR(IF(MOD(H$142,'Исходные данные'!$F182)=0,1,0)*'Исходные данные'!$C182,0)","v":0},{"$f":"IFERROR(IF(MOD(I$142,'Исходные данные'!$F182)=0,1,0)*'Исходные данные'!$C182,0)","v":0},{"$f":"IFERROR(IF(MOD(J$142,'Исходные данные'!$F182)=0,1,0)*'Исходные данные'!$C182,0)","v":0},{"$f":"IFERROR(IF(MOD(K$142,'Исходные данные'!$F182)=0,1,0)*'Исходные данные'!$C182,0)","v":0},{"$f":"IFERROR(IF(MOD(L$142,'Исходные данные'!$F182)=0,1,0)*'Исходные данные'!$C182,0)","v":0},{"$f":"IFERROR(IF(MOD(M$142,'Исходные данные'!$F182)=0,1,0)*'Исходные данные'!$C182,0)","v":0},{"$f":"IFERROR(IF(MOD(N$142,'Исходные данные'!$F182)=0,1,0)*'Исходные данные'!$C182,0)","v":0},{"$f":"IFERROR(IF(MOD(O$142,'Исходные данные'!$F182)=0,1,0)*'Исходные данные'!$C182,0)","v":0},{"$f":"IFERROR(IF(MOD(P$142,'Исходные данные'!$F182)=0,1,0)*'Исходные данные'!$C182,0)","v":0},{"$f":"IFERROR(IF(MOD(Q$142,'Исходные данные'!$F182)=0,1,0)*'Исходные данные'!$C182,0)","v":0},{"$f":"IFERROR(IF(MOD(R$142,'Исходные данные'!$F182)=0,1,0)*'Исходные данные'!$C182,0)","v":0},{"$f":"IFERROR(IF(MOD(S$142,'Исходные данные'!$F182)=0,1,0)*'Исходные данные'!$C182,0)","v":0},{"$f":"IFERROR(IF(MOD(T$142,'Исходные данные'!$F182)=0,1,0)*'Исходные данные'!$C182,0)","v":0},{"$f":"IFERROR(IF(MOD(U$142,'Исходные данные'!$F182)=0,1,0)*'Исходные данные'!$C182,0)","v":0},{"$f":"IFERROR(IF(MOD(V$142,'Исходные данные'!$F182)=0,1,0)*'Исходные данные'!$C182,0)","v":0},{"$f":"IFERROR(IF(MOD(W$142,'Исходные данные'!$F182)=0,1,0)*'Исходные данные'!$C182,0)","v":0},{"$f":"IFERROR(IF(MOD(X$142,'Исходные данные'!$F182)=0,1,0)*'Исходные данные'!$C182,0)","v":0},{"$f":"IFERROR(IF(MOD(Y$142,'Исходные данные'!$F182)=0,1,0)*'Исходные данные'!$C182,0)","v":0},{"$f":"IFERROR(IF(MOD(Z$142,'Исходные данные'!$F182)=0,1,0)*'Исходные данные'!$C182,0)","v":0},{"$f":"IFERROR(IF(MOD(AA$142,'Исходные данные'!$F182)=0,1,0)*'Исходные данные'!$C182,0)","v":0},{"$f":"IFERROR(IF(MOD(AB$142,'Исходные данные'!$F182)=0,1,0)*'Исходные данные'!$C182,0)","v":0},{"$f":"IFERROR(IF(MOD(AC$142,'Исходные данные'!$F182)=0,1,0)*'Исходные данные'!$C182,0)","v":0},{"$f":"IFERROR(IF(MOD(AD$142,'Исходные данные'!$F182)=0,1,0)*'Исходные данные'!$C182,0)","v":0},{"$f":"IFERROR(IF(MOD(AE$142,'Исходные данные'!$F182)=0,1,0)*'Исходные данные'!$C182,0)","v":0},{"$f":"IFERROR(IF(MOD(AF$142,'Исходные данные'!$F182)=0,1,0)*'Исходные данные'!$C182,0)","v":0},{"$f":"IFERROR(IF(MOD(AG$142,'Исходные данные'!$F182)=0,1,0)*'Исходные данные'!$C182,0)","v":0},{"$f":"IFERROR(IF(MOD(AH$142,'Исходные данные'!$F182)=0,1,0)*'Исходные данные'!$C182,0)","v":0},{"$f":"IFERROR(IF(MOD(AI$142,'Исходные данные'!$F182)=0,1,0)*'Исходные данные'!$C182,0)","v":0},{"$f":"IFERROR(IF(MOD(AJ$142,'Исходные данные'!$F182)=0,1,0)*'Исходные данные'!$C182,0)","v":0},{"$f":"IFERROR(IF(MOD(AK$142,'Исходные данные'!$F182)=0,1,0)*'Исходные данные'!$C182,0)","v":0},{"$f":"IFERROR(IF(MOD(AL$142,'Исходные данные'!$F182)=0,1,0)*'Исходные данные'!$C182,0)","v":0},{"$f":"IFERROR(IF(MOD(AM$142,'Исходные данные'!$F182)=0,1,0)*'Исходные данные'!$C182,0)","v":0},{"$f":"IFERROR(IF(MOD(AN$142,'Исходные данные'!$F182)=0,1,0)*'Исходные данные'!$C182,0)","v":0},{"$f":"IFERROR(IF(MOD(AO$142,'Исходные данные'!$F182)=0,1,0)*'Исходные данные'!$C182,0)","v":0},{"$f":"IFERROR(IF(MOD(AP$142,'Исходные данные'!$F182)=0,1,0)*'Исходные данные'!$C182,0)","v":0},{"$f":"IFERROR(IF(MOD(AQ$142,'Исходные данные'!$F182)=0,1,0)*'Исходные данные'!$C182,0)","v":0},{"$f":"IFERROR(IF(MOD(AR$142,'Исходные данные'!$F182)=0,1,0)*'Исходные данные'!$C182,0)","v":0},{"$f":"IFERROR(IF(MOD(AS$142,'Исходные данные'!$F182)=0,1,0)*'Исходные данные'!$C182,0)","v":0},{"$f":"IFERROR(IF(MOD(AT$142,'Исходные данные'!$F182)=0,1,0)*'Исходные данные'!$C182,0)","v":0},{"$f":"IFERROR(IF(MOD(AU$142,'Исходные данные'!$F182)=0,1,0)*'Исходные данные'!$C182,0)","v":0},{"$f":"IFERROR(IF(MOD(AV$142,'Исходные данные'!$F182)=0,1,0)*'Исходные данные'!$C182,0)","v":0},{"$f":"IFERROR(IF(MOD(AW$142,'Исходные данные'!$F182)=0,1,0)*'Исходные данные'!$C182,0)","v":0},{"$f":"IFERROR(IF(MOD(AX$142,'Исходные данные'!$F182)=0,1,0)*'Исходные данные'!$C182,0)","v":0},{"$f":"IFERROR(IF(MOD(AY$142,'Исходные данные'!$F182)=0,1,0)*'Исходные данные'!$C182,0)","v":0},{"$f":"IFERROR(IF(MOD(AZ$142,'Исходные данные'!$F182)=0,1,0)*'Исходные данные'!$C182,0)","v":0},{"$f":"IFERROR(IF(MOD(BA$142,'Исходные данные'!$F182)=0,1,0)*'Исходные данные'!$C182,0)","v":0},{"$f":"IFERROR(IF(MOD(BB$142,'Исходные данные'!$F182)=0,1,0)*'Исходные данные'!$C182,0)","v":0},{"$f":"IFERROR(IF(MOD(BC$142,'Исходные данные'!$F182)=0,1,0)*'Исходные данные'!$C182,0)","v":0},{"$f":"IFERROR(IF(MOD(BD$142,'Исходные данные'!$F182)=0,1,0)*'Исходные данные'!$C182,0)","v":0},{"$f":"IFERROR(IF(MOD(BE$142,'Исходные данные'!$F182)=0,1,0)*'Исходные данные'!$C182,0)","v":0},{"$f":"IFERROR(IF(MOD(BF$142,'Исходные данные'!$F182)=0,1,0)*'Исходные данные'!$C182,0)","v":0},{"$f":"IFERROR(IF(MOD(BG$142,'Исходные данные'!$F182)=0,1,0)*'Исходные данные'!$C182,0)","v":0},{"$f":"IFERROR(IF(MOD(BH$142,'Исходные данные'!$F182)=0,1,0)*'Исходные данные'!$C182,0)","v":0},{"$f":"IFERROR(IF(MOD(BI$142,'Исходные данные'!$F182)=0,1,0)*'Исходные данные'!$C182,0)","v":0},{"$f":"IFERROR(IF(MOD(BJ$142,'Исходные данные'!$F182)=0,1,0)*'Исходные данные'!$C182,0)","v":0},{"$f":"IFERROR(IF(MOD(BK$142,'Исходные данные'!$F182)=0,1,0)*'Исходные данные'!$C182,0)","v":0}]
[{"$f":"'Исходные данные'!B183","v":0},0,{"$f":"IF('Исходные данные'!G183=0,0,1)","v":0},{"$f":"IFERROR(IF(MOD(D$142,'Исходные данные'!$F183)=0,1,0)*'Исходные данные'!$C183,0)","v":0},{"$f":"IFERROR(IF(MOD(E$142,'Исходные данные'!$F183)=0,1,0)*'Исходные данные'!$C183,0)","v":0},{"$f":"IFERROR(IF(MOD(F$142,'Исходные данные'!$F183)=0,1,0)*'Исходные данные'!$C183,0)","v":0},{"$f":"IFERROR(IF(MOD(G$142,'Исходные данные'!$F183)=0,1,0)*'Исходные данные'!$C183,0)","v":0},{"$f":"IFERROR(IF(MOD(H$142,'Исходные данные'!$F183)=0,1,0)*'Исходные данные'!$C183,0)","v":0},{"$f":"IFERROR(IF(MOD(I$142,'Исходные данные'!$F183)=0,1,0)*'Исходные данные'!$C183,0)","v":0},{"$f":"IFERROR(IF(MOD(J$142,'Исходные данные'!$F183)=0,1,0)*'Исходные данные'!$C183,0)","v":0},{"$f":"IFERROR(IF(MOD(K$142,'Исходные данные'!$F183)=0,1,0)*'Исходные данные'!$C183,0)","v":0},{"$f":"IFERROR(IF(MOD(L$142,'Исходные данные'!$F183)=0,1,0)*'Исходные данные'!$C183,0)","v":0},{"$f":"IFERROR(IF(MOD(M$142,'Исходные данные'!$F183)=0,1,0)*'Исходные данные'!$C183,0)","v":0},{"$f":"IFERROR(IF(MOD(N$142,'Исходные данные'!$F183)=0,1,0)*'Исходные данные'!$C183,0)","v":0},{"$f":"IFERROR(IF(MOD(O$142,'Исходные данные'!$F183)=0,1,0)*'Исходные данные'!$C183,0)","v":0},{"$f":"IFERROR(IF(MOD(P$142,'Исходные данные'!$F183)=0,1,0)*'Исходные данные'!$C183,0)","v":0},{"$f":"IFERROR(IF(MOD(Q$142,'Исходные данные'!$F183)=0,1,0)*'Исходные данные'!$C183,0)","v":0},{"$f":"IFERROR(IF(MOD(R$142,'Исходные данные'!$F183)=0,1,0)*'Исходные данные'!$C183,0)","v":0},{"$f":"IFERROR(IF(MOD(S$142,'Исходные данные'!$F183)=0,1,0)*'Исходные данные'!$C183,0)","v":0},{"$f":"IFERROR(IF(MOD(T$142,'Исходные данные'!$F183)=0,1,0)*'Исходные данные'!$C183,0)","v":0},{"$f":"IFERROR(IF(MOD(U$142,'Исходные данные'!$F183)=0,1,0)*'Исходные данные'!$C183,0)","v":0},{"$f":"IFERROR(IF(MOD(V$142,'Исходные данные'!$F183)=0,1,0)*'Исходные данные'!$C183,0)","v":0},{"$f":"IFERROR(IF(MOD(W$142,'Исходные данные'!$F183)=0,1,0)*'Исходные данные'!$C183,0)","v":0},{"$f":"IFERROR(IF(MOD(X$142,'Исходные данные'!$F183)=0,1,0)*'Исходные данные'!$C183,0)","v":0},{"$f":"IFERROR(IF(MOD(Y$142,'Исходные данные'!$F183)=0,1,0)*'Исходные данные'!$C183,0)","v":0},{"$f":"IFERROR(IF(MOD(Z$142,'Исходные данные'!$F183)=0,1,0)*'Исходные данные'!$C183,0)","v":0},{"$f":"IFERROR(IF(MOD(AA$142,'Исходные данные'!$F183)=0,1,0)*'Исходные данные'!$C183,0)","v":0},{"$f":"IFERROR(IF(MOD(AB$142,'Исходные данные'!$F183)=0,1,0)*'Исходные данные'!$C183,0)","v":0},{"$f":"IFERROR(IF(MOD(AC$142,'Исходные данные'!$F183)=0,1,0)*'Исходные данные'!$C183,0)","v":0},{"$f":"IFERROR(IF(MOD(AD$142,'Исходные данные'!$F183)=0,1,0)*'Исходные данные'!$C183,0)","v":0},{"$f":"IFERROR(IF(MOD(AE$142,'Исходные данные'!$F183)=0,1,0)*'Исходные данные'!$C183,0)","v":0},{"$f":"IFERROR(IF(MOD(AF$142,'Исходные данные'!$F183)=0,1,0)*'Исходные данные'!$C183,0)","v":0},{"$f":"IFERROR(IF(MOD(AG$142,'Исходные данные'!$F183)=0,1,0)*'Исходные данные'!$C183,0)","v":0},{"$f":"IFERROR(IF(MOD(AH$142,'Исходные данные'!$F183)=0,1,0)*'Исходные данные'!$C183,0)","v":0},{"$f":"IFERROR(IF(MOD(AI$142,'Исходные данные'!$F183)=0,1,0)*'Исходные данные'!$C183,0)","v":0},{"$f":"IFERROR(IF(MOD(AJ$142,'Исходные данные'!$F183)=0,1,0)*'Исходные данные'!$C183,0)","v":0},{"$f":"IFERROR(IF(MOD(AK$142,'Исходные данные'!$F183)=0,1,0)*'Исходные данные'!$C183,0)","v":0},{"$f":"IFERROR(IF(MOD(AL$142,'Исходные данные'!$F183)=0,1,0)*'Исходные данные'!$C183,0)","v":0},{"$f":"IFERROR(IF(MOD(AM$142,'Исходные данные'!$F183)=0,1,0)*'Исходные данные'!$C183,0)","v":0},{"$f":"IFERROR(IF(MOD(AN$142,'Исходные данные'!$F183)=0,1,0)*'Исходные данные'!$C183,0)","v":0},{"$f":"IFERROR(IF(MOD(AO$142,'Исходные данные'!$F183)=0,1,0)*'Исходные данные'!$C183,0)","v":0},{"$f":"IFERROR(IF(MOD(AP$142,'Исходные данные'!$F183)=0,1,0)*'Исходные данные'!$C183,0)","v":0},{"$f":"IFERROR(IF(MOD(AQ$142,'Исходные данные'!$F183)=0,1,0)*'Исходные данные'!$C183,0)","v":0},{"$f":"IFERROR(IF(MOD(AR$142,'Исходные данные'!$F183)=0,1,0)*'Исходные данные'!$C183,0)","v":0},{"$f":"IFERROR(IF(MOD(AS$142,'Исходные данные'!$F183)=0,1,0)*'Исходные данные'!$C183,0)","v":0},{"$f":"IFERROR(IF(MOD(AT$142,'Исходные данные'!$F183)=0,1,0)*'Исходные данные'!$C183,0)","v":0},{"$f":"IFERROR(IF(MOD(AU$142,'Исходные данные'!$F183)=0,1,0)*'Исходные данные'!$C183,0)","v":0},{"$f":"IFERROR(IF(MOD(AV$142,'Исходные данные'!$F183)=0,1,0)*'Исходные данные'!$C183,0)","v":0},{"$f":"IFERROR(IF(MOD(AW$142,'Исходные данные'!$F183)=0,1,0)*'Исходные данные'!$C183,0)","v":0},{"$f":"IFERROR(IF(MOD(AX$142,'Исходные данные'!$F183)=0,1,0)*'Исходные данные'!$C183,0)","v":0},{"$f":"IFERROR(IF(MOD(AY$142,'Исходные данные'!$F183)=0,1,0)*'Исходные данные'!$C183,0)","v":0},{"$f":"IFERROR(IF(MOD(AZ$142,'Исходные данные'!$F183)=0,1,0)*'Исходные данные'!$C183,0)","v":0},{"$f":"IFERROR(IF(MOD(BA$142,'Исходные данные'!$F183)=0,1,0)*'Исходные данные'!$C183,0)","v":0},{"$f":"IFERROR(IF(MOD(BB$142,'Исходные данные'!$F183)=0,1,0)*'Исходные данные'!$C183,0)","v":0},{"$f":"IFERROR(IF(MOD(BC$142,'Исходные данные'!$F183)=0,1,0)*'Исходные данные'!$C183,0)","v":0},{"$f":"IFERROR(IF(MOD(BD$142,'Исходные данные'!$F183)=0,1,0)*'Исходные данные'!$C183,0)","v":0},{"$f":"IFERROR(IF(MOD(BE$142,'Исходные данные'!$F183)=0,1,0)*'Исходные данные'!$C183,0)","v":0},{"$f":"IFERROR(IF(MOD(BF$142,'Исходные данные'!$F183)=0,1,0)*'Исходные данные'!$C183,0)","v":0},{"$f":"IFERROR(IF(MOD(BG$142,'Исходные данные'!$F183)=0,1,0)*'Исходные данные'!$C183,0)","v":0},{"$f":"IFERROR(IF(MOD(BH$142,'Исходные данные'!$F183)=0,1,0)*'Исходные данные'!$C183,0)","v":0},{"$f":"IFERROR(IF(MOD(BI$142,'Исходные данные'!$F183)=0,1,0)*'Исходные данные'!$C183,0)","v":0},{"$f":"IFERROR(IF(MOD(BJ$142,'Исходные данные'!$F183)=0,1,0)*'Исходные данные'!$C183,0)","v":0},{"$f":"IFERROR(IF(MOD(BK$142,'Исходные данные'!$F183)=0,1,0)*'Исходные данные'!$C183,0)","v":0}]
[{"$f":"'Исходные данные'!B184","v":0},0,{"$f":"IF('Исходные данные'!G184=0,0,1)","v":0},{"$f":"IFERROR(IF(MOD(D$142,'Исходные данные'!$F184)=0,1,0)*'Исходные данные'!$C184,0)","v":0},{"$f":"IFERROR(IF(MOD(E$142,'Исходные данные'!$F184)=0,1,0)*'Исходные данные'!$C184,0)","v":0},{"$f":"IFERROR(IF(MOD(F$142,'Исходные данные'!$F184)=0,1,0)*'Исходные данные'!$C184,0)","v":0},{"$f":"IFERROR(IF(MOD(G$142,'Исходные данные'!$F184)=0,1,0)*'Исходные данные'!$C184,0)","v":0},{"$f":"IFERROR(IF(MOD(H$142,'Исходные данные'!$F184)=0,1,0)*'Исходные данные'!$C184,0)","v":0},{"$f":"IFERROR(IF(MOD(I$142,'Исходные данные'!$F184)=0,1,0)*'Исходные данные'!$C184,0)","v":0},{"$f":"IFERROR(IF(MOD(J$142,'Исходные данные'!$F184)=0,1,0)*'Исходные данные'!$C184,0)","v":0},{"$f":"IFERROR(IF(MOD(K$142,'Исходные данные'!$F184)=0,1,0)*'Исходные данные'!$C184,0)","v":0},{"$f":"IFERROR(IF(MOD(L$142,'Исходные данные'!$F184)=0,1,0)*'Исходные данные'!$C184,0)","v":0},{"$f":"IFERROR(IF(MOD(M$142,'Исходные данные'!$F184)=0,1,0)*'Исходные данные'!$C184,0)","v":0},{"$f":"IFERROR(IF(MOD(N$142,'Исходные данные'!$F184)=0,1,0)*'Исходные данные'!$C184,0)","v":0},{"$f":"IFERROR(IF(MOD(O$142,'Исходные данные'!$F184)=0,1,0)*'Исходные данные'!$C184,0)","v":0},{"$f":"IFERROR(IF(MOD(P$142,'Исходные данные'!$F184)=0,1,0)*'Исходные данные'!$C184,0)","v":0},{"$f":"IFERROR(IF(MOD(Q$142,'Исходные данные'!$F184)=0,1,0)*'Исходные данные'!$C184,0)","v":0},{"$f":"IFERROR(IF(MOD(R$142,'Исходные данные'!$F184)=0,1,0)*'Исходные данные'!$C184,0)","v":0},{"$f":"IFERROR(IF(MOD(S$142,'Исходные данные'!$F184)=0,1,0)*'Исходные данные'!$C184,0)","v":0},{"$f":"IFERROR(IF(MOD(T$142,'Исходные данные'!$F184)=0,1,0)*'Исходные данные'!$C184,0)","v":0},{"$f":"IFERROR(IF(MOD(U$142,'Исходные данные'!$F184)=0,1,0)*'Исходные данные'!$C184,0)","v":0},{"$f":"IFERROR(IF(MOD(V$142,'Исходные данные'!$F184)=0,1,0)*'Исходные данные'!$C184,0)","v":0},{"$f":"IFERROR(IF(MOD(W$142,'Исходные данные'!$F184)=0,1,0)*'Исходные данные'!$C184,0)","v":0},{"$f":"IFERROR(IF(MOD(X$142,'Исходные данные'!$F184)=0,1,0)*'Исходные данные'!$C184,0)","v":0},{"$f":"IFERROR(IF(MOD(Y$142,'Исходные данные'!$F184)=0,1,0)*'Исходные данные'!$C184,0)","v":0},{"$f":"IFERROR(IF(MOD(Z$142,'Исходные данные'!$F184)=0,1,0)*'Исходные данные'!$C184,0)","v":0},{"$f":"IFERROR(IF(MOD(AA$142,'Исходные данные'!$F184)=0,1,0)*'Исходные данные'!$C184,0)","v":0},{"$f":"IFERROR(IF(MOD(AB$142,'Исходные данные'!$F184)=0,1,0)*'Исходные данные'!$C184,0)","v":0},{"$f":"IFERROR(IF(MOD(AC$142,'Исходные данные'!$F184)=0,1,0)*'Исходные данные'!$C184,0)","v":0},{"$f":"IFERROR(IF(MOD(AD$142,'Исходные данные'!$F184)=0,1,0)*'Исходные данные'!$C184,0)","v":0},{"$f":"IFERROR(IF(MOD(AE$142,'Исходные данные'!$F184)=0,1,0)*'Исходные данные'!$C184,0)","v":0},{"$f":"IFERROR(IF(MOD(AF$142,'Исходные данные'!$F184)=0,1,0)*'Исходные данные'!$C184,0)","v":0},{"$f":"IFERROR(IF(MOD(AG$142,'Исходные данные'!$F184)=0,1,0)*'Исходные данные'!$C184,0)","v":0},{"$f":"IFERROR(IF(MOD(AH$142,'Исходные данные'!$F184)=0,1,0)*'Исходные данные'!$C184,0)","v":0},{"$f":"IFERROR(IF(MOD(AI$142,'Исходные данные'!$F184)=0,1,0)*'Исходные данные'!$C184,0)","v":0},{"$f":"IFERROR(IF(MOD(AJ$142,'Исходные данные'!$F184)=0,1,0)*'Исходные данные'!$C184,0)","v":0},{"$f":"IFERROR(IF(MOD(AK$142,'Исходные данные'!$F184)=0,1,0)*'Исходные данные'!$C184,0)","v":0},{"$f":"IFERROR(IF(MOD(AL$142,'Исходные данные'!$F184)=0,1,0)*'Исходные данные'!$C184,0)","v":0},{"$f":"IFERROR(IF(MOD(AM$142,'Исходные данные'!$F184)=0,1,0)*'Исходные данные'!$C184,0)","v":0},{"$f":"IFERROR(IF(MOD(AN$142,'Исходные данные'!$F184)=0,1,0)*'Исходные данные'!$C184,0)","v":0},{"$f":"IFERROR(IF(MOD(AO$142,'Исходные данные'!$F184)=0,1,0)*'Исходные данные'!$C184,0)","v":0},{"$f":"IFERROR(IF(MOD(AP$142,'Исходные данные'!$F184)=0,1,0)*'Исходные данные'!$C184,0)","v":0},{"$f":"IFERROR(IF(MOD(AQ$142,'Исходные данные'!$F184)=0,1,0)*'Исходные данные'!$C184,0)","v":0},{"$f":"IFERROR(IF(MOD(AR$142,'Исходные данные'!$F184)=0,1,0)*'Исходные данные'!$C184,0)","v":0},{"$f":"IFERROR(IF(MOD(AS$142,'Исходные данные'!$F184)=0,1,0)*'Исходные данные'!$C184,0)","v":0},{"$f":"IFERROR(IF(MOD(AT$142,'Исходные данные'!$F184)=0,1,0)*'Исходные данные'!$C184,0)","v":0},{"$f":"IFERROR(IF(MOD(AU$142,'Исходные данные'!$F184)=0,1,0)*'Исходные данные'!$C184,0)","v":0},{"$f":"IFERROR(IF(MOD(AV$142,'Исходные данные'!$F184)=0,1,0)*'Исходные данные'!$C184,0)","v":0},{"$f":"IFERROR(IF(MOD(AW$142,'Исходные данные'!$F184)=0,1,0)*'Исходные данные'!$C184,0)","v":0},{"$f":"IFERROR(IF(MOD(AX$142,'Исходные данные'!$F184)=0,1,0)*'Исходные данные'!$C184,0)","v":0},{"$f":"IFERROR(IF(MOD(AY$142,'Исходные данные'!$F184)=0,1,0)*'Исходные данные'!$C184,0)","v":0},{"$f":"IFERROR(IF(MOD(AZ$142,'Исходные данные'!$F184)=0,1,0)*'Исходные данные'!$C184,0)","v":0},{"$f":"IFERROR(IF(MOD(BA$142,'Исходные данные'!$F184)=0,1,0)*'Исходные данные'!$C184,0)","v":0},{"$f":"IFERROR(IF(MOD(BB$142,'Исходные данные'!$F184)=0,1,0)*'Исходные данные'!$C184,0)","v":0},{"$f":"IFERROR(IF(MOD(BC$142,'Исходные данные'!$F184)=0,1,0)*'Исходные данные'!$C184,0)","v":0},{"$f":"IFERROR(IF(MOD(BD$142,'Исходные данные'!$F184)=0,1,0)*'Исходные данные'!$C184,0)","v":0},{"$f":"IFERROR(IF(MOD(BE$142,'Исходные данные'!$F184)=0,1,0)*'Исходные данные'!$C184,0)","v":0},{"$f":"IFERROR(IF(MOD(BF$142,'Исходные данные'!$F184)=0,1,0)*'Исходные данные'!$C184,0)","v":0},{"$f":"IFERROR(IF(MOD(BG$142,'Исходные данные'!$F184)=0,1,0)*'Исходные данные'!$C184,0)","v":0},{"$f":"IFERROR(IF(MOD(BH$142,'Исходные данные'!$F184)=0,1,0)*'Исходные данные'!$C184,0)","v":0},{"$f":"IFERROR(IF(MOD(BI$142,'Исходные данные'!$F184)=0,1,0)*'Исходные данные'!$C184,0)","v":0},{"$f":"IFERROR(IF(MOD(BJ$142,'Исходные данные'!$F184)=0,1,0)*'Исходные данные'!$C184,0)","v":0},{"$f":"IFERROR(IF(MOD(BK$142,'Исходные данные'!$F184)=0,1,0)*'Исходные данные'!$C184,0)","v":0}]
[{"$f":"'Исходные данные'!B185","v":0},0,{"$f":"IF('Исходные данные'!G185=0,0,1)","v":0},{"$f":"IFERROR(IF(MOD(D$142,'Исходные данные'!$F185)=0,1,0)*'Исходные данные'!$C185,0)","v":0},{"$f":"IFERROR(IF(MOD(E$142,'Исходные данные'!$F185)=0,1,0)*'Исходные данные'!$C185,0)","v":0},{"$f":"IFERROR(IF(MOD(F$142,'Исходные данные'!$F185)=0,1,0)*'Исходные данные'!$C185,0)","v":0},{"$f":"IFERROR(IF(MOD(G$142,'Исходные данные'!$F185)=0,1,0)*'Исходные данные'!$C185,0)","v":0},{"$f":"IFERROR(IF(MOD(H$142,'Исходные данные'!$F185)=0,1,0)*'Исходные данные'!$C185,0)","v":0},{"$f":"IFERROR(IF(MOD(I$142,'Исходные данные'!$F185)=0,1,0)*'Исходные данные'!$C185,0)","v":0},{"$f":"IFERROR(IF(MOD(J$142,'Исходные данные'!$F185)=0,1,0)*'Исходные данные'!$C185,0)","v":0},{"$f":"IFERROR(IF(MOD(K$142,'Исходные данные'!$F185)=0,1,0)*'Исходные данные'!$C185,0)","v":0},{"$f":"IFERROR(IF(MOD(L$142,'Исходные данные'!$F185)=0,1,0)*'Исходные данные'!$C185,0)","v":0},{"$f":"IFERROR(IF(MOD(M$142,'Исходные данные'!$F185)=0,1,0)*'Исходные данные'!$C185,0)","v":0},{"$f":"IFERROR(IF(MOD(N$142,'Исходные данные'!$F185)=0,1,0)*'Исходные данные'!$C185,0)","v":0},{"$f":"IFERROR(IF(MOD(O$142,'Исходные данные'!$F185)=0,1,0)*'Исходные данные'!$C185,0)","v":0},{"$f":"IFERROR(IF(MOD(P$142,'Исходные данные'!$F185)=0,1,0)*'Исходные данные'!$C185,0)","v":0},{"$f":"IFERROR(IF(MOD(Q$142,'Исходные данные'!$F185)=0,1,0)*'Исходные данные'!$C185,0)","v":0},{"$f":"IFERROR(IF(MOD(R$142,'Исходные данные'!$F185)=0,1,0)*'Исходные данные'!$C185,0)","v":0},{"$f":"IFERROR(IF(MOD(S$142,'Исходные данные'!$F185)=0,1,0)*'Исходные данные'!$C185,0)","v":0},{"$f":"IFERROR(IF(MOD(T$142,'Исходные данные'!$F185)=0,1,0)*'Исходные данные'!$C185,0)","v":0},{"$f":"IFERROR(IF(MOD(U$142,'Исходные данные'!$F185)=0,1,0)*'Исходные данные'!$C185,0)","v":0},{"$f":"IFERROR(IF(MOD(V$142,'Исходные данные'!$F185)=0,1,0)*'Исходные данные'!$C185,0)","v":0},{"$f":"IFERROR(IF(MOD(W$142,'Исходные данные'!$F185)=0,1,0)*'Исходные данные'!$C185,0)","v":0},{"$f":"IFERROR(IF(MOD(X$142,'Исходные данные'!$F185)=0,1,0)*'Исходные данные'!$C185,0)","v":0},{"$f":"IFERROR(IF(MOD(Y$142,'Исходные данные'!$F185)=0,1,0)*'Исходные данные'!$C185,0)","v":0},{"$f":"IFERROR(IF(MOD(Z$142,'Исходные данные'!$F185)=0,1,0)*'Исходные данные'!$C185,0)","v":0},{"$f":"IFERROR(IF(MOD(AA$142,'Исходные данные'!$F185)=0,1,0)*'Исходные данные'!$C185,0)","v":0},{"$f":"IFERROR(IF(MOD(AB$142,'Исходные данные'!$F185)=0,1,0)*'Исходные данные'!$C185,0)","v":0},{"$f":"IFERROR(IF(MOD(AC$142,'Исходные данные'!$F185)=0,1,0)*'Исходные данные'!$C185,0)","v":0},{"$f":"IFERROR(IF(MOD(AD$142,'Исходные данные'!$F185)=0,1,0)*'Исходные данные'!$C185,0)","v":0},{"$f":"IFERROR(IF(MOD(AE$142,'Исходные данные'!$F185)=0,1,0)*'Исходные данные'!$C185,0)","v":0},{"$f":"IFERROR(IF(MOD(AF$142,'Исходные данные'!$F185)=0,1,0)*'Исходные данные'!$C185,0)","v":0},{"$f":"IFERROR(IF(MOD(AG$142,'Исходные данные'!$F185)=0,1,0)*'Исходные данные'!$C185,0)","v":0},{"$f":"IFERROR(IF(MOD(AH$142,'Исходные данные'!$F185)=0,1,0)*'Исходные данные'!$C185,0)","v":0},{"$f":"IFERROR(IF(MOD(AI$142,'Исходные данные'!$F185)=0,1,0)*'Исходные данные'!$C185,0)","v":0},{"$f":"IFERROR(IF(MOD(AJ$142,'Исходные данные'!$F185)=0,1,0)*'Исходные данные'!$C185,0)","v":0},{"$f":"IFERROR(IF(MOD(AK$142,'Исходные данные'!$F185)=0,1,0)*'Исходные данные'!$C185,0)","v":0},{"$f":"IFERROR(IF(MOD(AL$142,'Исходные данные'!$F185)=0,1,0)*'Исходные данные'!$C185,0)","v":0},{"$f":"IFERROR(IF(MOD(AM$142,'Исходные данные'!$F185)=0,1,0)*'Исходные данные'!$C185,0)","v":0},{"$f":"IFERROR(IF(MOD(AN$142,'Исходные данные'!$F185)=0,1,0)*'Исходные данные'!$C185,0)","v":0},{"$f":"IFERROR(IF(MOD(AO$142,'Исходные данные'!$F185)=0,1,0)*'Исходные данные'!$C185,0)","v":0},{"$f":"IFERROR(IF(MOD(AP$142,'Исходные данные'!$F185)=0,1,0)*'Исходные данные'!$C185,0)","v":0},{"$f":"IFERROR(IF(MOD(AQ$142,'Исходные данные'!$F185)=0,1,0)*'Исходные данные'!$C185,0)","v":0},{"$f":"IFERROR(IF(MOD(AR$142,'Исходные данные'!$F185)=0,1,0)*'Исходные данные'!$C185,0)","v":0},{"$f":"IFERROR(IF(MOD(AS$142,'Исходные данные'!$F185)=0,1,0)*'Исходные данные'!$C185,0)","v":0},{"$f":"IFERROR(IF(MOD(AT$142,'Исходные данные'!$F185)=0,1,0)*'Исходные данные'!$C185,0)","v":0},{"$f":"IFERROR(IF(MOD(AU$142,'Исходные данные'!$F185)=0,1,0)*'Исходные данные'!$C185,0)","v":0},{"$f":"IFERROR(IF(MOD(AV$142,'Исходные данные'!$F185)=0,1,0)*'Исходные данные'!$C185,0)","v":0},{"$f":"IFERROR(IF(MOD(AW$142,'Исходные данные'!$F185)=0,1,0)*'Исходные данные'!$C185,0)","v":0},{"$f":"IFERROR(IF(MOD(AX$142,'Исходные данные'!$F185)=0,1,0)*'Исходные данные'!$C185,0)","v":0},{"$f":"IFERROR(IF(MOD(AY$142,'Исходные данные'!$F185)=0,1,0)*'Исходные данные'!$C185,0)","v":0},{"$f":"IFERROR(IF(MOD(AZ$142,'Исходные данные'!$F185)=0,1,0)*'Исходные данные'!$C185,0)","v":0},{"$f":"IFERROR(IF(MOD(BA$142,'Исходные данные'!$F185)=0,1,0)*'Исходные данные'!$C185,0)","v":0},{"$f":"IFERROR(IF(MOD(BB$142,'Исходные данные'!$F185)=0,1,0)*'Исходные данные'!$C185,0)","v":0},{"$f":"IFERROR(IF(MOD(BC$142,'Исходные данные'!$F185)=0,1,0)*'Исходные данные'!$C185,0)","v":0},{"$f":"IFERROR(IF(MOD(BD$142,'Исходные данные'!$F185)=0,1,0)*'Исходные данные'!$C185,0)","v":0},{"$f":"IFERROR(IF(MOD(BE$142,'Исходные данные'!$F185)=0,1,0)*'Исходные данные'!$C185,0)","v":0},{"$f":"IFERROR(IF(MOD(BF$142,'Исходные данные'!$F185)=0,1,0)*'Исходные данные'!$C185,0)","v":0},{"$f":"IFERROR(IF(MOD(BG$142,'Исходные данные'!$F185)=0,1,0)*'Исходные данные'!$C185,0)","v":0},{"$f":"IFERROR(IF(MOD(BH$142,'Исходные данные'!$F185)=0,1,0)*'Исходные данные'!$C185,0)","v":0},{"$f":"IFERROR(IF(MOD(BI$142,'Исходные данные'!$F185)=0,1,0)*'Исходные данные'!$C185,0)","v":0},{"$f":"IFERROR(IF(MOD(BJ$142,'Исходные данные'!$F185)=0,1,0)*'Исходные данные'!$C185,0)","v":0},{"$f":"IFERROR(IF(MOD(BK$142,'Исходные данные'!$F185)=0,1,0)*'Исходные данные'!$C185,0)","v":0}]
[{"$f":"'Исходные данные'!B186","v":0},0,{"$f":"IF('Исходные данные'!G186=0,0,1)","v":0},{"$f":"IFERROR(IF(MOD(D$142,'Исходные данные'!$F186)=0,1,0)*'Исходные данные'!$C186,0)","v":0},{"$f":"IFERROR(IF(MOD(E$142,'Исходные данные'!$F186)=0,1,0)*'Исходные данные'!$C186,0)","v":0},{"$f":"IFERROR(IF(MOD(F$142,'Исходные данные'!$F186)=0,1,0)*'Исходные данные'!$C186,0)","v":0},{"$f":"IFERROR(IF(MOD(G$142,'Исходные данные'!$F186)=0,1,0)*'Исходные данные'!$C186,0)","v":0},{"$f":"IFERROR(IF(MOD(H$142,'Исходные данные'!$F186)=0,1,0)*'Исходные данные'!$C186,0)","v":0},{"$f":"IFERROR(IF(MOD(I$142,'Исходные данные'!$F186)=0,1,0)*'Исходные данные'!$C186,0)","v":0},{"$f":"IFERROR(IF(MOD(J$142,'Исходные данные'!$F186)=0,1,0)*'Исходные данные'!$C186,0)","v":0},{"$f":"IFERROR(IF(MOD(K$142,'Исходные данные'!$F186)=0,1,0)*'Исходные данные'!$C186,0)","v":0},{"$f":"IFERROR(IF(MOD(L$142,'Исходные данные'!$F186)=0,1,0)*'Исходные данные'!$C186,0)","v":0},{"$f":"IFERROR(IF(MOD(M$142,'Исходные данные'!$F186)=0,1,0)*'Исходные данные'!$C186,0)","v":0},{"$f":"IFERROR(IF(MOD(N$142,'Исходные данные'!$F186)=0,1,0)*'Исходные данные'!$C186,0)","v":0},{"$f":"IFERROR(IF(MOD(O$142,'Исходные данные'!$F186)=0,1,0)*'Исходные данные'!$C186,0)","v":0},{"$f":"IFERROR(IF(MOD(P$142,'Исходные данные'!$F186)=0,1,0)*'Исходные данные'!$C186,0)","v":0},{"$f":"IFERROR(IF(MOD(Q$142,'Исходные данные'!$F186)=0,1,0)*'Исходные данные'!$C186,0)","v":0},{"$f":"IFERROR(IF(MOD(R$142,'Исходные данные'!$F186)=0,1,0)*'Исходные данные'!$C186,0)","v":0},{"$f":"IFERROR(IF(MOD(S$142,'Исходные данные'!$F186)=0,1,0)*'Исходные данные'!$C186,0)","v":0},{"$f":"IFERROR(IF(MOD(T$142,'Исходные данные'!$F186)=0,1,0)*'Исходные данные'!$C186,0)","v":0},{"$f":"IFERROR(IF(MOD(U$142,'Исходные данные'!$F186)=0,1,0)*'Исходные данные'!$C186,0)","v":0},{"$f":"IFERROR(IF(MOD(V$142,'Исходные данные'!$F186)=0,1,0)*'Исходные данные'!$C186,0)","v":0},{"$f":"IFERROR(IF(MOD(W$142,'Исходные данные'!$F186)=0,1,0)*'Исходные данные'!$C186,0)","v":0},{"$f":"IFERROR(IF(MOD(X$142,'Исходные данные'!$F186)=0,1,0)*'Исходные данные'!$C186,0)","v":0},{"$f":"IFERROR(IF(MOD(Y$142,'Исходные данные'!$F186)=0,1,0)*'Исходные данные'!$C186,0)","v":0},{"$f":"IFERROR(IF(MOD(Z$142,'Исходные данные'!$F186)=0,1,0)*'Исходные данные'!$C186,0)","v":0},{"$f":"IFERROR(IF(MOD(AA$142,'Исходные данные'!$F186)=0,1,0)*'Исходные данные'!$C186,0)","v":0},{"$f":"IFERROR(IF(MOD(AB$142,'Исходные данные'!$F186)=0,1,0)*'Исходные данные'!$C186,0)","v":0},{"$f":"IFERROR(IF(MOD(AC$142,'Исходные данные'!$F186)=0,1,0)*'Исходные данные'!$C186,0)","v":0},{"$f":"IFERROR(IF(MOD(AD$142,'Исходные данные'!$F186)=0,1,0)*'Исходные данные'!$C186,0)","v":0},{"$f":"IFERROR(IF(MOD(AE$142,'Исходные данные'!$F186)=0,1,0)*'Исходные данные'!$C186,0)","v":0},{"$f":"IFERROR(IF(MOD(AF$142,'Исходные данные'!$F186)=0,1,0)*'Исходные данные'!$C186,0)","v":0},{"$f":"IFERROR(IF(MOD(AG$142,'Исходные данные'!$F186)=0,1,0)*'Исходные данные'!$C186,0)","v":0},{"$f":"IFERROR(IF(MOD(AH$142,'Исходные данные'!$F186)=0,1,0)*'Исходные данные'!$C186,0)","v":0},{"$f":"IFERROR(IF(MOD(AI$142,'Исходные данные'!$F186)=0,1,0)*'Исходные данные'!$C186,0)","v":0},{"$f":"IFERROR(IF(MOD(AJ$142,'Исходные данные'!$F186)=0,1,0)*'Исходные данные'!$C186,0)","v":0},{"$f":"IFERROR(IF(MOD(AK$142,'Исходные данные'!$F186)=0,1,0)*'Исходные данные'!$C186,0)","v":0},{"$f":"IFERROR(IF(MOD(AL$142,'Исходные данные'!$F186)=0,1,0)*'Исходные данные'!$C186,0)","v":0},{"$f":"IFERROR(IF(MOD(AM$142,'Исходные данные'!$F186)=0,1,0)*'Исходные данные'!$C186,0)","v":0},{"$f":"IFERROR(IF(MOD(AN$142,'Исходные данные'!$F186)=0,1,0)*'Исходные данные'!$C186,0)","v":0},{"$f":"IFERROR(IF(MOD(AO$142,'Исходные данные'!$F186)=0,1,0)*'Исходные данные'!$C186,0)","v":0},{"$f":"IFERROR(IF(MOD(AP$142,'Исходные данные'!$F186)=0,1,0)*'Исходные данные'!$C186,0)","v":0},{"$f":"IFERROR(IF(MOD(AQ$142,'Исходные данные'!$F186)=0,1,0)*'Исходные данные'!$C186,0)","v":0},{"$f":"IFERROR(IF(MOD(AR$142,'Исходные данные'!$F186)=0,1,0)*'Исходные данные'!$C186,0)","v":0},{"$f":"IFERROR(IF(MOD(AS$142,'Исходные данные'!$F186)=0,1,0)*'Исходные данные'!$C186,0)","v":0},{"$f":"IFERROR(IF(MOD(AT$142,'Исходные данные'!$F186)=0,1,0)*'Исходные данные'!$C186,0)","v":0},{"$f":"IFERROR(IF(MOD(AU$142,'Исходные данные'!$F186)=0,1,0)*'Исходные данные'!$C186,0)","v":0},{"$f":"IFERROR(IF(MOD(AV$142,'Исходные данные'!$F186)=0,1,0)*'Исходные данные'!$C186,0)","v":0},{"$f":"IFERROR(IF(MOD(AW$142,'Исходные данные'!$F186)=0,1,0)*'Исходные данные'!$C186,0)","v":0},{"$f":"IFERROR(IF(MOD(AX$142,'Исходные данные'!$F186)=0,1,0)*'Исходные данные'!$C186,0)","v":0},{"$f":"IFERROR(IF(MOD(AY$142,'Исходные данные'!$F186)=0,1,0)*'Исходные данные'!$C186,0)","v":0},{"$f":"IFERROR(IF(MOD(AZ$142,'Исходные данные'!$F186)=0,1,0)*'Исходные данные'!$C186,0)","v":0},{"$f":"IFERROR(IF(MOD(BA$142,'Исходные данные'!$F186)=0,1,0)*'Исходные данные'!$C186,0)","v":0},{"$f":"IFERROR(IF(MOD(BB$142,'Исходные данные'!$F186)=0,1,0)*'Исходные данные'!$C186,0)","v":0},{"$f":"IFERROR(IF(MOD(BC$142,'Исходные данные'!$F186)=0,1,0)*'Исходные данные'!$C186,0)","v":0},{"$f":"IFERROR(IF(MOD(BD$142,'Исходные данные'!$F186)=0,1,0)*'Исходные данные'!$C186,0)","v":0},{"$f":"IFERROR(IF(MOD(BE$142,'Исходные данные'!$F186)=0,1,0)*'Исходные данные'!$C186,0)","v":0},{"$f":"IFERROR(IF(MOD(BF$142,'Исходные данные'!$F186)=0,1,0)*'Исходные данные'!$C186,0)","v":0},{"$f":"IFERROR(IF(MOD(BG$142,'Исходные данные'!$F186)=0,1,0)*'Исходные данные'!$C186,0)","v":0},{"$f":"IFERROR(IF(MOD(BH$142,'Исходные данные'!$F186)=0,1,0)*'Исходные данные'!$C186,0)","v":0},{"$f":"IFERROR(IF(MOD(BI$142,'Исходные данные'!$F186)=0,1,0)*'Исходные данные'!$C186,0)","v":0},{"$f":"IFERROR(IF(MOD(BJ$142,'Исходные данные'!$F186)=0,1,0)*'Исходные данные'!$C186,0)","v":0},{"$f":"IFERROR(IF(MOD(BK$142,'Исходные данные'!$F186)=0,1,0)*'Исходные данные'!$C186,0)","v":0}]
[]
[]
["Инвестиционные издержки без выплат дивидендов",{"$f":"B58-B68","v":726000},656000,0,0,0,0,0,0,0,0,0,0,0,0,0,0,0,0,0,0,0,0,0,0,0,0,0,0,0,0,0,0,{"$f":"AH58-AH68","v":0},0,0,0,0,70000,0,0,0,0,0,0,0,0,0,0,0,0,0,0,0,0,0,0,0,0,0,0,0,0]

{"sheet":"БДР","index":4,"n_rows":194,"n_cols":70,"rows_kept":194,"cut":false,"hidden":false,"merged":[[3,0,5,0],[3,1,5,1],[148,16,148,20],[148,21,148,25],[148,0,149,0],[148,1,148,5],[148,6,148,10],[148,11,148,15],[50,2,50,9]]}
["БЮДЖЕТ ДОХОДОВ И РАСХОДОВ (БДР)"]
["в руб."]
["БДР ПО МЕСЯЦАМ"]
["Статья БДР","Сумма за 5 лет","1-й месяц","2-й месяц","3-й месяц","4-й месяц","5-й месяц","6-й месяц","7-й месяц","8-й месяц","9-й месяц","10-й месяц","11-й месяц","12-й месяц","13-й месяц","14-й месяц","15-й месяц","16-й месяц","17-й месяц","18-й месяц","19-й месяц","20-й месяц","21-й месяц","22-й месяц","23-й месяц","24-й месяц","25-й месяц","26-й месяц","27-й месяц","28-й месяц","29-й месяц","30-й месяц","31-й месяц","32-й месяц","33-й месяц","34-й месяц","35-й месяц","36-й месяц","37-й месяц","38-й месяц","39-й месяц","40-й месяц","41-й месяц","42-й месяц","43-й месяц","44-й месяц","45-й месяц","46-й месяц","47-й месяц","48-й месяц","49-й месяц","50-й месяц","51-й месяц","52-й месяц","53-й месяц","54-й месяц","55-й месяц","56-й месяц","57-й месяц","58-й месяц","59-й месяц","60-й месяц"]
[null,null,{"$f":"БДДС!D5","v":"Май"},{"$f":"БДДС!E5","v":"Июнь"},{"$f":"БДДС!F5","v":"Июль"},{"$f":"БДДС!G5","v":"Август"},{"$f":"БДДС!H5","v":"Сентябрь"},{"$f":"БДДС!I5","v":"Октябрь"},{"$f":"БДДС!J5","v":"Ноябрь"},{"$f":"БДДС!K5","v":"Декабрь"},{"$f":"БДДС!L5","v":"Январь"},{"$f":"БДДС!M5","v":"Февраль"},{"$f":"БДДС!N5","v":"Март"},{"$f":"БДДС!O5","v":"Апрель"},{"$f":"БДДС!P5","v":"Май"},{"$f":"БДДС!Q5","v":"Июнь"},{"$f":"БДДС!R5","v":"Июль"},{"$f":"БДДС!S5","v":"Август"},{"$f":"БДДС!T5","v":"Сентябрь"},{"$f":"БДДС!U5","v":"Октябрь"},{"$f":"БДДС!V5","v":"Ноябрь"},{"$f":"БДДС!W5","v":"Декабрь"},{"$f":"БДДС!X5","v":"Январь"},{"$f":"БДДС!Y5","v":"Февраль"},{"$f":"БДДС!Z5","v":"Март"},{"$f":"БДДС!AA5","v":"Апрель"},{"$f":"БДДС!AB5","v":"Май"},{"$f":"БДДС!AC5","v":"Июнь"},{"$f":"БДДС!AD5","v":"Июль"},{"$f":"БДДС!AE5","v":"Август"},{"$f":"БДДС!AF5","v":"Сентябрь"},{"$f":"БДДС!AG5","v":"Октябрь"},{"$f":"БДДС!AH5","v":"Ноябрь"},{"$f":"БДДС!AI5","v":"Декабрь"},{"$f":"БДДС!AJ5","v":"Январь"},{"$f":"БДДС!AK5","v":"Февраль"},{"$f":"БДДС!AL5","v":"Март"},{"$f":"БДДС!AM5","v":"Апрель"},{"$f":"БДДС!AN5","v":"Май"},{"$f":"БДДС!AO5","v":"Июнь"},{"$f":"БДДС!AP5","v":"Июль"},{"$f":"БДДС!AQ5","v":"Август"},{"$f":"БДДС!AR5","v":"Сентябрь"},{"$f":"БДДС!AS5","v":"Октябрь"},{"$f":"БДДС!AT5","v":"Ноябрь"},{"$f":"БДДС!AU5","v":"Декабрь"},{"$f":"БДДС!AV5","v":"Январь"},{"$f":"БДДС!AW5","v":"Февраль"},{"$f":"БДДС!AX5","v":"Март"},{"$f":"БДДС!AY5","v":"Апрель"},{"$f":"БДДС!AZ5","v":"Май"},{"$f":"БДДС!BA5","v":"Июнь"},{"$f":"БДДС!BB5","v":"Июль"},{"$f":"БДДС!BC5","v":"Август"},{"$f":"БДДС!BD5","v":"Сентябрь"},{"$f":"БДДС!BE5","v":"Октябрь"},{"$f":"БДДС!BF5","v":"Ноябрь"},{"$f":"БДДС!BG5","v":"Декабрь"},{"$f":"БДДС!BH5","v":"Январь"},{"$f":"БДДС!BI5","v":"Февраль"},{"$f":"БДДС!BJ5","v":"Март"},{"$f":"БДДС!BK5","v":"Апрель"}]
[null,null,{"$f":"БДДС!D6","v":2021},{"$f":"БДДС!E6","v":2021},{"$f":"БДДС!F6","v":2021},{"$f":"БДДС!G6","v":2021},{"$f":"БДДС!H6","v":2021},{"$f":"БДДС!I6","v":2021},{"$f":"БДДС!J6","v":2021},{"$f":"БДДС!K6","v":2021},{"$f":"БДДС!L6","v":2022},{"$f":"БДДС!M6","v":2022},{"$f":"БДДС!N6","v":2022},{"$f":"БДДС!O6","v":2022},{"$f":"БДДС!P6","v":2022},{"$f":"БДДС!Q6","v":2022},{"$f":"БДДС!R6","v":2022},{"$f":"БДДС!S6","v":2022},{"$f":"БДДС!T6","v":2022},{"$f":"БДДС!U6","v":2022},{"$f":"БДДС!V6","v":2022},{"$f":"БДДС!W6","v":2022},{"$f":"БДДС!X6","v":2023},{"$f":"БДДС!Y6","v":2023},{"$f":"БДДС!Z6","v":2023},{"$f":"БДДС!AA6","v":2023},{"$f":"БДДС!AB6","v":2023},{"$f":"БДДС!AC6","v":2023},{"$f":"БДДС!AD6","v":2023},{"$f":"БДДС!AE6","v":2023},{"$f":"БДДС!AF6","v":2023},{"$f":"БДДС!AG6","v":2023},{"$f":"БДДС!AH6","v":2023},{"$f":"БДДС!AI6","v":2023},{"$f":"БДДС!AJ6","v":2024},{"$f":"БДДС!AK6","v":2024},{"$f":"БДДС!AL6","v":2024},{"$f":"БДДС!AM6","v":2024},{"$f":"БДДС!AN6","v":2024},{"$f":"БДДС!AO6","v":2024},{"$f":"БДДС!AP6","v":2024},{"$f":"БДДС!AQ6","v":2024},{"$f":"БДДС!AR6","v":2024},{"$f":"БДДС!AS6","v":2024},{"$f":"БДДС!AT6","v":2024},{"$f":"БДДС!AU6","v":2024},{"$f":"БДДС!AV6","v":2025},{"$f":"БДДС!AW6","v":2025},{"$f":"БДДС!AX6","v":2025},{"$f":"БДДС!AY6","v":2025},{"$f":"БДДС!AZ6","v":2025},{"$f":"БДДС!BA6","v":2025},{"$f":"БДДС!BB6","v":2025},{"$f":"БДДС!BC6","v":2025},{"$f":"БДДС!BD6","v":2025},{"$f":"БДДС!BE6","v":2025},{"$f":"БДДС!BF6","v":2025},{"$f":"БДДС!BG6","v":2025},{"$f":"БДДС!BH6","v":2026},{"$f":"БДДС!BI6","v":2026},{"$f":"БДДС!BJ6","v":2026},{"$f":"БДДС!BK6","v":2026}]
["Месяц и год",null,{"$f":"CONCATENATE(C5,C6)","v":"Май2021"},{"$f":"CONCATENATE(D5,D6)","v":"Июнь2021"},"Июль2021","Август2021","Сентябрь2021","Октябрь2021","Ноябрь2021","Декабрь2021","Январь2022","Февраль2022","Март2022","Апрель2022","Май2022","Июнь2022","Июль2022","Август2022","Сентябрь2022","Октябрь2022","Ноябрь2022","Декабрь2022","Январь2023","Февраль2023","Март2023","Апрель2023","Май2023","Июнь2023","Июль2023","Август2023","Сентябрь2023","Октябрь2023","Ноябрь2023","Декабрь2023","Январь2024","Февраль2024","Март2024","Апрель2024","Май2024","Июнь2024","Июль2024","Август2024","Сентябрь2024","Октябрь2024","Ноябрь2024","Декабрь2024","Январь2025","Февраль2025","Март2025","Апрель2025","Май2025","Июнь2025","Июль2025","Август2025","Сентябрь2025","Октябрь2025","Ноябрь2025","Декабрь2025","Январь2026","Февраль2026","Март2026","Апрель2026"]
["Квартал",null,{"$f":"VLOOKUP(C5,Спровочник!$B$21:$C$32,2,FALSE)&C6","v":"2кв2021"},{"$f":"VLOOKUP(D5,Спровочник!$B$21:$C$32,2,FALSE)&D6","v":"2кв2021"},{"$f":"VLOOKUP(E5,Спровочник!$B$21:$C$32,2,FALSE)&E6","v":"3кв2021"},{"$f":"VLOOKUP(F5,Спровочник!$B$21:$C$32,2,FALSE)&F6","v":"3кв2021"},{"$f":"VLOOKUP(G5,Спровочник!$B$21:$C$32,2,FALSE)&G6","v":"3кв2021"},{"$f":"VLOOKUP(H5,Спровочник!$B$21:$C$32,2,FALSE)&H6","v":"4кв2021"},{"$f":"VLOOKUP(I5,Спровочник!$B$21:$C$32,2,FALSE)&I6","v":"4кв2021"},{"$f":"VLOOKUP(J5,Спровочник!$B$21:$C$32,2,FALSE)&J6","v":"4кв2021"},{"$f":"VLOOKUP(K5,Спровочник!$B$21:$C$32,2,FALSE)&K6","v":"1кв2022"},{"$f":"VLOOKUP(L5,Спровочник!$B$21:$C$32,2,FALSE)&L6","v":"1кв2022"},{"$f":"VLOOKUP(M5,Спровочник!$B$21:$C$32,2,FALSE)&M6","v":"1кв2022"},{"$f":"VLOOKUP(N5,Спровочник!$B$21:$C$32,2,FALSE)&N6","v":"2кв2022"},{"$f":"VLOOKUP(O5,Спровочник!$B$21:$C$32,2,FALSE)&O6","v":"2кв2022"},{"$f":"VLOOKUP(P5,Спровочник!$B$21:$C$32,2,FALSE)&P6","v":"2кв2022"},{"$f":"VLOOKUP(Q5,Спровочник!$B$21:$C$32,2,FALSE)&Q6","v":"3кв2022"},{"$f":"VLOOKUP(R5,Спровочник!$B$21:$C$32,2,FALSE)&R6","v":"3кв2022"},{"$f":"VLOOKUP(S5,Спровочник!$B$21:$C$32,2,FALSE)&S6","v":"3кв2022"},{"$f":"VLOOKUP(T5,Спровочник!$B$21:$C$32,2,FALSE)&T6","v":"4кв2022"},{"$f":"VLOOKUP(U5,Спровочник!$B$21:$C$32,2,FALSE)&U6","v":"4кв2022"},{"$f":"VLOOKUP(V5,Спровочник!$B$21:$C$32,2,FALSE)&V6","v":"4кв2022"},{"$f":"VLOOKUP(W5,Спровочник!$B$21:$C$32,2,FALSE)&W6","v":"1кв2023"},{"$f":"VLOOKUP(X5,Спровочник!$B$21:$C$32,2,FALSE)&X6","v":"1кв2023"},{"$f":"VLOOKUP(Y5,Спровочник!$B$21:$C$32,2,FALSE)&Y6","v":"1кв2023"},{"$f":"VLOOKUP(Z5,Спровочник!$B$21:$C$32,2,FALSE)&Z6","v":"2кв2023"},{"$f":"VLOOKUP(AA5,Спровочник!$B$21:$C$32,2,FALSE)&AA6","v":"2кв2023"},{"$f":"VLOOKUP(AB5,Спровочник!$B$21:$C$32,2,FALSE)&AB6","v":"2кв2023"},{"$f":"VLOOKUP(AC5,Спровочник!$B$21:$C$32,2,FALSE)&AC6","v":"3кв2023"},{"$f":"VLOOKUP(AD5,Спровочник!$B$21:$C$32,2,FALSE)&AD6","v":"3кв2023"},{"$f":"VLOOKUP(AE5,Спровочник!$B$21:$C$32,2,FALSE)&AE6","v":"3кв2023"},{"$f":"VLOOKUP(AF5,Спровочник!$B$21:$C$32,2,FALSE)&AF6","v":"4кв2023"},{"$f":"VLOOKUP(AG5,Спровочник!$B$21:$C$32,2,FALSE)&AG6","v":"4кв2023"},{"$f":"VLOOKUP(AH5,Спровочник!$B$21:$C$32,2,FALSE)&AH6","v":"4кв2023"},{"$f":"VLOOKUP(AI5,Спровочник!$B$21:$C$32,2,FALSE)&AI6","v":"1кв2024"},{"$f":"VLOOKUP(AJ5,Спровочник!$B$21:$C$32,2,FALSE)&AJ6","v":"1кв2024"},{"$f":"VLOOKUP(AK5,Спровочник!$B$21:$C$32,2,FALSE)&AK6","v":"1кв2024"},{"$f":"VLOOKUP(AL5,Спровочник!$B$21:$C$32,2,FALSE)&AL6","v":"2кв2024"},{"$f":"VLOOKUP(AM5,Спровочник!$B$21:$C$32,2,FALSE)&AM6","v":"2кв2024"},{"$f":"VLOOKUP(AN5,Спровочник!$B$21:$C$32,2,FALSE)&AN6","v":"2кв2024"},{"$f":"VLOOKUP(AO5,Спровочник!$B$21:$C$32,2,FALSE)&AO6","v":"3кв2024"},{"$f":"VLOOKUP(AP5,Спровочник!$B$21:$C$32,2,FALSE)&AP6","v":"3кв2024"},{"$f":"VLOOKUP(AQ5,Спровочник!$B$21:$C$32,2,FALSE)&AQ6","v":"3кв2024"},{"$f":"VLOOKUP(AR5,Спровочник!$B$21:$C$32,2,FALSE)&AR6","v":"4кв2024"},{"$f":"VLOOKUP(AS5,Спровочник!$B$21:$C$32,2,FALSE)&AS6","v":"4кв2024"},{"$f":"VLOOKUP(AT5,Спровочник!$B$21:$C$32,2,FALSE)&AT6","v":"4кв2024"},{"$f":"VLOOKUP(AU5,Спровочник!$B$21:$C$32,2,FALSE)&AU6","v":"1кв2025"},{"$f":"VLOOKUP(AV5,Спровочник!$B$21:$C$32,2,FALSE)&AV6","v":"1кв2025"},{"$f":"VLOOKUP(AW5,Спровочник!$B$21:$C$32,2,FALSE)&AW6","v":"1кв2025"},{"$f":"VLOOKUP(AX5,Спровочник!$B$21:$C$32,2,FALSE)&AX6","v":"2кв2025"},{"$f":"VLOOKUP(AY5,Спровочник!$B$21:$C$32,2,FALSE)&AY6","v":"2кв2025"},{"$f":"VLOOKUP(AZ5,Спровочник!$B$21:$C$32,2,FALSE)&AZ6","v":"2кв2025"},{"$f":"VLOOKUP(BA5,Спровочник!$B$21:$C$32,2,FALSE)&BA6","v":"3кв2025"},{"$f":"VLOOKUP(BB5,Спровочник!$B$21:$C$32,2,FALSE)&BB6","v":"3кв2025"},{"$f":"VLOOKUP(BC5,Спровочник!$B$21:$C$32,2,FALSE)&BC6","v":"3кв2025"},{"$f":"VLOOKUP(BD5,Спровочник!$B$21:$C$32,2,FALSE)&BD6","v":"4кв2025"},{"$f":"VLOOKUP(BE5,Спровочник!$B$21:$C$32,2,FALSE)&BE6","v":"4кв2025"},{"$f":"VLOOKUP(BF5,Спровочник!$B$21:$C$32,2,FALSE)&BF6","v":"4кв2025"},{"$f":"VLOOKUP(BG5,Спровочник!$B$21:$C$32,2,FALSE)&BG6","v":"1кв2026"},{"$f":"VLOOKUP(BH5,Спровочник!$B$21:$C$32,2,FALSE)&BH6","v":"1кв2026"},{"$f":"VLOOKUP(BI5,Спровочник!$B$21:$C$32,2,FALSE)&BI6","v":"1кв2026"},{"$f":"VLOOKUP(BJ5,Спровочник!$B$21:$C$32,2,FALSE)&BJ6","v":"2кв2026"}]
[]
["Выручка",{"$f":"SUM(C10:BJ10)","v":53487860},{"$f":"'План продаж'!D32","v":506120},{"$f":"'План продаж'!E32","v":592760},{"$f":"'План продаж'!F32","v":666980},{"$f":"'План продаж'!G32","v":666980},{"$f":"'План продаж'!H32","v":723020},{"$f":"'План продаж'!I32","v":750020},{"$f":"'План продаж'!J32","v":1114140},{"$f":"'План продаж'!K32","v":2014260},{"$f":"'План продаж'!L32","v":979240},{"$f":"'План продаж'!M32","v":784220},{"$f":"'План продаж'!N32","v":739220},{"$f":"'План продаж'!O32","v":750020},{"$f":"'План продаж'!P32","v":723020},{"$f":"'План продаж'!Q32","v":741020},{"$f":"'План продаж'!R32","v":741020},{"$f":"'План продаж'!S32","v":741020},{"$f":"'План продаж'!T32","v":723020},{"$f":"'План продаж'!U32","v":750020},{"$f":"'План продаж'!V32","v":1114140},{"$f":"'План продаж'!W32","v":2014260},{"$f":"'План продаж'!X32","v":979240},{"$f":"'План продаж'!Y32","v":784220},{"$f":"'План продаж'!Z32","v":739220},{"$f":"'План продаж'!AA32","v":750020},{"$f":"'План продаж'!AB32","v":723020},{"$f":"'План продаж'!AC32","v":741020},{"$f":"'План продаж'!AD32","v":741020},{"$f":"'План продаж'!AE32","v":741020},{"$f":"'План продаж'!AF32","v":723020},{"$f":"'План продаж'!AG32","v":750020},{"$f":"'План продаж'!AH32","v":1114140},{"$f":"'План продаж'!AI32","v":2014260},{"$f":"'План продаж'!AJ32","v":979240},{"$f":"'План продаж'!AK32","v":784220},{"$f":"'План продаж'!AL32","v":739220},{"$f":"'План продаж'!AM32","v":750020},{"$f":"'План продаж'!AN32","v":723020},{"$f":"'План продаж'!AO32","v":741020},{"$f":"'План продаж'!AP32","v":741020},{"$f":"'План продаж'!AQ32","v":741020},{"$f":"'План продаж'!AR32","v":723020},{"$f":"'План продаж'!AS32","v":750020},{"$f":"'План продаж'!AT32","v":1114140},{"$f":"'План продаж'!AU32","v":2014260},{"$f":"'План продаж'!AV32","v":979240},{"$f":"'План продаж'!AW32","v":784220},{"$f":"'План продаж'!AX32","v":739220},{"$f":"'План продаж'!AY32","v":750020},{"$f":"'План продаж'!AZ32","v":723020},{"$f":"'План продаж'!BA32","v":741020},{"$f":"'План продаж'!BB32","v":741020},{"$f":"'План продаж'!BC32","v":741020},{"$f":"'План продаж'!BD32","v":723020},{"$f":"'План продаж'!BE32","v":750020},{"$f":"'План продаж'!BF32","v":1114140},{"$f":"'План продаж'!BG32","v":2014260},{"$f":"'План продаж'!BH32","v":979240},{"$f":"'План продаж'!BI32","v":784220},{"$f":"'План продаж'!BJ32","v":739220},{"$f":"'План продаж'!BK32","v":750020},null,null,null,null,null,null,14022000,{"$f":"BQ10-B10","v":-39465860}]
["Прямые переменные расходы",{"$f":"SUM(C11:BJ11)","v":31546179.572932296},{"$f":"SUM(C12:C18)","v":302905.14230898186},{"$f":"SUM(D12:D18)","v":352129.37477196299},396219.80293104105,390819.30092029908,432852.25199999998,534160.10200000007,887597.96399999992,925849.87600000005,523621.924,447069.37199999997,436726.12199999997,435082.45199999999,432716.50199999998,440203.30199999997,440203.30199999997,434203.30199999997,432852.25199999998,534160.10200000007,887597.96399999992,925849.87600000005,523621.924,447069.37199999997,436726.12199999997,435082.45199999999,432716.50199999998,440203.30199999997,440203.30199999997,434203.30199999997,432852.25199999998,534160.10200000007,887597.96399999992,925849.87600000005,523621.924,447069.37199999997,436726.12199999997,435082.45199999999,432716.50199999998,440203.30199999997,440203.30199999997,434203.30199999997,432852.25199999998,534160.10200000007,887597.96399999992,925849.87600000005,523621.924,447069.37199999997,436726.12199999997,435082.45199999999,432716.50199999998,440203.30199999997,440203.30199999997,434203.30199999997,432852.25199999998,534160.10200000007,887597.96399999992,925849.87600000005,523621.924,447069.37199999997,436726.12199999997,435082.45199999999,null,null,null,null,null,null,7277417.9999999991,{"$f":"BQ11-B11","v":-24268761.572932296}]
["Роялти",0,{"$f":"БДДС!D41","v":0},{"$f":"БДДС!E41","v":0},{"$f":"БДДС!F41","v":0},{"$f":"БДДС!G41","v":0},{"$f":"БДДС!H41","v":0},{"$f":"БДДС!I41","v":0},{"$f":"БДДС!J41","v":0},{"$f":"БДДС!K41","v":0},{"$f":"БДДС!L41","v":0},{"$f":"БДДС!M41","v":0},{"$f":"БДДС!N41","v":0},{"$f":"БДДС!O41","v":0},{"$f":"БДДС!P41","v":0},{"$f":"БДДС!Q41","v":0},{"$f":"БДДС!R41","v":0},{"$f":"БДДС!S41","v":0},{"$f":"БДДС!T41","v":0},{"$f":"БДДС!U41","v":0},{"$f":"БДДС!V41","v":0},{"$f":"БДДС!W41","v":0},{"$f":"БДДС!X41","v":0},{"$f":"БДДС!Y41","v":0},{"$f":"БДДС!Z41","v":0},{"$f":"БДДС!AA41","v":0},{"$f":"БДДС!AB41","v":0},{"$f":"БДДС!AC41","v":0},{"$f":"БДДС!AD41","v":0},{"$f":"БДДС!AE41","v":0},{"$f":"БДДС!AF41","v":0},{"$f":"БДДС!AG41","v":0},{"$f":"БДДС!AH41","v":0},{"$f":"БДДС!AI41","v":0},{"$f":"БДДС!AJ41","v":0},{"$f":"БДДС!AK41","v":0},{"$f":"БДДС!AL41","v":0},{"$f":"БДДС!AM41","v":0},{"$f":"БДДС!AN41","v":0},{"$f":"БДДС!AO41","v":0},{"$f":"БДДС!AP41","v":0},{"$f":"БДДС!AQ41","v":0},{"$f":"БДДС!AR41","v":0},{"$f":"БДДС!AS41","v":0},{"$f":"БДДС!AT41","v":0},{"$f":"БДДС!AU41","v":0},{"$f":"БДДС!AV41","v":0},{"$f":"БДДС!AW41","v":0},{"$f":"БДДС!AX41","v":0},{"$f":"БДДС!AY41","v":0},{"$f":"БДДС!AZ41","v":0},{"$f":"БДДС!BA41","v":0},{"$f":"БДДС!BB41","v":0},{"$f":"БДДС!BC41","v":0},{"$f":"БДДС!BD41","v":0},{"$f":"БДДС!BE41","v":0},{"$f":"БДДС!BF41","v":0},{"$f":"БДДС!BG41","v":0},{"$f":"БДДС!BH41","v":0},{"$f":"БДДС!BI41","v":0},{"$f":"БДДС!BJ41","v":0},{"$f":"БДДС!BK41","v":0},null,null,null,null,null,null,1402200,1402200]
["Эквайринг",936037.54999999923,{"$f":"C10*'Исходные данные'!$C$161","v":8857.0999999999985},{"$f":"D10*'Исходные данные'!$C$161","v":10373.299999999999},{"$f":"E10*'Исходные данные'!$C$161","v":11672.15},{"$f":"F10*'Исходные данные'!$C$161","v":11672.15},{"$f":"G10*'Исходные данные'!$C$161","v":12652.849999999999},{"$f":"H10*'Исходные данные'!$C$161","v":13125.349999999999},{"$f":"I10*'Исходные данные'!$C$161","v":19497.449999999997},{"$f":"J10*'Исходные данные'!$C$161","v":35249.549999999996},{"$f":"K10*'Исходные данные'!$C$161","v":17136.699999999997},{"$f":"L10*'Исходные данные'!$C$161","v":13723.849999999999},{"$f":"M10*'Исходные данные'!$C$161","v":12936.349999999999},{"$f":"N10*'Исходные данные'!$C$161","v":13125.349999999999},{"$f":"O10*'Исходные данные'!$C$161","v":12652.849999999999},{"$f":"P10*'Исходные данные'!$C$161","v":12967.849999999999},{"$f":"Q10*'Исходные данные'!$C$161","v":12967.849999999999},{"$f":"R10*'Исходные данные'!$C$161","v":12967.849999999999},{"$f":"S10*'Исходные данные'!$C$161","v":12652.849999999999},{"$f":"T10*'Исходные данные'!$C$161","v":13125.349999999999},{"$f":"U10*'Исходные данные'!$C$161","v":19497.449999999997},{"$f":"V10*'Исходные данные'!$C$161","v":35249.549999999996},{"$f":"W10*'Исходные данные'!$C$161","v":17136.699999999997},{"$f":"X10*'Исходные данные'!$C$161","v":13723.849999999999},{"$f":"Y10*'Исходные данные'!$C$161","v":12936.349999999999},{"$f":"Z10*'Исходные данные'!$C$161","v":13125.349999999999},{"$f":"AA10*'Исходные данные'!$C$161","v":12652.849999999999},{"$f":"AB10*'Исходные данные'!$C$161","v":12967.849999999999},{"$f":"AC10*'Исходные данные'!$C$161","v":12967.849999999999},{"$f":"AD10*'Исходные данные'!$C$161","v":12967.849999999999},{"$f":"AE10*'Исходные данные'!$C$161","v":12652.849999999999},{"$f":"AF10*'Исходные данные'!$C$161","v":13125.349999999999},{"$f":"AG10*'Исходные данные'!$C$161","v":19497.449999999997},{"$f":"AH10*'Исходные данные'!$C$161","v":35249.549999999996},{"$f":"AI10*'Исходные данные'!$C$161","v":17136.699999999997},{"$f":"AJ10*'Исходные данные'!$C$161","v":13723.849999999999},{"$f":"AK10*'Исходные данные'!$C$161","v":12936.349999999999},{"$f":"AL10*'Исходные данные'!$C$161","v":13125.349999999999},{"$f":"AM10*'Исходные данные'!$C$161","v":12652.849999999999},{"$f":"AN10*'Исходные данные'!$C$161","v":12967.849999999999},{"$f":"AO10*'Исходные данные'!$C$161","v":12967.849999999999},{"$f":"AP10*'Исходные данные'!$C$161","v":12967.849999999999},{"$f":"AQ10*'Исходные данные'!$C$161","v":12652.849999999999},{"$f":"AR10*'Исходные данные'!$C$161","v":13125.349999999999},{"$f":"AS10*'Исходные данные'!$C$161","v":19497.449999999997},{"$f":"AT10*'Исходные данные'!$C$161","v":35249.549999999996},{"$f":"AU10*'Исходные данные'!$C$161","v":17136.699999999997},{"$f":"AV10*'Исходные данные'!$C$161","v":13723.849999999999},{"$f":"AW10*'Исходные данные'!$C$161","v":12936.349999999999},{"$f":"AX10*'Исходные данные'!$C$161","v":13125.349999999999},{"$f":"AY10*'Исходные данные'!$C$161","v":12652.849999999999},{"$f":"AZ10*'Исходные данные'!$C$161","v":12967.849999999999},{"$f":"BA10*'Исходные данные'!$C$161","v":12967.849999999999},{"$f":"BB10*'Исходные данные'!$C$161","v":12967.849999999999},{"$f":"BC10*'Исходные данные'!$C$161","v":12652.849999999999},{"$f":"BD10*'Исходные данные'!$C$161","v":13125.349999999999},{"$f":"BE10*'Исходные данные'!$C$161","v":19497.449999999997},{"$f":"BF10*'Исходные данные'!$C$161","v":35249.549999999996},{"$f":"BG10*'Исходные данные'!$C$161","v":17136.699999999997},{"$f":"BH10*'Исходные данные'!$C$161","v":13723.849999999999},{"$f":"BI10*'Исходные данные'!$C$161","v":12936.349999999999},{"$f":"BJ10*'Исходные данные'!$C$161","v":13125.349999999999},null,null,null,null,null,null,210330,-725707.54999999923]
[{"$f":"БДДС!A17","v":"Покупка товаров"},26629397.270543061,{"$f":"БДДС!D17","v":256892.54543442783},{"$f":"БДДС!E17","v":298359.81296051393},{"$f":"БДДС!F17","v":335717.7070794311},{"$f":"БДДС!G17","v":330317.20506868913},{"$f":"БДДС!H17","v":367060},{"$f":"БДДС!I17","v":463265.00000000006},{"$f":"БДДС!J17","v":777300},{"$f":"БДДС!K17","v":742450},{"$f":"БДДС!L17","v":434940},{"$f":"БДДС!M17","v":376060},{"$f":"БДДС!N17","v":369535},{"$f":"БДДС!O17","v":367060},{"$f":"БДДС!P17","v":366985},{"$f":"БДДС!Q17","v":372985},{"$f":"БДДС!R17","v":372985},{"$f":"БДДС!S17","v":366985},{"$f":"БДДС!T17","v":367060},{"$f":"БДДС!U17","v":463265.00000000006},{"$f":"БДДС!V17","v":777300},{"$f":"БДДС!W17","v":742450},{"$f":"БДДС!X17","v":434940},{"$f":"БДДС!Y17","v":376060},{"$f":"БДДС!Z17","v":369535},{"$f":"БДДС!AA17","v":367060},{"$f":"БДДС!AB17","v":366985},{"$f":"БДДС!AC17","v":372985},{"$f":"БДДС!AD17","v":372985},{"$f":"БДДС!AE17","v":366985},{"$f":"БДДС!AF17","v":367060},{"$f":"БДДС!AG17","v":463265.00000000006},{"$f":"БДДС!AH17","v":777300},{"$f":"БДДС!AI17","v":742450},{"$f":"БДДС!AJ17","v":434940},{"$f":"БДДС!AK17","v":376060},{"$f":"БДДС!AL17","v":369535},{"$f":"БДДС!AM17","v":367060},{"$f":"БДДС!AN17","v":366985},{"$f":"БДДС!AO17","v":372985},{"$f":"БДДС!AP17","v":372985},{"$f":"БДДС!AQ17","v":366985},{"$f":"БДДС!AR17","v":367060},{"$f":"БДДС!AS17","v":463265.00000000006},{"$f":"БДДС!AT17","v":777300},{"$f":"БДДС!AU17","v":742450},{"$f":"БДДС!AV17","v":434940},{"$f":"БДДС!AW17","v":376060},{"$f":"БДДС!AX17","v":369535},{"$f":"БДДС!AY17","v":367060},{"$f":"БДДС!AZ17","v":366985},{"$f":"БДДС!BA17","v":372985},{"$f":"БДДС!BB17","v":372985},{"$f":"БДДС!BC17","v":366985},{"$f":"БДДС!BD17","v":367060},{"$f":"БДДС!BE17","v":463265.00000000006},{"$f":"БДДС!BF17","v":777300},{"$f":"БДДС!BG17","v":742450},{"$f":"БДДС!BH17","v":434940},{"$f":"БДДС!BI17","v":376060},{"$f":"БДДС!BJ17","v":369535},{"$f":"БДДС!BK17","v":367060},null,null,null,null,null,null,5608800,-21020597.270543061]
[{"$f":"БДДС!A18","v":"Транспортные расходы"},498685.06638922275,{"$f":"БДДС!D18","v":4207.0848745539543},{"$f":"БДДС!E18","v":4807.5858114490838},{"$f":"БДДС!F18","v":5409.5478516099429},{"$f":"БДДС!G18","v":5409.5478516099429},{"$f":"БДДС!H18","v":6070.8},{"$f":"БДДС!I18","v":8943.4500000000007},{"$f":"БДДС!J18","v":18270},{"$f":"БДДС!K18","v":17022},{"$f":"БДДС!L18","v":7796.6999999999989},{"$f":"БДДС!M18","v":6232.8},{"$f":"БДДС!N18","v":6131.55},{"$f":"БДДС!O18","v":6070.8},{"$f":"БДДС!P18","v":6010.05},{"$f":"БДДС!Q18","v":6010.05},{"$f":"БДДС!R18","v":6010.05},{"$f":"БДДС!S18","v":6010.05},{"$f":"БДДС!T18","v":6070.8},{"$f":"БДДС!U18","v":8943.4500000000007},{"$f":"БДДС!V18","v":18270},{"$f":"БДДС!W18","v":17022},{"$f":"БДДС!X18","v":7796.6999999999989},{"$f":"БДДС!Y18","v":6232.8},{"$f":"БДДС!Z18","v":6131.55},{"$f":"БДДС!AA18","v":6070.8},{"$f":"БДДС!AB18","v":6010.05},{"$f":"БДДС!AC18","v":6010.05},{"$f":"БДДС!AD18","v":6010.05},{"$f":"БДДС!AE18","v":6010.05},{"$f":"БДДС!AF18","v":6070.8},{"$f":"БДДС!AG18","v":8943.4500000000007},{"$f":"БДДС!AH18","v":18270},{"$f":"БДДС!AI18","v":17022},{"$f":"БДДС!AJ18","v":7796.6999999999989},{"$f":"БДДС!AK18","v":6232.8},{"$f":"БДДС!AL18","v":6131.55},{"$f":"БДДС!AM18","v":6070.8},{"$f":"БДДС!AN18","v":6010.05},{"$f":"БДДС!AO18","v":6010.05},{"$f":"БДДС!AP18","v":6010.05},{"$f":"БДДС!AQ18","v":6010.05},{"$f":"БДДС!AR18","v":6070.8},{"$f":"БДДС!AS18","v":8943.4500000000007},{"$f":"БДДС!AT18","v":18270},{"$f":"БДДС!AU18","v":17022},{"$f":"БДДС!AV18","v":7796.6999999999989},{"$f":"БДДС!AW18","v":6232.8},{"$f":"БДДС!AX18","v":6131.55},{"$f":"БДДС!AY18","v":6070.8},{"$f":"БДДС!AZ18","v":6010.05},{"$f":"БДДС!BA18","v":6010.05},{"$f":"БДДС!BB18","v":6010.05},{"$f":"БДДС!BC18","v":6010.05},{"$f":"БДДС!BD18","v":6070.8},{"$f":"БДДС!BE18","v":8943.4500000000007},{"$f":"БДДС!BF18","v":18270},{"$f":"БДДС!BG18","v":17022},{"$f":"БДДС!BH18","v":7796.6999999999989},{"$f":"БДДС!BI18","v":6232.8},{"$f":"БДДС!BJ18","v":6131.55},{"$f":"БДДС!BK18","v":6070.8},null,null,null,null,null,null,56088.000000000007,-442597.06638922275]
[{"$f":"БДДС!A19","v":"Выплаты персоналу (сдельная часть)"},2326721.9100000015,{"$f":"'Исходные данные'!$G$108*'План продаж'!D32*(1-'Исходные данные'!$C$287)","v":22016.22},{"$f":"'Исходные данные'!$G$108*'План продаж'!E32*(1-'Исходные данные'!$C$287)","v":25785.06},{"$f":"'Исходные данные'!$G$108*'План продаж'!F32*(1-'Исходные данные'!$C$287)","v":29013.63},{"$f":"'Исходные данные'!$G$108*'План продаж'!G32*(1-'Исходные данные'!$C$287)","v":29013.63},{"$f":"'Исходные данные'!$G$108*'План продаж'!H32*(1-'Исходные данные'!$C$287)","v":31451.37},{"$f":"'Исходные данные'!$G$108*'План продаж'!I32*(1-'Исходные данные'!$C$287)","v":32625.87},{"$f":"'Исходные данные'!$G$108*'План продаж'!J32*(1-'Исходные данные'!$C$287)","v":48465.09},{"$f":"'Исходные данные'!$G$108*'План продаж'!K32*(1-'Исходные данные'!$C$287)","v":87620.31},{"$f":"'Исходные данные'!$G$108*'План продаж'!L32*(1-'Исходные данные'!$C$287)","v":42596.94},{"$f":"'Исходные данные'!$G$108*'План продаж'!M32*(1-'Исходные данные'!$C$287)","v":34113.57},{"$f":"'Исходные данные'!$G$108*'План продаж'!N32*(1-'Исходные данные'!$C$287)","v":32156.07},{"$f":"'Исходные данные'!$G$108*'План продаж'!O32*(1-'Исходные данные'!$C$287)","v":32625.87},{"$f":"'Исходные данные'!$G$108*'План продаж'!P32*(1-'Исходные данные'!$C$287)","v":31451.37},{"$f":"'Исходные данные'!$G$108*'План продаж'!Q32*(1-'Исходные данные'!$C$287)","v":32234.37},{"$f":"'Исходные данные'!$G$108*'План продаж'!R32*(1-'Исходные данные'!$C$287)","v":32234.37},{"$f":"'Исходные данные'!$G$108*'План продаж'!S32*(1-'Исходные данные'!$C$287)","v":32234.37},{"$f":"'Исходные данные'!$G$108*'План продаж'!T32*(1-'Исходные данные'!$C$287)","v":31451.37},{"$f":"'Исходные данные'!$G$108*'План продаж'!U32*(1-'Исходные данные'!$C$287)","v":32625.87},{"$f":"'Исходные данные'!$G$108*'План продаж'!V32*(1-'Исходные данные'!$C$287)","v":48465.09},{"$f":"'Исходные данные'!$G$108*'План продаж'!W32*(1-'Исходные данные'!$C$287)","v":87620.31},{"$f":"'Исходные данные'!$G$108*'План продаж'!X32*(1-'Исходные данные'!$C$287)","v":42596.94},{"$f":"'Исходные данные'!$G$108*'План продаж'!Y32*(1-'Исходные данные'!$C$287)","v":34113.57},{"$f":"'Исходные данные'!$G$108*'План продаж'!Z32*(1-'Исходные данные'!$C$287)","v":32156.07},{"$f":"'Исходные данные'!$G$108*'План продаж'!AA32*(1-'Исходные данные'!$C$287)","v":32625.87},{"$f":"'Исходные данные'!$G$108*'План продаж'!AB32*(1-'Исходные данные'!$C$287)","v":31451.37},{"$f":"'Исходные данные'!$G$108*'План продаж'!AC32*(1-'Исходные данные'!$C$287)","v":32234.37},{"$f":"'Исходные данные'!$G$108*'План продаж'!AD32*(1-'Исходные данные'!$C$287)","v":32234.37},{"$f":"'Исходные данные'!$G$108*'План продаж'!AE32*(1-'Исходные данные'!$C$287)","v":32234.37},{"$f":"'Исходные данные'!$G$108*'План продаж'!AF32*(1-'Исходные данные'!$C$287)","v":31451.37},{"$f":"'Исходные данные'!$G$108*'План продаж'!AG32*(1-'Исходные данные'!$C$287)","v":32625.87},{"$f":"'Исходные данные'!$G$108*'План продаж'!AH32*(1-'Исходные данные'!$C$287)","v":48465.09},{"$f":"'Исходные данные'!$G$108*'План продаж'!AI32*(1-'Исходные данные'!$C$287)","v":87620.31},{"$f":"'Исходные данные'!$G$108*'План продаж'!AJ32*(1-'Исходные данные'!$C$287)","v":42596.94},{"$f":"'Исходные данные'!$G$108*'План продаж'!AK32*(1-'Исходные данные'!$C$287)","v":34113.57},{"$f":"'Исходные данные'!$G$108*'План продаж'!AL32*(1-'Исходные данные'!$C$287)","v":32156.07},{"$f":"'Исходные данные'!$G$108*'План продаж'!AM32*(1-'Исходные данные'!$C$287)","v":32625.87},{"$f":"'Исходные данные'!$G$108*'План продаж'!AN32*(1-'Исходные данные'!$C$287)","v":31451.37},{"$f":"'Исходные данные'!$G$108*'План продаж'!AO32*(1-'Исходные данные'!$C$287)","v":32234.37},{"$f":"'Исходные данные'!$G$108*'План продаж'!AP32*(1-'Исходные данные'!$C$287)","v":32234.37},{"$f":"'Исходные данные'!$G$108*'План продаж'!AQ32*(1-'Исходные данные'!$C$287)","v":32234.37},{"$f":"'Исходные данные'!$G$108*'План продаж'!AR32*(1-'Исходные данные'!$C$287)","v":31451.37},{"$f":"'Исходные данные'!$G$108*'План продаж'!AS32*(1-'Исходные данные'!$C$287)","v":32625.87},{"$f":"'Исходные данные'!$G$108*'План продаж'!AT32*(1-'Исходные данные'!$C$287)","v":48465.09},{"$f":"'Исходные данные'!$G$108*'План продаж'!AU32*(1-'Исходные данные'!$C$287)","v":87620.31},{"$f":"'Исходные данные'!$G$108*'План продаж'!AV32*(1-'Исходные данные'!$C$287)","v":42596.94},{"$f":"'Исходные данные'!$G$108*'План продаж'!AW32*(1-'Исходные данные'!$C$287)","v":34113.57},{"$f":"'Исходные данные'!$G$108*'План продаж'!AX32*(1-'Исходные данные'!$C$287)","v":32156.07},{"$f":"'Исходные данные'!$G$108*'План продаж'!AY32*(1-'Исходные данные'!$C$287)","v":32625.87},{"$f":"'Исходные данные'!$G$108*'План продаж'!AZ32*(1-'Исходные данные'!$C$287)","v":31451.37},{"$f":"'Исходные данные'!$G$108*'План продаж'!BA32*(1-'Исходные данные'!$C$287)","v":32234.37},{"$f":"'Исходные данные'!$G$108*'План продаж'!BB32*(1-'Исходные данные'!$C$287)","v":32234.37},{"$f":"'Исходные данные'!$G$108*'План продаж'!BC32*(1-'Исходные данные'!$C$287)","v":32234.37},{"$f":"'Исходные данные'!$G$108*'План продаж'!BD32*(1-'Исходные данные'!$C$287)","v":31451.37},{"$f":"'Исходные данные'!$G$108*'План продаж'!BE32*(1-'Исходные данные'!$C$287)","v":32625.87},{"$f":"'Исходные данные'!$G$108*'План продаж'!BF32*(1-'Исходные данные'!$C$287)","v":48465.09},{"$f":"'Исходные данные'!$G$108*'План продаж'!BG32*(1-'Исходные данные'!$C$287)","v":87620.31},{"$f":"'Исходные данные'!$G$108*'План продаж'!BH32*(1-'Исходные данные'!$C$287)","v":42596.94},{"$f":"'Исходные данные'!$G$108*'План продаж'!BI32*(1-'Исходные данные'!$C$287)","v":34113.57},{"$f":"'Исходные данные'!$G$108*'План продаж'!BJ32*(1-'Исходные данные'!$C$287)","v":32156.07},{"$f":"'Исходные данные'!$G$108*'План продаж'!BK32*(1-'Исходные данные'!$C$287)","v":32625.87},null,null,null,null,null,null,0,-2326721.9100000015]
[{"$f":"БДДС!A20","v":"НДФЛ за персонал (сдельная часть)"},347671.09000000008,{"$f":"C16/(1-'Исходные данные'!$C$287)*'Исходные данные'!$C$287","v":3289.78},{"$f":"D16/(1-'Исходные данные'!$C$287)*'Исходные данные'!$C$287","v":3852.94},{"$f":"E16/(1-'Исходные данные'!$C$287)*'Исходные данные'!$C$287","v":4335.37},{"$f":"F16/(1-'Исходные данные'!$C$287)*'Исходные данные'!$C$287","v":4335.37},{"$f":"G16/(1-'Исходные данные'!$C$287)*'Исходные данные'!$C$287","v":4699.63},{"$f":"H16/(1-'Исходные данные'!$C$287)*'Исходные данные'!$C$287","v":4875.13},{"$f":"I16/(1-'Исходные данные'!$C$287)*'Исходные данные'!$C$287","v":7241.9099999999989},{"$f":"J16/(1-'Исходные данные'!$C$287)*'Исходные данные'!$C$287","v":13092.69},{"$f":"K16/(1-'Исходные данные'!$C$287)*'Исходные данные'!$C$287","v":6365.06},{"$f":"L16/(1-'Исходные данные'!$C$287)*'Исходные данные'!$C$287","v":5097.43},{"$f":"M16/(1-'Исходные данные'!$C$287)*'Исходные данные'!$C$287","v":4804.93},{"$f":"N16/(1-'Исходные данные'!$C$287)*'Исходные данные'!$C$287","v":4875.13},{"$f":"O16/(1-'Исходные данные'!$C$287)*'Исходные данные'!$C$287","v":4699.63},{"$f":"P16/(1-'Исходные данные'!$C$287)*'Исходные данные'!$C$287","v":4816.63},{"$f":"Q16/(1-'Исходные данные'!$C$287)*'Исходные данные'!$C$287","v":4816.63},{"$f":"R16/(1-'Исходные данные'!$C$287)*'Исходные данные'!$C$287","v":4816.63},{"$f":"S16/(1-'Исходные данные'!$C$287)*'Исходные данные'!$C$287","v":4699.63},{"$f":"T16/(1-'Исходные данные'!$C$287)*'Исходные данные'!$C$287","v":4875.13},{"$f":"U16/(1-'Исходные данные'!$C$287)*'Исходные данные'!$C$287","v":7241.9099999999989},{"$f":"V16/(1-'Исходные данные'!$C$287)*'Исходные данные'!$C$287","v":13092.69},{"$f":"W16/(1-'Исходные данные'!$C$287)*'Исходные данные'!$C$287","v":6365.06},{"$f":"X16/(1-'Исходные данные'!$C$287)*'Исходные данные'!$C$287","v":5097.43},{"$f":"Y16/(1-'Исходные данные'!$C$287)*'Исходные данные'!$C$287","v":4804.93},{"$f":"Z16/(1-'Исходные данные'!$C$287)*'Исходные данные'!$C$287","v":4875.13},{"$f":"AA16/(1-'Исходные данные'!$C$287)*'Исходные данные'!$C$287","v":4699.63},{"$f":"AB16/(1-'Исходные данные'!$C$287)*'Исходные данные'!$C$287","v":4816.63},{"$f":"AC16/(1-'Исходные данные'!$C$287)*'Исходные данные'!$C$287","v":4816.63},{"$f":"AD16/(1-'Исходные данные'!$C$287)*'Исходные данные'!$C$287","v":4816.63},{"$f":"AE16/(1-'Исходные данные'!$C$287)*'Исходные данные'!$C$287","v":4699.63},{"$f":"AF16/(1-'Исходные данные'!$C$287)*'Исходные данные'!$C$287","v":4875.13},{"$f":"AG16/(1-'Исходные данные'!$C$287)*'Исходные данные'!$C$287","v":7241.9099999999989},{"$f":"AH16/(1-'Исходные данные'!$C$287)*'Исходные данные'!$C$287","v":13092.69},{"$f":"AI16/(1-'Исходные данные'!$C$287)*'Исходные данные'!$C$287","v":6365.06},{"$f":"AJ16/(1-'Исходные данные'!$C$287)*'Исходные данные'!$C$287","v":5097.43},{"$f":"AK16/(1-'Исходные данные'!$C$287)*'Исходные данные'!$C$287","v":4804.93},{"$f":"AL16/(1-'Исходные данные'!$C$287)*'Исходные данные'!$C$287","v":4875.13},{"$f":"AM16/(1-'Исходные данные'!$C$287)*'Исходные данные'!$C$287","v":4699.63},{"$f":"AN16/(1-'Исходные данные'!$C$287)*'Исходные данные'!$C$287","v":4816.63},{"$f":"AO16/(1-'Исходные данные'!$C$287)*'Исходные данные'!$C$287","v":4816.63},{"$f":"AP16/(1-'Исходные данные'!$C$287)*'Исходные данные'!$C$287","v":4816.63},{"$f":"AQ16/(1-'Исходные данные'!$C$287)*'Исходные данные'!$C$287","v":4699.63},{"$f":"AR16/(1-'Исходные данные'!$C$287)*'Исходные данные'!$C$287","v":4875.13},{"$f":"AS16/(1-'Исходные данные'!$C$287)*'Исходные данные'!$C$287","v":7241.9099999999989},{"$f":"AT16/(1-'Исходные данные'!$C$287)*'Исходные данные'!$C$287","v":13092.69},{"$f":"AU16/(1-'Исходные данные'!$C$287)*'Исходные данные'!$C$287","v":6365.06},{"$f":"AV16/(1-'Исходные данные'!$C$287)*'Исходные данные'!$C$287","v":5097.43},{"$f":"AW16/(1-'Исходные данные'!$C$287)*'Исходные данные'!$C$287","v":4804.93},{"$f":"AX16/(1-'Исходные данные'!$C$287)*'Исходные данные'!$C$287","v":4875.13},{"$f":"AY16/(1-'Исходные данные'!$C$287)*'Исходные данные'!$C$287","v":4699.63},{"$f":"AZ16/(1-'Исходные данные'!$C$287)*'Исходные данные'!$C$287","v":4816.63},{"$f":"BA16/(1-'Исходные данные'!$C$287)*'Исходные данные'!$C$287","v":4816.63},{"$f":"BB16/(1-'Исходные данные'!$C$287)*'Исходные данные'!$C$287","v":4816.63},{"$f":"BC16/(1-'Исходные данные'!$C$287)*'Исходные данные'!$C$287","v":4699.63},{"$f":"BD16/(1-'Исходные данные'!$C$287)*'Исходные данные'!$C$287","v":4875.13},{"$f":"BE16/(1-'Исходные данные'!$C$287)*'Исходные данные'!$C$287","v":7241.9099999999989},{"$f":"BF16/(1-'Исходные данные'!$C$287)*'Исходные данные'!$C$287","v":13092.69},{"$f":"BG16/(1-'Исходные данные'!$C$287)*'Исходные данные'!$C$287","v":6365.06},{"$f":"BH16/(1-'Исходные данные'!$C$287)*'Исходные данные'!$C$287","v":5097.43},{"$f":"BI16/(1-'Исходные данные'!$C$287)*'Исходные данные'!$C$287","v":4804.93},{"$f":"BJ16/(1-'Исходные данные'!$C$287)*'Исходные данные'!$C$287","v":4875.13},null,null,null,null,null,null,0,-347671.09000000008]
[{"$f":"БДДС!A21","v":"Страховые отчисления за персонал"},807666.68599999987,{"$f":"(C16+C17)*('Исходные данные'!$C$293+'Исходные данные'!$C$296)+Налоги!E164+Налоги!E116","v":7642.4120000000003},{"$f":"(D16+D17)*('Исходные данные'!$C$293+'Исходные данные'!$C$296)+Налоги!F164+Налоги!F116","v":8950.6759999999995},{"$f":"(E16+E17)*('Исходные данные'!$C$293+'Исходные данные'!$C$296)+Налоги!G164+Налоги!G116","v":10071.397999999999},{"$f":"(F16+F17)*('Исходные данные'!$C$293+'Исходные данные'!$C$296)+Налоги!H164+Налоги!H116","v":10071.397999999999},{"$f":"(G16+G17)*('Исходные данные'!$C$293+'Исходные данные'!$C$296)+Налоги!I164+Налоги!I116","v":10917.602000000001},{"$f":"(H16+H17)*('Исходные данные'!$C$293+'Исходные данные'!$C$296)+Налоги!J164+Налоги!J116","v":11325.302},{"$f":"(I16+I17)*('Исходные данные'!$C$293+'Исходные данные'!$C$296)+Налоги!K164+Налоги!K116","v":16823.514000000003},{"$f":"(J16+J17)*('Исходные данные'!$C$293+'Исходные данные'!$C$296)+Налоги!L164+Налоги!L116","v":30415.326000000001},{"$f":"(K16+K17)*('Исходные данные'!$C$293+'Исходные данные'!$C$296)+Налоги!M164+Налоги!M116","v":14786.523999999999},{"$f":"(L16+L17)*('Исходные данные'!$C$293+'Исходные данные'!$C$296)+Налоги!N164+Налоги!N116","v":11841.722},{"$f":"(M16+M17)*('Исходные данные'!$C$293+'Исходные данные'!$C$296)+Налоги!O164+Налоги!O116","v":11162.222},{"$f":"(N16+N17)*('Исходные данные'!$C$293+'Исходные данные'!$C$296)+Налоги!P164+Налоги!P116","v":11325.302},{"$f":"(O16+O17)*('Исходные данные'!$C$293+'Исходные данные'!$C$296)+Налоги!Q164+Налоги!Q116","v":10917.602000000001},{"$f":"(P16+P17)*('Исходные данные'!$C$293+'Исходные данные'!$C$296)+Налоги!R164+Налоги!R116","v":11189.402},{"$f":"(Q16+Q17)*('Исходные данные'!$C$293+'Исходные данные'!$C$296)+Налоги!S164+Налоги!S116","v":11189.402},{"$f":"(R16+R17)*('Исходные данные'!$C$293+'Исходные данные'!$C$296)+Налоги!T164+Налоги!T116","v":11189.402},{"$f":"(S16+S17)*('Исходные данные'!$C$293+'Исходные данные'!$C$296)+Налоги!U164+Налоги!U116","v":10917.602000000001},{"$f":"(T16+T17)*('Исходные данные'!$C$293+'Исходные данные'!$C$296)+Налоги!V164+Налоги!V116","v":11325.302},{"$f":"(U16+U17)*('Исходные данные'!$C$293+'Исходные данные'!$C$296)+Налоги!W164+Налоги!W116","v":16823.514000000003},{"$f":"(V16+V17)*('Исходные данные'!$C$293+'Исходные данные'!$C$296)+Налоги!X164+Налоги!X116","v":30415.326000000001},{"$f":"(W16+W17)*('Исходные данные'!$C$293+'Исходные данные'!$C$296)+Налоги!Y164+Налоги!Y116","v":14786.523999999999},{"$f":"(X16+X17)*('Исходные данные'!$C$293+'Исходные данные'!$C$296)+Налоги!Z164+Налоги!Z116","v":11841.722},{"$f":"(Y16+Y17)*('Исходные данные'!$C$293+'Исходные данные'!$C$296)+Налоги!AA164+Налоги!AA116","v":11162.222},{"$f":"(Z16+Z17)*('Исходные данные'!$C$293+'Исходные данные'!$C$296)+Налоги!AB164+Налоги!AB116","v":11325.302},{"$f":"(AA16+AA17)*('Исходные данные'!$C$293+'Исходные данные'!$C$296)+Налоги!AC164+Налоги!AC116","v":10917.602000000001},{"$f":"(AB16+AB17)*('Исходные данные'!$C$293+'Исходные данные'!$C$296)+Налоги!AD164+Налоги!AD116","v":11189.402},{"$f":"(AC16+AC17)*('Исходные данные'!$C$293+'Исходные данные'!$C$296)+Налоги!AE164+Налоги!AE116","v":11189.402},{"$f":"(AD16+AD17)*('Исходные данные'!$C$293+'Исходные данные'!$C$296)+Налоги!AF164+Налоги!AF116","v":11189.402},{"$f":"(AE16+AE17)*('Исходные данные'!$C$293+'Исходные данные'!$C$296)+Налоги!AG164+Налоги!AG116","v":10917.602000000001},{"$f":"(AF16+AF17)*('Исходные данные'!$C$293+'Исходные данные'!$C$296)+Налоги!AH164+Налоги!AH116","v":11325.302},{"$f":"(AG16+AG17)*('Исходные данные'!$C$293+'Исходные данные'!$C$296)+Налоги!AI164+Налоги!AI116","v":16823.514000000003},{"$f":"(AH16+AH17)*('Исходные данные'!$C$293+'Исходные данные'!$C$296)+Налоги!AJ164+Налоги!AJ116","v":30415.326000000001},{"$f":"(AI16+AI17)*('Исходные данные'!$C$293+'Исходные данные'!$C$296)+Налоги!AK164+Налоги!AK116","v":14786.523999999999},{"$f":"(AJ16+AJ17)*('Исходные данные'!$C$293+'Исходные данные'!$C$296)+Налоги!AL164+Налоги!AL116","v":11841.722},{"$f":"(AK16+AK17)*('Исходные данные'!$C$293+'Исходные данные'!$C$296)+Налоги!AM164+Налоги!AM116","v":11162.222},{"$f":"(AL16+AL17)*('Исходные данные'!$C$293+'Исходные данные'!$C$296)+Налоги!AN164+Налоги!AN116","v":11325.302},{"$f":"(AM16+AM17)*('Исходные данные'!$C$293+'Исходные данные'!$C$296)+Налоги!AO164+Налоги!AO116","v":10917.602000000001},{"$f":"(AN16+AN17)*('Исходные данные'!$C$293+'Исходные данные'!$C$296)+Налоги!AP164+Налоги!AP116","v":11189.402},{"$f":"(AO16+AO17)*('Исходные данные'!$C$293+'Исходные данные'!$C$296)+Налоги!AQ164+Налоги!AQ116","v":11189.402},{"$f":"(AP16+AP17)*('Исходные данные'!$C$293+'Исходные данные'!$C$296)+Налоги!AR164+Налоги!AR116","v":11189.402},{"$f":"(AQ16+AQ17)*('Исходные данные'!$C$293+'Исходные данные'!$C$296)+Налоги!AS164+Налоги!AS116","v":10917.602000000001},{"$f":"(AR16+AR17)*('Исходные данные'!$C$293+'Исходные данные'!$C$296)+Налоги!AT164+Налоги!AT116","v":11325.302},{"$f":"(AS16+AS17)*('Исходные данные'!$C$293+'Исходные данные'!$C$296)+Налоги!AU164+Налоги!AU116","v":16823.514000000003},{"$f":"(AT16+AT17)*('Исходные данные'!$C$293+'Исходные данные'!$C$296)+Налоги!AV164+Налоги!AV116","v":30415.326000000001},{"$f":"(AU16+AU17)*('Исходные данные'!$C$293+'Исходные данные'!$C$296)+Налоги!AW164+Налоги!AW116","v":14786.523999999999},{"$f":"(AV16+AV17)*('Исходные данные'!$C$293+'Исходные данные'!$C$296)+Налоги!AX164+Налоги!AX116","v":11841.722},{"$f":"(AW16+AW17)*('Исходные данные'!$C$293+'Исходные данные'!$C$296)+Налоги!AY164+Налоги!AY116","v":11162.222},{"$f":"(AX16+AX17)*('Исходные данные'!$C$293+'Исходные данные'!$C$296)+Налоги!AZ164+Налоги!AZ116","v":11325.302},{"$f":"(AY16+AY17)*('Исходные данные'!$C$293+'Исходные данные'!$C$296)+Налоги!BA164+Налоги!BA116","v":10917.602000000001},{"$f":"(AZ16+AZ17)*('Исходные данные'!$C$293+'Исходные данные'!$C$296)+Налоги!BB164+Налоги!BB116","v":11189.402},{"$f":"(BA16+BA17)*('Исходные данные'!$C$293+'Исходные данные'!$C$296)+Налоги!BC164+Налоги!BC116","v":11189.402},{"$f":"(BB16+BB17)*('Исходные данные'!$C$293+'Исходные данные'!$C$296)+Налоги!BD164+Налоги!BD116","v":11189.402},{"$f":"(BC16+BC17)*('Исходные данные'!$C$293+'Исходные данные'!$C$296)+Налоги!BE164+Налоги!BE116","v":10917.602000000001},{"$f":"(BD16+BD17)*('Исходные данные'!$C$293+'Исходные данные'!$C$296)+Налоги!BF164+Налоги!BF116","v":11325.302},{"$f":"(BE16+BE17)*('Исходные данные'!$C$293+'Исходные данные'!$C$296)+Налоги!BG164+Налоги!BG116","v":16823.514000000003},{"$f":"(BF16+BF17)*('Исходные данные'!$C$293+'Исходные данные'!$C$296)+Налоги!BH164+Налоги!BH116","v":30415.326000000001},{"$f":"(BG16+BG17)*('Исходные данные'!$C$293+'Исходные данные'!$C$296)+Налоги!BI164+Налоги!BI116","v":14786.523999999999},{"$f":"(BH16+BH17)*('Исходные данные'!$C$293+'Исходные данные'!$C$296)+Налоги!BJ164+Налоги!BJ116","v":11841.722},{"$f":"(BI16+BI17)*('Исходные данные'!$C$293+'Исходные данные'!$C$296)+Налоги!BK164+Налоги!BK116","v":11162.222},{"$f":"(BJ16+BJ17)*('Исходные данные'!$C$293+'Исходные данные'!$C$296)+Налоги!BL164+Налоги!BL116","v":11325.302},null,null,null,null,null,null,0,-807666.68599999987]
["Маржинальная прибыль",21941680.427067708,{"$f":"C10-C11","v":203214.85769101814},240630.62522803701,270760.19706895895,276160.69907970092,290167.74800000002,215859.89799999993,226542.03600000008,1088410.1239999998,455618.076,337150.62800000003,302493.87800000003,314937.54800000001,290303.49800000002,300816.69800000003,300816.69800000003,306816.69800000003,290167.74800000002,215859.89799999993,226542.03600000008,1088410.1239999998,455618.076,337150.62800000003,302493.87800000003,314937.54800000001,290303.49800000002,300816.69800000003,300816.69800000003,306816.69800000003,290167.74800000002,215859.89799999993,226542.03600000008,1088410.1239999998,{"$f":"AI10-AI11","v":455618.076},337150.62800000003,302493.87800000003,314937.54800000001,290303.49800000002,300816.69800000003,300816.69800000003,306816.69800000003,290167.74800000002,215859.89799999993,226542.03600000008,1088410.1239999998,455618.076,337150.62800000003,302493.87800000003,314937.54800000001,290303.49800000002,300816.69800000003,300816.69800000003,306816.69800000003,290167.74800000002,215859.89799999993,226542.03600000008,1088410.1239999998,455618.076,337150.62800000003,302493.87800000003,314937.54800000001,null,null,null,null,null,null,6744582.0000000009,-15197098.427067708]
["Операционные расходы",10250810,{"$f":"SUM(C21:C35)","v":147545},{"$f":"SUM(D21:D35)","v":147545},176840,176840,176840,176840,176840,176840,176840,176840,176840,183840,172340,172340,172340,172340,172340,172340,172340,172340,172340,172340,172340,179340,170090,170090,170090,170090,170090,170090,170090,170090,170090,170090,170090,187090,165590,165590,165590,165590,165590,165590,165590,165590,165590,165590,165590,172590,165590,165590,165590,165590,165590,165590,165590,165590,165590,165590,165590,231590,null,null,null,null,null,null,1851500.0000000002,-8399310]
[{"$f":"БДДС!A23","v":"Выплаты персоналу"},2309850,{"$f":"(SUMPRODUCT('Исходные данные'!C114:C128,'Исходные данные'!$D$92:$D$106)+SUMPRODUCT('Исходные данные'!C114:C128,'Исходные данные'!$D$92:$D$106,'Исходные данные'!$E$92:$E$106))*(1-'Исходные данные'!$C$287)","v":19575},{"$f":"(SUMPRODUCT('Исходные данные'!D114:D128,'Исходные данные'!$D$92:$D$106)+SUMPRODUCT('Исходные данные'!D114:D128,'Исходные данные'!$D$92:$D$106,'Исходные данные'!$E$92:$E$106))*(1-'Исходные данные'!$C$287)","v":19575},{"$f":"(SUMPRODUCT('Исходные данные'!E114:E128,'Исходные данные'!$D$92:$D$106)+SUMPRODUCT('Исходные данные'!E114:E128,'Исходные данные'!$D$92:$D$106,'Исходные данные'!$E$92:$E$106))*(1-'Исходные данные'!$C$287)","v":39150},{"$f":"(SUMPRODUCT('Исходные данные'!F114:F128,'Исходные данные'!$D$92:$D$106)+SUMPRODUCT('Исходные данные'!F114:F128,'Исходные данные'!$D$92:$D$106,'Исходные данные'!$E$92:$E$106))*(1-'Исходные данные'!$C$287)","v":39150},{"$f":"(SUMPRODUCT('Исходные данные'!G114:G128,'Исходные данные'!$D$92:$D$106)+SUMPRODUCT('Исходные данные'!G114:G128,'Исходные данные'!$D$92:$D$106,'Исходные данные'!$E$92:$E$106))*(1-'Исходные данные'!$C$287)","v":39150},{"$f":"(SUMPRODUCT('Исходные данные'!H114:H128,'Исходные данные'!$D$92:$D$106)+SUMPRODUCT('Исходные данные'!H114:H128,'Исходные данные'!$D$92:$D$106,'Исходные данные'!$E$92:$E$106))*(1-'Исходные данные'!$C$287)","v":39150},{"$f":"(SUMPRODUCT('Исходные данные'!I114:I128,'Исходные данные'!$D$92:$D$106)+SUMPRODUCT('Исходные данные'!I114:I128,'Исходные данные'!$D$92:$D$106,'Исходные данные'!$E$92:$E$106))*(1-'Исходные данные'!$C$287)","v":39150},{"$f":"(SUMPRODUCT('Исходные данные'!J114:J128,'Исходные данные'!$D$92:$D$106)+SUMPRODUCT('Исходные данные'!J114:J128,'Исходные данные'!$D$92:$D$106,'Исходные данные'!$E$92:$E$106))*(1-'Исходные данные'!$C$287)","v":39150},{"$f":"(SUMPRODUCT('Исходные данные'!K114:K128,'Исходные данные'!$D$92:$D$106)+SUMPRODUCT('Исходные данные'!K114:K128,'Исходные данные'!$D$92:$D$106,'Исходные данные'!$E$92:$E$106))*(1-'Исходные данные'!$C$287)","v":39150},{"$f":"(SUMPRODUCT('Исходные данные'!L114:L128,'Исходные данные'!$D$92:$D$106)+SUMPRODUCT('Исходные данные'!L114:L128,'Исходные данные'!$D$92:$D$106,'Исходные данные'!$E$92:$E$106))*(1-'Исходные данные'!$C$287)","v":39150},{"$f":"(SUMPRODUCT('Исходные данные'!M114:M128,'Исходные данные'!$D$92:$D$106)+SUMPRODUCT('Исходные данные'!M114:M128,'Исходные данные'!$D$92:$D$106,'Исходные данные'!$E$92:$E$106))*(1-'Исходные данные'!$C$287)","v":39150},{"$f":"(SUMPRODUCT('Исходные данные'!N114:N128,'Исходные данные'!$D$92:$D$106)+SUMPRODUCT('Исходные данные'!N114:N128,'Исходные данные'!$D$92:$D$106,'Исходные данные'!$E$92:$E$106))*(1-'Исходные данные'!$C$287)","v":39150},{"$f":"N21","v":39150},{"$f":"O21","v":39150},39150,39150,39150,39150,39150,39150,39150,39150,39150,39150,39150,39150,39150,39150,39150,39150,39150,39150,39150,39150,39150,39150,39150,39150,39150,39150,39150,39150,39150,39150,39150,39150,39150,39150,39150,39150,39150,39150,39150,39150,39150,39150,39150,39150,39150,39150,null,null,null,null,null,null,0,-2309850]
[{"$f":"БДДС!A24","v":"НДФЛ за персонал"},345150,{"$f":"C21/(1-'Исходные данные'!$C$287)*'Исходные данные'!$C$287","v":2925},{"$f":"D21/(1-'Исходные данные'!$C$287)*'Исходные данные'!$C$287","v":2925},{"$f":"E21/(1-'Исходные данные'!$C$287)*'Исходные данные'!$C$287","v":5850},{"$f":"F21/(1-'Исходные данные'!$C$287)*'Исходные данные'!$C$287","v":5850},{"$f":"G21/(1-'Исходные данные'!$C$287)*'Исходные данные'!$C$287","v":5850},{"$f":"H21/(1-'Исходные данные'!$C$287)*'Исходные данные'!$C$287","v":5850},{"$f":"I21/(1-'Исходные данные'!$C$287)*'Исходные данные'!$C$287","v":5850},{"$f":"J21/(1-'Исходные данные'!$C$287)*'Исходные данные'!$C$287","v":5850},{"$f":"K21/(1-'Исходные данные'!$C$287)*'Исходные данные'!$C$287","v":5850},{"$f":"L21/(1-'Исходные данные'!$C$287)*'Исходные данные'!$C$287","v":5850},{"$f":"M21/(1-'Исходные данные'!$C$287)*'Исходные данные'!$C$287","v":5850},{"$f":"N21/(1-'Исходные данные'!$C$287)*'Исходные данные'!$C$287","v":5850},{"$f":"N22","v":5850},{"$f":"O22","v":5850},5850,5850,5850,5850,5850,5850,5850,5850,5850,5850,5850,5850,5850,5850,5850,5850,5850,5850,5850,5850,5850,5850,5850,5850,5850,5850,5850,5850,5850,5850,5850,5850,5850,5850,5850,5850,5850,5850,5850,5850,5850,5850,5850,5850,5850,5850,null,null,null,null,null,null,0,-345150]
[{"$f":"БДДС!A25","v":"Страховые отчисления за персонал"},801810,{"$f":"(C21+C22)*('Исходные данные'!$C$293+'Исходные данные'!$C$296)+Налоги!E100+Налоги!E148","v":6795},{"$f":"(D21+D22)*('Исходные данные'!$C$293+'Исходные данные'!$C$296)+Налоги!F100+Налоги!F148","v":6795},{"$f":"(E21+E22)*('Исходные данные'!$C$293+'Исходные данные'!$C$296)+Налоги!G100+Налоги!G148","v":13590},{"$f":"(F21+F22)*('Исходные данные'!$C$293+'Исходные данные'!$C$296)+Налоги!H100+Налоги!H148","v":13590},{"$f":"(G21+G22)*('Исходные данные'!$C$293+'Исходные данные'!$C$296)+Налоги!I100+Налоги!I148","v":13590},{"$f":"(H21+H22)*('Исходные данные'!$C$293+'Исходные данные'!$C$296)+Налоги!J100+Налоги!J148","v":13590},{"$f":"(I21+I22)*('Исходные данные'!$C$293+'Исходные данные'!$C$296)+Налоги!K100+Налоги!K148","v":13590},{"$f":"(J21+J22)*('Исходные данные'!$C$293+'Исходные данные'!$C$296)+Налоги!L100+Налоги!L148","v":13590},{"$f":"(K21+K22)*('Исходные данные'!$C$293+'Исходные данные'!$C$296)+Налоги!M100+Налоги!M148","v":13590},{"$f":"(L21+L22)*('Исходные данные'!$C$293+'Исходные данные'!$C$296)+Налоги!N100+Налоги!N148","v":13590},{"$f":"(M21+M22)*('Исходные данные'!$C$293+'Исходные данные'!$C$296)+Налоги!O100+Налоги!O148","v":13590},{"$f":"(N21+N22)*('Исходные данные'!$C$293+'Исходные данные'!$C$296)+Налоги!P100+Налоги!P148","v":13590},{"$f":"(O21+O22)*('Исходные данные'!$C$293+'Исходные данные'!$C$296)+Налоги!Q100+Налоги!Q148","v":13590},{"$f":"(P21+P22)*('Исходные данные'!$C$293+'Исходные данные'!$C$296)+Налоги!R100+Налоги!R148","v":13590},{"$f":"(Q21+Q22)*('Исходные данные'!$C$293+'Исходные данные'!$C$296)+Налоги!S100+Налоги!S148","v":13590},{"$f":"(R21+R22)*('Исходные данные'!$C$293+'Исходные данные'!$C$296)+Налоги!T100+Налоги!T148","v":13590},{"$f":"(S21+S22)*('Исходные данные'!$C$293+'Исходные данные'!$C$296)+Налоги!U100+Налоги!U148","v":13590},{"$f":"(T21+T22)*('Исходные данные'!$C$293+'Исходные данные'!$C$296)+Налоги!V100+Налоги!V148","v":13590},{"$f":"(U21+U22)*('Исходные данные'!$C$293+'Исходные данные'!$C$296)+Налоги!W100+Налоги!W148","v":13590},{"$f":"(V21+V22)*('Исходные данные'!$C$293+'Исходные данные'!$C$296)+Налоги!X100+Налоги!X148","v":13590},{"$f":"(W21+W22)*('Исходные данные'!$C$293+'Исходные данные'!$C$296)+Налоги!Y100+Налоги!Y148","v":13590},{"$f":"(X21+X22)*('Исходные данные'!$C$293+'Исходные данные'!$C$296)+Налоги!Z100+Налоги!Z148","v":13590},{"$f":"(Y21+Y22)*('Исходные данные'!$C$293+'Исходные данные'!$C$296)+Налоги!AA100+Налоги!AA148","v":13590},{"$f":"(Z21+Z22)*('Исходные данные'!$C$293+'Исходные данные'!$C$296)+Налоги!AB100+Налоги!AB148","v":13590},{"$f":"(AA21+AA22)*('Исходные данные'!$C$293+'Исходные данные'!$C$296)+Налоги!AC100+Налоги!AC148","v":13590},{"$f":"(AB21+AB22)*('Исходные данные'!$C$293+'Исходные данные'!$C$296)+Налоги!AD100+Налоги!AD148","v":13590},{"$f":"(AC21+AC22)*('Исходные данные'!$C$293+'Исходные данные'!$C$296)+Налоги!AE100+Налоги!AE148","v":13590},{"$f":"(AD21+AD22)*('Исходные данные'!$C$293+'Исходные данные'!$C$296)+Налоги!AF100+Налоги!AF148","v":13590},{"$f":"(AE21+AE22)*('Исходные данные'!$C$293+'Исходные данные'!$C$296)+Налоги!AG100+Налоги!AG148","v":13590},{"$f":"(AF21+AF22)*('Исходные данные'!$C$293+'Исходные данные'!$C$296)+Налоги!AH100+Налоги!AH148","v":13590},{"$f":"(AG21+AG22)*('Исходные данные'!$C$293+'Исходные данные'!$C$296)+Налоги!AI100+Налоги!AI148","v":13590},{"$f":"(AH21+AH22)*('Исходные данные'!$C$293+'Исходные данные'!$C$296)+Налоги!AJ100+Налоги!AJ148","v":13590},{"$f":"(AI21+AI22)*('Исходные данные'!$C$293+'Исходные данные'!$C$296)+Налоги!AK100+Налоги!AK148","v":13590},{"$f":"(AJ21+AJ22)*('Исходные данные'!$C$293+'Исходные данные'!$C$296)+Налоги!AL100+Налоги!AL148","v":13590},{"$f":"(AK21+AK22)*('Исходные данные'!$C$293+'Исходные данные'!$C$296)+Налоги!AM100+Налоги!AM148","v":13590},{"$f":"(AL21+AL22)*('Исходные данные'!$C$293+'Исходные данные'!$C$296)+Налоги!AN100+Налоги!AN148","v":13590},{"$f":"(AM21+AM22)*('Исходные данные'!$C$293+'Исходные данные'!$C$296)+Налоги!AO100+Налоги!AO148","v":13590},{"$f":"(AN21+AN22)*('Исходные данные'!$C$293+'Исходные данные'!$C$296)+Налоги!AP100+Налоги!AP148","v":13590},{"$f":"(AO21+AO22)*('Исходные данные'!$C$293+'Исходные данные'!$C$296)+Налоги!AQ100+Налоги!AQ148","v":13590},{"$f":"(AP21+AP22)*('Исходные данные'!$C$293+'Исходные данные'!$C$296)+Налоги!AR100+Налоги!AR148","v":13590},{"$f":"(AQ21+AQ22)*('Исходные данные'!$C$293+'Исходные данные'!$C$296)+Налоги!AS100+Налоги!AS148","v":13590},{"$f":"(AR21+AR22)*('Исходные данные'!$C$293+'Исходные данные'!$C$296)+Налоги!AT100+Налоги!AT148","v":13590},{"$f":"(AS21+AS22)*('Исходные данные'!$C$293+'Исходные данные'!$C$296)+Налоги!AU100+Налоги!AU148","v":13590},{"$f":"(AT21+AT22)*('Исходные данные'!$C$293+'Исходные данные'!$C$296)+Налоги!AV100+Налоги!AV148","v":13590},{"$f":"(AU21+AU22)*('Исходные данные'!$C$293+'Исходные данные'!$C$296)+Налоги!AW100+Налоги!AW148","v":13590},{"$f":"(AV21+AV22)*('Исходные данные'!$C$293+'Исходные данные'!$C$296)+Налоги!AX100+Налоги!AX148","v":13590},{"$f":"(AW21+AW22)*('Исходные данные'!$C$293+'Исходные данные'!$C$296)+Налоги!AY100+Налоги!AY148","v":13590},{"$f":"(AX21+AX22)*('Исходные данные'!$C$293+'Исходные данные'!$C$296)+Налоги!AZ100+Налоги!AZ148","v":13590},{"$f":"(AY21+AY22)*('Исходные данные'!$C$293+'Исходные данные'!$C$296)+Налоги!BA100+Налоги!BA148","v":13590},{"$f":"(AZ21+AZ22)*('Исходные данные'!$C$293+'Исходные данные'!$C$296)+Налоги!BB100+Налоги!BB148","v":13590},{"$f":"(BA21+BA22)*('Исходные данные'!$C$293+'Исходные данные'!$C$296)+Налоги!BC100+Налоги!BC148","v":13590},{"$f":"(BB21+BB22)*('Исходные данные'!$C$293+'Исходные данные'!$C$296)+Налоги!BD100+Налоги!BD148","v":13590},{"$f":"(BC21+BC22)*('Исходные данные'!$C$293+'Исходные данные'!$C$296)+Налоги!BE100+Налоги!BE148","v":13590},{"$f":"(BD21+BD22)*('Исходные данные'!$C$293+'Исходные данные'!$C$296)+Налоги!BF100+Налоги!BF148","v":13590},{"$f":"(BE21+BE22)*('Исходные данные'!$C$293+'Исходные данные'!$C$296)+Налоги!BG100+Налоги!BG148","v":13590},{"$f":"(BF21+BF22)*('Исходные данные'!$C$293+'Исходные данные'!$C$296)+Налоги!BH100+Налоги!BH148","v":13590},{"$f":"(BG21+BG22)*('Исходные данные'!$C$293+'Исходные данные'!$C$296)+Налоги!BI100+Налоги!BI148","v":13590},{"$f":"(BH21+BH22)*('Исходные данные'!$C$293+'Исходные данные'!$C$296)+Налоги!BJ100+Налоги!BJ148","v":13590},{"$f":"(BI21+BI22)*('Исходные данные'!$C$293+'Исходные данные'!$C$296)+Налоги!BK100+Налоги!BK148","v":13590},{"$f":"(BJ21+BJ22)*('Исходные данные'!$C$293+'Исходные данные'!$C$296)+Налоги!BL100+Налоги!BL148","v":13590},null,null,null,null,null,null,0,-801810]
["Амортизация ОС",270000,{"$f":"C123","v":11250},{"$f":"D123","v":11250},11250,11250,11250,11250,11250,11250,11250,11250,11250,11250,6750,6750,6750,6750,6750,6750,6750,6750,6750,6750,6750,6750,4500,4500,4500,4500,4500,4500,4500,4500,4500,4500,4500,4500,0,0,0,0,0,0,0,0,0,0,0,0,0,0,0,0,0,0,0,0,0,0,0,0,null,null,null,null,null,null,41000.000000000029,-228999.99999999997]
[{"$f":"БДДС!A28","v":"Расходы на рекламу"},3000000,{"$f":"'Исходные данные'!$E$48","v":50000},{"$f":"'Исходные данные'!$E$48","v":50000},{"$f":"'Исходные данные'!$E$48","v":50000},{"$f":"'Исходные данные'!$E$48","v":50000},{"$f":"'Исходные данные'!$E$48","v":50000},{"$f":"'Исходные данные'!$E$48","v":50000},{"$f":"'Исходные данные'!$E$48","v":50000},{"$f":"'Исходные данные'!$E$48","v":50000},{"$f":"'Исходные данные'!$E$48","v":50000},{"$f":"'Исходные данные'!$E$48","v":50000},{"$f":"'Исходные данные'!$E$48","v":50000},{"$f":"'Исходные данные'!$E$48","v":50000},{"$f":"'Исходные данные'!$E$48","v":50000},{"$f":"'Исходные данные'!$E$48","v":50000},{"$f":"'Исходные данные'!$E$48","v":50000},{"$f":"'Исходные данные'!$E$48","v":50000},{"$f":"'Исходные данные'!$E$48","v":50000},{"$f":"'Исходные данные'!$E$48","v":50000},{"$f":"'Исходные данные'!$E$48","v":50000},{"$f":"'Исходные данные'!$E$48","v":50000},{"$f":"'Исходные данные'!$E$48","v":50000},{"$f":"'Исходные данные'!$E$48","v":50000},{"$f":"'Исходные данные'!$E$48","v":50000},{"$f":"'Исходные данные'!$E$48","v":50000},{"$f":"'Исходные данные'!$E$48","v":50000},{"$f":"'Исходные данные'!$E$48","v":50000},{"$f":"'Исходные данные'!$E$48","v":50000},{"$f":"'Исходные данные'!$E$48","v":50000},{"$f":"'Исходные данные'!$E$48","v":50000},{"$f":"'Исходные данные'!$E$48","v":50000},{"$f":"'Исходные данные'!$E$48","v":50000},{"$f":"'Исходные данные'!$E$48","v":50000},{"$f":"'Исходные данные'!$E$48","v":50000},{"$f":"'Исходные данные'!$E$48","v":50000},{"$f":"'Исходные данные'!$E$48","v":50000},{"$f":"'Исходные данные'!$E$48","v":50000},{"$f":"'Исходные данные'!$E$48","v":50000},{"$f":"'Исходные данные'!$E$48","v":50000},{"$f":"'Исходные данные'!$E$48","v":50000},{"$f":"'Исходные данные'!$E$48","v":50000},{"$f":"'Исходные данные'!$E$48","v":50000},{"$f":"'Исходные данные'!$E$48","v":50000},{"$f":"'Исходные данные'!$E$48","v":50000},{"$f":"'Исходные данные'!$E$48","v":50000},{"$f":"'Исходные данные'!$E$48","v":50000},{"$f":"'Исходные данные'!$E$48","v":50000},{"$f":"'Исходные данные'!$E$48","v":50000},{"$f":"'Исходные данные'!$E$48","v":50000},{"$f":"'Исходные данные'!$E$48","v":50000},{"$f":"'Исходные данные'!$E$48","v":50000},{"$f":"'Исходные данные'!$E$48","v":50000},{"$f":"'Исходные данные'!$E$48","v":50000},{"$f":"'Исходные данные'!$E$48","v":50000},{"$f":"'Исходные данные'!$E$48","v":50000},{"$f":"'Исходные данные'!$E$48","v":50000},{"$f":"'Исходные данные'!$E$48","v":50000},{"$f":"'Исходные данные'!$E$48","v":50000},{"$f":"'Исходные данные'!$E$48","v":50000},{"$f":"'Исходные данные'!$E$48","v":50000},{"$f":"'Исходные данные'!$E$48","v":50000},null,null,null,null,null,null,0,-3000000]
[{"$f":"БДДС!A29","v":"Инструменты, приспособления, оборудование"},104000,{"$f":"БДДС!D29","v":0},{"$f":"БДДС!E29","v":0},{"$f":"БДДС!F29","v":0},{"$f":"БДДС!G29","v":0},{"$f":"БДДС!H29","v":0},{"$f":"БДДС!I29","v":0},{"$f":"БДДС!J29","v":0},{"$f":"БДДС!K29","v":0},{"$f":"БДДС!L29","v":0},{"$f":"БДДС!M29","v":0},{"$f":"БДДС!N29","v":0},{"$f":"БДДС!O29","v":7000},{"$f":"БДДС!P29","v":0},{"$f":"БДДС!Q29","v":0},{"$f":"БДДС!R29","v":0},{"$f":"БДДС!S29","v":0},{"$f":"БДДС!T29","v":0},{"$f":"БДДС!U29","v":0},{"$f":"БДДС!V29","v":0},{"$f":"БДДС!W29","v":0},{"$f":"БДДС!X29","v":0},{"$f":"БДДС!Y29","v":0},{"$f":"БДДС!Z29","v":0},{"$f":"БДДС!AA29","v":7000},{"$f":"БДДС!AB29","v":0},{"$f":"БДДС!AC29","v":0},{"$f":"БДДС!AD29","v":0},{"$f":"БДДС!AE29","v":0},{"$f":"БДДС!AF29","v":0},{"$f":"БДДС!AG29","v":0},{"$f":"БДДС!AH29","v":0},{"$f":"БДДС!AI29","v":0},{"$f":"БДДС!AJ29","v":0},{"$f":"БДДС!AK29","v":0},{"$f":"БДДС!AL29","v":0},{"$f":"БДДС!AM29","v":17000},{"$f":"БДДС!AN29","v":0},{"$f":"БДДС!AO29","v":0},{"$f":"БДДС!AP29","v":0},{"$f":"БДДС!AQ29","v":0},{"$f":"БДДС!AR29","v":0},{"$f":"БДДС!AS29","v":0},{"$f":"БДДС!AT29","v":0},{"$f":"БДДС!AU29","v":0},{"$f":"БДДС!AV29","v":0},{"$f":"БДДС!AW29","v":0},{"$f":"БДДС!AX29","v":0},{"$f":"БДДС!AY29","v":7000},{"$f":"БДДС!AZ29","v":0},{"$f":"БДДС!BA29","v":0},{"$f":"БДДС!BB29","v":0},{"$f":"БДДС!BC29","v":0},{"$f":"БДДС!BD29","v":0},{"$f":"БДДС!BE29","v":0},{"$f":"БДДС!BF29","v":0},{"$f":"БДДС!BG29","v":0},{"$f":"БДДС!BH29","v":0},{"$f":"БДДС!BI29","v":0},{"$f":"БДДС!BJ29","v":0},{"$f":"БДДС!BK29","v":66000},null,null,null,null,null,null,10500,-93500]
[{"$f":"БДДС!A31","v":"Арендная плата"},1500000,{"$f":"БДДС!D31","v":25000},{"$f":"БДДС!E31","v":25000},{"$f":"БДДС!F31","v":25000},{"$f":"БДДС!G31","v":25000},{"$f":"БДДС!H31","v":25000},{"$f":"БДДС!I31","v":25000},{"$f":"БДДС!J31","v":25000},{"$f":"БДДС!K31","v":25000},{"$f":"БДДС!L31","v":25000},{"$f":"БДДС!M31","v":25000},{"$f":"БДДС!N31","v":25000},{"$f":"БДДС!O31","v":25000},{"$f":"БДДС!P31","v":25000},{"$f":"БДДС!Q31","v":25000},{"$f":"БДДС!R31","v":25000},{"$f":"БДДС!S31","v":25000},{"$f":"БДДС!T31","v":25000},{"$f":"БДДС!U31","v":25000},{"$f":"БДДС!V31","v":25000},{"$f":"БДДС!W31","v":25000},{"$f":"БДДС!X31","v":25000},{"$f":"БДДС!Y31","v":25000},{"$f":"БДДС!Z31","v":25000},{"$f":"БДДС!AA31","v":25000},{"$f":"БДДС!AB31","v":25000},{"$f":"БДДС!AC31","v":25000},{"$f":"БДДС!AD31","v":25000},{"$f":"БДДС!AE31","v":25000},{"$f":"БДДС!AF31","v":25000},{"$f":"БДДС!AG31","v":25000},{"$f":"БДДС!AH31","v":25000},{"$f":"БДДС!AI31","v":25000},{"$f":"БДДС!AJ31","v":25000},{"$f":"БДДС!AK31","v":25000},{"$f":"БДДС!AL31","v":25000},{"$f":"БДДС!AM31","v":25000},{"$f":"БДДС!AN31","v":25000},{"$f":"БДДС!AO31","v":25000},{"$f":"БДДС!AP31","v":25000},{"$f":"БДДС!AQ31","v":25000},{"$f":"БДДС!AR31","v":25000},{"$f":"БДДС!AS31","v":25000},{"$f":"БДДС!AT31","v":25000},{"$f":"БДДС!AU31","v":25000},{"$f":"БДДС!AV31","v":25000},{"$f":"БДДС!AW31","v":25000},{"$f":"БДДС!AX31","v":25000},{"$f":"БДДС!AY31","v":25000},{"$f":"БДДС!AZ31","v":25000},{"$f":"БДДС!BA31","v":25000},{"$f":"БДДС!BB31","v":25000},{"$f":"БДДС!BC31","v":25000},{"$f":"БДДС!BD31","v":25000},{"$f":"БДДС!BE31","v":25000},{"$f":"БДДС!BF31","v":25000},{"$f":"БДДС!BG31","v":25000},{"$f":"БДДС!BH31","v":25000},{"$f":"БДДС!BI31","v":25000},{"$f":"БДДС!BJ31","v":25000},{"$f":"БДДС!BK31","v":25000},null,null,null,null,null,null,720000,-780000]
[{"$f":"БДДС!A32","v":"Затраты на электроэнергию"},1200000,{"$f":"БДДС!D32","v":20000},{"$f":"БДДС!E32","v":20000},{"$f":"БДДС!F32","v":20000},{"$f":"БДДС!G32","v":20000},{"$f":"БДДС!H32","v":20000},{"$f":"БДДС!I32","v":20000},{"$f":"БДДС!J32","v":20000},{"$f":"БДДС!K32","v":20000},{"$f":"БДДС!L32","v":20000},{"$f":"БДДС!M32","v":20000},{"$f":"БДДС!N32","v":20000},{"$f":"БДДС!O32","v":20000},{"$f":"БДДС!P32","v":20000},{"$f":"БДДС!Q32","v":20000},{"$f":"БДДС!R32","v":20000},{"$f":"БДДС!S32","v":20000},{"$f":"БДДС!T32","v":20000},{"$f":"БДДС!U32","v":20000},{"$f":"БДДС!V32","v":20000},{"$f":"БДДС!W32","v":20000},{"$f":"БДДС!X32","v":20000},{"$f":"БДДС!Y32","v":20000},{"$f":"БДДС!Z32","v":20000},{"$f":"БДДС!AA32","v":20000},{"$f":"БДДС!AB32","v":20000},{"$f":"БДДС!AC32","v":20000},{"$f":"БДДС!AD32","v":20000},{"$f":"БДДС!AE32","v":20000},{"$f":"БДДС!AF32","v":20000},{"$f":"БДДС!AG32","v":20000},{"$f":"БДДС!AH32","v":20000},{"$f":"БДДС!AI32","v":20000},{"$f":"БДДС!AJ32","v":20000},{"$f":"БДДС!AK32","v":20000},{"$f":"БДДС!AL32","v":20000},{"$f":"БДДС!AM32","v":20000},{"$f":"БДДС!AN32","v":20000},{"$f":"БДДС!AO32","v":20000},{"$f":"БДДС!AP32","v":20000},{"$f":"БДДС!AQ32","v":20000},{"$f":"БДДС!AR32","v":20000},{"$f":"БДДС!AS32","v":20000},{"$f":"БДДС!AT32","v":20000},{"$f":"БДДС!AU32","v":20000},{"$f":"БДДС!AV32","v":20000},{"$f":"БДДС!AW32","v":20000},{"$f":"БДДС!AX32","v":20000},{"$f":"БДДС!AY32","v":20000},{"$f":"БДДС!AZ32","v":20000},{"$f":"БДДС!BA32","v":20000},{"$f":"БДДС!BB32","v":20000},{"$f":"БДДС!BC32","v":20000},{"$f":"БДДС!BD32","v":20000},{"$f":"БДДС!BE32","v":20000},{"$f":"БДДС!BF32","v":20000},{"$f":"БДДС!BG32","v":20000},{"$f":"БДДС!BH32","v":20000},{"$f":"БДДС!BI32","v":20000},{"$f":"БДДС!BJ32","v":20000},{"$f":"БДДС!BK32","v":20000},null,null,null,null,null,null,30000,-1170000]
[{"$f":"БДДС!A33","v":"Канцелярские расходы"},60000,{"$f":"БДДС!D33","v":1000},{"$f":"БДДС!E33","v":1000},{"$f":"БДДС!F33","v":1000},{"$f":"БДДС!G33","v":1000},{"$f":"БДДС!H33","v":1000},{"$f":"БДДС!I33","v":1000},{"$f":"БДДС!J33","v":1000},{"$f":"БДДС!K33","v":1000},{"$f":"БДДС!L33","v":1000},{"$f":"БДДС!M33","v":1000},{"$f":"БДДС!N33","v":1000},{"$f":"БДДС!O33","v":1000},{"$f":"БДДС!P33","v":1000},{"$f":"БДДС!Q33","v":1000},{"$f":"БДДС!R33","v":1000},{"$f":"БДДС!S33","v":1000},{"$f":"БДДС!T33","v":1000},{"$f":"БДДС!U33","v":1000},{"$f":"БДДС!V33","v":1000},{"$f":"БДДС!W33","v":1000},{"$f":"БДДС!X33","v":1000},{"$f":"БДДС!Y33","v":1000},{"$f":"БДДС!Z33","v":1000},{"$f":"БДДС!AA33","v":1000},{"$f":"БДДС!AB33","v":1000},{"$f":"БДДС!AC33","v":1000},{"$f":"БДДС!AD33","v":1000},{"$f":"БДДС!AE33","v":1000},{"$f":"БДДС!AF33","v":1000},{"$f":"БДДС!AG33","v":1000},{"$f":"БДДС!AH33","v":1000},{"$f":"БДДС!AI33","v":1000},{"$f":"БДДС!AJ33","v":1000},{"$f":"БДДС!AK33","v":1000},{"$f":"БДДС!AL33","v":1000},{"$f":"БДДС!AM33","v":1000},{"$f":"БДДС!AN33","v":1000},{"$f":"БДДС!AO33","v":1000},{"$f":"БДДС!AP33","v":1000},{"$f":"БДДС!AQ33","v":1000},{"$f":"БДДС!AR33","v":1000},{"$f":"БДДС!AS33","v":1000},{"$f":"БДДС!AT33","v":1000},{"$f":"БДДС!AU33","v":1000},{"$f":"БДДС!AV33","v":1000},{"$f":"БДДС!AW33","v":1000},{"$f":"БДДС!AX33","v":1000},{"$f":"БДДС!AY33","v":1000},{"$f":"БДДС!AZ33","v":1000},{"$f":"БДДС!BA33","v":1000},{"$f":"БДДС!BB33","v":1000},{"$f":"БДДС!BC33","v":1000},{"$f":"БДДС!BD33","v":1000},{"$f":"БДДС!BE33","v":1000},{"$f":"БДДС!BF33","v":1000},{"$f":"БДДС!BG33","v":1000},{"$f":"БДДС!BH33","v":1000},{"$f":"БДДС!BI33","v":1000},{"$f":"БДДС!BJ33","v":1000},{"$f":"БДДС!BK33","v":1000},null,null,null,null,null,null,30000,-30000]
[{"$f":"БДДС!A34","v":"Коммунальные расходы"},0,{"$f":"БДДС!D34","v":0},{"$f":"БДДС!E34","v":0},{"$f":"БДДС!F34","v":0},{"$f":"БДДС!G34","v":0},{"$f":"БДДС!H34","v":0},{"$f":"БДДС!I34","v":0},{"$f":"БДДС!J34","v":0},{"$f":"БДДС!K34","v":0},{"$f":"БДДС!L34","v":0},{"$f":"БДДС!M34","v":0},{"$f":"БДДС!N34","v":0},{"$f":"БДДС!O34","v":0},{"$f":"БДДС!P34","v":0},{"$f":"БДДС!Q34","v":0},{"$f":"БДДС!R34","v":0},{"$f":"БДДС!S34","v":0},{"$f":"БДДС!T34","v":0},{"$f":"БДДС!U34","v":0},{"$f":"БДДС!V34","v":0},{"$f":"БДДС!W34","v":0},{"$f":"БДДС!X34","v":0},{"$f":"БДДС!Y34","v":0},{"$f":"БДДС!Z34","v":0},{"$f":"БДДС!AA34","v":0},{"$f":"БДДС!AB34","v":0},{"$f":"БДДС!AC34","v":0},{"$f":"БДДС!AD34","v":0},{"$f":"БДДС!AE34","v":0},{"$f":"БДДС!AF34","v":0},{"$f":"БДДС!AG34","v":0},{"$f":"БДДС!AH34","v":0},{"$f":"БДДС!AI34","v":0},{"$f":"БДДС!AJ34","v":0},{"$f":"БДДС!AK34","v":0},{"$f":"БДДС!AL34","v":0},{"$f":"БДДС!AM34","v":0},{"$f":"БДДС!AN34","v":0},{"$f":"БДДС!AO34","v":0},{"$f":"БДДС!AP34","v":0},{"$f":"БДДС!AQ34","v":0},{"$f":"БДДС!AR34","v":0},{"$f":"БДДС!AS34","v":0},{"$f":"БДДС!AT34","v":0},{"$f":"БДДС!AU34","v":0},{"$f":"БДДС!AV34","v":0},{"$f":"БДДС!AW34","v":0},{"$f":"БДДС!AX34","v":0},{"$f":"БДДС!AY34","v":0},{"$f":"БДДС!AZ34","v":0},{"$f":"БДДС!BA34","v":0},{"$f":"БДДС!BB34","v":0},{"$f":"БДДС!BC34","v":0},{"$f":"БДДС!BD34","v":0},{"$f":"БДДС!BE34","v":0},{"$f":"БДДС!BF34","v":0},{"$f":"БДДС!BG34","v":0},{"$f":"БДДС!BH34","v":0},{"$f":"БДДС!BI34","v":0},{"$f":"БДДС!BJ34","v":0},{"$f":"БДДС!BK34","v":0},null,null,null,null,null,null,0,0]
[{"$f":"БДДС!A35","v":"Прочие затраты"},600000,{"$f":"БДДС!D35","v":10000},{"$f":"БДДС!E35","v":10000},{"$f":"БДДС!F35","v":10000},{"$f":"БДДС!G35","v":10000},{"$f":"БДДС!H35","v":10000},{"$f":"БДДС!I35","v":10000},{"$f":"БДДС!J35","v":10000},{"$f":"БДДС!K35","v":10000},{"$f":"БДДС!L35","v":10000},{"$f":"БДДС!M35","v":10000},{"$f":"БДДС!N35","v":10000},{"$f":"БДДС!O35","v":10000},{"$f":"БДДС!P35","v":10000},{"$f":"БДДС!Q35","v":10000},{"$f":"БДДС!R35","v":10000},{"$f":"БДДС!S35","v":10000},{"$f":"БДДС!T35","v":10000},{"$f":"БДДС!U35","v":10000},{"$f":"БДДС!V35","v":10000},{"$f":"БДДС!W35","v":10000},{"$f":"БДДС!X35","v":10000},{"$f":"БДДС!Y35","v":10000},{"$f":"БДДС!Z35","v":10000},{"$f":"БДДС!AA35","v":10000},{"$f":"БДДС!AB35","v":10000},{"$f":"БДДС!AC35","v":10000},{"$f":"БДДС!AD35","v":10000},{"$f":"БДДС!AE35","v":10000},{"$f":"БДДС!AF35","v":10000},{"$f":"БДДС!AG35","v":10000},{"$f":"БДДС!AH35","v":10000},{"$f":"БДДС!AI35","v":10000},{"$f":"БДДС!AJ35","v":10000},{"$f":"БДДС!AK35","v":10000},{"$f":"БДДС!AL35","v":10000},{"$f":"БДДС!AM35","v":10000},{"$f":"БДДС!AN35","v":10000},{"$f":"БДДС!AO35","v":10000},{"$f":"БДДС!AP35","v":10000},{"$f":"БДДС!AQ35","v":10000},{"$f":"БДДС!AR35","v":10000},{"$f":"БДДС!AS35","v":10000},{"$f":"БДДС!AT35","v":10000},{"$f":"БДДС!AU35","v":10000},{"$f":"БДДС!AV35","v":10000},{"$f":"БДДС!AW35","v":10000},{"$f":"БДДС!AX35","v":10000},{"$f":"БДДС!AY35","v":10000},{"$f":"БДДС!AZ35","v":10000},{"$f":"БДДС!BA35","v":10000},{"$f":"БДДС!BB35","v":10000},{"$f":"БДДС!BC35","v":10000},{"$f":"БДДС!BD35","v":10000},{"$f":"БДДС!BE35","v":10000},{"$f":"БДДС!BF35","v":10000},{"$f":"БДДС!BG35","v":10000},{"$f":"БДДС!BH35","v":10000},{"$f":"БДДС!BI35","v":10000},{"$f":"БДДС!BJ35","v":10000},{"$f":"БДДС!BK35","v":10000},null,null,null,null,null,null,1020000,420000]
[{"$f":"БДДС!A36","v":"Вывоз мусора"},60000,{"$f":"БДДС!D36","v":1000},{"$f":"БДДС!E36","v":1000},{"$f":"БДДС!F36","v":1000},{"$f":"БДДС!G36","v":1000},{"$f":"БДДС!H36","v":1000},{"$f":"БДДС!I36","v":1000},{"$f":"БДДС!J36","v":1000},{"$f":"БДДС!K36","v":1000},{"$f":"БДДС!L36","v":1000},{"$f":"БДДС!M36","v":1000},{"$f":"БДДС!N36","v":1000},{"$f":"БДДС!O36","v":1000},{"$f":"БДДС!P36","v":1000},{"$f":"БДДС!Q36","v":1000},{"$f":"БДДС!R36","v":1000},{"$f":"БДДС!S36","v":1000},{"$f":"БДДС!T36","v":1000},{"$f":"БДДС!U36","v":1000},{"$f":"БДДС!V36","v":1000},{"$f":"БДДС!W36","v":1000},{"$f":"БДДС!X36","v":1000},{"$f":"БДДС!Y36","v":1000},{"$f":"БДДС!Z36","v":1000},{"$f":"БДДС!AA36","v":1000},{"$f":"БДДС!AB36","v":1000},{"$f":"БДДС!AC36","v":1000},{"$f":"БДДС!AD36","v":1000},{"$f":"БДДС!AE36","v":1000},{"$f":"БДДС!AF36","v":1000},{"$f":"БДДС!AG36","v":1000},{"$f":"БДДС!AH36","v":1000},{"$f":"БДДС!AI36","v":1000},{"$f":"БДДС!AJ36","v":1000},{"$f":"БДДС!AK36","v":1000},{"$f":"БДДС!AL36","v":1000},{"$f":"БДДС!AM36","v":1000},{"$f":"БДДС!AN36","v":1000},{"$f":"БДДС!AO36","v":1000},{"$f":"БДДС!AP36","v":1000},{"$f":"БДДС!AQ36","v":1000},{"$f":"БДДС!AR36","v":1000},{"$f":"БДДС!AS36","v":1000},{"$f":"БДДС!AT36","v":1000},{"$f":"БДДС!AU36","v":1000},{"$f":"БДДС!AV36","v":1000},{"$f":"БДДС!AW36","v":1000},{"$f":"БДДС!AX36","v":1000},{"$f":"БДДС!AY36","v":1000},{"$f":"БДДС!AZ36","v":1000},{"$f":"БДДС!BA36","v":1000},{"$f":"БДДС!BB36","v":1000},{"$f":"БДДС!BC36","v":1000},{"$f":"БДДС!BD36","v":1000},{"$f":"БДДС!BE36","v":1000},{"$f":"БДДС!BF36","v":1000},{"$f":"БДДС!BG36","v":1000},{"$f":"БДДС!BH36","v":1000},{"$f":"БДДС!BI36","v":1000},{"$f":"БДДС!BJ36","v":1000},{"$f":"БДДС!BK36","v":1000},null,null,null,null,null,null,0,-60000]
[{"$f":"БДДС!A37","v":""},0,{"$f":"БДДС!D37","v":0},{"$f":"БДДС!E37","v":0},{"$f":"БДДС!F37","v":0},{"$f":"БДДС!G37","v":0},{"$f":"БДДС!H37","v":0},{"$f":"БДДС!I37","v":0},{"$f":"БДДС!J37","v":0},{"$f":"БДДС!K37","v":0},{"$f":"БДДС!L37","v":0},{"$f":"БДДС!M37","v":0},{"$f":"БДДС!N37","v":0},{"$f":"БДДС!O37","v":0},{"$f":"БДДС!P37","v":0},{"$f":"БДДС!Q37","v":0},{"$f":"БДДС!R37","v":0},{"$f":"БДДС!S37","v":0},{"$f":"БДДС!T37","v":0},{"$f":"БДДС!U37","v":0},{"$f":"БДДС!V37","v":0},{"$f":"БДДС!W37","v":0},{"$f":"БДДС!X37","v":0},{"$f":"БДДС!Y37","v":0},{"$f":"БДДС!Z37","v":0},{"$f":"БДДС!AA37","v":0},{"$f":"БДДС!AB37","v":0},{"$f":"БДДС!AC37","v":0},{"$f":"БДДС!AD37","v":0},{"$f":"БДДС!AE37","v":0},{"$f":"БДДС!AF37","v":0},{"$f":"БДДС!AG37","v":0},{"$f":"БДДС!AH37","v":0},{"$f":"БДДС!AI37","v":0},{"$f":"БДДС!AJ37","v":0},{"$f":"БДДС!AK37","v":0},{"$f":"БДДС!AL37","v":0},{"$f":"БДДС!AM37","v":0},{"$f":"БДДС!AN37","v":0},{"$f":"БДДС!AO37","v":0},{"$f":"БДДС!AP37","v":0},{"$f":"БДДС!AQ37","v":0},{"$f":"БДДС!AR37","v":0},{"$f":"БДДС!AS37","v":0},{"$f":"БДДС!AT37","v":0},{"$f":"БДДС!AU37","v":0},{"$f":"БДДС!AV37","v":0},{"$f":"БДДС!AW37","v":0},{"$f":"БДДС!AX37","v":0},{"$f":"БДДС!AY37","v":0},{"$f":"БДДС!AZ37","v":0},{"$f":"БДДС!BA37","v":0},{"$f":"БДДС!BB37","v":0},{"$f":"БДДС!BC37","v":0},{"$f":"БДДС!BD37","v":0},{"$f":"БДДС!BE37","v":0},{"$f":"БДДС!BF37","v":0},{"$f":"БДДС!BG37","v":0},{"$f":"БДДС!BH37","v":0},{"$f":"БДДС!BI37","v":0},{"$f":"БДДС!BJ37","v":0},{"$f":"БДДС!BK37","v":0},null,null,null,null,null,null,0,0]
[{"$f":"БДДС!A38","v":""},0,{"$f":"БДДС!D38","v":0},{"$f":"БДДС!E38","v":0},{"$f":"БДДС!F38","v":0},{"$f":"БДДС!G38","v":0},{"$f":"БДДС!H38","v":0},{"$f":"БДДС!I38","v":0},{"$f":"БДДС!J38","v":0},{"$f":"БДДС!K38","v":0},{"$f":"БДДС!L38","v":0},{"$f":"БДДС!M38","v":0},{"$f":"БДДС!N38","v":0},{"$f":"БДДС!O38","v":0},{"$f":"БДДС!P38","v":0},{"$f":"БДДС!Q38","v":0},{"$f":"БДДС!R38","v":0},{"$f":"БДДС!S38","v":0},{"$f":"БДДС!T38","v":0},{"$f":"БДДС!U38","v":0},{"$f":"БДДС!V38","v":0},{"$f":"БДДС!W38","v":0},{"$f":"БДДС!X38","v":0},{"$f":"БДДС!Y38","v":0},{"$f":"БДДС!Z38","v":0},{"$f":"БДДС!AA38","v":0},{"$f":"БДДС!AB38","v":0},{"$f":"БДДС!AC38","v":0},{"$f":"БДДС!AD38","v":0},{"$f":"БДДС!AE38","v":0},{"$f":"БДДС!AF38","v":0},{"$f":"БДДС!AG38","v":0},{"$f":"БДДС!AH38","v":0},{"$f":"БДДС!AI38","v":0},{"$f":"БДДС!AJ38","v":0},{"$f":"БДДС!AK38","v":0},{"$f":"БДДС!AL38","v":0},{"$f":"БДДС!AM38","v":0},{"$f":"БДДС!AN38","v":0},{"$f":"БДДС!AO38","v":0},{"$f":"БДДС!AP38","v":0},{"$f":"БДДС!AQ38","v":0},{"$f":"БДДС!AR38","v":0},{"$f":"БДДС!AS38","v":0},{"$f":"БДДС!AT38","v":0},{"$f":"БДДС!AU38","v":0},{"$f":"БДДС!AV38","v":0},{"$f":"БДДС!AW38","v":0},{"$f":"БДДС!AX38","v":0},{"$f":"БДДС!AY38","v":0},{"$f":"БДДС!AZ38","v":0},{"$f":"БДДС!BA38","v":0},{"$f":"БДДС!BB38","v":0},{"$f":"БДДС!BC38","v":0},{"$f":"БДДС!BD38","v":0},{"$f":"БДДС!BE38","v":0},{"$f":"БДДС!BF38","v":0},{"$f":"БДДС!BG38","v":0},{"$f":"БДДС!BH38","v":0},{"$f":"БДДС!BI38","v":0},{"$f":"БДДС!BJ38","v":0},{"$f":"БДДС!BK38","v":0},null,null,null,null,null,null,0,0]
[{"$f":"БДДС!A39","v":""},0,{"$f":"БДДС!D39","v":0},{"$f":"БДДС!E39","v":0},{"$f":"БДДС!F39","v":0},{"$f":"БДДС!G39","v":0},{"$f":"БДДС!H39","v":0},{"$f":"БДДС!I39","v":0},{"$f":"БДДС!J39","v":0},{"$f":"БДДС!K39","v":0},{"$f":"БДДС!L39","v":0},{"$f":"БДДС!M39","v":0},{"$f":"БДДС!N39","v":0},{"$f":"БДДС!O39","v":0},{"$f":"БДДС!P39","v":0},{"$f":"БДДС!Q39","v":0},{"$f":"БДДС!R39","v":0},{"$f":"БДДС!S39","v":0},{"$f":"БДДС!T39","v":0},{"$f":"БДДС!U39","v":0},{"$f":"БДДС!V39","v":0},{"$f":"БДДС!W39","v":0},{"$f":"БДДС!X39","v":0},{"$f":"БДДС!Y39","v":0},{"$f":"БДДС!Z39","v":0},{"$f":"БДДС!AA39","v":0},{"$f":"БДДС!AB39","v":0},{"$f":"БДДС!AC39","v":0},{"$f":"БДДС!AD39","v":0},{"$f":"БДДС!AE39","v":0},{"$f":"БДДС!AF39","v":0},{"$f":"БДДС!AG39","v":0},{"$f":"БДДС!AH39","v":0},{"$f":"БДДС!AI39","v":0},{"$f":"БДДС!AJ39","v":0},{"$f":"БДДС!AK39","v":0},{"$f":"БДДС!AL39","v":0},{"$f":"БДДС!AM39","v":0},{"$f":"БДДС!AN39","v":0},{"$f":"БДДС!AO39","v":0},{"$f":"БДДС!AP39","v":0},{"$f":"БДДС!AQ39","v":0},{"$f":"БДДС!AR39","v":0},{"$f":"БДДС!AS39","v":0},{"$f":"БДДС!AT39","v":0},{"$f":"БДДС!AU39","v":0},{"$f":"БДДС!AV39","v":0},{"$f":"БДДС!AW39","v":0},{"$f":"БДДС!AX39","v":0},{"$f":"БДДС!AY39","v":0},{"$f":"БДДС!AZ39","v":0},{"$f":"БДДС!BA39","v":0},{"$f":"БДДС!BB39","v":0},{"$f":"БДДС!BC39","v":0},{"$f":"БДДС!BD39","v":0},{"$f":"БДДС!BE39","v":0},{"$f":"БДДС!BF39","v":0},{"$f":"БДДС!BG39","v":0},{"$f":"БДДС!BH39","v":0},{"$f":"БДДС!BI39","v":0},{"$f":"БДДС!BJ39","v":0},{"$f":"БДДС!BK39","v":0},null,null,null,null,null,null,0,0]
["Операционная прибыль",11690870.427067719,{"$f":"C19-C20","v":55669.857691018144},{"$f":"D19-D20","v":93085.62522803701},93920.197068958951,99320.69907970092,113327.74800000002,39019.897999999928,49702.03600000008,911570.12399999984,278778.076,160310.62800000003,125653.87800000003,131097.54800000001,117963.49800000002,128476.69800000003,128476.69800000003,134476.69800000003,117827.74800000002,43519.897999999928,54202.03600000008,916070.12399999984,283278.076,164810.62800000003,130153.87800000003,135597.54800000001,120213.49800000002,130726.69800000003,130726.69800000003,136726.69800000003,120077.74800000002,45769.897999999928,56452.03600000008,918320.12399999984,285528.076,167060.62800000003,132403.87800000003,127847.54800000001,124713.49800000002,135226.69800000003,135226.69800000003,141226.69800000003,124577.74800000002,50269.897999999928,60952.03600000008,922820.12399999984,290028.076,171560.62800000003,136903.87800000003,142347.54800000001,124713.49800000002,135226.69800000003,135226.69800000003,141226.69800000003,124577.74800000002,50269.897999999928,60952.03600000008,922820.12399999984,290028.076,171560.62800000003,136903.87800000003,83347.54800000001,null,null,null,null,null,null,4893082,-6797788.4270677194]
["Внеоперационные доходы",21000,{"$f":"C38","v":0},{"$f":"D38","v":0},0,0,0,0,0,0,0,0,0,0,0,0,0,0,0,0,0,0,0,0,0,0,0,0,0,0,0,0,0,0,0,0,0,0,21000,0,0,0,0,0,0,0,0,0,0,0,0,0,0,0,0,0,0,0,0,0,0,0,null,null,null,null,null,null,12300,-8700]
[{"$f":"БДДС!A57","v":"Выручка от реализации основных средств"},21000,{"$f":"БДДС!D57","v":0},{"$f":"БДДС!E57","v":0},{"$f":"БДДС!F57","v":0},{"$f":"БДДС!G57","v":0},{"$f":"БДДС!H57","v":0},{"$f":"БДДС!I57","v":0},{"$f":"БДДС!J57","v":0},{"$f":"БДДС!K57","v":0},{"$f":"БДДС!L57","v":0},{"$f":"БДДС!M57","v":0},{"$f":"БДДС!N57","v":0},{"$f":"БДДС!O57","v":0},{"$f":"БДДС!P57","v":0},{"$f":"БДДС!Q57","v":0},{"$f":"БДДС!R57","v":0},{"$f":"БДДС!S57","v":0},{"$f":"БДДС!T57","v":0},{"$f":"БДДС!U57","v":0},{"$f":"БДДС!V57","v":0},{"$f":"БДДС!W57","v":0},{"$f":"БДДС!X57","v":0},{"$f":"БДДС!Y57","v":0},{"$f":"БДДС!Z57","v":0},{"$f":"БДДС!AA57","v":0},{"$f":"БДДС!AB57","v":0},{"$f":"БДДС!AC57","v":0},{"$f":"БДДС!AD57","v":0},{"$f":"БДДС!AE57","v":0},{"$f":"БДДС!AF57","v":0},{"$f":"БДДС!AG57","v":0},{"$f":"БДДС!AH57","v":0},{"$f":"БДДС!AI57","v":0},{"$f":"БДДС!AJ57","v":0},{"$f":"БДДС!AK57","v":0},{"$f":"БДДС!AL57","v":0},{"$f":"БДДС!AM57","v":0},{"$f":"БДДС!AN57","v":21000},{"$f":"БДДС!AO57","v":0},{"$f":"БДДС!AP57","v":0},{"$f":"БДДС!AQ57","v":0},{"$f":"БДДС!AR57","v":0},{"$f":"БДДС!AS57","v":0},{"$f":"БДДС!AT57","v":0},{"$f":"БДДС!AU57","v":0},{"$f":"БДДС!AV57","v":0},{"$f":"БДДС!AW57","v":0},{"$f":"БДДС!AX57","v":0},{"$f":"БДДС!AY57","v":0},{"$f":"БДДС!AZ57","v":0},{"$f":"БДДС!BA57","v":0},{"$f":"БДДС!BB57","v":0},{"$f":"БДДС!BC57","v":0},{"$f":"БДДС!BD57","v":0},{"$f":"БДДС!BE57","v":0},{"$f":"БДДС!BF57","v":0},{"$f":"БДДС!BG57","v":0},{"$f":"БДДС!BH57","v":0},{"$f":"БДДС!BI57","v":0},{"$f":"БДДС!BJ57","v":0},{"$f":"БДДС!BK57","v":0},null,null,null,null,null,null,12300,-8700]
["Внеоперационные расходы",1110436.2191666665,{"$f":"SUM(C40:C44)","v":331489.98583333334},11245.666666666668,4433.3333333333339,4433.3333333333339,14651.833333333334,4433.3333333333339,4433.3333333333339,14651.833333333334,4433.3333333333339,4433.3333333333339,15236.083333333334,4016.666666666667,3600,81745.55,3600,3600,14402.75,3600,3600,14402.75,3600,3600,15060.5,3600,3600,120062.7,3600,3600,15060.5,3600,3600,15060.5,{"$f":"SUM(AI40:AI44)","v":2800},2000,13460.5,2000,2000,118462.7,2000,2000,13460.5,2000,2000,13460.5,2000,2000,13460.5,2000,2000,118462.7,2000,2000,13460.5,2000,2000,13460.5,2000,2000,13460.5,2000,null,null,null,null,null,null,1088666.7916666665,-21769.427499999991]
[{"$f":"БДДС!A30","v":"Услуги банков"},120000,{"$f":"БДДС!D30","v":2000},{"$f":"БДДС!E30","v":2000},{"$f":"БДДС!F30","v":2000},{"$f":"БДДС!G30","v":2000},{"$f":"БДДС!H30","v":2000},{"$f":"БДДС!I30","v":2000},{"$f":"БДДС!J30","v":2000},{"$f":"БДДС!K30","v":2000},{"$f":"БДДС!L30","v":2000},{"$f":"БДДС!M30","v":2000},{"$f":"БДДС!N30","v":2000},{"$f":"БДДС!O30","v":2000},{"$f":"БДДС!P30","v":2000},{"$f":"БДДС!Q30","v":2000},{"$f":"БДДС!R30","v":2000},{"$f":"БДДС!S30","v":2000},{"$f":"БДДС!T30","v":2000},{"$f":"БДДС!U30","v":2000},{"$f":"БДДС!V30","v":2000},{"$f":"БДДС!W30","v":2000},{"$f":"БДДС!X30","v":2000},{"$f":"БДДС!Y30","v":2000},{"$f":"БДДС!Z30","v":2000},{"$f":"БДДС!AA30","v":2000},{"$f":"БДДС!AB30","v":2000},{"$f":"БДДС!AC30","v":2000},{"$f":"БДДС!AD30","v":2000},{"$f":"БДДС!AE30","v":2000},{"$f":"БДДС!AF30","v":2000},{"$f":"БДДС!AG30","v":2000},{"$f":"БДДС!AH30","v":2000},{"$f":"БДДС!AI30","v":2000},{"$f":"БДДС!AJ30","v":2000},{"$f":"БДДС!AK30","v":2000},{"$f":"БДДС!AL30","v":2000},{"$f":"БДДС!AM30","v":2000},{"$f":"БДДС!AN30","v":2000},{"$f":"БДДС!AO30","v":2000},{"$f":"БДДС!AP30","v":2000},{"$f":"БДДС!AQ30","v":2000},{"$f":"БДДС!AR30","v":2000},{"$f":"БДДС!AS30","v":2000},{"$f":"БДДС!AT30","v":2000},{"$f":"БДДС!AU30","v":2000},{"$f":"БДДС!AV30","v":2000},{"$f":"БДДС!AW30","v":2000},{"$f":"БДДС!AX30","v":2000},{"$f":"БДДС!AY30","v":2000},{"$f":"БДДС!AZ30","v":2000},{"$f":"БДДС!BA30","v":2000},{"$f":"БДДС!BB30","v":2000},{"$f":"БДДС!BC30","v":2000},{"$f":"БДДС!BD30","v":2000},{"$f":"БДДС!BE30","v":2000},{"$f":"БДДС!BF30","v":2000},{"$f":"БДДС!BG30","v":2000},{"$f":"БДДС!BH30","v":2000},{"$f":"БДДС!BI30","v":2000},{"$f":"БДДС!BJ30","v":2000},{"$f":"БДДС!BK30","v":2000},null,null,null,null,null,null,120000,0]
["Проценты за кредиты и займы",{"$f":"SUM(C41:BJ41)","v":61583.333333333328},{"$f":"БДДС!D53+БДДС!D51","v":2433.3333333333335},{"$f":"БДДС!E53+БДДС!E51","v":2433.3333333333335},{"$f":"БДДС!F53+БДДС!F51","v":2433.3333333333335},{"$f":"БДДС!G53+БДДС!G51","v":2433.3333333333335},{"$f":"БДДС!H53+БДДС!H51","v":2433.3333333333335},{"$f":"БДДС!I53+БДДС!I51","v":2433.3333333333335},{"$f":"БДДС!J53+БДДС!J51","v":2433.3333333333335},{"$f":"БДДС!K53+БДДС!K51","v":2433.3333333333335},{"$f":"БДДС!L53+БДДС!L51","v":2433.3333333333335},{"$f":"БДДС!M53+БДДС!M51","v":2433.3333333333335},{"$f":"БДДС!N53+БДДС!N51","v":2433.3333333333335},{"$f":"БДДС!O53+БДДС!O51","v":2016.6666666666667},{"$f":"БДДС!P53+БДДС!P51","v":1600},{"$f":"БДДС!Q53+БДДС!Q51","v":1600},{"$f":"БДДС!R53+БДДС!R51","v":1600},{"$f":"БДДС!S53+БДДС!S51","v":1600},{"$f":"БДДС!T53+БДДС!T51","v":1600},{"$f":"БДДС!U53+БДДС!U51","v":1600},{"$f":"БДДС!V53+БДДС!V51","v":1600},{"$f":"БДДС!W53+БДДС!W51","v":1600},{"$f":"БДДС!X53+БДДС!X51","v":1600},{"$f":"БДДС!Y53+БДДС!Y51","v":1600},{"$f":"БДДС!Z53+БДДС!Z51","v":1600},{"$f":"БДДС!AA53+БДДС!AA51","v":1600},{"$f":"БДДС!AB53+БДДС!AB51","v":1600},{"$f":"БДДС!AC53+БДДС!AC51","v":1600},{"$f":"БДДС!AD53+БДДС!AD51","v":1600},{"$f":"БДДС!AE53+БДДС!AE51","v":1600},{"$f":"БДДС!AF53+БДДС!AF51","v":1600},{"$f":"БДДС!AG53+БДДС!AG51","v":1600},{"$f":"БДДС!AH53+БДДС!AH51","v":1600},{"$f":"БДДС!AI53+БДДС!AI51","v":1600},{"$f":"БДДС!AJ53+БДДС!AJ51","v":800},{"$f":"БДДС!AK53+БДДС!AK51","v":0},{"$f":"БДДС!AL53+БДДС!AL51","v":0},{"$f":"БДДС!AM53+БДДС!AM51","v":0},{"$f":"БДДС!AN53+БДДС!AN51","v":0},{"$f":"БДДС!AO53+БДДС!AO51","v":0},{"$f":"БДДС!AP53+БДДС!AP51","v":0},{"$f":"БДДС!AQ53+БДДС!AQ51","v":0},{"$f":"БДДС!AR53+БДДС!AR51","v":0},{"$f":"БДДС!AS53+БДДС!AS51","v":0},{"$f":"БДДС!AT53+БДДС!AT51","v":0},{"$f":"БДДС!AU53+БДДС!AU51","v":0},{"$f":"БДДС!AV53+БДДС!AV51","v":0},{"$f":"БДДС!AW53+БДДС!AW51","v":0},{"$f":"БДДС!AX53+БДДС!AX51","v":0},{"$f":"БДДС!AY53+БДДС!AY51","v":0},{"$f":"БДДС!AZ53+БДДС!AZ51","v":0},{"$f":"БДДС!BA53+БДДС!BA51","v":0},{"$f":"БДДС!BB53+БДДС!BB51","v":0},{"$f":"БДДС!BC53+БДДС!BC51","v":0},{"$f":"БДДС!BD53+БДДС!BD51","v":0},{"$f":"БДДС!BE53+БДДС!BE51","v":0},{"$f":"БДДС!BF53+БДДС!BF51","v":0},{"$f":"БДДС!BG53+БДДС!BG51","v":0},{"$f":"БДДС!BH53+БДДС!BH51","v":0},{"$f":"БДДС!BI53+БДДС!BI51","v":0},{"$f":"БДДС!BJ53+БДДС!BJ51","v":0},{"$f":"БДДС!BK53+БДДС!BK51","v":0},null,null,null,null,null,null,635015.625,573432.29166666663]
["Расходы прошлых периодов",327056.65250000003,{"$f":"'Исходные данные'!C191+'Исходные данные'!C192+'Исходные данные'!C197+'Исходные данные'!C199+'Исходные данные'!C263+'Исходные данные'!C264+'Исходные данные'!C265+SUMIF('Исходные данные'!$G$167:$G$186,\"=0\",'Исходные данные'!$C$167:$C$186)+'Исходные данные'!C262","v":327056.65250000003},null,null,null,null,null,null,null,null,null,null,null,null,null,null,null,null,null,null,null,null,null,null,null,null,null,null,null,null,null,null,null,null,null,null,null,null,null,null,null,null,null,null,null,null,null,null,null,null,null,null,null,null,null,null,null,null,null,null,null,null,null,null,null,null,null,18580.166666666664,-308476.48583333334]
[{"$f":"БДДС!A26","v":"Страховые отчисления за ИП"},219446.83333333331,{"$f":"БДДС!D26","v":0},{"$f":"БДДС!E26","v":6812.333333333333},{"$f":"БДДС!F26","v":0},{"$f":"БДДС!G26","v":0},{"$f":"БДДС!H26","v":10218.5},{"$f":"БДДС!I26","v":0},{"$f":"БДДС!J26","v":0},{"$f":"БДДС!K26","v":10218.5},{"$f":"БДДС!L26","v":0},{"$f":"БДДС!M26","v":0},{"$f":"БДДС!N26","v":10802.75},{"$f":"БДДС!O26","v":0},{"$f":"БДДС!P26","v":0},{"$f":"БДДС!Q26","v":10802.75},{"$f":"БДДС!R26","v":0},{"$f":"БДДС!S26","v":0},{"$f":"БДДС!T26","v":10802.75},{"$f":"БДДС!U26","v":0},{"$f":"БДДС!V26","v":0},{"$f":"БДДС!W26","v":10802.75},{"$f":"БДДС!X26","v":0},{"$f":"БДДС!Y26","v":0},{"$f":"БДДС!Z26","v":11460.5},{"$f":"БДДС!AA26","v":0},{"$f":"БДДС!AB26","v":0},{"$f":"БДДС!AC26","v":11460.5},{"$f":"БДДС!AD26","v":0},{"$f":"БДДС!AE26","v":0},{"$f":"БДДС!AF26","v":11460.5},{"$f":"БДДС!AG26","v":0},{"$f":"БДДС!AH26","v":0},{"$f":"БДДС!AI26","v":11460.5},{"$f":"БДДС!AJ26","v":0},{"$f":"БДДС!AK26","v":0},{"$f":"БДДС!AL26","v":11460.5},{"$f":"БДДС!AM26","v":0},{"$f":"БДДС!AN26","v":0},{"$f":"БДДС!AO26","v":11460.5},{"$f":"БДДС!AP26","v":0},{"$f":"БДДС!AQ26","v":0},{"$f":"БДДС!AR26","v":11460.5},{"$f":"БДДС!AS26","v":0},{"$f":"БДДС!AT26","v":0},{"$f":"БДДС!AU26","v":11460.5},{"$f":"БДДС!AV26","v":0},{"$f":"БДДС!AW26","v":0},{"$f":"БДДС!AX26","v":11460.5},{"$f":"БДДС!AY26","v":0},{"$f":"БДДС!AZ26","v":0},{"$f":"БДДС!BA26","v":11460.5},{"$f":"БДДС!BB26","v":0},{"$f":"БДДС!BC26","v":0},{"$f":"БДДС!BD26","v":11460.5},{"$f":"БДДС!BE26","v":0},{"$f":"БДДС!BF26","v":0},{"$f":"БДДС!BG26","v":11460.5},{"$f":"БДДС!BH26","v":0},{"$f":"БДДС!BI26","v":0},{"$f":"БДДС!BJ26","v":11460.5},{"$f":"БДДС!BK26","v":0},null,null,null,null,null,null,222853,3406.1666666666861]
[{"$f":"БДДС!A27","v":"Страховые отчисления за ИП (с оборота выше 300 т.р.)"},382349.4,{"$f":"БДДС!D27","v":0},{"$f":"БДДС!E27","v":0},{"$f":"БДДС!F27","v":0},{"$f":"БДДС!G27","v":0},{"$f":"БДДС!H27","v":0},{"$f":"БДДС!I27","v":0},{"$f":"БДДС!J27","v":0},{"$f":"БДДС!K27","v":0},{"$f":"БДДС!L27","v":0},{"$f":"БДДС!M27","v":0},{"$f":"БДДС!N27","v":0},{"$f":"БДДС!O27","v":0},{"$f":"БДДС!P27","v":0},{"$f":"БДДС!Q27","v":67342.8},{"$f":"БДДС!R27","v":0},{"$f":"БДДС!S27","v":0},{"$f":"БДДС!T27","v":0},{"$f":"БДДС!U27","v":0},{"$f":"БДДС!V27","v":0},{"$f":"БДДС!W27","v":0},{"$f":"БДДС!X27","v":0},{"$f":"БДДС!Y27","v":0},{"$f":"БДДС!Z27","v":0},{"$f":"БДДС!AA27","v":0},{"$f":"БДДС!AB27","v":0},{"$f":"БДДС!AC27","v":105002.2},{"$f":"БДДС!AD27","v":0},{"$f":"БДДС!AE27","v":0},{"$f":"БДДС!AF27","v":0},{"$f":"БДДС!AG27","v":0},{"$f":"БДДС!AH27","v":0},{"$f":"БДДС!AI27","v":0},{"$f":"БДДС!AJ27","v":0},{"$f":"БДДС!AK27","v":0},{"$f":"БДДС!AL27","v":0},{"$f":"БДДС!AM27","v":0},{"$f":"БДДС!AN27","v":0},{"$f":"БДДС!AO27","v":105002.2},{"$f":"БДДС!AP27","v":0},{"$f":"БДДС!AQ27","v":0},{"$f":"БДДС!AR27","v":0},{"$f":"БДДС!AS27","v":0},{"$f":"БДДС!AT27","v":0},{"$f":"БДДС!AU27","v":0},{"$f":"БДДС!AV27","v":0},{"$f":"БДДС!AW27","v":0},{"$f":"БДДС!AX27","v":0},{"$f":"БДДС!AY27","v":0},{"$f":"БДДС!AZ27","v":0},{"$f":"БДДС!BA27","v":105002.2},{"$f":"БДДС!BB27","v":0},{"$f":"БДДС!BC27","v":0},{"$f":"БДДС!BD27","v":0},{"$f":"БДДС!BE27","v":0},{"$f":"БДДС!BF27","v":0},{"$f":"БДДС!BG27","v":0},{"$f":"БДДС!BH27","v":0},{"$f":"БДДС!BI27","v":0},{"$f":"БДДС!BJ27","v":0},{"$f":"БДДС!BK27","v":0},null,null,null,null,null,null,92218,-290131.40000000002]
["Прибыль до налогообложения",10601434.207901051,{"$f":"C36+C37-C39","v":-275820.1281423152},{"$f":"D36+D37-D39","v":81839.958561370338},89486.863735625622,94887.365746367592,98675.914666666693,34586.564666666593,45268.702666666744,896918.29066666646,274344.74266666669,155877.29466666668,110417.7946666667,127080.88133333334,114363.49800000002,46731.14800000003,124876.69800000003,130876.69800000003,103424.99800000002,39919.897999999928,50602.03600000008,901667.37399999984,279678.076,161210.62800000003,115093.37800000003,131997.54800000001,116613.49800000002,10663.998000000036,127126.69800000003,133126.69800000003,105017.24800000002,42169.897999999928,52852.03600000008,903259.62399999984,282728.076,165060.62800000003,118943.37800000003,125847.54800000001,143713.49800000002,16763.998000000036,133226.69800000003,139226.69800000003,111117.24800000002,48269.897999999928,58952.03600000008,909359.62399999984,288028.076,169560.62800000003,123443.37800000003,140347.54800000001,122713.49800000002,16763.998000000036,133226.69800000003,139226.69800000003,111117.24800000002,48269.897999999928,58952.03600000008,909359.62399999984,288028.076,169560.62800000003,123443.37800000003,81347.54800000001,null,null,null,null,null,null,3816715.208333334,-6784718.9995677173]
[{"$f":"\"Налог по \"&'Исходные данные'!C8","v":"Налог по УСН доходы"},1481262.8743337113,{"$f":"БДДС!D40","v":0},{"$f":"БДДС!E40","v":0},{"$f":"БДДС!F40","v":15183.599999999999},{"$f":"БДДС!G40","v":0},{"$f":"БДДС!H40","v":0},{"$f":"БДДС!I40","v":58458.866749999994},{"$f":"БДДС!J40","v":0},{"$f":"БДДС!K40","v":0},{"$f":"БДДС!L40","v":66446.065500000026},{"$f":"БДДС!M40","v":0},{"$f":"БДДС!N40","v":0},{"$f":"БДДС!O40","v":167369.52124999999},{"$f":"БДДС!P40","v":0},{"$f":"БДДС!Q40","v":0},{"$f":"БДДС!R40","v":66367.8},{"$f":"БДДС!S40","v":0},{"$f":"БДДС!T40","v":0},{"$f":"БДДС!U40","v":0},{"$f":"БДДС!V40","v":0},{"$f":"БДДС!W40","v":0},{"$f":"БДДС!X40","v":65040.105737500024},{"$f":"БДДС!Y40","v":0},{"$f":"БДДС!Z40","v":0},{"$f":"БДДС!AA40","v":163045.39549999998},{"$f":"БДДС!AB40","v":0},{"$f":"БДДС!AC40","v":0},{"$f":"БДДС!AD40","v":66367.8},{"$f":"БДДС!AE40","v":0},{"$f":"БДДС!AF40","v":0},{"$f":"БДДС!AG40","v":0},{"$f":"БДДС!AH40","v":0},{"$f":"БДДС!AI40","v":0},{"$f":"БДДС!AJ40","v":64090.796302875002},{"$f":"БДДС!AK40","v":0},{"$f":"БДДС!AL40","v":0},{"$f":"БДДС!AM40","v":163045.39549999998},{"$f":"БДДС!AN40","v":0},{"$f":"БДДС!AO40","v":0},{"$f":"БДДС!AP40","v":66367.8},{"$f":"БДДС!AQ40","v":0},{"$f":"БДДС!AR40","v":0},{"$f":"БДДС!AS40","v":0},{"$f":"БДДС!AT40","v":0},{"$f":"БДДС!AU40","v":0},{"$f":"БДДС!AV40","v":62271.275585913783},{"$f":"БДДС!AW40","v":0},{"$f":"БДДС!AX40","v":0},{"$f":"БДДС!AY40","v":163045.39549999998},{"$f":"БДДС!AZ40","v":0},{"$f":"БДДС!BA40","v":0},{"$f":"БДДС!BB40","v":66367.8},{"$f":"БДДС!BC40","v":0},{"$f":"БДДС!BD40","v":0},{"$f":"БДДС!BE40","v":0},{"$f":"БДДС!BF40","v":0},{"$f":"БДДС!BG40","v":0},{"$f":"БДДС!BH40","v":64749.861207422633},{"$f":"БДДС!BI40","v":0},{"$f":"БДДС!BJ40","v":0},{"$f":"БДДС!BK40","v":163045.39549999998},null,null,null,null,null,null,234580.55350513596,-1246682.3208285754]
["Чистая прибыль",9120171.3335673381,{"$f":"C45-C46","v":-275820.1281423152},{"$f":"D45-D46","v":81839.958561370338},74303.263735625631,94887.365746367592,98675.914666666693,-23872.302083333401,45268.702666666744,896918.29066666646,207898.67716666666,155877.29466666668,110417.7946666667,-40288.639916666652,114363.49800000002,46731.14800000003,58508.89800000003,130876.69800000003,103424.99800000002,39919.897999999928,50602.03600000008,901667.37399999984,214637.97026249999,161210.62800000003,115093.37800000003,-31047.847499999974,116613.49800000002,10663.998000000036,60758.89800000003,133126.69800000003,105017.24800000002,42169.897999999928,52852.03600000008,903259.62399999984,218637.27969712499,165060.62800000003,118943.37800000003,-37197.847499999974,143713.49800000002,16763.998000000036,66858.89800000003,139226.69800000003,111117.24800000002,48269.897999999928,58952.03600000008,909359.62399999984,225756.8004140862,169560.62800000003,123443.37800000003,-22697.847499999974,122713.49800000002,16763.998000000036,66858.89800000003,139226.69800000003,111117.24800000002,48269.897999999928,58952.03600000008,909359.62399999984,223278.21479257738,169560.62800000003,123443.37800000003,-81697.847499999974,null,null,null,null,null,null,3582134.6548281978,-5538036.6787391398]
[null,null,null,null,null,null,null,null,null,null,null,null,null,null,null,null,null,null,null,null,null,null,null,null,null,null,null,null,null,null,null,null,null,null,null,null,null,null,null,null,null,null,null,null,null,null,null,null,null,null,null,null,null,null,null,null,null,null,null,null,null,null,null,null,null,null,null,null,null,0]
["Точка безубыточности",{"$f":"IF(OR(B10*(B20+B39-B37+B46)/B19<=0,B47<=0),\"\",B10*(B20+B39-B37+B46)/B19)","v":31255358.296799555},{"$f":"IF(OR(C10*(C20+C39-C37+C46)/C19<=0,C47<=0),\"\",C10*(C20+C39-C37+C46)/C19)","v":""},391158.67103006807,483944.26807605842,437809.17512731557,477146.15525315609,"",891507.26799330045,354383.27125483449,532412.46757197008,421645.88068531395,469386.30051106913,"",438190.16882807243,625904.33148428472,596891.48624322703,424928.17258596525,465312.71664623456,611315.58025659795,865277.78712115018,345594.40721905674,517927.99972753826,409240.42650752526,457960.33468816179,"",432586.3954970325,714750.72754771076,591348.92490575765,419493.99963883316,461345.25781273248,603497.80115248659,854212.22487821174,342647.71882074117,509332.45890715567,400285.23927293409,448551.88973444281,"",365092.05893206288,699724.22792168264,576322.42527972953,404761.35298216389,446145.6981428549,582302.93335911818,824212.25613068976,331358.78854614554,494030.78446946916,389818.13731042494,437555.00602230366,"",417393.94335510209,699724.22792168264,576322.42527972953,404761.35298216389,446145.6981428549,582302.93335911818,824212.25613068976,331358.78854614554,499357.90012149676,389818.13731042494,437555.00602230366,"",null,null,null,null,null,null,6574734.6053467831,-24680623.691452771]
[]
["Запас финансовой прочности",{"$f":"IF(B49=\"\",\"\",1-B49/B10)","v":0.41565509824473146},{"$f":"IF(B51=\"\",\"проект убыточный\",IF(B51<0.2,\"проект бесперспективный\",IF(B51<0.5,\"доход есть, запас прочности мал\",\"хороший запас прочности\")))","v":"доход есть, запас прочности мал"}]
[]
["РАСЧЕТ АМОРТИЗАЦИОННЫХ НАЧИСЛЕНИЙ"]
[]
["График обновления (Инструменты, приспособления, оборудование)"]
["Наименование",null,1,{"$f":"C56+1","v":2},{"$f":"D56+1","v":3},4,5,6,7,8,9,10,11,12,13,14,15,16,17,18,19,20,21,22,23,24,25,26,27,28,29,30,31,32,33,34,35,36,37,38,39,40,41,42,43,44,45,46,47,48,49,50,51,52,53,54,55,56,57,58,59,60]
[{"$f":"'Исходные данные'!B167","v":"Павильон"},null,{"$f":"IFERROR(ROUNDUP(C$56/$BM57,0)-ROUNDDOWN(C$56/$BM57,0),0)","v":1},{"$f":"IFERROR(ROUNDUP(D$56/$BM57,0)-ROUNDDOWN(D$56/$BM57,0),0)","v":1},1,1,1,1,1,1,1,1,1,1,1,1,1,1,1,1,1,1,1,1,1,1,1,1,1,1,1,1,1,1,1,1,1,1,1,1,1,1,1,1,1,1,1,1,1,1,1,1,1,1,1,1,1,1,1,1,1,1,null,null,{"$f":"'Исходные данные'!F167","v":120}]
[{"$f":"'Исходные данные'!B168","v":"Кофе машина"},null,{"$f":"IFERROR(ROUNDUP(C$56/$BM58,0)-ROUNDDOWN(C$56/$BM58,0),0)","v":1},1,1,1,1,1,1,1,1,1,1,1,1,1,1,1,1,1,1,1,1,1,1,1,1,1,1,1,1,1,1,1,1,1,1,0,1,1,1,1,1,1,1,1,1,1,1,1,1,1,1,1,1,1,1,1,1,1,1,1,null,null,{"$f":"'Исходные данные'!F168","v":36}]
[{"$f":"'Исходные данные'!B169","v":"Морозилка"},null,1,1,1,1,1,1,1,1,1,1,1,1,1,1,1,1,1,1,1,1,1,1,1,1,1,1,1,1,1,1,1,1,1,1,1,1,1,1,1,1,1,1,1,1,1,1,1,1,1,1,1,1,1,1,1,1,1,1,1,1,null,null,{"$f":"'Исходные данные'!F169","v":84}]
[{"$f":"'Исходные данные'!B170","v":"Холодильник"},null,1,1,1,1,1,1,1,1,1,1,1,1,1,1,1,1,1,1,1,1,1,1,1,1,1,1,1,1,1,1,1,1,1,1,1,1,1,1,1,1,1,1,1,1,1,1,1,1,1,1,1,1,1,1,1,1,1,1,1,1,null,null,{"$f":"'Исходные данные'!F170","v":84}]
[{"$f":"'Исходные данные'!B171","v":"Гриль"},null,1,1,1,1,1,1,1,1,1,1,1,0,1,1,1,1,1,1,1,1,{"$f":"IFERROR(ROUNDUP(W$56/$BM61,0)-ROUNDDOWN(W$56/$BM61,0),0)","v":1},1,1,0,1,1,1,1,1,1,1,1,1,1,1,0,{"$f":"IFERROR(ROUNDUP(AM$56/$BM61,0)-ROUNDDOWN(AM$56/$BM61,0),0)","v":1},1,1,1,1,1,1,1,1,1,1,0,1,1,1,1,{"$f":"IFERROR(ROUNDUP(BC$56/$BM61,0)-ROUNDDOWN(BC$56/$BM61,0),0)","v":1},1,1,1,1,1,1,0,null,null,{"$f":"'Исходные данные'!F171","v":12}]
[{"$f":"'Исходные данные'!B172","v":"Печь для выпечки"},null,1,1,1,1,1,1,1,1,1,1,1,1,1,1,1,1,{"$f":"IFERROR(ROUNDUP(S$56/$BM62,0)-ROUNDDOWN(S$56/$BM62,0),0)","v":1},1,1,1,1,1,1,1,1,1,1,1,1,1,1,1,1,1,1,0,1,1,1,1,1,1,1,1,1,1,1,1,1,1,1,1,1,1,1,1,1,1,1,1,null,null,{"$f":"'Исходные данные'!F172","v":36}]
[{"$f":"'Исходные данные'!B173","v":"Стол разделочный"},null,1,1,1,1,1,1,1,1,1,1,1,1,1,1,1,1,1,1,1,1,1,1,1,1,1,1,1,1,1,1,1,1,1,1,1,1,1,1,1,1,1,1,1,1,1,1,1,1,1,1,1,1,1,1,1,1,1,1,1,1,null,null,{"$f":"'Исходные данные'!F173","v":120}]
[{"$f":"'Исходные данные'!B174","v":"Вертел для шаурмы электрический"},null,1,1,1,1,1,1,1,1,1,1,1,1,1,1,1,1,1,1,1,1,1,1,1,1,1,1,1,1,1,1,1,1,1,1,1,1,1,1,1,1,1,1,1,1,1,1,1,1,1,1,1,1,1,1,1,1,1,1,1,1,null,null,{"$f":"'Исходные данные'!F174","v":120}]
[{"$f":"'Исходные данные'!B175","v":"Рукамойник"},null,1,1,1,1,1,1,1,1,1,1,1,1,1,1,1,1,1,1,1,1,1,1,1,1,1,1,1,1,1,1,1,1,1,1,1,1,1,1,1,1,1,1,1,1,1,1,1,1,1,1,1,1,1,1,1,1,1,1,1,0,null,null,{"$f":"'Исходные данные'!F175","v":60}]
[{"$f":"'Исходные данные'!B176","v":"Кассовое оборудование"},null,1,1,1,1,1,1,1,1,1,1,1,1,1,1,1,1,1,1,1,1,1,1,1,1,1,1,1,1,1,1,1,1,1,1,1,1,1,1,1,1,1,1,1,1,1,1,1,1,1,1,1,1,1,1,1,1,1,1,1,0,null,null,{"$f":"'Исходные данные'!F176","v":60}]
[{"$f":"'Исходные данные'!B177","v":"Барный стулья для посетителей"},null,1,1,1,1,1,1,1,1,1,1,1,1,1,1,1,1,1,1,1,1,1,1,1,1,1,1,1,1,1,1,1,1,1,1,1,1,1,1,1,1,1,1,1,1,1,1,1,1,1,1,1,1,1,1,1,1,1,1,1,0,null,null,{"$f":"'Исходные данные'!F177","v":60}]
[{"$f":"'Исходные данные'!B178","v":"Микроволновая печь для посетителей"},null,1,1,1,1,1,1,1,1,1,1,1,1,1,1,1,1,1,1,1,1,1,1,1,1,1,1,1,1,1,1,1,1,1,1,1,1,1,1,1,1,1,1,1,1,1,1,1,1,1,1,1,1,1,1,1,1,1,1,1,0,null,null,{"$f":"'Исходные данные'!F178","v":60}]
[{"$f":"'Исходные данные'!B179","v":0},null,0,0,0,0,0,0,0,0,0,0,0,0,0,0,0,0,0,0,0,0,0,0,0,0,0,0,0,0,0,0,0,0,0,0,0,0,0,0,0,0,0,0,0,0,0,0,0,0,0,0,0,0,0,0,0,0,0,0,0,0,null,null,{"$f":"'Исходные данные'!F179","v":0}]
[{"$f":"'Исходные данные'!B180","v":0},null,0,0,0,0,0,0,0,0,0,0,0,0,0,0,0,0,0,0,0,0,0,0,0,0,0,0,0,0,0,0,0,0,0,0,0,0,0,0,0,0,0,0,0,0,0,0,0,0,0,0,0,0,0,0,0,0,0,0,0,0,null,null,{"$f":"'Исходные данные'!F180","v":0}]
[{"$f":"'Исходные данные'!B181","v":0},null,0,0,0,0,0,0,0,0,0,0,0,0,0,0,0,0,0,0,0,0,0,0,0,0,0,0,0,0,0,0,0,0,0,0,0,0,0,0,0,0,0,0,0,0,0,0,0,0,0,0,0,0,0,0,0,0,0,0,0,0,null,null,{"$f":"'Исходные данные'!F181","v":0}]
[{"$f":"'Исходные данные'!B182","v":0},null,0,0,0,0,0,0,0,0,0,0,0,0,0,0,0,0,0,0,0,0,0,0,0,0,0,0,0,0,0,0,0,0,0,0,0,0,0,0,0,0,0,0,0,0,0,0,0,0,0,0,0,0,0,0,0,0,0,0,0,0,null,null,{"$f":"'Исходные данные'!F182","v":0}]
[{"$f":"'Исходные данные'!B183","v":0},null,0,0,0,0,0,0,0,0,0,0,0,0,0,0,0,0,0,0,0,0,0,0,0,0,0,0,0,0,0,0,0,0,0,0,0,0,0,0,0,0,0,0,0,0,0,0,0,0,0,0,0,0,0,0,0,0,0,0,0,0,null,null,{"$f":"'Исходные данные'!F183","v":0}]
[{"$f":"'Исходные данные'!B184","v":0},null,0,0,0,0,0,0,0,0,0,0,0,0,0,0,0,0,0,0,0,0,0,0,0,0,0,0,0,0,0,0,0,0,0,0,0,0,0,0,0,0,0,0,0,0,0,0,0,0,0,0,0,0,0,0,0,0,0,0,0,0,null,null,{"$f":"'Исходные данные'!F184","v":0}]
[{"$f":"'Исходные данные'!B185","v":0},null,0,0,0,0,0,0,0,0,0,0,0,0,0,0,0,0,0,0,0,0,0,0,0,0,0,0,0,0,0,0,0,0,0,0,0,0,0,0,0,0,0,0,0,0,0,0,0,0,0,0,0,0,0,0,0,0,0,0,0,0,null,null,{"$f":"'Исходные данные'!F185","v":0}]
[{"$f":"'Исходные данные'!B186","v":0},null,0,0,0,0,0,0,0,0,0,0,0,0,0,0,0,0,0,0,0,0,0,0,0,0,0,0,0,0,0,0,0,0,0,0,0,0,0,0,0,0,0,0,0,0,0,0,0,0,0,0,0,{"$f":"IFERROR(ROUNDUP(BB$56/$BM76,0)-ROUNDDOWN(BB$56/$BM76,0),0)","v":0},0,0,0,0,0,0,0,0,null,null,{"$f":"'Исходные данные'!F186","v":0}]
["Номер месяца использования"]
[{"$f":"A57","v":"Павильон"},null,{"$f":"IF($BM78=0,0,1)","v":1},{"$f":"IF($BM78=0,0,IF(C57=0,1,C78+1))","v":2},{"$f":"IF($BM78=0,0,IF(D57=0,1,D78+1))","v":3},4,5,6,7,8,9,10,11,12,13,14,15,16,17,18,19,20,21,22,23,24,25,26,27,28,29,30,31,32,33,34,35,36,37,38,39,40,41,42,43,44,45,46,47,48,49,50,51,52,53,54,55,56,57,58,59,60,null,null,{"$f":"'Исходные данные'!G167","v":36}]
[{"$f":"A58","v":"Кофе машина"},null,{"$f":"IF($BM79=0,0,1)","v":1},{"$f":"IF($BM79=0,0,IF(C58=0,1,C79+1))","v":2},{"$f":"IF($BM79=0,0,IF(D58=0,1,D79+1))","v":3},4,5,6,7,8,9,10,11,12,13,14,15,16,17,18,19,20,21,22,23,24,25,26,27,28,29,30,31,32,33,34,35,36,1,2,3,4,5,6,7,8,9,10,11,12,13,14,15,16,17,18,19,20,21,22,23,24,null,null,{"$f":"'Исходные данные'!G168","v":1}]
["Морозилка",null,0,{"$f":"IF($BM80=0,0,IF(C59=0,1,C80+1))","v":0},0,0,0,0,0,0,0,0,0,0,0,0,0,0,0,0,0,0,0,0,0,0,0,0,0,0,0,0,0,0,0,0,0,0,0,0,0,0,0,0,0,0,0,0,0,0,0,0,0,0,0,0,0,0,0,0,0,0,null,null,{"$f":"'Исходные данные'!G169","v":0}]
["Холодильник",null,0,0,0,0,0,0,0,0,0,0,0,0,0,0,0,0,0,0,0,0,0,0,0,0,0,0,0,0,0,0,0,0,0,0,0,0,0,0,0,0,0,0,0,0,0,0,0,0,0,0,0,0,0,0,0,0,0,0,0,0,null,null,{"$f":"'Исходные данные'!G170","v":0}]
["Гриль",null,0,0,0,0,0,0,0,0,0,0,0,0,0,0,0,0,0,0,0,0,0,0,0,0,0,0,0,0,0,0,0,0,0,0,0,0,0,0,0,0,0,0,0,0,0,0,0,0,0,0,0,0,0,0,0,0,0,0,0,0,null,null,{"$f":"'Исходные данные'!G171","v":0}]
["Печь для выпечки",null,0,0,0,0,0,0,0,0,0,0,0,0,0,0,0,0,0,0,0,0,0,0,0,0,0,0,0,0,0,0,0,0,0,0,0,0,0,0,0,0,{"$f":"IF($BM83=0,0,IF(AP62=0,1,AP83+1))","v":0},0,0,0,0,0,0,0,0,0,0,0,0,0,0,0,0,0,0,0,null,null,{"$f":"'Исходные данные'!G172","v":0}]
["Стол разделочный",null,0,0,0,0,0,0,0,0,0,0,0,0,0,0,0,0,0,0,0,0,0,0,0,0,0,0,0,0,0,0,0,0,0,0,0,0,0,0,0,0,0,0,0,0,0,0,0,0,0,0,0,0,0,0,0,0,0,0,0,0,null,null,{"$f":"'Исходные данные'!G173","v":0}]
["Вертел для шаурмы электрический",null,0,0,0,0,0,0,0,0,0,0,0,0,0,0,0,0,0,0,0,0,0,0,0,0,0,0,0,0,0,0,0,0,0,0,0,0,0,0,0,0,0,0,0,0,0,0,0,0,0,0,0,0,0,0,0,0,0,0,0,0,null,null,{"$f":"'Исходные данные'!G174","v":0}]
["Рукамойник",null,0,0,0,0,0,0,0,0,0,0,0,0,0,0,0,0,0,0,0,0,0,0,0,0,0,0,0,0,0,0,0,0,0,0,0,0,0,0,0,0,0,0,0,0,0,0,0,0,0,0,0,0,0,0,0,0,0,0,0,0,null,null,{"$f":"'Исходные данные'!G175","v":0}]
["Кассовое оборудование",null,0,0,0,0,0,0,0,0,0,0,0,0,0,0,0,0,0,0,0,0,0,0,0,0,0,0,0,0,0,0,0,0,0,0,0,0,0,0,0,0,0,0,0,0,0,0,0,0,0,0,0,0,0,0,0,0,0,0,0,0,null,null,{"$f":"'Исходные данные'!G176","v":0}]
["Барный стулья для посетителей",null,0,0,0,0,0,{"$f":"IF($BM88=0,0,IF(G67=0,1,G88+1))","v":0},0,0,0,0,0,0,0,0,0,0,0,0,0,0,0,0,0,0,0,0,0,0,0,0,0,0,0,0,0,0,0,0,0,0,0,0,0,0,0,0,0,0,0,0,0,0,0,0,0,0,0,0,0,0,null,null,{"$f":"'Исходные данные'!G177","v":0}]
["Микроволновая печь для посетителей",null,0,0,0,0,0,0,0,0,0,0,0,0,0,0,0,0,0,0,0,0,0,0,0,0,0,0,0,0,0,0,0,0,0,0,0,0,0,0,0,0,0,0,0,0,0,0,0,0,0,0,0,0,0,0,0,0,0,0,0,0,null,null,{"$f":"'Исходные данные'!G178","v":0}]
[0,null,0,0,0,0,0,0,0,0,0,0,0,0,0,0,0,0,0,0,0,0,0,0,0,0,0,0,0,0,0,0,0,0,0,0,0,0,0,0,0,0,0,0,0,0,0,0,0,0,0,0,0,0,0,0,0,0,0,0,0,0,null,null,{"$f":"'Исходные данные'!G179","v":0}]
[0,null,0,0,0,0,0,0,0,0,0,0,0,0,0,0,0,0,0,0,0,0,0,0,0,0,0,0,0,0,0,0,0,0,0,0,0,0,0,0,0,0,0,0,0,0,0,0,0,0,0,0,0,0,0,0,0,0,0,0,0,0,null,null,{"$f":"'Исходные данные'!G180","v":0}]
[0,null,0,0,0,0,0,0,0,0,0,0,0,0,0,0,0,0,0,0,0,0,0,0,0,0,0,0,0,0,{"$f":"IF($BM92=0,0,IF(AD71=0,1,AD92+1))","v":0},0,0,0,0,0,0,0,0,0,0,0,0,0,0,0,0,0,0,0,0,0,0,0,0,0,0,0,0,0,0,0,null,null,{"$f":"'Исходные данные'!G181","v":0}]
[0,null,0,0,0,0,0,0,0,0,0,0,0,0,0,0,0,0,0,0,0,0,0,0,0,0,0,0,0,0,0,0,0,0,0,0,0,0,0,0,0,0,0,0,0,0,0,0,0,0,0,0,0,0,0,0,0,0,0,0,0,0,null,null,{"$f":"'Исходные данные'!G182","v":0}]
[0,null,0,0,0,0,0,0,0,0,0,0,0,0,0,0,0,0,0,0,0,0,0,0,0,0,0,0,0,0,0,0,0,0,0,0,0,0,0,0,0,0,0,0,0,0,0,0,0,0,0,0,0,0,0,0,0,0,0,0,0,0,null,null,{"$f":"'Исходные данные'!G183","v":0}]
[0,null,0,0,0,0,0,0,0,0,0,0,0,0,0,0,0,0,0,0,0,0,0,0,0,0,0,0,0,0,0,0,0,0,0,0,0,0,0,0,0,0,0,0,0,0,0,0,0,0,0,0,0,0,0,0,0,0,0,0,0,0,null,null,{"$f":"'Исходные данные'!G184","v":0}]
[0,null,0,0,0,0,0,0,0,0,0,0,0,0,0,0,0,0,0,0,0,0,0,0,0,0,0,0,0,0,0,0,0,0,0,0,0,0,0,0,0,0,0,0,0,0,0,0,0,0,0,0,0,{"$f":"IF($BM96=0,0,IF(BA75=0,1,BA96+1))","v":0},0,0,0,0,0,0,0,0,null,null,{"$f":"'Исходные данные'!G185","v":0}]
[0,null,0,0,0,0,0,0,0,0,0,0,0,0,0,0,0,0,0,0,0,0,0,0,0,0,0,0,0,0,0,0,0,0,0,0,0,0,0,0,0,0,0,0,0,0,0,0,0,0,0,0,0,0,0,0,0,0,0,0,0,0,null,null,{"$f":"'Исходные данные'!G186","v":0}]
["Номер месяца",null,1,{"$f":"C98+1","v":2},{"$f":"D98+1","v":3},4,5,6,7,8,9,10,11,12,13,14,15,16,17,18,19,20,21,22,23,24,25,26,27,28,29,30,31,32,33,34,35,36,37,38,39,40,41,42,43,44,45,46,47,48,49,50,51,52,53,54,55,56,57,58,59,60]
["Коэф при амортизации 12 месяцев",null,8.3333333333333329E-2,8.3333333333333329E-2,8.3333333333333329E-2,8.3333333333333329E-2,8.3333333333333329E-2,8.3333333333333329E-2,8.3333333333333329E-2,8.3333333333333329E-2,8.3333333333333329E-2,8.3333333333333329E-2,8.3333333333333329E-2,8.3333333333333329E-2,8.3333333333333329E-2,8.3333333333333329E-2,8.3333333333333329E-2,8.3333333333333329E-2,8.3333333333333329E-2,8.3333333333333329E-2,8.3333333333333329E-2,8.3333333333333329E-2,8.3333333333333329E-2,8.3333333333333329E-2,8.3333333333333329E-2,8.3333333333333329E-2,8.3333333333333329E-2,8.3333333333333329E-2,8.3333333333333329E-2,8.3333333333333329E-2,8.3333333333333329E-2,8.3333333333333329E-2,8.3333333333333329E-2,8.3333333333333329E-2,8.3333333333333329E-2,8.3333333333333329E-2,8.3333333333333329E-2,8.3333333333333329E-2,8.3333333333333329E-2,8.3333333333333329E-2,8.3333333333333329E-2,8.3333333333333329E-2,8.3333333333333329E-2,8.3333333333333329E-2,8.3333333333333329E-2,8.3333333333333329E-2,8.3333333333333329E-2,8.3333333333333329E-2,8.3333333333333329E-2,8.3333333333333329E-2,8.3333333333333329E-2,8.3333333333333329E-2,8.3333333333333329E-2,8.3333333333333329E-2,8.3333333333333329E-2,8.3333333333333329E-2,8.3333333333333329E-2,8.3333333333333329E-2,8.3333333333333329E-2,8.3333333333333329E-2,8.3333333333333329E-2,8.3333333333333329E-2]
["Коэф при амортизации 36 месяцев",null,{"$f":"0.5/12","v":4.1666666666666664E-2},{"$f":"0.5/12","v":4.1666666666666664E-2},4.1666666666666664E-2,4.1666666666666664E-2,4.1666666666666664E-2,4.1666666666666664E-2,4.1666666666666664E-2,4.1666666666666664E-2,4.1666666666666664E-2,4.1666666666666664E-2,4.1666666666666664E-2,4.1666666666666664E-2,{"$f":"0.3/12","v":2.4999999999999998E-2},{"$f":"0.3/12","v":2.4999999999999998E-2},2.4999999999999998E-2,2.4999999999999998E-2,2.4999999999999998E-2,2.4999999999999998E-2,2.4999999999999998E-2,2.4999999999999998E-2,2.4999999999999998E-2,2.4999999999999998E-2,2.4999999999999998E-2,2.4999999999999998E-2,{"$f":"0.2/12","v":1.6666666666666666E-2},{"$f":"0.2/12","v":1.6666666666666666E-2},1.6666666666666666E-2,1.6666666666666666E-2,1.6666666666666666E-2,1.6666666666666666E-2,1.6666666666666666E-2,1.6666666666666666E-2,1.6666666666666666E-2,1.6666666666666666E-2,1.6666666666666666E-2,1.6666666666666666E-2]
["Коэф при амортизации 120 месяцев",null,8.3333333333333332E-3,8.3333333333333332E-3,8.3333333333333332E-3,8.3333333333333332E-3,8.3333333333333332E-3,8.3333333333333332E-3,8.3333333333333332E-3,8.3333333333333332E-3,8.3333333333333332E-3,8.3333333333333332E-3,8.3333333333333332E-3,8.3333333333333332E-3,8.3333333333333332E-3,8.3333333333333332E-3,8.3333333333333332E-3,8.3333333333333332E-3,8.3333333333333332E-3,8.3333333333333332E-3,8.3333333333333332E-3,8.3333333333333332E-3,8.3333333333333332E-3,8.3333333333333332E-3,8.3333333333333332E-3,8.3333333333333332E-3,8.3333333333333332E-3,8.3333333333333332E-3,8.3333333333333332E-3,8.3333333333333332E-3,8.3333333333333332E-3,8.3333333333333332E-3,8.3333333333333332E-3,8.3333333333333332E-3,8.3333333333333332E-3,8.3333333333333332E-3,8.3333333333333332E-3,8.3333333333333332E-3,8.3333333333333332E-3,8.3333333333333332E-3,8.3333333333333332E-3,8.3333333333333332E-3,8.3333333333333332E-3,8.3333333333333332E-3,8.3333333333333332E-3,8.3333333333333332E-3,8.3333333333333332E-3,8.3333333333333332E-3,8.3333333333333332E-3,8.3333333333333332E-3,8.3333333333333332E-3,8.3333333333333332E-3,8.3333333333333332E-3,8.3333333333333332E-3,8.3333333333333332E-3,8.3333333333333332E-3,8.3333333333333332E-3,8.3333333333333332E-3,8.3333333333333332E-3,8.3333333333333332E-3,8.3333333333333332E-3,8.3333333333333332E-3]
["Коэффициент"]
[{"$f":"A78","v":"Павильон"},null,{"$f":"IFERROR(IF($BM103>=C78,HLOOKUP(C78,$C$98:$BJ$101,IF($BM103=12,2,IF($BM103=36,3,IF($BM103=120,4,0)))),0),0)","v":4.1666666666666664E-2},{"$f":"IFERROR(IF($BM103>=D78,HLOOKUP(D78,$C$98:$BJ$101,IF($BM103=12,2,IF($BM103=36,3,IF($BM103=120,4,0)))),0),0)","v":4.1666666666666664E-2},4.1666666666666664E-2,4.1666666666666664E-2,4.1666666666666664E-2,4.1666666666666664E-2,4.1666666666666664E-2,4.1666666666666664E-2,4.1666666666666664E-2,4.1666666666666664E-2,4.1666666666666664E-2,4.1666666666666664E-2,2.4999999999999998E-2,2.4999999999999998E-2,2.4999999999999998E-2,2.4999999999999998E-2,2.4999999999999998E-2,2.4999999999999998E-2,2.4999999999999998E-2,2.4999999999999998E-2,2.4999999999999998E-2,2.4999999999999998E-2,2.4999999999999998E-2,2.4999999999999998E-2,1.6666666666666666E-2,1.6666666666666666E-2,1.6666666666666666E-2,1.6666666666666666E-2,1.6666666666666666E-2,1.6666666666666666E-2,1.6666666666666666E-2,1.6666666666666666E-2,1.6666666666666666E-2,1.6666666666666666E-2,1.6666666666666666E-2,1.6666666666666666E-2,0,0,0,0,0,0,0,0,0,0,0,0,0,0,0,0,0,0,0,0,0,0,0,0,null,null,{"$f":"BM78","v":36}]
[{"$f":"A79","v":"Кофе машина"},null,{"$f":"IFERROR(IF($BM104>=C79,HLOOKUP(C79,$C$98:$BJ$101,IF($BM104=12,2,IF($BM104=36,3,IF($BM104=120,4,0)))),0),0)","v":0},0,0,0,0,0,0,0,0,0,0,0,0,0,0,0,0,0,0,0,0,0,0,0,0,0,0,0,0,0,0,0,0,0,0,0,0,0,0,0,0,0,0,0,0,0,0,0,0,0,0,0,0,0,0,0,0,0,0,0,null,null,{"$f":"BM79","v":1}]
["Морозилка",null,0,0,0,0,0,0,0,0,0,0,0,0,0,0,0,0,0,0,0,0,0,0,0,0,0,0,0,0,0,0,0,0,0,0,0,0,0,0,0,0,0,0,0,0,0,0,0,0,0,0,0,0,0,0,0,0,0,0,0,0,null,null,0]
["Холодильник",null,0,0,0,0,0,0,0,0,0,0,0,0,0,0,0,0,0,0,0,0,0,0,0,0,0,0,0,0,0,0,0,0,0,0,0,0,0,0,0,0,0,0,0,0,0,0,0,0,0,0,0,0,0,0,0,0,0,0,0,0,null,null,0]
["Гриль",null,0,0,0,0,0,0,0,0,0,0,0,0,0,0,0,0,0,0,0,0,0,0,0,0,0,0,0,0,0,0,0,0,0,0,0,{"$f":"IFERROR(IF($BM107>=AL82,HLOOKUP(AL82,$C$98:$BJ$101,IF($BM107=12,2,IF($BM107=36,3,IF($BM107=120,4,0)))),0),0)","v":0},0,0,0,0,0,0,0,0,0,0,0,0,0,0,0,0,0,0,0,0,0,0,0,0,null,null,0]
["Печь для выпечки",null,0,0,0,0,0,0,0,0,0,0,0,0,0,0,0,0,0,0,0,0,0,0,0,0,0,0,0,0,0,0,0,0,0,0,0,0,0,0,0,0,0,0,0,0,0,0,0,0,0,0,0,0,0,0,0,0,0,0,0,0,null,null,0]
["Стол разделочный",null,0,0,0,0,0,0,0,0,0,0,0,0,0,0,0,0,0,0,0,0,0,0,0,0,0,0,0,0,0,0,0,0,0,0,0,0,0,0,0,0,0,0,0,0,0,0,0,0,0,0,0,0,0,0,0,0,0,0,0,0,null,null,0]
["Вертел для шаурмы электрический",null,0,0,0,0,0,0,0,0,0,0,0,0,0,0,0,0,0,0,0,0,0,0,0,0,0,0,0,0,0,0,0,0,0,0,0,0,0,0,0,0,0,0,0,0,0,0,0,0,0,0,0,0,0,0,0,0,0,0,0,0,null,null,0]
["Рукамойник",null,0,0,0,0,0,0,0,0,0,0,0,0,0,0,0,0,0,0,0,0,0,0,0,0,0,0,0,0,0,0,0,0,0,0,0,0,0,0,0,0,0,0,0,0,0,0,0,0,0,0,0,0,0,0,{"$f":"IFERROR(IF($BM111>=BE86,HLOOKUP(BE86,$C$98:$BJ$101,IF($BM111=12,2,IF($BM111=36,3,IF($BM111=120,4,0)))),0),0)","v":0},0,0,0,0,0,null,null,0]
["Кассовое оборудование",null,0,0,0,0,0,0,0,0,0,0,0,0,0,0,0,0,0,0,0,0,0,0,0,0,0,0,0,0,0,0,0,0,0,0,0,0,0,0,0,0,0,0,0,0,0,0,0,0,0,0,0,0,0,0,0,0,0,0,0,0,null,null,0]
["Барный стулья для посетителей",null,0,0,0,0,0,0,0,0,0,0,0,0,0,0,0,0,0,0,0,0,0,0,0,0,0,0,0,0,0,0,0,0,0,0,0,0,0,0,0,0,0,0,0,0,0,0,0,0,0,0,0,0,0,0,0,0,0,0,0,0,null,null,0]
["Микроволновая печь для посетителей",null,0,0,0,0,0,0,0,0,0,0,0,0,0,0,0,0,0,0,0,0,0,0,0,0,0,0,0,0,0,0,0,0,0,0,0,0,0,0,0,0,0,0,0,0,0,0,0,0,0,0,0,0,0,0,0,0,0,0,0,0,null,null,0]
[0,null,0,0,0,0,0,0,0,0,0,0,0,0,0,0,0,0,0,0,0,0,0,0,0,0,0,0,0,0,0,0,0,0,0,0,0,0,0,0,0,0,0,0,0,0,0,0,0,0,0,0,0,0,0,0,0,0,0,0,0,0,null,null,0]
[0,null,0,0,0,0,0,0,0,0,0,0,0,0,0,0,{"$f":"IFERROR(IF($BM116>=Q91,HLOOKUP(Q91,$C$98:$BJ$101,IF($BM116=12,2,IF($BM116=36,3,IF($BM116=120,4,0)))),0),0)","v":0},0,0,0,0,0,0,0,0,0,0,0,0,0,0,0,0,0,0,0,0,0,0,0,0,0,0,0,0,0,0,0,0,0,0,0,0,0,0,0,0,0,0,0,0,0,null,null,0]
[0,null,0,0,0,0,0,0,0,0,0,0,0,0,0,0,0,0,0,0,0,0,0,0,0,0,0,0,0,0,0,0,0,0,0,0,0,0,0,0,0,0,0,0,0,0,0,0,0,0,0,0,0,0,0,0,0,0,0,0,0,0,null,null,0]
[0,null,0,0,0,0,0,0,0,0,0,0,0,0,0,0,0,0,0,0,0,0,0,0,0,0,0,0,0,0,0,0,0,0,0,0,0,0,0,0,0,0,0,0,0,0,0,0,0,0,0,0,0,0,0,0,0,0,0,0,0,0,null,null,0]
[0,null,0,0,0,0,0,0,0,0,0,0,0,0,0,0,0,0,0,0,0,0,0,0,0,0,0,0,0,0,0,0,0,0,0,0,0,0,0,0,0,0,0,0,0,0,0,0,0,0,0,0,0,0,0,0,0,0,0,0,0,0,null,null,0]
[0,null,0,0,0,0,0,0,0,0,0,0,0,0,0,0,0,0,0,0,0,0,0,0,0,0,0,0,0,0,0,0,0,0,0,{"$f":"IFERROR(IF($BM120>=AJ95,HLOOKUP(AJ95,$C$98:$BJ$101,IF($BM120=12,2,IF($BM120=36,3,IF($BM120=120,4,0)))),0),0)","v":0},0,0,0,0,0,0,0,0,0,0,0,0,0,0,0,0,0,0,0,0,0,0,0,0,0,0,null,null,0]
[0,null,0,0,0,0,0,0,0,0,0,0,0,0,0,0,0,0,0,0,0,0,0,0,0,0,0,0,0,0,0,0,0,0,0,0,0,0,0,0,0,0,0,0,0,0,0,0,0,0,0,0,0,0,0,0,0,0,0,0,0,0,null,null,0]
[0,null,0,0,0,0,0,0,0,0,0,0,0,0,0,0,0,0,0,0,0,0,0,0,0,0,0,0,0,0,0,0,0,0,0,0,0,0,0,0,0,0,0,0,0,0,0,0,0,0,0,0,0,0,0,0,0,0,0,0,0,0,null,null,0]
["Сумма амортизации",{"$f":"SUM(B124:B145)","v":270000.00000000012},{"$f":"SUM(C124:C145)","v":11250},{"$f":"SUM(D124:D145)","v":11250},{"$f":"SUM(E124:E145)","v":11250},11250,11250,11250,11250,11250,11250,11250,11250,11250,6750,6750,6750,6750,6750,6750,6750,6750,6750,6750,6750,6750,4500,4500,4500,4500,4500,4500,4500,4500,4500,4500,4500,4500,0,0,0,0,0,0,0,0,0,0,0,0,0,0,0,0,0,0,0,0,0,0,0,0]
[{"$f":"A103","v":"Павильон"},{"$f":"SUM(C124:BJ124)","v":170000.00000000012},{"$f":"C103*$BM124","v":7083.333333333333},{"$f":"D103*$BM124","v":7083.333333333333},7083.333333333333,7083.333333333333,7083.333333333333,7083.333333333333,7083.333333333333,7083.333333333333,7083.333333333333,7083.333333333333,7083.333333333333,7083.333333333333,4250,4250,4250,4250,4250,4250,4250,4250,4250,4250,4250,4250,2833.3333333333335,2833.3333333333335,2833.3333333333335,2833.3333333333335,2833.3333333333335,2833.3333333333335,2833.3333333333335,2833.3333333333335,2833.3333333333335,2833.3333333333335,2833.3333333333335,2833.3333333333335,0,0,0,0,0,0,0,0,0,0,0,0,0,0,0,0,0,0,0,0,0,0,0,0,null,null,{"$f":"'Исходные данные'!C167","v":170000}]
[{"$f":"A104","v":"Кофе машина"},{"$f":"SUM(C125:BJ125)","v":0},{"$f":"C104*$BM125","v":0},{"$f":"D104*$BM125","v":0},0,0,0,0,0,0,0,0,0,0,0,0,0,0,0,0,0,0,0,0,0,0,0,0,0,0,0,0,0,0,0,0,0,0,0,0,0,0,0,0,0,0,0,0,0,0,0,0,0,0,0,0,0,0,0,0,0,0,null,null,{"$f":"'Исходные данные'!C168","v":70000}]
["Морозилка",{"$f":"SUM(C126:BJ126)","v":0},0,0,0,0,0,0,0,0,0,0,0,0,0,0,0,0,0,0,0,0,0,0,0,0,0,0,0,0,0,0,0,0,0,0,0,0,0,0,0,0,0,0,0,0,0,0,0,0,0,0,0,0,0,0,0,0,0,0,0,0,null,null,{"$f":"'Исходные данные'!C169","v":25000}]
["Холодильник",0,0,0,0,0,0,0,0,0,0,0,0,0,0,0,0,0,0,0,0,0,0,0,0,0,0,0,0,0,0,0,0,0,0,0,0,0,0,0,0,0,0,0,0,0,0,0,0,0,0,0,0,0,0,0,0,0,0,0,0,0,null,null,{"$f":"'Исходные данные'!C170","v":20000}]
["Гриль",0,0,0,0,0,0,0,0,0,0,0,0,0,0,0,0,0,0,0,0,0,0,0,0,0,0,0,0,0,0,0,0,0,0,0,0,{"$f":"AL107*$BM128","v":0},0,0,0,0,0,0,0,0,0,0,0,0,0,0,0,0,0,0,0,0,0,0,0,0,null,null,{"$f":"'Исходные данные'!C171","v":7000}]
["Печь для выпечки",0,0,0,0,0,0,0,0,0,0,0,0,0,0,0,0,0,0,0,0,0,0,0,0,0,0,0,0,0,0,0,0,0,0,0,0,0,0,0,0,0,0,0,0,0,0,0,0,0,0,0,0,0,0,0,0,0,0,0,0,0,null,null,{"$f":"'Исходные данные'!C172","v":10000}]
["Стол разделочный",0,0,0,0,0,0,0,0,0,0,0,0,0,0,0,0,0,0,0,0,0,0,0,0,0,0,0,0,0,0,0,0,0,0,0,0,0,0,0,0,0,0,0,0,0,0,0,0,0,0,0,0,0,0,0,0,0,0,0,0,0,null,null,{"$f":"'Исходные данные'!C173","v":45000}]
["Вертел для шаурмы электрический",0,0,0,0,0,0,0,0,0,0,0,0,0,0,0,0,0,0,0,0,0,0,0,0,0,0,0,0,0,0,0,0,0,0,0,0,0,0,0,0,0,0,0,0,0,0,0,0,0,0,0,0,0,0,0,0,0,0,0,0,0,null,null,{"$f":"'Исходные данные'!C174","v":25000}]
["Рукамойник",0,0,0,0,0,0,0,0,0,0,0,0,0,0,0,0,0,0,0,0,0,0,0,0,0,0,0,0,0,0,0,0,0,0,0,0,0,0,0,0,0,0,0,0,0,0,0,0,0,0,0,0,0,0,0,{"$f":"BE111*$BM132","v":0},0,0,0,0,0,null,null,{"$f":"'Исходные данные'!C175","v":3000}]
["Кассовое оборудование",0,0,0,0,0,0,0,0,0,0,0,0,0,0,0,0,0,0,0,0,0,0,0,0,0,0,0,0,0,0,0,0,0,0,0,0,0,0,0,0,0,0,0,0,0,0,0,0,0,0,0,0,0,0,0,0,0,0,0,0,0,null,null,{"$f":"'Исходные данные'!C176","v":30000}]
["Барный стулья для посетителей",0,0,0,0,0,0,0,0,0,0,0,0,0,0,0,0,0,0,0,0,0,0,0,0,0,0,0,0,0,0,0,0,0,0,0,0,0,0,0,0,0,0,0,0,0,0,0,0,0,0,0,0,0,0,0,0,0,0,0,0,0,null,null,{"$f":"'Исходные данные'!C177","v":21000}]
["Микроволновая печь для посетителей",0,0,0,0,0,0,0,0,0,0,0,0,0,0,0,0,0,0,0,0,0,0,0,0,0,0,0,0,0,0,0,0,0,0,0,0,0,0,0,0,0,0,0,0,0,0,0,0,0,0,0,0,0,0,0,0,0,0,0,0,0,null,null,{"$f":"'Исходные данные'!C178","v":5000}]
[0,0,0,0,0,0,0,0,0,0,0,0,0,0,0,0,0,0,0,0,0,0,0,0,0,0,0,0,0,0,0,0,0,0,0,0,0,0,0,0,0,0,0,0,0,0,0,0,0,0,0,0,0,0,0,0,0,0,0,0,0,0,null,null,{"$f":"'Исходные данные'!C179","v":0}]
[0,0,0,0,0,0,0,0,0,0,0,0,0,0,0,0,{"$f":"Q116*$BM137","v":0},0,0,0,0,0,0,0,0,0,0,0,0,0,0,0,0,0,0,0,0,0,0,0,0,0,0,0,0,0,0,0,0,0,0,0,0,0,0,0,0,0,0,0,0,0,null,null,{"$f":"'Исходные данные'!C180","v":0}]
[0,0,0,0,0,0,0,0,0,0,0,0,0,0,0,0,0,0,0,0,0,0,0,0,0,0,0,0,0,0,0,0,0,0,0,0,0,0,0,0,0,0,0,0,0,0,0,0,0,0,0,0,0,0,0,0,0,0,0,0,0,0,null,null,{"$f":"'Исходные данные'!C181","v":0}]
[0,0,0,0,0,0,0,0,0,0,0,0,0,0,0,0,0,0,0,0,0,0,0,0,0,0,0,0,0,0,0,0,0,0,0,0,0,0,0,0,0,0,0,0,0,0,0,0,0,0,0,0,0,0,0,0,0,0,0,0,0,0,null,null,{"$f":"'Исходные данные'!C182","v":0}]
[0,0,0,0,0,0,0,0,0,0,0,0,0,0,0,0,0,0,0,0,0,0,0,0,0,0,0,0,0,0,0,0,0,0,0,0,0,0,0,0,0,0,0,0,0,0,0,0,0,0,0,0,0,0,0,0,0,0,0,0,0,0,null,null,{"$f":"'Исходные данные'!C183","v":0}]
[0,0,0,0,0,0,0,0,0,0,0,0,0,0,0,0,0,0,0,0,0,0,0,0,0,0,0,0,0,0,0,0,0,0,0,{"$f":"AJ120*$BM141","v":0},0,0,0,0,0,0,0,0,0,0,0,0,0,0,0,0,0,0,0,0,0,0,0,0,0,0,null,null,{"$f":"'Исходные данные'!C184","v":0}]
[0,0,0,0,0,0,0,0,0,0,0,0,0,0,0,0,0,0,0,0,0,0,0,0,0,0,0,0,0,0,0,0,0,0,0,0,0,0,0,0,0,0,0,0,0,0,0,0,0,0,0,0,0,0,0,0,0,0,0,0,0,0,null,null,{"$f":"'Исходные данные'!C185","v":0}]
[0,0,0,0,0,0,0,0,0,0,0,0,0,0,0,0,0,0,0,0,0,0,0,0,0,0,0,0,0,0,0,0,0,0,0,0,0,0,0,0,0,0,0,0,0,0,0,0,0,0,0,0,0,0,0,0,0,0,0,0,0,0,null,null,{"$f":"'Исходные данные'!C186","v":0}]
["Амортизация НМА",{"$f":"'Исходные данные'!C198","v":0},{"$f":"$B144*0.5/12","v":0},0,0,0,0,0,0,0,0,0,0,0,{"$f":"$B144*0.3/12","v":0},0,0,0,0,0,0,0,0,0,0,0,{"$f":"$B144*0.2/12","v":0},0,0,0,0,0,0,0,0,0,0,0]
["Амортизация прочих ОС",{"$f":"'Исходные данные'!C195+'Исходные данные'!C196","v":100000},{"$f":"$B145*0.5/12","v":4166.666666666667},4166.666666666667,4166.666666666667,4166.666666666667,4166.666666666667,4166.666666666667,4166.666666666667,4166.666666666667,4166.666666666667,4166.666666666667,4166.666666666667,4166.666666666667,2500,2500,2500,2500,2500,2500,2500,2500,2500,2500,2500,2500,1666.6666666666667,1666.6666666666667,1666.6666666666667,1666.6666666666667,1666.6666666666667,1666.6666666666667,1666.6666666666667,1666.6666666666667,1666.6666666666667,1666.6666666666667,1666.6666666666667,1666.6666666666667]
[]
[]
["БДР ПО ГОДАМ И КВАРТАЛАМ"]
["Статья БДР",{"$f":"C6","v":2021},null,null,null,null,{"$f":"B149+1","v":2022},null,null,null,null,{"$f":"G149+1","v":2023},null,null,null,null,{"$f":"L149+1","v":2024},null,null,null,null,{"$f":"Q149+1","v":2025}]
[null,"год","I кв","II кв","III кв","IV кв","год","I кв","II кв","III кв","IV кв","год","I кв","II кв","III кв","IV кв","год","I кв","II кв","III кв","IV кв","год","I кв","II кв","III кв","IV кв"]
[null,null,{"$f":"\"1кв\"&$B149","v":"1кв2021"},{"$f":"\"2кв\"&$B149","v":"2кв2021"},{"$f":"\"3кв\"&$B149","v":"3кв2021"},{"$f":"\"4кв\"&$B149","v":"4кв2021"},null,{"$f":"\"1кв\"&$G149","v":"1кв2022"},{"$f":"\"2кв\"&$G149","v":"2кв2022"},{"$f":"\"3кв\"&$G149","v":"3кв2022"},{"$f":"\"4кв\"&$G149","v":"4кв2022"},null,{"$f":"\"1кв\"&$L149","v":"1кв2023"},{"$f":"\"2кв\"&$L149","v":"2кв2023"},{"$f":"\"3кв\"&$L149","v":"3кв2023"},{"$f":"\"4кв\"&$L149","v":"4кв2023"},null,{"$f":"\"1кв\"&$Q149","v":"1кв2024"},{"$f":"\"2кв\"&$Q149","v":"2кв2024"},{"$f":"\"3кв\"&$Q149","v":"3кв2024"},{"$f":"\"4кв\"&$Q149","v":"4кв2024"},null,{"$f":"\"1кв\"&$V149","v":"1кв2025"},{"$f":"\"2кв\"&$V149","v":"2кв2025"},{"$f":"\"3кв\"&$V149","v":"3кв2025"},{"$f":"\"4кв\"&$V149","v":"4кв2025"}]
[]
["Выручка",{"$f":"SUM(C153:F153)","v":7034280},{"$f":"SUMIF($C$8:$BJ$8,C$151,$C$10:$BJ$10)","v":0},{"$f":"SUMIF($C$8:$BJ$8,D$151,$C$10:$BJ$10)","v":1098880},{"$f":"SUMIF($C$8:$BJ$8,E$151,$C$10:$BJ$10)","v":2056980},{"$f":"SUMIF($C$8:$BJ$8,F$151,$C$10:$BJ$10)","v":3878420},{"$f":"SUM(H153:K153)","v":10800220},{"$f":"SUMIF($C$8:$BJ$8,H$151,$C$10:$BJ$10)","v":2502680},{"$f":"SUMIF($C$8:$BJ$8,I$151,$C$10:$BJ$10)","v":2214060},{"$f":"SUMIF($C$8:$BJ$8,J$151,$C$10:$BJ$10)","v":2205060},{"$f":"SUMIF($C$8:$BJ$8,K$151,$C$10:$BJ$10)","v":3878420},{"$f":"SUM(M153:P153)","v":10800220},{"$f":"SUMIF($C$8:$BJ$8,M$151,$C$10:$BJ$10)","v":2502680},{"$f":"SUMIF($C$8:$BJ$8,N$151,$C$10:$BJ$10)","v":2214060},{"$f":"SUMIF($C$8:$BJ$8,O$151,$C$10:$BJ$10)","v":2205060},{"$f":"SUMIF($C$8:$BJ$8,P$151,$C$10:$BJ$10)","v":3878420},{"$f":"SUM(R153:U153)","v":10800220},{"$f":"SUMIF($C$8:$BJ$8,R$151,$C$10:$BJ$10)","v":2502680},{"$f":"SUMIF($C$8:$BJ$8,S$151,$C$10:$BJ$10)","v":2214060},{"$f":"SUMIF($C$8:$BJ$8,T$151,$C$10:$BJ$10)","v":2205060},{"$f":"SUMIF($C$8:$BJ$8,U$151,$C$10:$BJ$10)","v":3878420},{"$f":"SUM(W153:Z153)","v":10800220},{"$f":"SUMIF($C$8:$BJ$8,W$151,$C$10:$BJ$10)","v":2502680},{"$f":"SUMIF($C$8:$BJ$8,X$151,$C$10:$BJ$10)","v":2214060},{"$f":"SUMIF($C$8:$BJ$8,Y$151,$C$10:$BJ$10)","v":2205060},{"$f":"SUMIF($C$8:$BJ$8,Z$151,$C$10:$BJ$10)","v":3878420}]
["Прямые переменные расходы",{"$f":"SUM(C154:F154)","v":4222533.8149322849},{"$f":"SUMIF($C$8:$BJ$8,C$151,$C$11:$BJ$11)","v":0},{"$f":"SUMIF($C$8:$BJ$8,D$151,$C$11:$BJ$11)","v":655034.51708094485},{"$f":"SUMIF($C$8:$BJ$8,E$151,$C$11:$BJ$11)","v":1219891.3558513401},{"$f":"SUMIF($C$8:$BJ$8,F$151,$C$11:$BJ$11)","v":2347607.9420000003},{"$f":"SUM(H154:K154)","v":6370286.4719999991},{"$f":"SUMIF($C$8:$BJ$8,H$151,$C$11:$BJ$11)","v":1407417.4180000001},{"$f":"SUMIF($C$8:$BJ$8,I$151,$C$11:$BJ$11)","v":1308002.2559999998},{"$f":"SUMIF($C$8:$BJ$8,J$151,$C$11:$BJ$11)","v":1307258.8559999999},{"$f":"SUMIF($C$8:$BJ$8,K$151,$C$11:$BJ$11)","v":2347607.9420000003},{"$f":"SUM(M154:P154)","v":6370286.4719999991},{"$f":"SUMIF($C$8:$BJ$8,M$151,$C$11:$BJ$11)","v":1407417.4180000001},{"$f":"SUMIF($C$8:$BJ$8,N$151,$C$11:$BJ$11)","v":1308002.2559999998},{"$f":"SUMIF($C$8:$BJ$8,O$151,$C$11:$BJ$11)","v":1307258.8559999999},{"$f":"SUMIF($C$8:$BJ$8,P$151,$C$11:$BJ$11)","v":2347607.9420000003},{"$f":"SUM(R154:U154)","v":6370286.4719999991},{"$f":"SUMIF($C$8:$BJ$8,R$151,$C$11:$BJ$11)","v":1407417.4180000001},{"$f":"SUMIF($C$8:$BJ$8,S$151,$C$11:$BJ$11)","v":1308002.2559999998},{"$f":"SUMIF($C$8:$BJ$8,T$151,$C$11:$BJ$11)","v":1307258.8559999999},{"$f":"SUMIF($C$8:$BJ$8,U$151,$C$11:$BJ$11)","v":2347607.9420000003},{"$f":"SUM(W154:Z154)","v":6370286.4719999991},{"$f":"SUMIF($C$8:$BJ$8,W$151,$C$11:$BJ$11)","v":1407417.4180000001},{"$f":"SUMIF($C$8:$BJ$8,X$151,$C$11:$BJ$11)","v":1308002.2559999998},{"$f":"SUMIF($C$8:$BJ$8,Y$151,$C$11:$BJ$11)","v":1307258.8559999999},{"$f":"SUMIF($C$8:$BJ$8,Z$151,$C$11:$BJ$11)","v":2347607.9420000003}]
["Маржинальная прибыль",{"$f":"B153-B154","v":2811746.1850677151},{"$f":"C153-C154","v":0},{"$f":"D153-D154","v":443845.48291905515},{"$f":"E153-E154","v":837088.64414865989},{"$f":"F153-F154","v":1530812.0579999997},4429933.5280000009,{"$f":"H153-H154","v":1095262.5819999999},{"$f":"I153-I154","v":906057.74400000018},{"$f":"J153-J154","v":897801.14400000009},{"$f":"K153-K154","v":1530812.0579999997},4429933.5280000009,1095262.5819999999,{"$f":"N153-N154","v":906057.74400000018},{"$f":"O153-O154","v":897801.14400000009},{"$f":"P153-P154","v":1530812.0579999997},4429933.5280000009,1095262.5819999999,{"$f":"S153-S154","v":906057.74400000018},{"$f":"T153-T154","v":897801.14400000009},{"$f":"U153-U154","v":1530812.0579999997},4429933.5280000009,{"$f":"W153-W154","v":1095262.5819999999},{"$f":"X153-X154","v":906057.74400000018},{"$f":"Y153-Y154","v":897801.14400000009},{"$f":"Z153-Z154","v":1530812.0579999997}]
["Операционные расходы",1356130,{"$f":"SUMIF($C$8:$BJ$8,C$151,$C$20:$BJ$20)","v":0},{"$f":"SUMIF($C$8:$BJ$8,D$151,$C$20:$BJ$20)","v":295090},{"$f":"SUMIF($C$8:$BJ$8,E$151,$C$20:$BJ$20)","v":530520},{"$f":"SUMIF($C$8:$BJ$8,F$151,$C$20:$BJ$20)","v":530520},2093080,{"$f":"SUMIF($C$8:$BJ$8,H$151,$C$20:$BJ$20)","v":530520},{"$f":"SUMIF($C$8:$BJ$8,I$151,$C$20:$BJ$20)","v":528520},{"$f":"SUMIF($C$8:$BJ$8,J$151,$C$20:$BJ$20)","v":517020},{"$f":"SUMIF($C$8:$BJ$8,K$151,$C$20:$BJ$20)","v":517020},2057080,{"$f":"SUMIF($C$8:$BJ$8,M$151,$C$20:$BJ$20)","v":517020},{"$f":"SUMIF($C$8:$BJ$8,N$151,$C$20:$BJ$20)","v":519520},{"$f":"SUMIF($C$8:$BJ$8,O$151,$C$20:$BJ$20)","v":510270},{"$f":"SUMIF($C$8:$BJ$8,P$151,$C$20:$BJ$20)","v":510270},2022080,{"$f":"SUMIF($C$8:$BJ$8,R$151,$C$20:$BJ$20)","v":510270},{"$f":"SUMIF($C$8:$BJ$8,S$151,$C$20:$BJ$20)","v":518270},{"$f":"SUMIF($C$8:$BJ$8,T$151,$C$20:$BJ$20)","v":496770},{"$f":"SUMIF($C$8:$BJ$8,U$151,$C$20:$BJ$20)","v":496770},1994080,{"$f":"SUMIF($C$8:$BJ$8,W$151,$C$20:$BJ$20)","v":496770},{"$f":"SUMIF($C$8:$BJ$8,X$151,$C$20:$BJ$20)","v":503770},{"$f":"SUMIF($C$8:$BJ$8,Y$151,$C$20:$BJ$20)","v":496770},{"$f":"SUMIF($C$8:$BJ$8,Z$151,$C$20:$BJ$20)","v":496770}]
["Операционная прибыль",{"$f":"B155-B156","v":1455616.1850677151},{"$f":"C155-C156","v":0},{"$f":"D155-D156","v":148755.48291905515},{"$f":"E155-E156","v":306568.64414865989},{"$f":"F155-F156","v":1000292.0579999997},2336853.5280000009,{"$f":"H155-H156","v":564742.58199999994},{"$f":"I155-I156","v":377537.74400000018},{"$f":"J155-J156","v":380781.14400000009},{"$f":"K155-K156","v":1013792.0579999997},2372853.5280000009,578242.58199999994,{"$f":"N155-N156","v":386537.74400000018},{"$f":"O155-O156","v":387531.14400000009},{"$f":"P155-P156","v":1020542.0579999997},2407853.5280000009,584992.58199999994,{"$f":"S155-S156","v":387787.74400000018},{"$f":"T155-T156","v":401031.14400000009},{"$f":"U155-U156","v":1034042.0579999997},2435853.5280000009,{"$f":"W155-W156","v":598492.58199999994},{"$f":"X155-X156","v":402287.74400000018},{"$f":"Y155-Y156","v":401031.14400000009},{"$f":"Z155-Z156","v":1034042.0579999997}]
["Внеоперационные доходы",0,{"$f":"SUMIF($C$8:$BJ$8,C$151,$C$37:$BJ$37)","v":0},{"$f":"SUMIF($C$8:$BJ$8,D$151,$C$37:$BJ$37)","v":0},{"$f":"SUMIF($C$8:$BJ$8,E$151,$C$37:$BJ$37)","v":0},{"$f":"SUMIF($C$8:$BJ$8,F$151,$C$37:$BJ$37)","v":0},0,{"$f":"SUMIF($C$8:$BJ$8,H$151,$C$37:$BJ$37)","v":0},{"$f":"SUMIF($C$8:$BJ$8,I$151,$C$37:$BJ$37)","v":0},{"$f":"SUMIF($C$8:$BJ$8,J$151,$C$37:$BJ$37)","v":0},{"$f":"SUMIF($C$8:$BJ$8,K$151,$C$37:$BJ$37)","v":0},0,{"$f":"SUMIF($C$8:$BJ$8,M$151,$C$37:$BJ$37)","v":0},{"$f":"SUMIF($C$8:$BJ$8,N$151,$C$37:$BJ$37)","v":0},{"$f":"SUMIF($C$8:$BJ$8,O$151,$C$37:$BJ$37)","v":0},{"$f":"SUMIF($C$8:$BJ$8,P$151,$C$37:$BJ$37)","v":0},21000,{"$f":"SUMIF($C$8:$BJ$8,R$151,$C$37:$BJ$37)","v":0},{"$f":"SUMIF($C$8:$BJ$8,S$151,$C$37:$BJ$37)","v":21000},{"$f":"SUMIF($C$8:$BJ$8,T$151,$C$37:$BJ$37)","v":0},{"$f":"SUMIF($C$8:$BJ$8,U$151,$C$37:$BJ$37)","v":0},0,{"$f":"SUMIF($C$8:$BJ$8,W$151,$C$37:$BJ$37)","v":0},{"$f":"SUMIF($C$8:$BJ$8,X$151,$C$37:$BJ$37)","v":0},{"$f":"SUMIF($C$8:$BJ$8,Y$151,$C$37:$BJ$37)","v":0},{"$f":"SUMIF($C$8:$BJ$8,Z$151,$C$37:$BJ$37)","v":0}]
["Внеоперационные расходы",389772.65250000003,{"$f":"SUMIF($C$8:$BJ$8,C$151,$C$39:$BJ$39)","v":0},{"$f":"SUMIF($C$8:$BJ$8,D$151,$C$39:$BJ$39)","v":342735.65250000003},{"$f":"SUMIF($C$8:$BJ$8,E$151,$C$39:$BJ$39)","v":23518.5},{"$f":"SUMIF($C$8:$BJ$8,F$151,$C$39:$BJ$39)","v":23518.5},156670.46666666667,{"$f":"SUMIF($C$8:$BJ$8,H$151,$C$39:$BJ$39)","v":24102.75},{"$f":"SUMIF($C$8:$BJ$8,I$151,$C$39:$BJ$39)","v":89362.216666666674},{"$f":"SUMIF($C$8:$BJ$8,J$151,$C$39:$BJ$39)","v":21602.75},{"$f":"SUMIF($C$8:$BJ$8,K$151,$C$39:$BJ$39)","v":21602.75},194044.2,{"$f":"SUMIF($C$8:$BJ$8,M$151,$C$39:$BJ$39)","v":22260.5},{"$f":"SUMIF($C$8:$BJ$8,N$151,$C$39:$BJ$39)","v":127262.7},{"$f":"SUMIF($C$8:$BJ$8,O$151,$C$39:$BJ$39)","v":22260.5},{"$f":"SUMIF($C$8:$BJ$8,P$151,$C$39:$BJ$39)","v":22260.5},175644.2,{"$f":"SUMIF($C$8:$BJ$8,R$151,$C$39:$BJ$39)","v":18260.5},{"$f":"SUMIF($C$8:$BJ$8,S$151,$C$39:$BJ$39)","v":122462.7},{"$f":"SUMIF($C$8:$BJ$8,T$151,$C$39:$BJ$39)","v":17460.5},{"$f":"SUMIF($C$8:$BJ$8,U$151,$C$39:$BJ$39)","v":17460.5},174844.2,{"$f":"SUMIF($C$8:$BJ$8,W$151,$C$39:$BJ$39)","v":17460.5},{"$f":"SUMIF($C$8:$BJ$8,X$151,$C$39:$BJ$39)","v":122462.7},{"$f":"SUMIF($C$8:$BJ$8,Y$151,$C$39:$BJ$39)","v":17460.5},{"$f":"SUMIF($C$8:$BJ$8,Z$151,$C$39:$BJ$39)","v":17460.5}]
["Прибыль до налогообложения",{"$f":"B157+B158-B159","v":1065843.532567715},{"$f":"C157+C158-C159","v":0},{"$f":"D157+D158-D159","v":-193980.16958094487},{"$f":"E157+E158-E159","v":283050.14414865989},{"$f":"F157+F158-F159","v":976773.55799999973},2180183.0613333341,{"$f":"H157+H158-H159","v":540639.83199999994},{"$f":"I157+I158-I159","v":288175.52733333351},{"$f":"J157+J158-J159","v":359178.39400000009},{"$f":"K157+K158-K159","v":992189.30799999973},2178809.3280000007,555982.08199999994,{"$f":"N157+N158-N159","v":259275.04400000017},{"$f":"O157+O158-O159","v":365270.64400000009},{"$f":"P157+P158-P159","v":998281.55799999973},2253209.3280000007,566732.08199999994,{"$f":"S157+S158-S159","v":286325.04400000017},{"$f":"T157+T158-T159","v":383570.64400000009},{"$f":"U157+U158-U159","v":1016581.5579999997},2261009.3280000007,{"$f":"W157+W158-W159","v":581032.08199999994},{"$f":"X157+X158-X159","v":279825.04400000017},{"$f":"Y157+Y158-Y159","v":383570.64400000009},{"$f":"Z157+Z158-Z159","v":1016581.5579999997}]
[{"$f":"\"Налог по \"&'Исходные данные'!C8","v":"Налог по УСН доходы"},73642.466749999992,{"$f":"SUMIF($C$8:$BJ$8,C$151,$C$46:$BJ$46)","v":0},{"$f":"SUMIF($C$8:$BJ$8,D$151,$C$46:$BJ$46)","v":0},{"$f":"SUMIF($C$8:$BJ$8,E$151,$C$46:$BJ$46)","v":15183.599999999999},{"$f":"SUMIF($C$8:$BJ$8,F$151,$C$46:$BJ$46)","v":58458.866749999994},300183.38675000001,{"$f":"SUMIF($C$8:$BJ$8,H$151,$C$46:$BJ$46)","v":66446.065500000026},{"$f":"SUMIF($C$8:$BJ$8,I$151,$C$46:$BJ$46)","v":167369.52124999999},{"$f":"SUMIF($C$8:$BJ$8,J$151,$C$46:$BJ$46)","v":66367.8},{"$f":"SUMIF($C$8:$BJ$8,K$151,$C$46:$BJ$46)","v":0},294453.30123749998,{"$f":"SUMIF($C$8:$BJ$8,M$151,$C$46:$BJ$46)","v":65040.105737500024},{"$f":"SUMIF($C$8:$BJ$8,N$151,$C$46:$BJ$46)","v":163045.39549999998},{"$f":"SUMIF($C$8:$BJ$8,O$151,$C$46:$BJ$46)","v":66367.8},{"$f":"SUMIF($C$8:$BJ$8,P$151,$C$46:$BJ$46)","v":0},293503.99180287501,{"$f":"SUMIF($C$8:$BJ$8,R$151,$C$46:$BJ$46)","v":64090.796302875002},{"$f":"SUMIF($C$8:$BJ$8,S$151,$C$46:$BJ$46)","v":163045.39549999998},{"$f":"SUMIF($C$8:$BJ$8,T$151,$C$46:$BJ$46)","v":66367.8},{"$f":"SUMIF($C$8:$BJ$8,U$151,$C$46:$BJ$46)","v":0},291684.47108591377,{"$f":"SUMIF($C$8:$BJ$8,W$151,$C$46:$BJ$46)","v":62271.275585913783},{"$f":"SUMIF($C$8:$BJ$8,X$151,$C$46:$BJ$46)","v":163045.39549999998},{"$f":"SUMIF($C$8:$BJ$8,Y$151,$C$46:$BJ$46)","v":66367.8},{"$f":"SUMIF($C$8:$BJ$8,Z$151,$C$46:$BJ$46)","v":0}]
["Чистая прибыль",{"$f":"B160-B161","v":992201.06581771502},{"$f":"C160-C161","v":0},{"$f":"D160-D161","v":-193980.16958094487},{"$f":"E160-E161","v":267866.54414865992},{"$f":"F160-F161","v":918314.69124999968},1879999.674583334,{"$f":"H160-H161","v":474193.76649999991},{"$f":"I160-I161","v":120806.00608333352},{"$f":"J160-J161","v":292810.5940000001},{"$f":"K160-K161","v":992189.30799999973},1884356.0267625006,490941.97626249993,{"$f":"N160-N161","v":96229.648500000185},{"$f":"O160-O161","v":298902.8440000001},{"$f":"P160-P161","v":998281.55799999973},1959705.3361971257,502641.28569712496,{"$f":"S160-S161","v":123279.64850000018},{"$f":"T160-T161","v":317202.8440000001},{"$f":"U160-U161","v":1016581.5579999997},1969324.856914087,{"$f":"W160-W161","v":518760.80641408614},{"$f":"X160-X161","v":116779.64850000018},{"$f":"Y160-Y161","v":317202.8440000001},{"$f":"Z160-Z161","v":1016581.5579999997}]
[]
["Точка безубыточности",{"$f":"IFERROR(IF(OR(B153*(B156-B158+B159+B161)/B155<=0,B162<=0),\"\",B153*(B156-B158+B159+B161)/B155),\"\")","v":4552043.1073794272},{"$f":"IFERROR(IF(OR(C153*(C156-C158+C159+C161)/C155<=0,C162<=0),\"\",C153*(C156-C158+C159+C161)/C155),\"\")","v":""},"",1398750.8771532944,1551805.1512176786,6216762.9442469925,1419145.0787419854,1918856.137332208,1485897.4853155231,1364638.6146084305,6206142.1162740458,1380875.3429751757,1978911.3938887427,1470934.5095220772,1349203.4708090862,6022439.7844899772,1354142.3675069723,1912811.497500682,1425988.478577835,1302839.1339010478,5998987.3016522396,1317309.1890793315,1928695.0215865376,1425988.478577835,1302839.1339010478]
[]
[]
["СТРУКТУРА РАСХОДОВ"]
[]
[]
[]
[]
[]
[]
[]
[]
[]
[]
[]
[]
[]
[]
[]
[]
[]
[]
[]
[]
[]
[]
[]
["ДИНАМИКА ДОХОДОВ И РАСХОДОВ (график)"]
[]
["ДОХОДЫ",null,{"$f":"C10+C37","v":506120},{"$f":"D10+D37","v":592760},666980,666980,723020,750020,1114140,2014260,979240,784220,739220,750020,723020,741020,741020,741020,723020,750020,1114140,2014260,979240,784220,739220,750020,723020,741020,741020,741020,723020,750020,1114140,2014260,979240,784220,739220,750020,744020,741020,741020,741020,723020,750020,1114140,2014260,979240,784220,739220,{"$f":"AX10+AX37","v":750020},723020,741020,741020,741020,723020,750020,1114140,2014260,979240,784220,739220,750020]
["РАСХОДЫ",null,{"$f":"C11+C20+C39+C46","v":781940.1281423152},{"$f":"D11+D20+D39+D46","v":510920.04143862968},592676.73626437434,572092.63425363239,624344.08533333335,773892.30208333349,1068871.2973333332,1117341.7093333334,771341.3228333334,628342.70533333335,628802.20533333335,790308.63991666667,608656.50199999998,694288.85199999996,682511.10199999996,610143.30199999991,619595.00199999998,710100.10200000007,1063537.9639999999,1112592.6260000002,764602.02973750001,623009.37199999997,624126.62199999997,781067.84750000003,606406.50199999998,730356.00199999986,680261.10199999996,607893.30199999991,618002.75199999998,707850.10200000007,1061287.9639999999,1111000.3760000002,760602.72030287504,619159.37199999997,620276.62199999997,787217.84750000003,600306.50199999998,724256.00199999986,674161.10199999996,601793.30199999991,611902.75199999998,701750.10200000007,1055187.9639999999,1104900.3760000002,753483.1995859138,614659.37199999997,615776.62199999997,{"$f":"AX11+AX20+AX39+AX46","v":772717.84750000003},600306.50199999998,724256.00199999986,674161.10199999996,601793.30199999991,611902.75199999998,701750.10200000007,1055187.9639999999,1104900.3760000002,755961.78520742268,614659.37199999997,615776.62199999997,831717.84750000003]

{"sheet":"Баланс","index":5,"n_rows":47,"n_cols":62,"rows_kept":47,"cut":false,"hidden":false,"merged":[[28,6,28,9],[28,10,28,13],[28,14,28,17],[28,18,28,21],[3,0,5,0],[3,1,5,1],[28,0,29,0],[28,1,29,1],[28,2,28,5]]}
["УПРАВЛЕНЧЕСКИЙ БАЛАНС"]
["Остатки в руб. на конец периода"]
["БАЛАНС ПО МЕСЯЦАМ"]
["Статья Баланса",{"$f":"БДДС!C4","v":"\"0\""},"1-й месяц","2-й месяц","3-й месяц","4-й месяц","5-й месяц","6-й месяц","7-й месяц","8-й месяц","9-й месяц","10-й месяц","11-й месяц","12-й месяц","13-й месяц","14-й месяц","15-й месяц","16-й месяц","17-й месяц","18-й месяц","19-й месяц","20-й месяц","21-й месяц","22-й месяц","23-й месяц","24-й месяц","25-й месяц","26-й месяц","27-й месяц","28-й месяц","29-й месяц","30-й месяц","31-й месяц","32-й месяц","33-й месяц","34-й месяц","35-й месяц","36-й месяц","37-й месяц","38-й месяц","39-й месяц","40-й месяц","41-й месяц","42-й месяц","43-й месяц","44-й месяц","45-й месяц","46-й месяц","47-й месяц","48-й месяц","49-й месяц","50-й месяц","51-й месяц","52-й месяц","53-й месяц","54-й месяц","55-й месяц","56-й месяц","57-й месяц","58-й месяц","59-й месяц","60-й месяц"]
[null,null,{"$f":"БДДС!D5","v":"Май"},{"$f":"БДДС!E5","v":"Июнь"},{"$f":"БДДС!F5","v":"Июль"},{"$f":"БДДС!G5","v":"Август"},{"$f":"БДДС!H5","v":"Сентябрь"},{"$f":"БДДС!I5","v":"Октябрь"},{"$f":"БДДС!J5","v":"Ноябрь"},{"$f":"БДДС!K5","v":"Декабрь"},{"$f":"БДДС!L5","v":"Январь"},{"$f":"БДДС!M5","v":"Февраль"},{"$f":"БДДС!N5","v":"Март"},{"$f":"БДДС!O5","v":"Апрель"},{"$f":"БДДС!P5","v":"Май"},{"$f":"БДДС!Q5","v":"Июнь"},{"$f":"БДДС!R5","v":"Июль"},{"$f":"БДДС!S5","v":"Август"},{"$f":"БДДС!T5","v":"Сентябрь"},{"$f":"БДДС!U5","v":"Октябрь"},{"$f":"БДДС!V5","v":"Ноябрь"},{"$f":"БДДС!W5","v":"Декабрь"},{"$f":"БДДС!X5","v":"Январь"},{"$f":"БДДС!Y5","v":"Февраль"},{"$f":"БДДС!Z5","v":"Март"},{"$f":"БДДС!AA5","v":"Апрель"},{"$f":"БДДС!AB5","v":"Май"},{"$f":"БДДС!AC5","v":"Июнь"},{"$f":"БДДС!AD5","v":"Июль"},{"$f":"БДДС!AE5","v":"Август"},{"$f":"БДДС!AF5","v":"Сентябрь"},{"$f":"БДДС!AG5","v":"Октябрь"},{"$f":"БДДС!AH5","v":"Ноябрь"},{"$f":"БДДС!AI5","v":"Декабрь"},{"$f":"БДДС!AJ5","v":"Январь"},{"$f":"БДДС!AK5","v":"Февраль"},{"$f":"БДДС!AL5","v":"Март"},{"$f":"БДДС!AM5","v":"Апрель"},{"$f":"БДДС!AN5","v":"Май"},{"$f":"БДДС!AO5","v":"Июнь"},{"$f":"БДДС!AP5","v":"Июль"},{"$f":"БДДС!AQ5","v":"Август"},{"$f":"БДДС!AR5","v":"Сентябрь"},{"$f":"БДДС!AS5","v":"Октябрь"},{"$f":"БДДС!AT5","v":"Ноябрь"},{"$f":"БДДС!AU5","v":"Декабрь"},{"$f":"БДДС!AV5","v":"Январь"},{"$f":"БДДС!AW5","v":"Февраль"},{"$f":"БДДС!AX5","v":"Март"},{"$f":"БДДС!AY5","v":"Апрель"},{"$f":"БДДС!AZ5","v":"Май"},{"$f":"БДДС!BA5","v":"Июнь"},{"$f":"БДДС!BB5","v":"Июль"},{"$f":"БДДС!BC5","v":"Август"},{"$f":"БДДС!BD5","v":"Сентябрь"},{"$f":"БДДС!BE5","v":"Октябрь"},{"$f":"БДДС!BF5","v":"Ноябрь"},{"$f":"БДДС!BG5","v":"Декабрь"},{"$f":"БДДС!BH5","v":"Январь"},{"$f":"БДДС!BI5","v":"Февраль"},{"$f":"БДДС!BJ5","v":"Март"},{"$f":"БДДС!BK5","v":"Апрель"}]
[null,null,{"$f":"БДДС!D6","v":2021},{"$f":"БДДС!E6","v":2021},{"$f":"БДДС!F6","v":2021},{"$f":"БДДС!G6","v":2021},{"$f":"БДДС!H6","v":2021},{"$f":"БДДС!I6","v":2021},{"$f":"БДДС!J6","v":2021},{"$f":"БДДС!K6","v":2021},{"$f":"БДДС!L6","v":2022},{"$f":"БДДС!M6","v":2022},{"$f":"БДДС!N6","v":2022},{"$f":"БДДС!O6","v":2022},{"$f":"БДДС!P6","v":2022},{"$f":"БДДС!Q6","v":2022},{"$f":"БДДС!R6","v":2022},{"$f":"БДДС!S6","v":2022},{"$f":"БДДС!T6","v":2022},{"$f":"БДДС!U6","v":2022},{"$f":"БДДС!V6","v":2022},{"$f":"БДДС!W6","v":2022},{"$f":"БДДС!X6","v":2023},{"$f":"БДДС!Y6","v":2023},{"$f":"БДДС!Z6","v":2023},{"$f":"БДДС!AA6","v":2023},{"$f":"БДДС!AB6","v":2023},{"$f":"БДДС!AC6","v":2023},{"$f":"БДДС!AD6","v":2023},{"$f":"БДДС!AE6","v":2023},{"$f":"БДДС!AF6","v":2023},{"$f":"БДДС!AG6","v":2023},{"$f":"БДДС!AH6","v":2023},{"$f":"БДДС!AI6","v":2023},{"$f":"БДДС!AJ6","v":2024},{"$f":"БДДС!AK6","v":2024},{"$f":"БДДС!AL6","v":2024},{"$f":"БДДС!AM6","v":2024},{"$f":"БДДС!AN6","v":2024},{"$f":"БДДС!AO6","v":2024},{"$f":"БДДС!AP6","v":2024},{"$f":"БДДС!AQ6","v":2024},{"$f":"БДДС!AR6","v":2024},{"$f":"БДДС!AS6","v":2024},{"$f":"БДДС!AT6","v":2024},{"$f":"БДДС!AU6","v":2024},{"$f":"БДДС!AV6","v":2025},{"$f":"БДДС!AW6","v":2025},{"$f":"БДДС!AX6","v":2025},{"$f":"БДДС!AY6","v":2025},{"$f":"БДДС!AZ6","v":2025},{"$f":"БДДС!BA6","v":2025},{"$f":"БДДС!BB6","v":2025},{"$f":"БДДС!BC6","v":2025},{"$f":"БДДС!BD6","v":2025},{"$f":"БДДС!BE6","v":2025},{"$f":"БДДС!BF6","v":2025},{"$f":"БДДС!BG6","v":2025},{"$f":"БДДС!BH6","v":2026},{"$f":"БДДС!BI6","v":2026},{"$f":"БДДС!BJ6","v":2026},{"$f":"БДДС!BK6","v":2026}]
["Квартал",null,{"$f":"IF(C5=\"Март\",\"1кв\",IF(C5=\"Июнь\",\"2кв\",IF(C5=\"Сентябрь\",\"3кв\",IF(C5=\"Декабрь\",\"4кв\",\"\"))))","v":""},{"$f":"IF(D5=\"Март\",\"1кв\",IF(D5=\"Июнь\",\"2кв\",IF(D5=\"Сентябрь\",\"3кв\",IF(D5=\"Декабрь\",\"4кв\",\"\"))))","v":"2кв"},"","","3кв","","","4кв","","","1кв","","","2кв","","","3кв","","","4кв","","","1кв","","","2кв","","","3кв","","","4кв","","","1кв","","","2кв","","","3кв","","","4кв","","","1кв","","","2кв","","","3кв","","","4кв","","","1кв",""]
["КварталГод",null,{"$f":"IF(C7<>\"\",C7&C6,\"\")","v":""},{"$f":"IF(D7<>\"\",D7&D6,\"\")","v":"2кв2021"},"","","3кв2021","","","4кв2021","","","1кв2022","","","2кв2022","","","3кв2022","","","4кв2022","","","1кв2023","","","2кв2023","","","3кв2023","","","4кв2023","","","1кв2024","","","2кв2024","","","3кв2024","","","4кв2024","","","1кв2025","","","2кв2025","","","3кв2025","","","4кв2025","","","1кв2026",""]
["Нераспределенная прибыль до выплаты дивидендов",{"$f":"0","v":0},{"$f":"БДР!C47","v":-275820.1281423152},{"$f":"C9+БДР!D47","v":-193980.16958094487},{"$f":"D9+БДР!E47","v":-119676.90584531924},{"$f":"E9+БДР!F47","v":-24789.540098951649},{"$f":"F9+БДР!G47","v":73886.374567715044},{"$f":"G9+БДР!H47","v":50014.072484381642},{"$f":"H9+БДР!I47","v":95282.775151048379},{"$f":"I9+БДР!J47","v":992201.0658177149},{"$f":"J9+БДР!K47","v":1200099.7429843815},{"$f":"K9+БДР!L47","v":1355977.0376510483},{"$f":"L9+БДР!M47","v":1466394.832317715},{"$f":"M9+БДР!N47","v":1426106.1924010485},{"$f":"N9+БДР!O47","v":1540469.6904010484},{"$f":"O9+БДР!P47","v":1587200.8384010484},{"$f":"P9+БДР!Q47","v":1645709.7364010485},{"$f":"Q9+БДР!R47","v":1776586.4344010486},{"$f":"R9+БДР!S47","v":1880011.4324010485},{"$f":"S9+БДР!T47","v":1919931.3304010485},{"$f":"T9+БДР!U47","v":1970533.3664010486},{"$f":"U9+БДР!V47","v":2872200.7404010482},{"$f":"V9+БДР!W47","v":3086838.7106635482},{"$f":"W9+БДР!X47","v":3248049.3386635482},{"$f":"X9+БДР!Y47","v":3363142.7166635483},{"$f":"Y9+БДР!Z47","v":3332094.8691635481},{"$f":"Z9+БДР!AA47","v":3448708.3671635482},{"$f":"AA9+БДР!AB47","v":3459372.3651635484},{"$f":"AB9+БДР!AC47","v":3520131.2631635484},{"$f":"AC9+БДР!AD47","v":3653257.9611635483},{"$f":"AD9+БДР!AE47","v":3758275.2091635484},{"$f":"AE9+БДР!AF47","v":3800445.1071635485},{"$f":"AF9+БДР!AG47","v":3853297.1431635488},{"$f":"AG9+БДР!AH47","v":4756556.7671635486},{"$f":"AH9+БДР!AI47","v":4975194.0468606735},{"$f":"AI9+БДР!AJ47","v":5140254.674860673},{"$f":"AJ9+БДР!AK47","v":5259198.0528606735},{"$f":"AK9+БДР!AL47","v":5222000.2053606734},{"$f":"AL9+БДР!AM47","v":5365713.703360673},{"$f":"AM9+БДР!AN47","v":5382477.7013606727},{"$f":"AN9+БДР!AO47","v":5449336.5993606728},{"$f":"AO9+БДР!AP47","v":5588563.2973606726},{"$f":"AP9+БДР!AQ47","v":5699680.5453606723},{"$f":"AQ9+БДР!AR47","v":5747950.4433606723},{"$f":"AR9+БДР!AS47","v":5806902.4793606726},{"$f":"AS9+БДР!AT47","v":6716262.1033606725},{"$f":"AT9+БДР!AU47","v":6942018.9037747588},{"$f":"AU9+БДР!AV47","v":7111579.5317747593},{"$f":"AV9+БДР!AW47","v":7235022.9097747598},{"$f":"AW9+БДР!AX47","v":7212325.0622747596},{"$f":"AX9+БДР!AY47","v":7335038.5602747593},{"$f":"AY9+БДР!AZ47","v":7351802.558274759},{"$f":"AZ9+БДР!BA47","v":7418661.456274759},{"$f":"BA9+БДР!BB47","v":7557888.1542747589},{"$f":"BB9+БДР!BC47","v":7669005.4022747586},{"$f":"BC9+БДР!BD47","v":7717275.3002747586},{"$f":"BD9+БДР!BE47","v":7776227.3362747589},{"$f":"BE9+БДР!BF47","v":8685586.9602747597},{"$f":"BF9+БДР!BG47","v":8908865.1750673372},{"$f":"BG9+БДР!BH47","v":9078425.8030673377},{"$f":"BH9+БДР!BI47","v":9201869.1810673382},{"$f":"BI9+БДР!BJ47","v":9120171.3335673381}]
["Остаток на счете до выплат дивидендов",null,{"$f":"БДДС!D12+БДДС!D42+БДДС!D54+БДДС!D56-SUM(БДДС!D59:D67)","v":65428.038524351527},{"$f":"БДДС!E12+БДДС!E42+БДДС!E54+БДДС!E56-SUM(БДДС!E59:E67)","v":158517.99708572193},{"$f":"БДДС!F12+БДДС!F42+БДДС!F54+БДДС!F56-SUM(БДДС!F59:F67)","v":244071.2608213475},{"$f":"БДДС!G12+БДДС!G42+БДДС!G54+БДДС!G56-SUM(БДДС!G59:G67)","v":350208.62656771502},{"$f":"БДДС!H12+БДДС!H42+БДДС!H54+БДДС!H56-SUM(БДДС!H59:H67)","v":460134.54123438173},{"$f":"БДДС!I12+БДДС!I42+БДДС!I54+БДДС!I56-SUM(БДДС!I59:I67)","v":447512.2391510483},{"$f":"БДДС!J12+БДДС!J42+БДДС!J54+БДДС!J56-SUM(БДДС!J59:J67)","v":504030.94181771507},{"$f":"БДДС!K12+БДДС!K42+БДДС!K54+БДДС!K56-SUM(БДДС!K59:K67)","v":1412199.2324843821},{"$f":"БДДС!L12+БДДС!L42+БДДС!L54+БДДС!L56-SUM(БДДС!L59:L67)","v":1536065.1345000006},{"$f":"БДДС!M12+БДДС!M42+БДДС!M54+БДДС!M56-SUM(БДДС!M59:M67)","v":1703192.4291666674},{"$f":"БДДС!N12+БДДС!N42+БДДС!N54+БДДС!N56-SUM(БДДС!N59:N67)","v":1724860.2238333342},{"$f":"БДДС!O12+БДДС!O42+БДДС!O54+БДДС!O56-SUM(БДДС!O59:O67)","v":435127.3214166676},{"$f":"БДДС!P12+БДДС!P42+БДДС!P54+БДДС!P56-SUM(БДДС!P59:P67)","v":556240.81941666757},{"$f":"БДДС!Q12+БДДС!Q42+БДДС!Q54+БДДС!Q56-SUM(БДДС!Q59:Q67)","v":609721.96741666761},{"$f":"БДДС!R12+БДДС!R42+БДДС!R54+БДДС!R56-SUM(БДДС!R59:R67)","v":490488.21266666753},{"$f":"БДДС!S12+БДДС!S42+БДДС!S54+БДДС!S56-SUM(БДДС!S59:S67)","v":628114.91066666751},{"$f":"БДДС!T12+БДДС!T42+БДДС!T54+БДДС!T56-SUM(БДДС!T59:T67)","v":738289.90866666753},{"$f":"БДДС!U12+БДДС!U42+БДДС!U54+БДДС!U56-SUM(БДДС!U59:U67)","v":548843.06266666728},{"$f":"БДДС!V12+БДДС!V42+БДДС!V54+БДДС!V56-SUM(БДДС!V59:V67)","v":606195.09866666736},{"$f":"БДДС!W12+БДДС!W42+БДДС!W54+БДДС!W56-SUM(БДДС!W59:W67)","v":1514612.4726666678},{"$f":"БДДС!X12+БДДС!X42+БДДС!X54+БДДС!X56-SUM(БДДС!X59:X67)","v":1542053.5109291677},{"$f":"БДДС!Y12+БДДС!Y42+БДДС!Y54+БДДС!Y56-SUM(БДДС!Y59:Y67)","v":1710014.1389291678},{"$f":"БДДС!Z12+БДДС!Z42+БДДС!Z54+БДДС!Z56-SUM(БДДС!Z59:Z67)","v":1831857.5169291678},{"$f":"БДДС!AA12+БДДС!AA42+БДДС!AA54+БДДС!AA56-SUM(БДДС!AA59:AA67)","v":530043.69716666813},{"$f":"БДДС!AB12+БДДС!AB42+БДДС!AB54+БДДС!AB56-SUM(БДДС!AB59:AB67)","v":651157.19516666816},{"$f":"БДДС!AC12+БДДС!AC42+БДДС!AC54+БДДС!AC56-SUM(БДДС!AC59:AC67)","v":666321.19316666818},{"$f":"БДДС!AD12+БДДС!AD42+БДДС!AD54+БДДС!AD56-SUM(БДДС!AD59:AD67)","v":530921.06266666821},{"$f":"БДДС!AE12+БДДС!AE42+БДДС!AE54+БДДС!AE56-SUM(БДДС!AE59:AE67)","v":668547.76066666818},{"$f":"БДДС!AF12+БДДС!AF42+БДДС!AF54+БДДС!AF56-SUM(БДДС!AF59:AF67)","v":778065.0086666682},{"$f":"БДДС!AG12+БДДС!AG42+БДДС!AG54+БДДС!AG56-SUM(БДДС!AG59:AG67)","v":620185.31266666809},{"$f":"БДДС!AH12+БДДС!AH42+БДДС!AH54+БДДС!AH56-SUM(БДДС!AH59:AH67)","v":677537.34866666817},{"$f":"БДДС!AI12+БДДС!AI42+БДДС!AI54+БДДС!AI56-SUM(БДДС!AI59:AI67)","v":1425296.9726666685},{"$f":"БДДС!AJ12+БДДС!AJ42+БДДС!AJ54+БДДС!AJ56-SUM(БДДС!AJ59:AJ67)","v":1448395.0703637931},{"$f":"БДДС!AK12+БДДС!AK42+БДДС!AK54+БДДС!AK56-SUM(БДДС!AK59:AK67)","v":1617955.6983637931},{"$f":"БДДС!AL12+БДДС!AL42+БДДС!AL54+БДДС!AL56-SUM(БДДС!AL59:AL67)","v":1741399.0763637931},{"$f":"БДДС!AM12+БДДС!AM42+БДДС!AM54+БДДС!AM56-SUM(БДДС!AM59:AM67)","v":351743.69716666883},{"$f":"БДДС!AN12+БДДС!AN42+БДДС!AN54+БДДС!AN56-SUM(БДДС!AN59:AN67)","v":495457.19516666885},{"$f":"БДДС!AO12+БДДС!AO42+БДДС!AO54+БДДС!AO56-SUM(БДДС!AO59:AO67)","v":512221.19316666888},{"$f":"БДДС!AP12+БДДС!AP42+БДДС!AP54+БДДС!AP56-SUM(БДДС!AP59:AP67)","v":353621.06266666891},{"$f":"БДДС!AQ12+БДДС!AQ42+БДДС!AQ54+БДДС!AQ56-SUM(БДДС!AQ59:AQ67)","v":492847.76066666888},{"$f":"БДДС!AR12+БДДС!AR42+БДДС!AR54+БДДС!AR56-SUM(БДДС!AR59:AR67)","v":603965.0086666689},{"$f":"БДДС!AS12+БДДС!AS42+БДДС!AS54+БДДС!AS56-SUM(БДДС!AS59:AS67)","v":429385.31266666926},{"$f":"БДДС!AT12+БДДС!AT42+БДДС!AT54+БДДС!AT56-SUM(БДДС!AT59:AT67)","v":488337.34866666934},{"$f":"БДДС!AU12+БДДС!AU42+БДДС!AU54+БДДС!AU56-SUM(БДДС!AU59:AU67)","v":1397696.9726666696},{"$f":"БДДС!AV12+БДДС!AV42+БДДС!AV54+БДДС!AV56-SUM(БДДС!AV59:AV67)","v":1405114.5910807559},{"$f":"БДДС!AW12+БДДС!AW42+БДДС!AW54+БДДС!AW56-SUM(БДДС!AW59:AW67)","v":1574675.219080756},{"$f":"БДДС!AX12+БДДС!AX42+БДДС!AX54+БДДС!AX56-SUM(БДДС!AX59:AX67)","v":1698118.597080756},{"$f":"БДДС!AY12+БДДС!AY42+БДДС!AY54+БДДС!AY56-SUM(БДДС!AY59:AY67)","v":370743.6971666693},{"$f":"БДДС!AZ12+БДДС!AZ42+БДДС!AZ54+БДДС!AZ56-SUM(БДДС!AZ59:AZ67)","v":493457.19516666932},{"$f":"БДДС!BA12+БДДС!BA42+БДДС!BA54+БДДС!BA56-SUM(БДДС!BA59:BA67)","v":510221.19316666934},{"$f":"БДДС!BB12+БДДС!BB42+БДДС!BB54+БДДС!BB56-SUM(БДДС!BB59:BB67)","v":353621.06266666937},{"$f":"БДДС!BC12+БДДС!BC42+БДДС!BC54+БДДС!BC56-SUM(БДДС!BC59:BC67)","v":492847.76066666935},{"$f":"БДДС!BD12+БДДС!BD42+БДДС!BD54+БДДС!BD56-SUM(БДДС!BD59:BD67)","v":603965.00866666937},{"$f":"БДДС!BE12+БДДС!BE42+БДДС!BE54+БДДС!BE56-SUM(БДДС!BE59:BE67)","v":429385.31266666972},{"$f":"БДДС!BF12+БДДС!BF42+БДДС!BF54+БДДС!BF56-SUM(БДДС!BF59:BF67)","v":488337.3486666698},{"$f":"БДДС!BG12+БДДС!BG42+БДДС!BG54+БДДС!BG56-SUM(БДДС!BG59:BG67)","v":1397696.9726666701},{"$f":"БДДС!BH12+БДДС!BH42+БДДС!BH54+БДДС!BH56-SUM(БДДС!BH59:BH67)","v":1402636.0054592476},{"$f":"БДДС!BI12+БДДС!BI42+БДДС!BI54+БДДС!BI56-SUM(БДДС!BI59:BI67)","v":1572196.6334592476},{"$f":"БДДС!BJ12+БДДС!BJ42+БДДС!BJ54+БДДС!BJ56-SUM(БДДС!BJ59:BJ67)","v":1695640.0114592477},{"$f":"БДДС!BK12+БДДС!BK42+БДДС!BK54+БДДС!BK56-SUM(БДДС!BK59:BK67)","v":311743.69716666883}]
["Выплаты дивидендов",null,{"$f":"IF(AND(C7<>\"\",B9>0,B9>$B$16,B22>0),MIN(B9,IF(C10<0,0,C10),B22)*'Исходные данные'!$C$212,0)","v":0},{"$f":"IF(AND(D7<>\"\",C9>0,C9>$B$16,C22>0),MIN(C9,IF(D10<0,0,D10),C22)*'Исходные данные'!$C$212,0)","v":0},{"$f":"IF(AND(E7<>\"\",D9>0,D9>$B$16,D22>0),MIN(D9,IF(E10<0,0,E10),D22)*'Исходные данные'!$C$212,0)","v":0},{"$f":"IF(AND(F7<>\"\",E9>0,E9>$B$16,E22>0),MIN(E9,IF(F10<0,0,F10),E22)*'Исходные данные'!$C$212,0)","v":0},{"$f":"IF(AND(G7<>\"\",F9>0,F9>$B$16,F22>0),MIN(F9,IF(G10<0,0,G10),F22)*'Исходные данные'!$C$212,0)","v":0},{"$f":"IF(AND(H7<>\"\",G9>0,G9>$B$16,G22>0),MIN(G9,IF(H10<0,0,H10),G22)*'Исходные данные'!$C$212,0)","v":0},{"$f":"IF(AND(I7<>\"\",H9>0,H9>$B$16,H22>0),MIN(H9,IF(I10<0,0,I10),H22)*'Исходные данные'!$C$212,0)","v":0},{"$f":"IF(AND(J7<>\"\",I9>0,I9>$B$16,I22>0),MIN(I9,IF(J10<0,0,J10),I22)*'Исходные данные'!$C$212,0)","v":95282.775151048379},{"$f":"IF(AND(K7<>\"\",J9>0,J9>$B$16,J22>0),MIN(J9,IF(K10<0,0,K10),J22)*'Исходные данные'!$C$212,0)","v":0},{"$f":"IF(AND(L7<>\"\",K9>0,K9>$B$16,K22>0),MIN(K9,IF(L10<0,0,L10),K22)*'Исходные данные'!$C$212,0)","v":0},{"$f":"IF(AND(M7<>\"\",L9>0,L9>$B$16,L22>0),MIN(L9,IF(M10<0,0,M10),L22)*'Исходные данные'!$C$212,0)","v":1260694.2625},{"$f":"IF(AND(N7<>\"\",M9>0,M9>$B$16,M22>0),MIN(M9,IF(N10<0,0,N10),M22)*'Исходные данные'!$C$212,0)","v":0},{"$f":"IF(AND(O7<>\"\",N9>0,N9>$B$16,N22>0),MIN(N9,IF(O10<0,0,O10),N22)*'Исходные данные'!$C$212,0)","v":0},{"$f":"IF(AND(P7<>\"\",O9>0,O9>$B$16,O22>0),MIN(O9,IF(P10<0,0,P10),O22)*'Исходные данные'!$C$212,0)","v":184492.65275000012},{"$f":"IF(AND(Q7<>\"\",P9>0,P9>$B$16,P22>0),MIN(P9,IF(Q10<0,0,Q10),P22)*'Исходные данные'!$C$212,0)","v":0},{"$f":"IF(AND(R7<>\"\",Q9>0,Q9>$B$16,Q22>0),MIN(Q9,IF(R10<0,0,R10),Q22)*'Исходные данные'!$C$212,0)","v":0},{"$f":"IF(AND(S7<>\"\",R9>0,R9>$B$16,R22>0),MIN(R9,IF(S10<0,0,S10),R22)*'Исходные данные'!$C$212,0)","v":236116.74400000018},{"$f":"IF(AND(T7<>\"\",S9>0,S9>$B$16,S22>0),MIN(S9,IF(T10<0,0,T10),S22)*'Исходные данные'!$C$212,0)","v":0},{"$f":"IF(AND(U7<>\"\",T9>0,T9>$B$16,T22>0),MIN(T9,IF(U10<0,0,U10),T22)*'Исходные данные'!$C$212,0)","v":0},{"$f":"IF(AND(V7<>\"\",U9>0,U9>$B$16,U22>0),MIN(U9,IF(V10<0,0,V10),U22)*'Исходные данные'!$C$212,0)","v":193946.93200000003},{"$f":"IF(AND(W7<>\"\",V9>0,V9>$B$16,V22>0),MIN(V9,IF(W10<0,0,W10),V22)*'Исходные данные'!$C$212,0)","v":0},{"$f":"IF(AND(X7<>\"\",W9>0,W9>$B$16,W22>0),MIN(W9,IF(X10<0,0,X10),W22)*'Исходные данные'!$C$212,0)","v":0},{"$f":"IF(AND(Y7<>\"\",X9>0,X9>$B$16,X22>0),MIN(X9,IF(Y10<0,0,Y10),X22)*'Исходные данные'!$C$212,0)","v":1277515.9722624996},{"$f":"IF(AND(Z7<>\"\",Y9>0,Y9>$B$16,Y22>0),MIN(Y9,IF(Z10<0,0,Z10),Y22)*'Исходные данные'!$C$212,0)","v":0},{"$f":"IF(AND(AA7<>\"\",Z9>0,Z9>$B$16,Z22>0),MIN(Z9,IF(AA10<0,0,AA10),Z22)*'Исходные данные'!$C$212,0)","v":0},{"$f":"IF(AND(AB7<>\"\",AA9>0,AA9>$B$16,AA22>0),MIN(AA9,IF(AB10<0,0,AB10),AA22)*'Исходные данные'!$C$212,0)","v":200659.02850000001},{"$f":"IF(AND(AC7<>\"\",AB9>0,AB9>$B$16,AB22>0),MIN(AB9,IF(AC10<0,0,AC10),AB22)*'Исходные данные'!$C$212,0)","v":0},{"$f":"IF(AND(AD7<>\"\",AC9>0,AC9>$B$16,AC22>0),MIN(AC9,IF(AD10<0,0,AD10),AC22)*'Исходные данные'!$C$212,0)","v":0},{"$f":"IF(AND(AE7<>\"\",AD9>0,AD9>$B$16,AD22>0),MIN(AD9,IF(AE10<0,0,AE10),AD22)*'Исходные данные'!$C$212,0)","v":204549.59400000004},{"$f":"IF(AND(AF7<>\"\",AE9>0,AE9>$B$16,AE22>0),MIN(AE9,IF(AF10<0,0,AF10),AE22)*'Исходные данные'!$C$212,0)","v":0},{"$f":"IF(AND(AG7<>\"\",AF9>0,AF9>$B$16,AF22>0),MIN(AF9,IF(AG10<0,0,AG10),AF22)*'Исходные данные'!$C$212,0)","v":0},{"$f":"IF(AND(AH7<>\"\",AG9>0,AG9>$B$16,AG22>0),MIN(AG9,IF(AH10<0,0,AH10),AG22)*'Исходные данные'!$C$212,0)","v":200039.1820000005},{"$f":"IF(AND(AI7<>\"\",AH9>0,AH9>$B$16,AH22>0),MIN(AH9,IF(AI10<0,0,AI10),AH22)*'Исходные данные'!$C$212,0)","v":0},{"$f":"IF(AND(AJ7<>\"\",AI9>0,AI9>$B$16,AI22>0),MIN(AI9,IF(AJ10<0,0,AJ10),AI22)*'Исходные данные'!$C$212,0)","v":0},{"$f":"IF(AND(AK7<>\"\",AJ9>0,AJ9>$B$16,AJ22>0),MIN(AJ9,IF(AK10<0,0,AK10),AJ22)*'Исходные данные'!$C$212,0)","v":1286957.5316971242},{"$f":"IF(AND(AL7<>\"\",AK9>0,AK9>$B$16,AK22>0),MIN(AK9,IF(AL10<0,0,AL10),AK22)*'Исходные данные'!$C$212,0)","v":0},{"$f":"IF(AND(AM7<>\"\",AL9>0,AL9>$B$16,AL22>0),MIN(AL9,IF(AM10<0,0,AM10),AL22)*'Исходные данные'!$C$212,0)","v":0},{"$f":"IF(AND(AN7<>\"\",AM9>0,AM9>$B$16,AM22>0),MIN(AM9,IF(AN10<0,0,AN10),AM22)*'Исходные данные'!$C$212,0)","v":225459.02850000001},{"$f":"IF(AND(AO7<>\"\",AN9>0,AN9>$B$16,AN22>0),MIN(AN9,IF(AO10<0,0,AO10),AN22)*'Исходные данные'!$C$212,0)","v":0},{"$f":"IF(AND(AP7<>\"\",AO9>0,AO9>$B$16,AO22>0),MIN(AO9,IF(AP10<0,0,AP10),AO22)*'Исходные данные'!$C$212,0)","v":0},{"$f":"IF(AND(AQ7<>\"\",AP9>0,AP9>$B$16,AP22>0),MIN(AP9,IF(AQ10<0,0,AQ10),AP22)*'Исходные данные'!$C$212,0)","v":222849.59399999958},{"$f":"IF(AND(AR7<>\"\",AQ9>0,AQ9>$B$16,AQ22>0),MIN(AQ9,IF(AR10<0,0,AR10),AQ22)*'Исходные данные'!$C$212,0)","v":0},{"$f":"IF(AND(AS7<>\"\",AR9>0,AR9>$B$16,AR22>0),MIN(AR9,IF(AS10<0,0,AS10),AR22)*'Исходные данные'!$C$212,0)","v":0},{"$f":"IF(AND(AT7<>\"\",AS9>0,AS9>$B$16,AS22>0),MIN(AS9,IF(AT10<0,0,AT10),AS22)*'Исходные данные'!$C$212,0)","v":218339.18200000003},{"$f":"IF(AND(AU7<>\"\",AT9>0,AT9>$B$16,AT22>0),MIN(AT9,IF(AU10<0,0,AU10),AT22)*'Исходные данные'!$C$212,0)","v":0},{"$f":"IF(AND(AV7<>\"\",AU9>0,AU9>$B$16,AU22>0),MIN(AU9,IF(AV10<0,0,AV10),AU22)*'Исходные данные'!$C$212,0)","v":0},{"$f":"IF(AND(AW7<>\"\",AV9>0,AV9>$B$16,AV22>0),MIN(AV9,IF(AW10<0,0,AW10),AV22)*'Исходные данные'!$C$212,0)","v":1304677.0524140866},{"$f":"IF(AND(AX7<>\"\",AW9>0,AW9>$B$16,AW22>0),MIN(AW9,IF(AX10<0,0,AX10),AW22)*'Исходные данные'!$C$212,0)","v":0},{"$f":"IF(AND(AY7<>\"\",AX9>0,AX9>$B$16,AX22>0),MIN(AX9,IF(AY10<0,0,AY10),AX22)*'Исходные данные'!$C$212,0)","v":0},{"$f":"IF(AND(AZ7<>\"\",AY9>0,AY9>$B$16,AY22>0),MIN(AY9,IF(AZ10<0,0,AZ10),AY22)*'Исходные данные'!$C$212,0)","v":223459.02850000001},{"$f":"IF(AND(BA7<>\"\",AZ9>0,AZ9>$B$16,AZ22>0),MIN(AZ9,IF(BA10<0,0,BA10),AZ22)*'Исходные данные'!$C$212,0)","v":0},{"$f":"IF(AND(BB7<>\"\",BA9>0,BA9>$B$16,BA22>0),MIN(BA9,IF(BB10<0,0,BB10),BA22)*'Исходные данные'!$C$212,0)","v":0},{"$f":"IF(AND(BC7<>\"\",BB9>0,BB9>$B$16,BB22>0),MIN(BB9,IF(BC10<0,0,BC10),BB22)*'Исходные данные'!$C$212,0)","v":222849.59399999958},{"$f":"IF(AND(BD7<>\"\",BC9>0,BC9>$B$16,BC22>0),MIN(BC9,IF(BD10<0,0,BD10),BC22)*'Исходные данные'!$C$212,0)","v":0},{"$f":"IF(AND(BE7<>\"\",BD9>0,BD9>$B$16,BD22>0),MIN(BD9,IF(BE10<0,0,BE10),BD22)*'Исходные данные'!$C$212,0)","v":0},{"$f":"IF(AND(BF7<>\"\",BE9>0,BE9>$B$16,BE22>0),MIN(BE9,IF(BF10<0,0,BF10),BE22)*'Исходные данные'!$C$212,0)","v":218339.18200000003},{"$f":"IF(AND(BG7<>\"\",BF9>0,BF9>$B$16,BF22>0),MIN(BF9,IF(BG10<0,0,BG10),BF22)*'Исходные данные'!$C$212,0)","v":0},{"$f":"IF(AND(BH7<>\"\",BG9>0,BG9>$B$16,BG22>0),MIN(BG9,IF(BH10<0,0,BH10),BG22)*'Исходные данные'!$C$212,0)","v":0},{"$f":"IF(AND(BI7<>\"\",BH9>0,BH9>$B$16,BH22>0),MIN(BH9,IF(BI10<0,0,BI10),BH22)*'Исходные данные'!$C$212,0)","v":1302198.4667925788},{"$f":"IF(AND(BJ7<>\"\",BI9>0,BI9>$B$16,BI22>0),MIN(BI9,IF(BJ10<0,0,BJ10),BI22)*'Исходные данные'!$C$212,0)","v":0}]
["Выплаты дивидендов накопитльная",null,{"$f":"C11","v":0},{"$f":"C12+D11","v":0},{"$f":"D12+E11","v":0},0,0,0,0,95282.775151048379,95282.775151048379,95282.775151048379,1355977.0376510483,1355977.0376510483,1355977.0376510483,1540469.6904010484,1540469.6904010484,1540469.6904010484,1776586.4344010486,1776586.4344010486,1776586.4344010486,1970533.3664010486,1970533.3664010486,1970533.3664010486,3248049.3386635482,3248049.3386635482,3248049.3386635482,3448708.3671635482,3448708.3671635482,3448708.3671635482,3653257.9611635483,3653257.9611635483,3653257.9611635483,3853297.1431635488,3853297.1431635488,3853297.1431635488,5140254.674860673,5140254.674860673,5140254.674860673,5365713.703360673,5365713.703360673,5365713.703360673,5588563.2973606726,5588563.2973606726,5588563.2973606726,5806902.4793606726,5806902.4793606726,5806902.4793606726,7111579.5317747593,7111579.5317747593,7111579.5317747593,7335038.5602747593,7335038.5602747593,7335038.5602747593,7557888.1542747589,7557888.1542747589,7557888.1542747589,7776227.3362747589,7776227.3362747589,7776227.3362747589,9078425.8030673377,9078425.8030673377]
["I. Внеоборотные активы (ОС, НМА)",{"$f":"SUMIF('Исходные данные'!$G$167:$G$186,\"<>0\",'Исходные данные'!$C$167:$C$186)+'Исходные данные'!C195+'Исходные данные'!C196+'Исходные данные'!C198","v":340000},{"$f":"B13+БДДС!D59-БДР!C24","v":328750},{"$f":"C13+БДДС!E59-БДР!D24","v":317500},{"$f":"D13+БДДС!F59-БДР!E24","v":306250},{"$f":"E13+БДДС!G59-БДР!F24","v":295000},{"$f":"F13+БДДС!H59-БДР!G24","v":283750},{"$f":"G13+БДДС!I59-БДР!H24","v":272500},{"$f":"H13+БДДС!J59-БДР!I24","v":261250},{"$f":"I13+БДДС!K59-БДР!J24","v":250000},{"$f":"J13+БДДС!L59-БДР!K24","v":238750},{"$f":"K13+БДДС!M59-БДР!L24","v":227500},{"$f":"L13+БДДС!N59-БДР!M24","v":216250},{"$f":"M13+БДДС!O59-БДР!N24","v":205000},{"$f":"N13+БДДС!P59-БДР!O24","v":198250},{"$f":"O13+БДДС!Q59-БДР!P24","v":191500},{"$f":"P13+БДДС!R59-БДР!Q24","v":184750},{"$f":"Q13+БДДС!S59-БДР!R24","v":178000},{"$f":"R13+БДДС!T59-БДР!S24","v":171250},{"$f":"S13+БДДС!U59-БДР!T24","v":164500},{"$f":"T13+БДДС!V59-БДР!U24","v":157750},{"$f":"U13+БДДС!W59-БДР!V24","v":151000},{"$f":"V13+БДДС!X59-БДР!W24","v":144250},{"$f":"W13+БДДС!Y59-БДР!X24","v":137500},{"$f":"X13+БДДС!Z59-БДР!Y24","v":130750},{"$f":"Y13+БДДС!AA59-БДР!Z24","v":124000},{"$f":"Z13+БДДС!AB59-БДР!AA24","v":119500},{"$f":"AA13+БДДС!AC59-БДР!AB24","v":115000},{"$f":"AB13+БДДС!AD59-БДР!AC24","v":110500},{"$f":"AC13+БДДС!AE59-БДР!AD24","v":106000},{"$f":"AD13+БДДС!AF59-БДР!AE24","v":101500},{"$f":"AE13+БДДС!AG59-БДР!AF24","v":97000},{"$f":"AF13+БДДС!AH59-БДР!AG24","v":92500},{"$f":"AG13+БДДС!AI59-БДР!AH24","v":88000},{"$f":"AH13+БДДС!AJ59-БДР!AI24","v":83500},{"$f":"AI13+БДДС!AK59-БДР!AJ24","v":79000},{"$f":"AJ13+БДДС!AL59-БДР!AK24","v":74500},{"$f":"AK13+БДДС!AM59-БДР!AL24","v":140000},{"$f":"AL13+БДДС!AN59-БДР!AM24","v":140000},{"$f":"AM13+БДДС!AO59-БДР!AN24","v":140000},{"$f":"AN13+БДДС!AP59-БДР!AO24","v":140000},{"$f":"AO13+БДДС!AQ59-БДР!AP24","v":140000},{"$f":"AP13+БДДС!AR59-БДР!AQ24","v":140000},{"$f":"AQ13+БДДС!AS59-БДР!AR24","v":140000},{"$f":"AR13+БДДС!AT59-БДР!AS24","v":140000},{"$f":"AS13+БДДС!AU59-БДР!AT24","v":140000},{"$f":"AT13+БДДС!AV59-БДР!AU24","v":140000},{"$f":"AU13+БДДС!AW59-БДР!AV24","v":140000},{"$f":"AV13+БДДС!AX59-БДР!AW24","v":140000},{"$f":"AW13+БДДС!AY59-БДР!AX24","v":140000},{"$f":"AX13+БДДС!AZ59-БДР!AY24","v":140000},{"$f":"AY13+БДДС!BA59-БДР!AZ24","v":140000},{"$f":"AZ13+БДДС!BB59-БДР!BA24","v":140000},{"$f":"BA13+БДДС!BC59-БДР!BB24","v":140000},{"$f":"BB13+БДДС!BD59-БДР!BC24","v":140000},{"$f":"BC13+БДДС!BE59-БДР!BD24","v":140000},{"$f":"BD13+БДДС!BF59-БДР!BE24","v":140000},{"$f":"BE13+БДДС!BG59-БДР!BF24","v":140000},{"$f":"BF13+БДДС!BH59-БДР!BG24","v":140000},{"$f":"BG13+БДДС!BI59-БДР!BH24","v":140000},{"$f":"BH13+БДДС!BJ59-БДР!BI24","v":140000},{"$f":"BI13+БДДС!BK59-БДР!BJ24","v":140000}]
["II. Оборотные активы",{"$f":"SUM(B15:B17)","v":420000},155429.87185768486,248519.83041905527,334073.09415468085,440210.45990104834,550136.3745677151,537514.07248438173,594032.77515104844,1406918.2906666673,1626066.9678333341,1793194.2625000007,554167.79466666759,525129.15475000092,646242.65275000094,515231.14800000086,580490.0460000009,718116.74400000088,592174.99800000072,638844.89600000065,696196.93200000073,1410667.3740000012,1632055.3442625012,1800015.9722625013,644343.37800000154,620045.53050000151,741159.02850000153,555663.99800000153,620922.89600000158,758549.59400000155,663517.24800000153,710187.14600000146,767539.18200000154,{"$f":"SUM(AH15:AH17)","v":1315259.6240000012},1538396.9036971265,1707957.5316971266,544443.37800000224,441745.53050000221,585459.02850000223,376763.99800000223,443622.89600000228,582849.59400000225,471117.2480000027,519387.14600000263,578339.18200000271,1269359.6240000031,1495116.4244140894,1664677.0524140894,483443.3780000027,460745.53050000267,583459.02850000269,376763.9980000027,443622.89600000274,582849.59400000272,471117.24800000316,519387.14600000309,578339.18200000317,1269359.6240000036,1492637.8387925811,1662198.4667925811,483443.37800000224,401745.53050000221]
["Запасы",{"$f":"'Исходные данные'!C194","v":90001.833333333328},{"$f":"B15-БДР!C14+БДР!C14","v":90001.833333333343},{"$f":"C15-БДР!D14+БДР!D14","v":90001.833333333343},{"$f":"D15-БДР!E14+БДР!E14","v":90001.833333333343},{"$f":"E15-БДР!F14+БДР!F14","v":90001.833333333343},{"$f":"F15-БДР!G14+БДР!G14","v":90001.833333333372},{"$f":"G15-БДР!H14+БДР!H14","v":90001.833333333372},{"$f":"H15-БДР!I14+БДР!I14","v":90001.833333333372},{"$f":"I15-БДР!J14+БДР!J14","v":90001.833333333372},{"$f":"J15-БДР!K14+БДР!K14","v":90001.833333333372},{"$f":"K15-БДР!L14+БДР!L14","v":90001.833333333372},{"$f":"L15-БДР!M14+БДР!M14","v":90001.833333333372},{"$f":"M15-БДР!N14+БДР!N14","v":90001.833333333372},{"$f":"N15-БДР!O14+БДР!O14","v":90001.833333333372},{"$f":"O15-БДР!P14+БДР!P14","v":90001.833333333372},{"$f":"P15-БДР!Q14+БДР!Q14","v":90001.833333333372},{"$f":"Q15-БДР!R14+БДР!R14","v":90001.833333333372},{"$f":"R15-БДР!S14+БДР!S14","v":90001.833333333372},{"$f":"S15-БДР!T14+БДР!T14","v":90001.833333333372},{"$f":"T15-БДР!U14+БДР!U14","v":90001.833333333372},{"$f":"U15-БДР!V14+БДР!V14","v":90001.833333333372},{"$f":"V15-БДР!W14+БДР!W14","v":90001.833333333372},{"$f":"W15-БДР!X14+БДР!X14","v":90001.833333333372},{"$f":"X15-БДР!Y14+БДР!Y14","v":90001.833333333372},{"$f":"Y15-БДР!Z14+БДР!Z14","v":90001.833333333372},{"$f":"Z15-БДР!AA14+БДР!AA14","v":90001.833333333372},{"$f":"AA15-БДР!AB14+БДР!AB14","v":90001.833333333372},{"$f":"AB15-БДР!AC14+БДР!AC14","v":90001.833333333372},{"$f":"AC15-БДР!AD14+БДР!AD14","v":90001.833333333372},{"$f":"AD15-БДР!AE14+БДР!AE14","v":90001.833333333372},{"$f":"AE15-БДР!AF14+БДР!AF14","v":90001.833333333372},{"$f":"AF15-БДР!AG14+БДР!AG14","v":90001.833333333372},{"$f":"AG15-БДР!AH14+БДР!AH14","v":90001.833333333372},{"$f":"AH15-БДР!AI14+БДР!AI14","v":90001.833333333372},{"$f":"AI15-БДР!AJ14+БДР!AJ14","v":90001.833333333372},{"$f":"AJ15-БДР!AK14+БДР!AK14","v":90001.833333333372},{"$f":"AK15-БДР!AL14+БДР!AL14","v":90001.833333333372},{"$f":"AL15-БДР!AM14+БДР!AM14","v":90001.833333333372},{"$f":"AM15-БДР!AN14+БДР!AN14","v":90001.833333333372},{"$f":"AN15-БДР!AO14+БДР!AO14","v":90001.833333333372},{"$f":"AO15-БДР!AP14+БДР!AP14","v":90001.833333333372},{"$f":"AP15-БДР!AQ14+БДР!AQ14","v":90001.833333333372},{"$f":"AQ15-БДР!AR14+БДР!AR14","v":90001.833333333372},{"$f":"AR15-БДР!AS14+БДР!AS14","v":90001.833333333372},{"$f":"AS15-БДР!AT14+БДР!AT14","v":90001.833333333372},{"$f":"AT15-БДР!AU14+БДР!AU14","v":90001.833333333372},{"$f":"AU15-БДР!AV14+БДР!AV14","v":90001.833333333372},{"$f":"AV15-БДР!AW14+БДР!AW14","v":90001.833333333372},{"$f":"AW15-БДР!AX14+БДР!AX14","v":90001.833333333372},{"$f":"AX15-БДР!AY14+БДР!AY14","v":90001.833333333372},{"$f":"AY15-БДР!AZ14+БДР!AZ14","v":90001.833333333372},{"$f":"AZ15-БДР!BA14+БДР!BA14","v":90001.833333333372},{"$f":"BA15-БДР!BB14+БДР!BB14","v":90001.833333333372},{"$f":"BB15-БДР!BC14+БДР!BC14","v":90001.833333333372},{"$f":"BC15-БДР!BD14+БДР!BD14","v":90001.833333333372},{"$f":"BD15-БДР!BE14+БДР!BE14","v":90001.833333333372},{"$f":"BE15-БДР!BF14+БДР!BF14","v":90001.833333333372},{"$f":"BF15-БДР!BG14+БДР!BG14","v":90001.833333333372},{"$f":"BG15-БДР!BH14+БДР!BH14","v":90001.833333333372},{"$f":"BH15-БДР!BI14+БДР!BI14","v":90001.833333333372},{"$f":"BI15-БДР!BJ14+БДР!BJ14","v":90001.833333333372}]
["Денежные средства",{"$f":"'Исходные данные'!C273","v":2941.5141666666605},{"$f":"БДДС!D71","v":65428.038524351527},{"$f":"БДДС!E71","v":158517.99708572193},{"$f":"БДДС!F71","v":244071.2608213475},{"$f":"БДДС!G71","v":350208.62656771502},{"$f":"БДДС!H71","v":460134.54123438173},{"$f":"БДДС!I71","v":447512.2391510483},{"$f":"БДДС!J71","v":504030.94181771507},{"$f":"БДДС!K71","v":1316916.4573333338},{"$f":"БДДС!L71","v":1536065.1345000006},{"$f":"БДДС!M71","v":1703192.4291666674},{"$f":"БДДС!N71","v":464165.96133333421},{"$f":"БДДС!O71","v":435127.3214166676},{"$f":"БДДС!P71","v":556240.81941666757},{"$f":"БДДС!Q71","v":425229.31466666749},{"$f":"БДДС!R71","v":490488.21266666753},{"$f":"БДДС!S71","v":628114.91066666751},{"$f":"БДДС!T71","v":502173.16466666735},{"$f":"БДДС!U71","v":548843.06266666728},{"$f":"БДДС!V71","v":606195.09866666736},{"$f":"БДДС!W71","v":1320665.5406666677},{"$f":"БДДС!X71","v":1542053.5109291677},{"$f":"БДДС!Y71","v":1710014.1389291678},{"$f":"БДДС!Z71","v":554341.54466666817},{"$f":"БДДС!AA71","v":530043.69716666813},{"$f":"БДДС!AB71","v":651157.19516666816},{"$f":"БДДС!AC71","v":465662.16466666816},{"$f":"БДДС!AD71","v":530921.06266666821},{"$f":"БДДС!AE71","v":668547.76066666818},{"$f":"БДДС!AF71","v":573515.41466666816},{"$f":"БДДС!AG71","v":620185.31266666809},{"$f":"БДДС!AH71","v":677537.34866666817},{"$f":"БДДС!AI71","v":1225257.790666668},{"$f":"БДДС!AJ71","v":1448395.0703637931},{"$f":"БДДС!AK71","v":1617955.6983637931},{"$f":"БДДС!AL71","v":454441.54466666887},{"$f":"БДДС!AM71","v":351743.69716666883},{"$f":"БДДС!AN71","v":495457.19516666885},{"$f":"БДДС!AO71","v":286762.16466666886},{"$f":"БДДС!AP71","v":353621.06266666891},{"$f":"БДДС!AQ71","v":492847.76066666888},{"$f":"БДДС!AR71","v":381115.41466666933},{"$f":"БДДС!AS71","v":429385.31266666926},{"$f":"БДДС!AT71","v":488337.34866666934},{"$f":"БДДС!AU71","v":1179357.7906666696},{"$f":"БДДС!AV71","v":1405114.5910807559},{"$f":"БДДС!AW71","v":1574675.219080756},{"$f":"БДДС!AX71","v":393441.54466666933},{"$f":"БДДС!AY71","v":370743.6971666693},{"$f":"БДДС!AZ71","v":493457.19516666932},{"$f":"БДДС!BA71","v":286762.16466666933},{"$f":"БДДС!BB71","v":353621.06266666937},{"$f":"БДДС!BC71","v":492847.76066666935},{"$f":"БДДС!BD71","v":381115.41466666979},{"$f":"БДДС!BE71","v":429385.31266666972},{"$f":"БДДС!BF71","v":488337.3486666698},{"$f":"БДДС!BG71","v":1179357.7906666701},{"$f":"БДДС!BH71","v":1402636.0054592476},{"$f":"БДДС!BI71","v":1572196.6334592476},{"$f":"БДДС!BJ71","v":393441.54466666887},{"$f":"БДДС!BK71","v":311743.69716666883}]
["Прочие оборотные активы",{"$f":"БДР!C42","v":327056.65250000003}]
["ИТОГО по активам баланса",{"$f":"SUM(B13:B14)","v":760000},484179.87185768486,566019.8304190553,640323.09415468085,735210.45990104834,833886.3745677151,810014.07248438173,855282.77515104844,1656918.2906666673,1864816.9678333341,2020694.2625000007,770417.79466666759,730129.15475000092,844492.65275000094,706731.14800000086,765240.0460000009,896116.74400000088,763424.99800000072,803344.89600000065,853946.93200000073,1561667.3740000012,1776305.3442625012,1937515.9722625013,775093.37800000154,744045.53050000151,860659.02850000153,670663.99800000153,731422.89600000158,864549.59400000155,765017.24800000153,807187.14600000146,860039.18200000154,{"$f":"SUM(AH13:AH14)","v":1403259.6240000012},1621896.9036971265,1786957.5316971266,618943.37800000224,581745.53050000221,725459.02850000223,516763.99800000223,583622.89600000228,722849.59400000225,611117.2480000027,659387.14600000263,718339.18200000271,1409359.6240000031,1635116.4244140894,1804677.0524140894,623443.3780000027,600745.53050000267,723459.02850000269,516763.9980000027,583622.89600000274,722849.59400000272,611117.24800000316,659387.14600000309,718339.18200000317,1409359.6240000036,1632637.8387925811,1802198.4667925811,623443.37800000224,541745.53050000221]
["III. Капитал и резервы",{"$f":"SUM(B20:B22)","v":500000},{"$f":"SUM(C20:C22)","v":224179.8718576848},306019.83041905513,380323.09415468073,475210.45990104834,573886.37456771499,550014.07248438161,595282.77515104832,1396918.2906666666,1604816.9678333332,1760694.2625,610417.79466666677,570129.15475000022,684492.65275000012,546731.14800000004,605240.04600000009,736116.74400000018,603424.99799999991,643344.89599999995,693946.93200000003,1401667.3739999996,1616305.3442624996,1777515.9722624996,615093.37800000003,584045.53049999988,700659.02850000001,510663.99800000014,571422.89600000018,704549.59400000004,605017.24800000014,647187.14600000018,700039.1820000005,1403259.6239999998,1621896.9036971247,1786957.5316971242,618943.37800000049,581745.53050000034,725459.02850000001,516763.99799999967,583622.89599999972,722849.59399999958,611117.24799999967,659387.14599999972,718339.18200000003,1409359.6239999998,1635116.4244140862,1804677.0524140866,623443.37800000049,600745.53050000034,723459.02850000001,516763.99799999967,583622.89599999972,722849.59399999958,611117.24799999967,659387.14599999972,718339.18200000003,1409359.6240000008,1632637.8387925783,1802198.4667925788,623443.37800000049,541745.53050000034]
["Уставный и добавочный капитал",{"$f":"'Исходные данные'!C207","v":500000},{"$f":"B20","v":500000},{"$f":"C20","v":500000},500000,500000,500000,500000,500000,500000,500000,500000,500000,500000,500000,500000,500000,500000,500000,500000,500000,500000,500000,500000,500000,500000,500000,500000,500000,500000,500000,500000,500000,500000,500000,500000,500000,500000,500000,500000,500000,500000,500000,500000,500000,500000,500000,500000,500000,500000,500000,500000,500000,500000,500000,500000,500000,500000,500000,500000,500000,500000]
["Не подлежащие возврату гранты и субсидии",{"$f":"'Исходные данные'!C210","v":0},{"$f":"B21","v":0},{"$f":"C21","v":0},0,0,0,0,0,0,0,0,0,0,0,0,0,0,0,0,0,0,0,0,0,0,0,0,0,0,0,0,0,0,0,0,0,0,0,0,0,0,0,0,0,0,0,0,0,0,0,0,0,0,0,0,0,0,0,0,0,0]
["Нераспределенная прибыль",{"$f":"B9-B12","v":0},-275820.1281423152,-193980.16958094487,-119676.90584531924,-24789.540098951649,73886.374567715044,50014.072484381642,95282.775151048379,896918.29066666658,1104816.9678333332,1260694.2625,110417.79466666677,70129.15475000022,184492.65275000012,46731.148000000045,105240.04600000009,236116.74400000018,103424.99799999991,143344.89599999995,193946.93200000003,901667.3739999996,1116305.3442624996,1277515.9722624996,115093.37800000003,84045.530499999877,200659.02850000001,10663.998000000138,71422.896000000183,204549.59400000004,105017.24800000014,147187.14600000018,200039.1820000005,{"$f":"AH9-AH12","v":903259.62399999984},1121896.9036971247,1286957.5316971242,118943.37800000049,81745.530500000343,225459.02850000001,16763.997999999672,83622.895999999717,222849.59399999958,111117.24799999967,159387.14599999972,218339.18200000003,909359.62399999984,1135116.4244140862,1304677.0524140866,123443.37800000049,100745.53050000034,223459.02850000001,16763.997999999672,83622.895999999717,222849.59399999958,111117.24799999967,159387.14599999972,218339.18200000003,909359.62400000077,1132637.8387925783,1302198.4667925788,123443.37800000049,41745.530500000343]
["IV. Обязятельствя",{"$f":"SUM(B24:B25)","v":260000},260000,260000,260000,260000,260000,260000,260000,260000,260000,260000,160000,160000,160000,160000,160000,160000,160000,160000,160000,160000,160000,160000,160000,160000,160000,160000,160000,160000,160000,160000,160000,{"$f":"SUM(AH24:AH25)","v":0},0,0,0,0,0,0,0,0,0,0,0,0,0,0,0,0,0,0,0,0,0,0,0,0,0,0,0,0]
["Кредиты",{"$f":"'Исходные данные'!C209","v":160000},{"$f":"B24-БДДС!D52","v":160000},{"$f":"C24-БДДС!E52","v":160000},{"$f":"D24-БДДС!F52","v":160000},{"$f":"E24-БДДС!G52","v":160000},{"$f":"F24-БДДС!H52","v":160000},{"$f":"G24-БДДС!I52","v":160000},{"$f":"H24-БДДС!J52","v":160000},{"$f":"I24-БДДС!K52","v":160000},{"$f":"J24-БДДС!L52","v":160000},{"$f":"K24-БДДС!M52","v":160000},{"$f":"L24-БДДС!N52","v":160000},{"$f":"M24-БДДС!O52","v":160000},{"$f":"N24-БДДС!P52","v":160000},{"$f":"O24-БДДС!Q52","v":160000},{"$f":"P24-БДДС!R52","v":160000},{"$f":"Q24-БДДС!S52","v":160000},{"$f":"R24-БДДС!T52","v":160000},{"$f":"S24-БДДС!U52","v":160000},{"$f":"T24-БДДС!V52","v":160000},{"$f":"U24-БДДС!W52","v":160000},{"$f":"V24-БДДС!X52","v":160000},{"$f":"W24-БДДС!Y52","v":160000},{"$f":"X24-БДДС!Z52","v":160000},{"$f":"Y24-БДДС!AA52","v":160000},{"$f":"Z24-БДДС!AB52","v":160000},{"$f":"AA24-БДДС!AC52","v":160000},{"$f":"AB24-БДДС!AD52","v":160000},{"$f":"AC24-БДДС!AE52","v":160000},{"$f":"AD24-БДДС!AF52","v":160000},{"$f":"AE24-БДДС!AG52","v":160000},{"$f":"AF24-БДДС!AH52","v":160000},{"$f":"AG24-БДДС!AI52","v":0},{"$f":"AH24-БДДС!AJ52","v":0},{"$f":"AI24-БДДС!AK52","v":0},{"$f":"AJ24-БДДС!AL52","v":0},{"$f":"AK24-БДДС!AM52","v":0},{"$f":"AL24-БДДС!AN52","v":0},{"$f":"AM24-БДДС!AO52","v":0},{"$f":"AN24-БДДС!AP52","v":0},{"$f":"AO24-БДДС!AQ52","v":0},{"$f":"AP24-БДДС!AR52","v":0},{"$f":"AQ24-БДДС!AS52","v":0},{"$f":"AR24-БДДС!AT52","v":0},{"$f":"AS24-БДДС!AU52","v":0},{"$f":"AT24-БДДС!AV52","v":0},{"$f":"AU24-БДДС!AW52","v":0},{"$f":"AV24-БДДС!AX52","v":0},{"$f":"AW24-БДДС!AY52","v":0},{"$f":"AX24-БДДС!AZ52","v":0},{"$f":"AY24-БДДС!BA52","v":0},{"$f":"AZ24-БДДС!BB52","v":0},{"$f":"BA24-БДДС!BC52","v":0},{"$f":"BB24-БДДС!BD52","v":0},{"$f":"BC24-БДДС!BE52","v":0},{"$f":"BD24-БДДС!BF52","v":0},{"$f":"BE24-БДДС!BG52","v":0},{"$f":"BF24-БДДС!BH52","v":0},{"$f":"BG24-БДДС!BI52","v":0},{"$f":"BH24-БДДС!BJ52","v":0},{"$f":"BI24-БДДС!BK52","v":0}]
["Займы",{"$f":"'Исходные данные'!C208","v":100000},{"$f":"B25-БДДС!D50","v":100000},{"$f":"C25-БДДС!E50","v":100000},{"$f":"D25-БДДС!F50","v":100000},{"$f":"E25-БДДС!G50","v":100000},{"$f":"F25-БДДС!H50","v":100000},{"$f":"G25-БДДС!I50","v":100000},{"$f":"H25-БДДС!J50","v":100000},{"$f":"I25-БДДС!K50","v":100000},{"$f":"J25-БДДС!L50","v":100000},{"$f":"K25-БДДС!M50","v":100000},{"$f":"L25-БДДС!N50","v":0},{"$f":"M25-БДДС!O50","v":0},{"$f":"N25-БДДС!P50","v":0},{"$f":"O25-БДДС!Q50","v":0},{"$f":"P25-БДДС!R50","v":0},{"$f":"Q25-БДДС!S50","v":0},{"$f":"R25-БДДС!T50","v":0},{"$f":"S25-БДДС!U50","v":0},{"$f":"T25-БДДС!V50","v":0},{"$f":"U25-БДДС!W50","v":0},{"$f":"V25-БДДС!X50","v":0},{"$f":"W25-БДДС!Y50","v":0},{"$f":"X25-БДДС!Z50","v":0},{"$f":"Y25-БДДС!AA50","v":0},{"$f":"Z25-БДДС!AB50","v":0},{"$f":"AA25-БДДС!AC50","v":0},{"$f":"AB25-БДДС!AD50","v":0},{"$f":"AC25-БДДС!AE50","v":0},{"$f":"AD25-БДДС!AF50","v":0},{"$f":"AE25-БДДС!AG50","v":0},{"$f":"AF25-БДДС!AH50","v":0},{"$f":"AG25-БДДС!AI50","v":0},{"$f":"AH25-БДДС!AJ50","v":0},{"$f":"AI25-БДДС!AK50","v":0},{"$f":"AJ25-БДДС!AL50","v":0},{"$f":"AK25-БДДС!AM50","v":0},{"$f":"AL25-БДДС!AN50","v":0},{"$f":"AM25-БДДС!AO50","v":0},{"$f":"AN25-БДДС!AP50","v":0},{"$f":"AO25-БДДС!AQ50","v":0},{"$f":"AP25-БДДС!AR50","v":0},{"$f":"AQ25-БДДС!AS50","v":0},{"$f":"AR25-БДДС!AT50","v":0},{"$f":"AS25-БДДС!AU50","v":0},{"$f":"AT25-БДДС!AV50","v":0},{"$f":"AU25-БДДС!AW50","v":0},{"$f":"AV25-БДДС!AX50","v":0},{"$f":"AW25-БДДС!AY50","v":0},{"$f":"AX25-БДДС!AZ50","v":0},{"$f":"AY25-БДДС!BA50","v":0},{"$f":"AZ25-БДДС!BB50","v":0},{"$f":"BA25-БДДС!BC50","v":0},{"$f":"BB25-БДДС!BD50","v":0},{"$f":"BC25-БДДС!BE50","v":0},{"$f":"BD25-БДДС!BF50","v":0},{"$f":"BE25-БДДС!BG50","v":0},{"$f":"BF25-БДДС!BH50","v":0},{"$f":"BG25-БДДС!BI50","v":0},{"$f":"BH25-БДДС!BJ50","v":0},{"$f":"BI25-БДДС!BK50","v":0}]
["ИТОГО по пассивам баланса",{"$f":"B19+B23","v":760000},484179.8718576848,566019.83041905519,640323.09415468073,735210.45990104834,833886.37456771499,810014.07248438161,855282.77515104832,1656918.2906666666,1864816.9678333332,2020694.2625,770417.79466666677,730129.15475000022,844492.65275000012,706731.14800000004,765240.04600000009,896116.74400000018,763424.99799999991,803344.89599999995,853946.93200000003,1561667.3739999996,1776305.3442624996,1937515.9722624996,775093.37800000003,744045.53049999988,860659.02850000001,670663.99800000014,731422.89600000018,864549.59400000004,765017.24800000014,807187.14600000018,860039.1820000005,{"$f":"AH19+AH23","v":1403259.6239999998},1621896.9036971247,1786957.5316971242,618943.37800000049,581745.53050000034,725459.02850000001,516763.99799999967,583622.89599999972,722849.59399999958,611117.24799999967,659387.14599999972,718339.18200000003,1409359.6239999998,1635116.4244140862,1804677.0524140866,623443.37800000049,600745.53050000034,723459.02850000001,516763.99799999967,583622.89599999972,722849.59399999958,611117.24799999967,659387.14599999972,718339.18200000003,1409359.6240000008,1632637.8387925783,1802198.4667925788,623443.37800000049,541745.53050000034]
[]
["БАЛАНС ПО КВАРТАЛАМ"]
["Статья движения ДС","\"0\"",{"$f":"C6","v":2021},null,null,null,{"$f":"C29+1","v":2022},null,null,null,{"$f":"G29+1","v":2023},null,null,null,{"$f":"K29+1","v":2024},null,null,null,{"$f":"O29+1","v":2025}]
[null,null,"1кв","2кв","3кв","4кв","1кв","2кв","3кв","4кв","1кв","2кв","3кв","4кв","1кв","2кв","3кв","4кв","1кв","2кв","3кв","4кв"]
["Квартал","\"0\"",{"$f":"C30&$C$29","v":"1кв2021"},{"$f":"D30&$C$29","v":"2кв2021"},{"$f":"E30&$C$29","v":"3кв2021"},{"$f":"F30&$C$29","v":"4кв2021"},{"$f":"G30&$G$29","v":"1кв2022"},{"$f":"H30&$G$29","v":"2кв2022"},{"$f":"I30&$G$29","v":"3кв2022"},{"$f":"J30&$G$29","v":"4кв2022"},{"$f":"K30&$K$29","v":"1кв2023"},{"$f":"L30&$K$29","v":"2кв2023"},{"$f":"M30&$K$29","v":"3кв2023"},{"$f":"N30&$K$29","v":"4кв2023"},{"$f":"O30&$O$29","v":"1кв2024"},{"$f":"P30&$O$29","v":"2кв2024"},{"$f":"Q30&$O$29","v":"3кв2024"},{"$f":"R30&$O$29","v":"4кв2024"},{"$f":"S30&$S$29","v":"1кв2025"},{"$f":"T30&$S$29","v":"2кв2025"},"3кв2025","4кв2025"]
["I. Внеоборотные активы (ОС, НМА)",{"$f":"B13","v":340000},{"$f":"SUMIF($C$8:$BJ$8,C$31,$C$13:$BJ$13)","v":0},{"$f":"SUMIF($C$8:$BJ$8,D$31,$C$13:$BJ$13)","v":317500},283750,250000,216250,191500,171250,151000,130750,115000,101500,88000,74500,140000,140000,140000,140000,140000,140000,140000]
["II. Оборотные активы",{"$f":"SUM(B34:B36)","v":420000},{"$f":"SUM(C34:C36)","v":0},248519.83041905527,550136.3745677151,1406918.2906666673,554167.79466666759,515231.14800000086,592174.99800000072,1410667.3740000012,644343.37800000154,555663.99800000153,663517.24800000153,1315259.6240000012,544443.37800000224,376763.99800000223,471117.2480000027,1269359.6240000031,483443.3780000027,376763.9980000027,471117.24800000316,1269359.6240000036]
["Запасы",{"$f":"B15","v":90001.833333333328},{"$f":"SUMIF($C$8:$BJ$8,C$31,$C$15:$BJ$15)","v":0},{"$f":"SUMIF($C$8:$BJ$8,D$31,$C$15:$BJ$15)","v":90001.833333333343},90001.833333333372,90001.833333333372,90001.833333333372,90001.833333333372,90001.833333333372,90001.833333333372,90001.833333333372,90001.833333333372,90001.833333333372,90001.833333333372,90001.833333333372,90001.833333333372,90001.833333333372,90001.833333333372,90001.833333333372,90001.833333333372,90001.833333333372,90001.833333333372]
["Денежные средства",{"$f":"B16","v":2941.5141666666605},{"$f":"SUMIF($C$8:$BJ$8,C$31,$C$16:$BJ$16)","v":0},{"$f":"SUMIF($C$8:$BJ$8,D$31,$C$16:$BJ$16)","v":158517.99708572193},460134.54123438173,1316916.4573333338,464165.96133333421,425229.31466666749,502173.16466666735,1320665.5406666677,554341.54466666817,465662.16466666816,573515.41466666816,1225257.790666668,454441.54466666887,286762.16466666886,381115.41466666933,1179357.7906666696,393441.54466666933,286762.16466666933,381115.41466666979,1179357.7906666701]
["Прочие оборотные активы",327056.65250000003,{"$f":"SUMIF($C$8:$BJ$8,C$31,$C$17:$BJ$17)","v":0},{"$f":"SUMIF($C$8:$BJ$8,D$31,$C$17:$BJ$17)","v":0},0,0,0,0,0,0,0,0,0,0,0,0,0,0,0,0,0,0]
["ИТОГО по активам баланса",{"$f":"B32+B33","v":760000},{"$f":"C32+C33","v":0},566019.8304190553,833886.3745677151,1656918.2906666673,770417.79466666759,706731.14800000086,763424.99800000072,1561667.3740000012,775093.37800000154,670663.99800000153,765017.24800000153,1403259.6240000012,618943.37800000224,516763.99800000223,611117.2480000027,1409359.6240000031,623443.3780000027,516763.9980000027,611117.24800000316,1409359.6240000036]
["III. Капитал и резервы",{"$f":"SUM(B39:B41)","v":500000},{"$f":"SUM(C39:C41)","v":0},306019.83041905513,573886.37456771499,1396918.2906666666,610417.79466666677,546731.14800000004,603424.99799999991,1401667.3739999996,615093.37800000003,510663.99800000014,605017.24800000014,1403259.6239999998,618943.37800000049,516763.99799999967,611117.24799999967,1409359.6239999998,623443.37800000049,516763.99799999967,611117.24799999967,1409359.6240000008]
["Уставный и добавочный капитал",{"$f":"B20","v":500000},{"$f":"SUMIF($C$8:$BJ$8,C$31,$C$20:$BJ$20)","v":0},{"$f":"SUMIF($C$8:$BJ$8,D$31,$C$20:$BJ$20)","v":500000},500000,500000,500000,500000,500000,500000,500000,500000,500000,500000,500000,500000,500000,500000,500000,500000,500000,500000]
["Не подлежащие возврату гранты и субсидии",{"$f":"B21","v":0},{"$f":"SUMIF($C$8:$BJ$8,C$31,$C$21:$BJ$21)","v":0},{"$f":"SUMIF($C$8:$BJ$8,D$31,$C$21:$BJ$21)","v":0},0,0,0,0,0,0,0,0,0,0,0,0,0,0,0,0,0,0]
["Нераспределенная прибыль",0,{"$f":"SUMIF($C$8:$BJ$8,C$31,$C$22:$BJ$22)","v":0},{"$f":"SUMIF($C$8:$BJ$8,D$31,$C$22:$BJ$22)","v":-193980.16958094487},73886.374567715044,896918.29066666658,110417.79466666677,46731.148000000045,103424.99799999991,901667.3739999996,115093.37800000003,10663.998000000138,105017.24800000014,903259.62399999984,118943.37800000049,16763.997999999672,111117.24799999967,909359.62399999984,123443.37800000049,16763.997999999672,111117.24799999967,909359.62400000077]
["IV. Обязятельствя",{"$f":"SUM(B43:B44)","v":260000},{"$f":"SUM(C43:C44)","v":0},{"$f":"SUM(D43:D44)","v":260000},{"$f":"SUM(E43:E44)","v":260000},{"$f":"SUM(F43:F44)","v":260000},{"$f":"SUM(G43:G44)","v":160000},{"$f":"SUM(H43:H44)","v":160000},{"$f":"SUM(I43:I44)","v":160000},{"$f":"SUM(J43:J44)","v":160000},{"$f":"SUM(K43:K44)","v":160000},{"$f":"SUM(L43:L44)","v":160000},{"$f":"SUM(M43:M44)","v":160000},{"$f":"SUM(N43:N44)","v":0},{"$f":"SUM(O43:O44)","v":0},{"$f":"SUM(P43:P44)","v":0},{"$f":"SUM(Q43:Q44)","v":0},{"$f":"SUM(R43:R44)","v":0},{"$f":"SUM(S43:S44)","v":0},{"$f":"SUM(T43:T44)","v":0},{"$f":"SUM(U43:U44)","v":0},{"$f":"SUM(V43:V44)","v":0}]
["Кредиты",{"$f":"B24","v":160000},{"$f":"SUMIF($C$8:$BJ$8,C$31,$C$24:$BJ$24)","v":0},{"$f":"SUMIF($C$8:$BJ$8,D$31,$C$24:$BJ$24)","v":160000},160000,160000,160000,160000,160000,160000,160000,160000,160000,0,0,0,0,0,0,0,0,0]
["Займы",{"$f":"B25","v":100000},{"$f":"SUMIF($C$8:$BJ$8,C$31,$C$25:$BJ$25)","v":0},{"$f":"SUMIF($C$8:$BJ$8,D$31,$C$25:$BJ$25)","v":100000},100000,100000,0,0,0,0,0,0,0,0,0,0,0,0,0,0,0,0]
["ИТОГО по пассивам баланса",{"$f":"B38+B42","v":760000},{"$f":"C38+C42","v":0},566019.83041905519,833886.37456771499,1656918.2906666666,770417.79466666677,706731.14800000004,763424.99799999991,1561667.3739999996,775093.37800000003,670663.99800000014,765017.24800000014,1403259.6239999998,618943.37800000049,516763.99799999967,611117.24799999967,1409359.6239999998,623443.37800000049,516763.99799999967,611117.24799999967,1409359.6240000008]
[]
["Коэффициент покрытия инвестиций\n(отношение собственного капитала и долгосрочных обязательств к общей сумме капитала, нормальное значение 0,65 и более)",{"$f":"IFERROR(B38/B45,\"\")","v":0.65789473684210531},{"$f":"IFERROR(C38/C45,\"\")","v":""},0.5406521361495269,0.68820692131492922,0.84308218367522025,0.79232047713899645,0.77360556351196796,0.79041818067372216,0.89754540392927484,0.7935732589886737,0.76143046223274391,0.79085438868431901,1,{"$f":"IFERROR(O38/O45,\"\")","v":1},1,1,1,1,1,1,1]

{"sheet":"Налоги","index":6,"n_rows":211,"n_cols":64,"rows_kept":211,"cut":false,"hidden":false,"merged":[[199,0,199,2],[200,0,200,2],[192,0,192,2],[193,0,193,2],[194,0,194,2],[195,0,195,2],[196,0,196,2],[189,0,189,2],[190,0,190,2],[191,0,191,2],[197,0,197,2],[198,0,198,2],[2,0,4,0],[2,1,4,1],[184,0,186,2],[187,0,187,2],[188,0,188,2]]}
["ОТЧИСЛЕНИЯ В БЮДЖЕТ"]
["в руб."]
["Статья движения ДС",{"$f":"\"Сумма за \"&60+C4+D4&\" мес\"","v":"Сумма за 63 мес"},"0-й","0-й","1-й месяц","2-й месяц","3-й месяц","4-й месяц","5-й месяц","6-й месяц","7-й месяц","8-й месяц","9-й месяц","10-й месяц","11-й месяц","12-й месяц","13-й месяц","14-й месяц","15-й месяц","16-й месяц","17-й месяц","18-й месяц","19-й месяц","20-й месяц","21-й месяц","22-й месяц","23-й месяц","24-й месяц","25-й месяц","26-й месяц","27-й месяц","28-й месяц","29-й месяц","30-й месяц","31-й месяц","32-й месяц","33-й месяц","34-й месяц","35-й месяц","36-й месяц","37-й месяц","38-й месяц","39-й месяц","40-й месяц","41-й месяц","42-й месяц","43-й месяц","44-й месяц","45-й месяц","46-й месяц","47-й месяц","48-й месяц","49-й месяц","50-й месяц","51-й месяц","52-й месяц","53-й месяц","54-й месяц","55-й месяц","56-й месяц","57-й месяц","58-й месяц","59-й месяц","60-й месяц"]
[null,null,{"$f":"БДДС!C10-D4","v":0},{"$f":"COUNTIF('Исходные данные'!D257:O257,D5)","v":3},{"$f":"'План продаж'!D5","v":"Май"},{"$f":"'План продаж'!E5","v":"Июнь"},{"$f":"'План продаж'!F5","v":"Июль"},{"$f":"'План продаж'!G5","v":"Август"},{"$f":"'План продаж'!H5","v":"Сентябрь"},{"$f":"'План продаж'!I5","v":"Октябрь"},{"$f":"'План продаж'!J5","v":"Ноябрь"},{"$f":"'План продаж'!K5","v":"Декабрь"},{"$f":"'План продаж'!L5","v":"Январь"},{"$f":"'План продаж'!M5","v":"Февраль"},{"$f":"'План продаж'!N5","v":"Март"},{"$f":"'План продаж'!O5","v":"Апрель"},{"$f":"'План продаж'!P5","v":"Май"},{"$f":"'План продаж'!Q5","v":"Июнь"},{"$f":"'План продаж'!R5","v":"Июль"},{"$f":"'План продаж'!S5","v":"Август"},{"$f":"'План продаж'!T5","v":"Сентябрь"},{"$f":"'План продаж'!U5","v":"Октябрь"},{"$f":"'План продаж'!V5","v":"Ноябрь"},{"$f":"'План продаж'!W5","v":"Декабрь"},{"$f":"'План продаж'!X5","v":"Январь"},{"$f":"'План продаж'!Y5","v":"Февраль"},{"$f":"'План продаж'!Z5","v":"Март"},{"$f":"'План продаж'!AA5","v":"Апрель"},{"$f":"'План продаж'!AB5","v":"Май"},{"$f":"'План продаж'!AC5","v":"Июнь"},{"$f":"'План продаж'!AD5","v":"Июль"},{"$f":"'План продаж'!AE5","v":"Август"},{"$f":"'План продаж'!AF5","v":"Сентябрь"},{"$f":"'План продаж'!AG5","v":"Октябрь"},{"$f":"'План продаж'!AH5","v":"Ноябрь"},{"$f":"'План продаж'!AI5","v":"Декабрь"},{"$f":"'План продаж'!AJ5","v":"Январь"},{"$f":"'План продаж'!AK5","v":"Февраль"},{"$f":"'План продаж'!AL5","v":"Март"},{"$f":"'План продаж'!AM5","v":"Апрель"},{"$f":"'План продаж'!AN5","v":"Май"},{"$f":"'План продаж'!AO5","v":"Июнь"},{"$f":"'План продаж'!AP5","v":"Июль"},{"$f":"'План продаж'!AQ5","v":"Август"},{"$f":"'План продаж'!AR5","v":"Сентябрь"},{"$f":"'План продаж'!AS5","v":"Октябрь"},{"$f":"'План продаж'!AT5","v":"Ноябрь"},{"$f":"'План продаж'!AU5","v":"Декабрь"},{"$f":"'План продаж'!AV5","v":"Январь"},{"$f":"'План продаж'!AW5","v":"Февраль"},{"$f":"'План продаж'!AX5","v":"Март"},{"$f":"'План продаж'!AY5","v":"Апрель"},{"$f":"'План продаж'!AZ5","v":"Май"},{"$f":"'План продаж'!BA5","v":"Июнь"},{"$f":"'План продаж'!BB5","v":"Июль"},{"$f":"'План продаж'!BC5","v":"Август"},{"$f":"'План продаж'!BD5","v":"Сентябрь"},{"$f":"'План продаж'!BE5","v":"Октябрь"},{"$f":"'План продаж'!BF5","v":"Ноябрь"},{"$f":"'План продаж'!BG5","v":"Декабрь"},{"$f":"'План продаж'!BH5","v":"Январь"},{"$f":"'План продаж'!BI5","v":"Февраль"},{"$f":"'План продаж'!BJ5","v":"Март"},{"$f":"'План продаж'!BK5","v":"Апрель"}]
[null,null,{"$f":"D5-1","v":2020},{"$f":"E5","v":2021},{"$f":"'План продаж'!D6","v":2021},{"$f":"'План продаж'!E6","v":2021},{"$f":"'План продаж'!F6","v":2021},{"$f":"'План продаж'!G6","v":2021},{"$f":"'План продаж'!H6","v":2021},{"$f":"'План продаж'!I6","v":2021},{"$f":"'План продаж'!J6","v":2021},{"$f":"'План продаж'!K6","v":2021},{"$f":"'План продаж'!L6","v":2022},{"$f":"'План продаж'!M6","v":2022},{"$f":"'План продаж'!N6","v":2022},{"$f":"'План продаж'!O6","v":2022},{"$f":"'План продаж'!P6","v":2022},{"$f":"'План продаж'!Q6","v":2022},{"$f":"'План продаж'!R6","v":2022},{"$f":"'План продаж'!S6","v":2022},{"$f":"'План продаж'!T6","v":2022},{"$f":"'План продаж'!U6","v":2022},{"$f":"'План продаж'!V6","v":2022},{"$f":"'План продаж'!W6","v":2022},{"$f":"'План продаж'!X6","v":2023},{"$f":"'План продаж'!Y6","v":2023},{"$f":"'План продаж'!Z6","v":2023},{"$f":"'План продаж'!AA6","v":2023},{"$f":"'План продаж'!AB6","v":2023},{"$f":"'План продаж'!AC6","v":2023},{"$f":"'План продаж'!AD6","v":2023},{"$f":"'План продаж'!AE6","v":2023},{"$f":"'План продаж'!AF6","v":2023},{"$f":"'План продаж'!AG6","v":2023},{"$f":"'План продаж'!AH6","v":2023},{"$f":"'План продаж'!AI6","v":2023},{"$f":"'План продаж'!AJ6","v":2024},{"$f":"'План продаж'!AK6","v":2024},{"$f":"'План продаж'!AL6","v":2024},{"$f":"'План продаж'!AM6","v":2024},{"$f":"'План продаж'!AN6","v":2024},{"$f":"'План продаж'!AO6","v":2024},{"$f":"'План продаж'!AP6","v":2024},{"$f":"'План продаж'!AQ6","v":2024},{"$f":"'План продаж'!AR6","v":2024},{"$f":"'План продаж'!AS6","v":2024},{"$f":"'План продаж'!AT6","v":2024},{"$f":"'План продаж'!AU6","v":2024},{"$f":"'План продаж'!AV6","v":2025},{"$f":"'План продаж'!AW6","v":2025},{"$f":"'План продаж'!AX6","v":2025},{"$f":"'План продаж'!AY6","v":2025},{"$f":"'План продаж'!AZ6","v":2025},{"$f":"'План продаж'!BA6","v":2025},{"$f":"'План продаж'!BB6","v":2025},{"$f":"'План продаж'!BC6","v":2025},{"$f":"'План продаж'!BD6","v":2025},{"$f":"'План продаж'!BE6","v":2025},{"$f":"'План продаж'!BF6","v":2025},{"$f":"'План продаж'!BG6","v":2025},{"$f":"'План продаж'!BH6","v":2026},{"$f":"'План продаж'!BI6","v":2026},{"$f":"'План продаж'!BJ6","v":2026},{"$f":"'План продаж'!BK6","v":2026}]
["Квартальная выручка",null,null,null,{"$f":"IF(БДДС!D7=\"\",0,'План продаж'!D32)","v":0},{"$f":"IF(БДДС!E7=\"\",0,SUM('План продаж'!D32))","v":506120},{"$f":"IF(БДДС!F7=\"\",0,SUM('План продаж'!D32:E32))","v":0},{"$f":"IF(БДДС!G7=\"\",0,SUM('План продаж'!D32:F32))","v":0},{"$f":"IF(БДДС!H7=\"\",0,SUM('План продаж'!E32:G32))","v":1926720},{"$f":"IF(БДДС!I7=\"\",0,SUM('План продаж'!F32:H32))","v":0},{"$f":"IF(БДДС!J7=\"\",0,SUM('План продаж'!G32:I32))","v":0},{"$f":"IF(БДДС!K7=\"\",0,SUM('План продаж'!H32:J32))","v":2587180},{"$f":"IF(БДДС!L7=\"\",0,SUM('План продаж'!I32:K32))","v":0},{"$f":"IF(БДДС!M7=\"\",0,SUM('План продаж'!J32:L32))","v":0},{"$f":"IF(БДДС!N7=\"\",0,SUM('План продаж'!K32:M32))","v":3777720},{"$f":"IF(БДДС!O7=\"\",0,SUM('План продаж'!L32:N32))","v":0},{"$f":"IF(БДДС!P7=\"\",0,SUM('План продаж'!M32:O32))","v":0},{"$f":"IF(БДДС!Q7=\"\",0,SUM('План продаж'!N32:P32))","v":2212260},{"$f":"IF(БДДС!R7=\"\",0,SUM('План продаж'!O32:Q32))","v":0},{"$f":"IF(БДДС!S7=\"\",0,SUM('План продаж'!P32:R32))","v":0},{"$f":"IF(БДДС!T7=\"\",0,SUM('План продаж'!Q32:S32))","v":2223060},{"$f":"IF(БДДС!U7=\"\",0,SUM('План продаж'!R32:T32))","v":0},{"$f":"IF(БДДС!V7=\"\",0,SUM('План продаж'!S32:U32))","v":0},{"$f":"IF(БДДС!W7=\"\",0,SUM('План продаж'!T32:V32))","v":2587180},{"$f":"IF(БДДС!X7=\"\",0,SUM('План продаж'!U32:W32))","v":0},{"$f":"IF(БДДС!Y7=\"\",0,SUM('План продаж'!V32:X32))","v":0},{"$f":"IF(БДДС!Z7=\"\",0,SUM('План продаж'!W32:Y32))","v":3777720},{"$f":"IF(БДДС!AA7=\"\",0,SUM('План продаж'!X32:Z32))","v":0},{"$f":"IF(БДДС!AB7=\"\",0,SUM('План продаж'!Y32:AA32))","v":0},{"$f":"IF(БДДС!AC7=\"\",0,SUM('План продаж'!Z32:AB32))","v":2212260},{"$f":"IF(БДДС!AD7=\"\",0,SUM('План продаж'!AA32:AC32))","v":0},{"$f":"IF(БДДС!AE7=\"\",0,SUM('План продаж'!AB32:AD32))","v":0},{"$f":"IF(БДДС!AF7=\"\",0,SUM('План продаж'!AC32:AE32))","v":2223060},{"$f":"IF(БДДС!AG7=\"\",0,SUM('План продаж'!AD32:AF32))","v":0},{"$f":"IF(БДДС!AH7=\"\",0,SUM('План продаж'!AE32:AG32))","v":0},{"$f":"IF(БДДС!AI7=\"\",0,SUM('План продаж'!AF32:AH32))","v":2587180},{"$f":"IF(БДДС!AJ7=\"\",0,SUM('План продаж'!AG32:AI32))","v":0},{"$f":"IF(БДДС!AK7=\"\",0,SUM('План продаж'!AH32:AJ32))","v":0},{"$f":"IF(БДДС!AL7=\"\",0,SUM('План продаж'!AI32:AK32))","v":3777720},{"$f":"IF(БДДС!AM7=\"\",0,SUM('План продаж'!AJ32:AL32))","v":0},{"$f":"IF(БДДС!AN7=\"\",0,SUM('План продаж'!AK32:AM32))","v":0},{"$f":"IF(БДДС!AO7=\"\",0,SUM('План продаж'!AL32:AN32))","v":2212260},{"$f":"IF(БДДС!AP7=\"\",0,SUM('План продаж'!AM32:AO32))","v":0},{"$f":"IF(БДДС!AQ7=\"\",0,SUM('План продаж'!AN32:AP32))","v":0},{"$f":"IF(БДДС!AR7=\"\",0,SUM('План продаж'!AO32:AQ32))","v":2223060},{"$f":"IF(БДДС!AS7=\"\",0,SUM('План продаж'!AP32:AR32))","v":0},{"$f":"IF(БДДС!AT7=\"\",0,SUM('План продаж'!AQ32:AS32))","v":0},{"$f":"IF(БДДС!AU7=\"\",0,SUM('План продаж'!AR32:AT32))","v":2587180},{"$f":"IF(БДДС!AV7=\"\",0,SUM('План продаж'!AS32:AU32))","v":0},{"$f":"IF(БДДС!AW7=\"\",0,SUM('План продаж'!AT32:AV32))","v":0},{"$f":"IF(БДДС!AX7=\"\",0,SUM('План продаж'!AU32:AW32))","v":3777720},{"$f":"IF(БДДС!AY7=\"\",0,SUM('План продаж'!AV32:AX32))","v":0},{"$f":"IF(БДДС!AZ7=\"\",0,SUM('План продаж'!AW32:AY32))","v":0},{"$f":"IF(БДДС!BA7=\"\",0,SUM('План продаж'!AX32:AZ32))","v":2212260},{"$f":"IF(БДДС!BB7=\"\",0,SUM('План продаж'!AY32:BA32))","v":0},{"$f":"IF(БДДС!BC7=\"\",0,SUM('План продаж'!AZ32:BB32))","v":0},{"$f":"IF(БДДС!BD7=\"\",0,SUM('План продаж'!BA32:BC32))","v":2223060},{"$f":"IF(БДДС!BE7=\"\",0,SUM('План продаж'!BB32:BD32))","v":0},{"$f":"IF(БДДС!BF7=\"\",0,SUM('План продаж'!BC32:BE32))","v":0},{"$f":"IF(БДДС!BG7=\"\",0,SUM('План продаж'!BD32:BF32))","v":2587180},{"$f":"IF(БДДС!BH7=\"\",0,SUM('План продаж'!BE32:BG32))","v":0},{"$f":"IF(БДДС!BI7=\"\",0,SUM('План продаж'!BF32:BH32))","v":0},{"$f":"IF(БДДС!BJ7=\"\",0,SUM('План продаж'!BG32:BI32))","v":3777720},{"$f":"IF(БДДС!BK7=\"\",0,SUM('План продаж'!BH32:BJ32))","v":0}]
["Квартальная выручка накопительная",null,null,null,{"$f":"IF(E4=\"Март\",E6,IF(E4=\"Июнь\",E6,IF(E4=\"Сентябрь\",E6,IF(E4=\"Декабрь\",E6,0))))","v":0},{"$f":"IF(F4=\"Март\",F6,IF(F4=\"Июнь\",F6,IF(F4=\"Сентябрь\",F6,IF(F4=\"Декабрь\",F6,0))))","v":506120},0,{"$f":"IF(H4=\"Март\",H6,IF(H4=\"Июнь\",H6+E6,IF(H4=\"Сентябрь\",H6+E6,IF(H4=\"Декабрь\",H6+E6,0))))","v":0},{"$f":"IF(I4=\"Март\",I6,IF(I4=\"Июнь\",I6+F6,IF(I4=\"Сентябрь\",I6+F6,IF(I4=\"Декабрь\",I6+F6,0))))","v":2432840},{"$f":"IF(J4=\"Март\",J6,IF(J4=\"Июнь\",J6+G6,IF(J4=\"Сентябрь\",J6+G6,IF(J4=\"Декабрь\",J6+G6,0))))","v":0},{"$f":"IF(K4=\"Март\",K6,IF(K4=\"Июнь\",K6+H6,IF(K4=\"Сентябрь\",K6+H6+E6,IF(K4=\"Декабрь\",K6+H6+E6,0))))","v":0},{"$f":"IF(L4=\"Март\",L6,IF(L4=\"Июнь\",L6+I6,IF(L4=\"Сентябрь\",L6+I6+F6,IF(L4=\"Декабрь\",L6+I6+F6,0))))","v":5020020},{"$f":"IF(M4=\"Март\",M6,IF(M4=\"Июнь\",M6+J6,IF(M4=\"Сентябрь\",M6+J6+G6,IF(M4=\"Декабрь\",M6+J6+G6,0))))","v":0},{"$f":"IF(N4=\"Март\",N6,IF(N4=\"Июнь\",N6+K6,IF(N4=\"Сентябрь\",N6+K6+H6,IF(N4=\"Декабрь\",N6+K6+H6+E6,0))))","v":0},{"$f":"IF(O4=\"Март\",O6,IF(O4=\"Июнь\",O6+L6,IF(O4=\"Сентябрь\",O6+L6+I6,IF(O4=\"Декабрь\",O6+L6+I6+F6,0))))","v":3777720},0,0,5989980,0,0,8213040,0,0,10800220,0,0,3777720,0,0,5989980,0,0,8213040,0,0,10800220,0,0,3777720,0,0,5989980,0,0,8213040,0,0,10800220,0,0,3777720,0,0,5989980,0,0,8213040,0,0,10800220,0,0,3777720,0]
["Расходы",null,{"$f":"SUMIF('Исходные данные'!$D$252:$O$252,C5,'Исходные данные'!$D$259:$O$259)","v":0},{"$f":"SUMIF('Исходные данные'!$D$252:$O$252,D5,'Исходные данные'!$D$259:$O$259)","v":757058.48583333334},{"$f":"БДДС!D15+БДДС!D49-БДДС!D50-БДДС!D52+БДДС!D58-БДДС!D68","v":434776.37564231514},{"$f":"БДДС!E15+БДДС!E49-БДДС!E50-БДДС!E52+БДДС!E58-БДДС!E68","v":489296.74143862963},{"$f":"БДДС!F15+БДДС!F49-БДДС!F50-БДДС!F52+БДДС!F58-БДДС!F68","v":569754.58626437443},{"$f":"БДДС!G15+БДДС!G49-БДДС!G50-БДДС!G52+БДДС!G58-БДДС!G68","v":549170.48425363249},{"$f":"БДДС!H15+БДДС!H49-БДДС!H50-БДДС!H52+БДДС!H58-БДДС!H68","v":600441.23533333337},{"$f":"БДДС!I15+БДДС!I49-БДДС!I50-БДДС!I52+БДДС!I58-БДДС!I68","v":749516.95208333351},{"$f":"БДДС!J15+БДДС!J49-БДДС!J50-БДДС!J52+БДДС!J58-БДДС!J68","v":1038123.8473333333},{"$f":"БДДС!K15+БДДС!K49-БДДС!K50-БДДС!K52+БДДС!K58-БДДС!K68","v":1070842.1593333331},{"$f":"БДДС!L15+БДДС!L49-БДДС!L50-БДДС!L52+БДДС!L58-БДДС!L68","v":742954.62283333333},{"$f":"БДДС!M15+БДДС!M49-БДДС!M50-БДДС!M52+БДДС!M58-БДДС!M68","v":603368.85533333337},{"$f":"БДДС!N15+БДДС!N49-БДДС!N50-БДДС!N52+БДДС!N58-БДДС!N68","v":604615.85533333337},{"$f":"БДДС!O15+БДДС!O49-БДДС!O50-БДДС!O52+БДДС!O58-БДДС!O68","v":765933.28991666657},{"$f":"БДДС!P15+БДДС!P49-БДДС!P50-БДДС!P52+БДДС!P58-БДДС!P68","v":589253.652},{"$f":"БДДС!Q15+БДДС!Q49-БДДС!Q50-БДДС!Q52+БДДС!Q58-БДДС!Q68","v":674571.00199999998},{"$f":"БДДС!R15+БДДС!R49-БДДС!R50-БДДС!R52+БДДС!R58-БДДС!R68","v":662793.25199999998},{"$f":"БДДС!S15+БДДС!S49-БДДС!S50-БДДС!S52+БДДС!S58-БДДС!S68","v":590425.45200000005},{"$f":"БДДС!T15+БДДС!T49-БДДС!T50-БДДС!T52+БДДС!T58-БДДС!T68","v":600192.152},{"$f":"БДДС!U15+БДДС!U49-БДДС!U50-БДДС!U52+БДДС!U58-БДДС!U68","v":690224.75200000009},{"$f":"БДДС!V15+БДДС!V49-БДДС!V50-БДДС!V52+БДДС!V58-БДДС!V68","v":1037290.514},{"$f":"БДДС!W15+БДДС!W49-БДДС!W50-БДДС!W52+БДДС!W58-БДДС!W68","v":1070593.0759999999},{"$f":"БДДС!X15+БДДС!X49-БДДС!X50-БДДС!X52+БДДС!X58-БДДС!X68","v":740715.32973750005},{"$f":"БДДС!Y15+БДДС!Y49-БДДС!Y50-БДДС!Y52+БДДС!Y58-БДДС!Y68","v":602535.522},{"$f":"БДДС!Z15+БДДС!Z49-БДДС!Z50-БДДС!Z52+БДДС!Z58-БДДС!Z68","v":604440.27200000011},{"$f":"БДДС!AA15+БДДС!AA49-БДДС!AA50-БДДС!AA52+БДДС!AA58-БДДС!AA68","v":761192.49750000006},{"$f":"БДДС!AB15+БДДС!AB49-БДДС!AB50-БДДС!AB52+БДДС!AB58-БДДС!AB68","v":589253.652},{"$f":"БДДС!AC15+БДДС!AC49-БДДС!AC50-БДДС!AC52+БДДС!AC58-БДДС!AC68","v":712888.152},{"$f":"БДДС!AD15+БДДС!AD49-БДДС!AD50-БДДС!AD52+БДДС!AD58-БДДС!AD68","v":662793.25199999998},{"$f":"БДДС!AE15+БДДС!AE49-БДДС!AE50-БДДС!AE52+БДДС!AE58-БДДС!AE68","v":590425.45200000005},{"$f":"БДДС!AF15+БДДС!AF49-БДДС!AF50-БДДС!AF52+БДДС!AF58-БДДС!AF68","v":600849.902},{"$f":"БДДС!AG15+БДДС!AG49-БДДС!AG50-БДДС!AG52+БДДС!AG58-БДДС!AG68","v":690224.75200000009},{"$f":"БДДС!AH15+БДДС!AH49-БДДС!AH50-БДДС!AH52+БДДС!AH58-БДДС!AH68","v":1037290.514},{"$f":"БДДС!AI15+БДДС!AI49-БДДС!AI50-БДДС!AI52+БДДС!AI58-БДДС!AI68","v":1071250.8259999999},{"$f":"БДДС!AJ15+БДДС!AJ49-БДДС!AJ50-БДДС!AJ52+БДДС!AJ58-БДДС!AJ68","v":738966.02030287497},{"$f":"БДДС!AK15+БДДС!AK49-БДДС!AK50-БДДС!AK52+БДДС!AK58-БДДС!AK68","v":600935.522},{"$f":"БДДС!AL15+БДДС!AL49-БДДС!AL50-БДДС!AL52+БДДС!AL58-БДДС!AL68","v":602840.27199999988},{"$f":"БДДС!AM15+БДДС!AM49-БДДС!AM50-БДДС!AM52+БДДС!AM58-БДДС!AM68","v":839592.49750000006},{"$f":"БДДС!AN15+БДДС!AN49-БДДС!AN50-БДДС!AN52+БДДС!AN58-БДДС!AN68","v":587653.652},{"$f":"БДДС!AO15+БДДС!AO49-БДДС!AO50-БДДС!AO52+БДДС!AO58-БДДС!AO68","v":711288.152},{"$f":"БДДС!AP15+БДДС!AP49-БДДС!AP50-БДДС!AP52+БДДС!AP58-БДДС!AP68","v":661193.25199999998},{"$f":"БДДС!AQ15+БДДС!AQ49-БДДС!AQ50-БДДС!AQ52+БДДС!AQ58-БДДС!AQ68","v":588825.45200000005},{"$f":"БДДС!AR15+БДДС!AR49-БДДС!AR50-БДДС!AR52+БДДС!AR58-БДДС!AR68","v":599249.902},{"$f":"БДДС!AS15+БДДС!AS49-БДДС!AS50-БДДС!AS52+БДДС!AS58-БДДС!AS68","v":688624.75200000009},{"$f":"БДДС!AT15+БДДС!AT49-БДДС!AT50-БДДС!AT52+БДДС!AT58-БДДС!AT68","v":1035690.514},{"$f":"БДДС!AU15+БДДС!AU49-БДДС!AU50-БДДС!AU52+БДДС!AU58-БДДС!AU68","v":1069650.8259999999},{"$f":"БДДС!AV15+БДДС!AV49-БДДС!AV50-БДДС!AV52+БДДС!AV58-БДДС!AV68","v":736346.49958591373},{"$f":"БДДС!AW15+БДДС!AW49-БДДС!AW50-БДДС!AW52+БДДС!AW58-БДДС!AW68","v":600935.522},{"$f":"БДДС!AX15+БДДС!AX49-БДДС!AX50-БДДС!AX52+БДДС!AX58-БДДС!AX68","v":602840.27199999988},{"$f":"БДДС!AY15+БДДС!AY49-БДДС!AY50-БДДС!AY52+БДДС!AY58-БДДС!AY68","v":759592.49750000006},{"$f":"БДДС!AZ15+БДДС!AZ49-БДДС!AZ50-БДДС!AZ52+БДДС!AZ58-БДДС!AZ68","v":587653.652},{"$f":"БДДС!BA15+БДДС!BA49-БДДС!BA50-БДДС!BA52+БДДС!BA58-БДДС!BA68","v":711288.152},{"$f":"БДДС!BB15+БДДС!BB49-БДДС!BB50-БДДС!BB52+БДДС!BB58-БДДС!BB68","v":661193.25199999998},{"$f":"БДДС!BC15+БДДС!BC49-БДДС!BC50-БДДС!BC52+БДДС!BC58-БДДС!BC68","v":588825.45200000005},{"$f":"БДДС!BD15+БДДС!BD49-БДДС!BD50-БДДС!BD52+БДДС!BD58-БДДС!BD68","v":599249.902},{"$f":"БДДС!BE15+БДДС!BE49-БДДС!BE50-БДДС!BE52+БДДС!BE58-БДДС!BE68","v":688624.75200000009},{"$f":"БДДС!BF15+БДДС!BF49-БДДС!BF50-БДДС!BF52+БДДС!BF58-БДДС!BF68","v":1035690.514},{"$f":"БДДС!BG15+БДДС!BG49-БДДС!BG50-БДДС!BG52+БДДС!BG58-БДДС!BG68","v":1069650.8259999999},{"$f":"БДДС!BH15+БДДС!BH49-БДДС!BH50-БДДС!BH52+БДДС!BH58-БДДС!BH68","v":738825.08520742261},{"$f":"БДДС!BI15+БДДС!BI49-БДДС!BI50-БДДС!BI52+БДДС!BI58-БДДС!BI68","v":600935.522},{"$f":"БДДС!BJ15+БДДС!BJ49-БДДС!BJ50-БДДС!BJ52+БДДС!BJ58-БДДС!BJ68","v":602840.27199999988},{"$f":"БДДС!BK15+БДДС!BK49-БДДС!BK50-БДДС!BK52+БДДС!BK58-БДДС!BK68","v":818592.49750000006}]
["Квартальные расходы",null,null,null,{"$f":"IF(БДДС!D7<>\"\",D8+E8,0)","v":0},{"$f":"IF(БДДС!E7<>\"\",D8+E8+F8,0)","v":1681131.6029142779},{"$f":"IF(БДДС!F7<>\"\",E8+F8+G8,0)","v":0},{"$f":"IF(БДДС!G7<>\"\",F8+G8+H8,0)","v":0},{"$f":"IF(БДДС!H7<>\"\",G8+H8+I8,0)","v":1719366.3058513403},{"$f":"IF(БДДС!I7<>\"\",H8+I8+J8,0)","v":0},{"$f":"IF(БДДС!J7<>\"\",I8+J8+K8,0)","v":0},{"$f":"IF(БДДС!K7<>\"\",J8+K8+L8,0)","v":2858482.9587500002},{"$f":"IF(БДДС!L7<>\"\",K8+L8+M8,0)","v":0},{"$f":"IF(БДДС!M7<>\"\",L8+M8+N8,0)","v":0},{"$f":"IF(БДДС!N7<>\"\",M8+N8+O8,0)","v":1950939.3335000002},{"$f":"IF(БДДС!O7<>\"\",N8+O8+P8,0)","v":0},{"$f":"IF(БДДС!P7<>\"\",O8+P8+Q8,0)","v":0},{"$f":"IF(БДДС!Q7<>\"\",P8+Q8+R8,0)","v":2029757.9439166663},{"$f":"IF(БДДС!R7<>\"\",Q8+R8+S8,0)","v":0},{"$f":"IF(БДДС!S7<>\"\",R8+S8+T8,0)","v":0},{"$f":"IF(БДДС!T7<>\"\",S8+T8+U8,0)","v":1853410.8559999999},{"$f":"IF(БДДС!U7<>\"\",T8+U8+V8,0)","v":0},{"$f":"IF(БДДС!V7<>\"\",U8+V8+W8,0)","v":0},{"$f":"IF(БДДС!W7<>\"\",V8+W8+X8,0)","v":2798108.3420000002},{"$f":"IF(БДДС!X7<>\"\",W8+X8+Y8,0)","v":0},{"$f":"IF(БДДС!Y7<>\"\",X8+Y8+Z8,0)","v":0},{"$f":"IF(БДДС!Z7<>\"\",Y8+Z8+AA8,0)","v":1947691.1237375003},{"$f":"IF(БДДС!AA7<>\"\",Z8+AA8+AB8,0)","v":0},{"$f":"IF(БДДС!AB7<>\"\",AA8+AB8+AC8,0)","v":0},{"$f":"IF(БДДС!AC7<>\"\",AB8+AC8+AD8,0)","v":2063334.3015000001},{"$f":"IF(БДДС!AD7<>\"\",AC8+AD8+AE8,0)","v":0},{"$f":"IF(БДДС!AE7<>\"\",AD8+AE8+AF8,0)","v":0},{"$f":"IF(БДДС!AF7<>\"\",AE8+AF8+AG8,0)","v":1854068.6059999999},{"$f":"IF(БДДС!AG7<>\"\",AF8+AG8+AH8,0)","v":0},{"$f":"IF(БДДС!AH7<>\"\",AG8+AH8+AI8,0)","v":0},{"$f":"IF(БДДС!AI7<>\"\",AH8+AI8+AJ8,0)","v":2798766.0920000002},{"$f":"IF(БДДС!AJ7<>\"\",AI8+AJ8+AK8,0)","v":0},{"$f":"IF(БДДС!AK7<>\"\",AJ8+AK8+AL8,0)","v":0},{"$f":"IF(БДДС!AL7<>\"\",AK8+AL8+AM8,0)","v":1942741.8143028747},{"$f":"IF(БДДС!AM7<>\"\",AL8+AM8+AN8,0)","v":0},{"$f":"IF(БДДС!AN7<>\"\",AM8+AN8+AO8,0)","v":0},{"$f":"IF(БДДС!AO7<>\"\",AN8+AO8+AP8,0)","v":2138534.3015000001},{"$f":"IF(БДДС!AP7<>\"\",AO8+AP8+AQ8,0)","v":0},{"$f":"IF(БДДС!AQ7<>\"\",AP8+AQ8+AR8,0)","v":0},{"$f":"IF(БДДС!AR7<>\"\",AQ8+AR8+AS8,0)","v":1849268.6059999999},{"$f":"IF(БДДС!AS7<>\"\",AR8+AS8+AT8,0)","v":0},{"$f":"IF(БДДС!AT7<>\"\",AS8+AT8+AU8,0)","v":0},{"$f":"IF(БДДС!AU7<>\"\",AT8+AU8+AV8,0)","v":2793966.0920000002},{"$f":"IF(БДДС!AV7<>\"\",AU8+AV8+AW8,0)","v":0},{"$f":"IF(БДДС!AW7<>\"\",AV8+AW8+AX8,0)","v":0},{"$f":"IF(БДДС!AX7<>\"\",AW8+AX8+AY8,0)","v":1940122.2935859137},{"$f":"IF(БДДС!AY7<>\"\",AX8+AY8+AZ8,0)","v":0},{"$f":"IF(БДДС!AZ7<>\"\",AY8+AZ8+BA8,0)","v":0},{"$f":"IF(БДДС!BA7<>\"\",AZ8+BA8+BB8,0)","v":2058534.3015000001},{"$f":"IF(БДДС!BB7<>\"\",BA8+BB8+BC8,0)","v":0},{"$f":"IF(БДДС!BC7<>\"\",BB8+BC8+BD8,0)","v":0},{"$f":"IF(БДДС!BD7<>\"\",BC8+BD8+BE8,0)","v":1849268.6059999999},{"$f":"IF(БДДС!BE7<>\"\",BD8+BE8+BF8,0)","v":0},{"$f":"IF(БДДС!BF7<>\"\",BE8+BF8+BG8,0)","v":0},{"$f":"IF(БДДС!BG7<>\"\",BF8+BG8+BH8,0)","v":2793966.0920000002},{"$f":"IF(БДДС!BH7<>\"\",BG8+BH8+BI8,0)","v":0},{"$f":"IF(БДДС!BI7<>\"\",BH8+BI8+BJ8,0)","v":0},{"$f":"IF(БДДС!BJ7<>\"\",BI8+BJ8+BK8,0)","v":1942600.8792074225},{"$f":"IF(БДДС!BK7<>\"\",BJ8+BK8+BL8,0)","v":0}]
["Квартальные расходы накопительные",null,null,null,{"$f":"IF(E4=\"Март\",E9,IF(E4=\"Июнь\",E9,IF(E4=\"Сентябрь\",E9,IF(E4=\"Декабрь\",E9,0))))","v":0},{"$f":"IF(F4=\"Март\",F9,IF(F4=\"Июнь\",F9,IF(F4=\"Сентябрь\",F9,IF(F4=\"Декабрь\",F9,0))))","v":1681131.6029142779},{"$f":"IF(G4=\"Март\",G9,IF(G4=\"Июнь\",G9,IF(G4=\"Сентябрь\",G9,IF(G4=\"Декабрь\",G9,0))))","v":0},{"$f":"IF(H4=\"Март\",H9,IF(H4=\"Июнь\",H9+E9,IF(H4=\"Сентябрь\",H9+E9,IF(H4=\"Декабрь\",H9+E9,0))))","v":0},{"$f":"IF(I4=\"Март\",I9,IF(I4=\"Июнь\",I9+F9,IF(I4=\"Сентябрь\",I9+F9,IF(I4=\"Декабрь\",I9+F9,0))))","v":3400497.9087656182},{"$f":"IF(J4=\"Март\",J9,IF(J4=\"Июнь\",J9+G9,IF(J4=\"Сентябрь\",J9+G9,IF(J4=\"Декабрь\",J9+G9,0))))","v":0},{"$f":"IF(K4=\"Март\",K9,IF(K4=\"Июнь\",K9+H9,IF(K4=\"Сентябрь\",K9+H9+E9,IF(K4=\"Декабрь\",K9+H9+E9,0))))","v":0},{"$f":"IF(L4=\"Март\",L9,IF(L4=\"Июнь\",L9+I9,IF(L4=\"Сентябрь\",L9+I9+F9,IF(L4=\"Декабрь\",L9+I9+F9,0))))","v":6258980.867515618},{"$f":"IF(M4=\"Март\",M9,IF(M4=\"Июнь\",M9+J9,IF(M4=\"Сентябрь\",M9+J9+G9,IF(M4=\"Декабрь\",M9+J9+G9,0))))","v":0},{"$f":"IF(N4=\"Март\",N9,IF(N4=\"Июнь\",N9+K9,IF(N4=\"Сентябрь\",N9+K9+H9,IF(N4=\"Декабрь\",N9+K9+H9+E9,0))))","v":0},{"$f":"IF(O4=\"Март\",O9,IF(O4=\"Июнь\",O9+L9,IF(O4=\"Сентябрь\",O9+L9+I9,IF(O4=\"Декабрь\",O9+L9+I9+F9,0))))","v":1950939.3335000002},{"$f":"IF(P4=\"Март\",P9,IF(P4=\"Июнь\",P9+M9,IF(P4=\"Сентябрь\",P9+M9+J9,IF(P4=\"Декабрь\",P9+M9+J9+G9,0))))","v":0},0,3980697.2774166665,0,0,5834108.1334166657,0,0,8632216.4754166659,0,0,1947691.1237375003,0,0,4011025.4252375001,0,0,5865094.0312374998,0,0,8663860.1232375,0,0,1942741.8143028747,0,0,4081276.1158028748,0,0,5930544.7218028745,0,0,8724510.8138028756,0,0,1940122.2935859137,0,0,3998656.5950859138,0,0,5847925.2010859139,0,0,8641891.2930859141,0,0,1942600.8792074225,0]
["Выручка за год",null,null,null,0,{"$f":"IF(БДДС!E5=\"Декабрь\",SUM('План продаж'!$D32:E32),0)","v":0},{"$f":"IF(БДДС!F5=\"Декабрь\",SUM('План продаж'!$D32:F32),0)","v":0},{"$f":"IF(БДДС!G5=\"Декабрь\",SUM('План продаж'!$D32:G32),0)","v":0},{"$f":"IF(БДДС!H5=\"Декабрь\",SUM('План продаж'!$D32:H32),0)","v":0},{"$f":"IF(БДДС!I5=\"Декабрь\",SUM('План продаж'!$D32:I32),0)","v":0},{"$f":"IF(БДДС!J5=\"Декабрь\",SUM('План продаж'!$D32:J32),0)","v":0},{"$f":"IF(БДДС!K5=\"Декабрь\",SUM('План продаж'!$D32:K32),0)","v":7034280},{"$f":"IF(БДДС!L5=\"Декабрь\",SUM('План продаж'!$D32:L32),0)","v":0},{"$f":"IF(БДДС!M5=\"Декабрь\",SUM('План продаж'!$D32:M32),0)","v":0},{"$f":"IF(БДДС!N5=\"Декабрь\",SUM('План продаж'!$D32:N32),0)","v":0},{"$f":"IF(БДДС!O5=\"Декабрь\",SUM('План продаж'!D32:O32),0)","v":0},{"$f":"IF(БДДС!P5=\"Декабрь\",SUM('План продаж'!E32:P32),0)","v":0},{"$f":"IF(БДДС!Q5=\"Декабрь\",SUM('План продаж'!F32:Q32),0)","v":0},{"$f":"IF(БДДС!R5=\"Декабрь\",SUM('План продаж'!G32:R32),0)","v":0},{"$f":"IF(БДДС!S5=\"Декабрь\",SUM('План продаж'!H32:S32),0)","v":0},{"$f":"IF(БДДС!T5=\"Декабрь\",SUM('План продаж'!I32:T32),0)","v":0},{"$f":"IF(БДДС!U5=\"Декабрь\",SUM('План продаж'!J32:U32),0)","v":0},{"$f":"IF(БДДС!V5=\"Декабрь\",SUM('План продаж'!K32:V32),0)","v":0},{"$f":"IF(БДДС!W5=\"Декабрь\",SUM('План продаж'!L32:W32),0)","v":10800220},{"$f":"IF(БДДС!X5=\"Декабрь\",SUM('План продаж'!M32:X32),0)","v":0},{"$f":"IF(БДДС!Y5=\"Декабрь\",SUM('План продаж'!N32:Y32),0)","v":0},{"$f":"IF(БДДС!Z5=\"Декабрь\",SUM('План продаж'!O32:Z32),0)","v":0},{"$f":"IF(БДДС!AA5=\"Декабрь\",SUM('План продаж'!P32:AA32),0)","v":0},{"$f":"IF(БДДС!AB5=\"Декабрь\",SUM('План продаж'!Q32:AB32),0)","v":0},{"$f":"IF(БДДС!AC5=\"Декабрь\",SUM('План продаж'!R32:AC32),0)","v":0},{"$f":"IF(БДДС!AD5=\"Декабрь\",SUM('План продаж'!S32:AD32),0)","v":0},{"$f":"IF(БДДС!AE5=\"Декабрь\",SUM('План продаж'!T32:AE32),0)","v":0},{"$f":"IF(БДДС!AF5=\"Декабрь\",SUM('План продаж'!U32:AF32),0)","v":0},{"$f":"IF(БДДС!AG5=\"Декабрь\",SUM('План продаж'!V32:AG32),0)","v":0},{"$f":"IF(БДДС!AH5=\"Декабрь\",SUM('План продаж'!W32:AH32),0)","v":0},{"$f":"IF(БДДС!AI5=\"Декабрь\",SUM('План продаж'!X32:AI32),0)","v":10800220},{"$f":"IF(БДДС!AJ5=\"Декабрь\",SUM('План продаж'!Y32:AJ32),0)","v":0},{"$f":"IF(БДДС!AK5=\"Декабрь\",SUM('План продаж'!Z32:AK32),0)","v":0},{"$f":"IF(БДДС!AL5=\"Декабрь\",SUM('План продаж'!AA32:AL32),0)","v":0},{"$f":"IF(БДДС!AM5=\"Декабрь\",SUM('План продаж'!AB32:AM32),0)","v":0},{"$f":"IF(БДДС!AN5=\"Декабрь\",SUM('План продаж'!AC32:AN32),0)","v":0},{"$f":"IF(БДДС!AO5=\"Декабрь\",SUM('План продаж'!AD32:AO32),0)","v":0},{"$f":"IF(БДДС!AP5=\"Декабрь\",SUM('План продаж'!AE32:AP32),0)","v":0},{"$f":"IF(БДДС!AQ5=\"Декабрь\",SUM('План продаж'!AF32:AQ32),0)","v":0},{"$f":"IF(БДДС!AR5=\"Декабрь\",SUM('План продаж'!AG32:AR32),0)","v":0},{"$f":"IF(БДДС!AS5=\"Декабрь\",SUM('План продаж'!AH32:AS32),0)","v":0},{"$f":"IF(БДДС!AT5=\"Декабрь\",SUM('План продаж'!AI32:AT32),0)","v":0},{"$f":"IF(БДДС!AU5=\"Декабрь\",SUM('План продаж'!AJ32:AU32),0)","v":10800220},{"$f":"IF(БДДС!AV5=\"Декабрь\",SUM('План продаж'!AK32:AV32),0)","v":0},{"$f":"IF(БДДС!AW5=\"Декабрь\",SUM('План продаж'!AL32:AW32),0)","v":0},{"$f":"IF(БДДС!AX5=\"Декабрь\",SUM('План продаж'!AM32:AX32),0)","v":0},{"$f":"IF(БДДС!AY5=\"Декабрь\",SUM('План продаж'!AN32:AY32),0)","v":0},{"$f":"IF(БДДС!AZ5=\"Декабрь\",SUM('План продаж'!AO32:AZ32),0)","v":0},{"$f":"IF(БДДС!BA5=\"Декабрь\",SUM('План продаж'!AP32:BA32),0)","v":0},{"$f":"IF(БДДС!BB5=\"Декабрь\",SUM('План продаж'!AQ32:BB32),0)","v":0},{"$f":"IF(БДДС!BC5=\"Декабрь\",SUM('План продаж'!AR32:BC32),0)","v":0},{"$f":"IF(БДДС!BD5=\"Декабрь\",SUM('План продаж'!AS32:BD32),0)","v":0},{"$f":"IF(БДДС!BE5=\"Декабрь\",SUM('План продаж'!AT32:BE32),0)","v":0},{"$f":"IF(БДДС!BF5=\"Декабрь\",SUM('План продаж'!AU32:BF32),0)","v":0},{"$f":"IF(БДДС!BG5=\"Декабрь\",SUM('План продаж'!AV32:BG32),0)","v":10800220},{"$f":"IF(БДДС!BH5=\"Декабрь\",SUM('План продаж'!AW32:BH32),0)","v":0},{"$f":"IF(БДДС!BI5=\"Декабрь\",SUM('План продаж'!AX32:BI32),0)","v":0},{"$f":"IF(БДДС!BJ5=\"Декабрь\",SUM('План продаж'!AY32:BJ32),0)","v":0},{"$f":"IF(БДДС!BK5=\"Декабрь\",SUM('План продаж'!AZ32:BK32),0)","v":0}]
["Расходы за год",null,null,null,{"$f":"0","v":0},{"$f":"IF(F4=\"Декабрь\",SUM($E8:F8),0)","v":0},{"$f":"IF(G4=\"Декабрь\",SUM($E8:G8),0)","v":0},{"$f":"IF(H4=\"Декабрь\",SUM($E8:H8),0)","v":0},{"$f":"IF(I4=\"Декабрь\",SUM($E8:I8),0)","v":0},{"$f":"IF(J4=\"Декабрь\",SUM($E8:J8),0)","v":0},{"$f":"IF(K4=\"Декабрь\",SUM($E8:K8),0)","v":0},{"$f":"IF(L4=\"Декабрь\",SUM($E8:L8),0)","v":5501922.3816822851},{"$f":"IF(M4=\"Декабрь\",SUM($E8:M8),0)","v":0},{"$f":"IF(N4=\"Декабрь\",SUM($E8:N8),0)","v":0},{"$f":"IF(O4=\"Декабрь\",SUM($E8:O8),0)","v":0},{"$f":"IF(P4=\"Декабрь\",SUM(E8:P8),0)","v":0},{"$f":"IF(Q4=\"Декабрь\",SUM(F8:Q8),0)","v":0},0,0,{"$f":"IF(T4=\"Декабрь\",SUM(I8:T8),0)","v":0},0,0,0,8632216.4754166659,0,{"$f":"IF(Z4=\"Декабрь\",SUM(O8:Z8),0)","v":0},0,0,0,0,0,0,0,0,0,8663860.1232375,0,0,0,0,0,0,0,0,0,0,0,8724510.8138028737,0,0,0,0,0,0,0,0,0,0,0,8641891.2930859122,0,0,0,0]
["К НАЧИСЛЕНИЮ ЗА ПЕРИОД",{"$f":"SUM(B14:B22)","v":5014081.1561670443},{"$f":"SUM(C14:C22)","v":0},10218.5,20652.191999999999,46957.655333333336,36946.01249999999,38943.911999999989,110758.19125,44698.950000000004,54203.464499999995,219073.79750000004,38195.553,36627.802499999998,216032.82924999998,40170.073500000006,41725.074000000008,121330.8245,46252.574999999997,48344.875500000002,60874.076000000008,52689.451500000003,62193.965999999993,263901.98923750001,38195.553,36627.802499999998,212366.45349999997,40170.073500000006,41725.074000000008,121988.5745,46252.574999999997,48344.875500000002,61531.826000000008,52689.451500000003,62193.965999999993,263610.42980287498,38195.553,36627.802499999998,212366.45349999997,40170.073500000006,41725.074000000008,121988.5745,46252.574999999997,48344.875500000002,61531.826000000008,52689.451500000003,62193.965999999993,261790.90908591379,38195.553,36627.802499999998,212366.45349999997,40170.073500000006,41725.074000000008,121988.5745,46252.574999999997,48344.875500000002,61531.826000000008,52689.451500000003,62193.965999999993,264269.49470742262,38195.553,36627.802499999998,212366.45349999997,40170.073500000006]
["Налог на доходы физических лиц",{"$f":"SUM(C14:BL14)","v":692821.0900000002},null,null,{"$f":"БДДС!D20+БДДС!D24","v":6214.7800000000007},{"$f":"БДДС!E20+БДДС!E24","v":6777.9400000000005},{"$f":"БДДС!F20+БДДС!F24","v":10185.369999999999},{"$f":"БДДС!G20+БДДС!G24","v":10185.369999999999},{"$f":"БДДС!H20+БДДС!H24","v":10549.630000000001},{"$f":"БДДС!I20+БДДС!I24","v":10725.130000000001},{"$f":"БДДС!J20+БДДС!J24","v":13091.91},{"$f":"БДДС!K20+БДДС!K24","v":18942.690000000002},{"$f":"БДДС!L20+БДДС!L24","v":12215.060000000001},{"$f":"БДДС!M20+БДДС!M24","v":10947.43},{"$f":"БДДС!N20+БДДС!N24","v":10654.93},{"$f":"БДДС!O20+БДДС!O24","v":10725.130000000001},{"$f":"БДДС!P20+БДДС!P24","v":10549.630000000001},{"$f":"БДДС!Q20+БДДС!Q24","v":10666.630000000001},{"$f":"БДДС!R20+БДДС!R24","v":10666.630000000001},{"$f":"БДДС!S20+БДДС!S24","v":10666.630000000001},{"$f":"БДДС!T20+БДДС!T24","v":10549.630000000001},{"$f":"БДДС!U20+БДДС!U24","v":10725.130000000001},{"$f":"БДДС!V20+БДДС!V24","v":13091.91},{"$f":"БДДС!W20+БДДС!W24","v":18942.690000000002},{"$f":"БДДС!X20+БДДС!X24","v":12215.060000000001},{"$f":"БДДС!Y20+БДДС!Y24","v":10947.43},{"$f":"БДДС!Z20+БДДС!Z24","v":10654.93},{"$f":"БДДС!AA20+БДДС!AA24","v":10725.130000000001},{"$f":"БДДС!AB20+БДДС!AB24","v":10549.630000000001},{"$f":"БДДС!AC20+БДДС!AC24","v":10666.630000000001},{"$f":"БДДС!AD20+БДДС!AD24","v":10666.630000000001},{"$f":"БДДС!AE20+БДДС!AE24","v":10666.630000000001},{"$f":"БДДС!AF20+БДДС!AF24","v":10549.630000000001},{"$f":"БДДС!AG20+БДДС!AG24","v":10725.130000000001},{"$f":"БДДС!AH20+БДДС!AH24","v":13091.91},{"$f":"БДДС!AI20+БДДС!AI24","v":18942.690000000002},{"$f":"БДДС!AJ20+БДДС!AJ24","v":12215.060000000001},{"$f":"БДДС!AK20+БДДС!AK24","v":10947.43},{"$f":"БДДС!AL20+БДДС!AL24","v":10654.93},{"$f":"БДДС!AM20+БДДС!AM24","v":10725.130000000001},{"$f":"БДДС!AN20+БДДС!AN24","v":10549.630000000001},{"$f":"БДДС!AO20+БДДС!AO24","v":10666.630000000001},{"$f":"БДДС!AP20+БДДС!AP24","v":10666.630000000001},{"$f":"БДДС!AQ20+БДДС!AQ24","v":10666.630000000001},{"$f":"БДДС!AR20+БДДС!AR24","v":10549.630000000001},{"$f":"БДДС!AS20+БДДС!AS24","v":10725.130000000001},{"$f":"БДДС!AT20+БДДС!AT24","v":13091.91},{"$f":"БДДС!AU20+БДДС!AU24","v":18942.690000000002},{"$f":"БДДС!AV20+БДДС!AV24","v":12215.060000000001},{"$f":"БДДС!AW20+БДДС!AW24","v":10947.43},{"$f":"БДДС!AX20+БДДС!AX24","v":10654.93},{"$f":"БДДС!AY20+БДДС!AY24","v":10725.130000000001},{"$f":"БДДС!AZ20+БДДС!AZ24","v":10549.630000000001},{"$f":"БДДС!BA20+БДДС!BA24","v":10666.630000000001},{"$f":"БДДС!BB20+БДДС!BB24","v":10666.630000000001},{"$f":"БДДС!BC20+БДДС!BC24","v":10666.630000000001},{"$f":"БДДС!BD20+БДДС!BD24","v":10549.630000000001},{"$f":"БДДС!BE20+БДДС!BE24","v":10725.130000000001},{"$f":"БДДС!BF20+БДДС!BF24","v":13091.91},{"$f":"БДДС!BG20+БДДС!BG24","v":18942.690000000002},{"$f":"БДДС!BH20+БДДС!BH24","v":12215.060000000001},{"$f":"БДДС!BI20+БДДС!BI24","v":10947.43},{"$f":"БДДС!BJ20+БДДС!BJ24","v":10654.93},{"$f":"БДДС!BK20+БДДС!BK24","v":10725.130000000001}]
["Взноса на ОПС",{"$f":"SUM(C15:BL15)","v":1172466.4599999995},null,null,{"$f":"E100+E116","v":10517.32},{"$f":"F100+F116","v":11470.36},17236.78,17236.78,17853.22,18150.22,22155.54,32056.86,20671.64,18526.419999999998,18031.419999999998,18150.22,17853.22,18051.22,18051.22,18051.22,17853.22,18150.22,22155.54,32056.86,20671.64,18526.419999999998,18031.419999999998,18150.22,17853.22,18051.22,18051.22,18051.22,17853.22,18150.22,22155.54,32056.86,20671.64,18526.419999999998,18031.419999999998,18150.22,17853.22,18051.22,18051.22,18051.22,17853.22,18150.22,22155.54,32056.86,20671.64,18526.419999999998,18031.419999999998,18150.22,17853.22,18051.22,18051.22,18051.22,17853.22,18150.22,22155.54,32056.86,20671.64,18526.419999999998,18031.419999999998,18150.22]
["Взносы на ОМС",785302.61549999996,null,null,{"$f":"E68*'Исходные данные'!$C$293","v":2438.1059999999998},{"$f":"F68*'Исходные данные'!$C$293","v":5097.1439999999993},{"$f":"G68*'Исходные данные'!$C$293","v":7095.0434999999998},{"$f":"H68*'Исходные данные'!$C$293","v":9092.9429999999993},{"$f":"I68*'Исходные данные'!$C$293","v":11162.2935},{"$f":"J68*'Исходные данные'!$C$293","v":13266.069},{"$f":"K68*'Исходные данные'!$C$293","v":15834.0975},{"$f":"L68*'Исходные данные'!$C$293","v":19549.778999999999},{"$f":"M68*'Исходные данные'!$C$293","v":2396.0309999999999},{"$f":"N68*'Исходные данные'!$C$293","v":4543.4115000000002},{"$f":"O68*'Исходные данные'!$C$293","v":6633.4169999999995},{"$f":"P68*'Исходные данные'!$C$293","v":8737.1924999999992},{"$f":"Q68*'Исходные данные'!$C$293","v":10806.543},{"$f":"R68*'Исходные данные'!$C$293","v":12898.843499999999},{"$f":"S68*'Исходные данные'!$C$293","v":14991.143999999998},{"$f":"T68*'Исходные данные'!$C$293","v":17083.444499999998},{"$f":"U68*'Исходные данные'!$C$293","v":19152.794999999998},{"$f":"V68*'Исходные данные'!$C$293","v":21256.570499999998},{"$f":"W68*'Исходные данные'!$C$293","v":23824.598999999998},{"$f":"X68*'Исходные данные'!$C$293","v":27540.280499999997},{"$f":"Y68*'Исходные данные'!$C$293","v":2396.0309999999999},{"$f":"Z68*'Исходные данные'!$C$293","v":4543.4115000000002},{"$f":"AA68*'Исходные данные'!$C$293","v":6633.4169999999995},{"$f":"AB68*'Исходные данные'!$C$293","v":8737.1924999999992},{"$f":"AC68*'Исходные данные'!$C$293","v":10806.543},{"$f":"AD68*'Исходные данные'!$C$293","v":12898.843499999999},{"$f":"AE68*'Исходные данные'!$C$293","v":14991.143999999998},{"$f":"AF68*'Исходные данные'!$C$293","v":17083.444499999998},{"$f":"AG68*'Исходные данные'!$C$293","v":19152.794999999998},{"$f":"AH68*'Исходные данные'!$C$293","v":21256.570499999998},{"$f":"AI68*'Исходные данные'!$C$293","v":23824.598999999998},{"$f":"AJ68*'Исходные данные'!$C$293","v":27540.280499999997},{"$f":"AK68*'Исходные данные'!$C$293","v":2396.0309999999999},{"$f":"AL68*'Исходные данные'!$C$293","v":4543.4115000000002},{"$f":"AM68*'Исходные данные'!$C$293","v":6633.4169999999995},{"$f":"AN68*'Исходные данные'!$C$293","v":8737.1924999999992},{"$f":"AO68*'Исходные данные'!$C$293","v":10806.543},{"$f":"AP68*'Исходные данные'!$C$293","v":12898.843499999999},{"$f":"AQ68*'Исходные данные'!$C$293","v":14991.143999999998},{"$f":"AR68*'Исходные данные'!$C$293","v":17083.444499999998},{"$f":"AS68*'Исходные данные'!$C$293","v":19152.794999999998},{"$f":"AT68*'Исходные данные'!$C$293","v":21256.570499999998},{"$f":"AU68*'Исходные данные'!$C$293","v":23824.598999999998},{"$f":"AV68*'Исходные данные'!$C$293","v":27540.280499999997},{"$f":"AW68*'Исходные данные'!$C$293","v":2396.0309999999999},{"$f":"AX68*'Исходные данные'!$C$293","v":4543.4115000000002},{"$f":"AY68*'Исходные данные'!$C$293","v":6633.4169999999995},{"$f":"AZ68*'Исходные данные'!$C$293","v":8737.1924999999992},{"$f":"BA68*'Исходные данные'!$C$293","v":10806.543},{"$f":"BB68*'Исходные данные'!$C$293","v":12898.843499999999},{"$f":"BC68*'Исходные данные'!$C$293","v":14991.143999999998},{"$f":"BD68*'Исходные данные'!$C$293","v":17083.444499999998},{"$f":"BE68*'Исходные данные'!$C$293","v":19152.794999999998},{"$f":"BF68*'Исходные данные'!$C$293","v":21256.570499999998},{"$f":"BG68*'Исходные данные'!$C$293","v":23824.598999999998},{"$f":"BH68*'Исходные данные'!$C$293","v":27540.280499999997},{"$f":"BI68*'Исходные данные'!$C$293","v":2396.0309999999999},{"$f":"BJ68*'Исходные данные'!$C$293","v":4543.4115000000002},{"$f":"BK68*'Исходные данные'!$C$293","v":6633.4169999999995},{"$f":"BL68*'Исходные данные'!$C$293","v":8737.1924999999992}]
["Взносы на ОСС",154552.39700000003,null,null,{"$f":"(БДДС!D21+БДДС!D25)/'Исходные данные'!$C$288*'Исходные данные'!$C$294","v":1386.3739999999998},{"$f":"(БДДС!E21+БДДС!E25)/'Исходные данные'!$C$288*'Исходные данные'!$C$294","v":1512.002},{"$f":"(БДДС!F21+БДДС!F25)/'Исходные данные'!$C$288*'Исходные данные'!$C$294","v":2272.1209999999996},{"$f":"(БДДС!G21+БДДС!G25)/'Исходные данные'!$C$288*'Исходные данные'!$C$294","v":2272.1209999999996},{"$f":"(БДДС!H21+БДДС!H25)/'Исходные данные'!$C$288*'Исходные данные'!$C$294","v":2353.3789999999999},{"$f":"(БДДС!I21+БДДС!I25)/'Исходные данные'!$C$288*'Исходные данные'!$C$294","v":2392.5289999999995},{"$f":"(БДДС!J21+БДДС!J25)/'Исходные данные'!$C$288*'Исходные данные'!$C$294","v":2920.5030000000002},{"$f":"(БДДС!K21+БДДС!K25)/'Исходные данные'!$C$288*'Исходные данные'!$C$294","v":4225.6769999999997},{"$f":"(БДДС!L21+БДДС!L25)/'Исходные данные'!$C$288*'Исходные данные'!$C$294","v":2724.8979999999992},{"$f":"(БДДС!M21+БДДС!M25)/'Исходные данные'!$C$288*'Исходные данные'!$C$294","v":2442.1189999999997},{"$f":"(БДДС!N21+БДДС!N25)/'Исходные данные'!$C$288*'Исходные данные'!$C$294","v":2376.8689999999997},{"$f":"(БДДС!O21+БДДС!O25)/'Исходные данные'!$C$288*'Исходные данные'!$C$294","v":2392.5289999999995},{"$f":"(БДДС!P21+БДДС!P25)/'Исходные данные'!$C$288*'Исходные данные'!$C$294","v":2353.3789999999999},{"$f":"(БДДС!Q21+БДДС!Q25)/'Исходные данные'!$C$288*'Исходные данные'!$C$294","v":2379.4790000000003},{"$f":"(БДДС!R21+БДДС!R25)/'Исходные данные'!$C$288*'Исходные данные'!$C$294","v":2379.4790000000003},{"$f":"(БДДС!S21+БДДС!S25)/'Исходные данные'!$C$288*'Исходные данные'!$C$294","v":2379.4790000000003},{"$f":"(БДДС!T21+БДДС!T25)/'Исходные данные'!$C$288*'Исходные данные'!$C$294","v":2353.3789999999999},{"$f":"(БДДС!U21+БДДС!U25)/'Исходные данные'!$C$288*'Исходные данные'!$C$294","v":2392.5289999999995},{"$f":"(БДДС!V21+БДДС!V25)/'Исходные данные'!$C$288*'Исходные данные'!$C$294","v":2920.5030000000002},{"$f":"(БДДС!W21+БДДС!W25)/'Исходные данные'!$C$288*'Исходные данные'!$C$294","v":4225.6769999999997},{"$f":"(БДДС!X21+БДДС!X25)/'Исходные данные'!$C$288*'Исходные данные'!$C$294","v":2724.8979999999992},{"$f":"(БДДС!Y21+БДДС!Y25)/'Исходные данные'!$C$288*'Исходные данные'!$C$294","v":2442.1189999999997},{"$f":"(БДДС!Z21+БДДС!Z25)/'Исходные данные'!$C$288*'Исходные данные'!$C$294","v":2376.8689999999997},{"$f":"(БДДС!AA21+БДДС!AA25)/'Исходные данные'!$C$288*'Исходные данные'!$C$294","v":2392.5289999999995},{"$f":"(БДДС!AB21+БДДС!AB25)/'Исходные данные'!$C$288*'Исходные данные'!$C$294","v":2353.3789999999999},{"$f":"(БДДС!AC21+БДДС!AC25)/'Исходные данные'!$C$288*'Исходные данные'!$C$294","v":2379.4790000000003},{"$f":"(БДДС!AD21+БДДС!AD25)/'Исходные данные'!$C$288*'Исходные данные'!$C$294","v":2379.4790000000003},{"$f":"(БДДС!AE21+БДДС!AE25)/'Исходные данные'!$C$288*'Исходные данные'!$C$294","v":2379.4790000000003},{"$f":"(БДДС!AF21+БДДС!AF25)/'Исходные данные'!$C$288*'Исходные данные'!$C$294","v":2353.3789999999999},{"$f":"(БДДС!AG21+БДДС!AG25)/'Исходные данные'!$C$288*'Исходные данные'!$C$294","v":2392.5289999999995},{"$f":"(БДДС!AH21+БДДС!AH25)/'Исходные данные'!$C$288*'Исходные данные'!$C$294","v":2920.5030000000002},{"$f":"(БДДС!AI21+БДДС!AI25)/'Исходные данные'!$C$288*'Исходные данные'!$C$294","v":4225.6769999999997},{"$f":"(БДДС!AJ21+БДДС!AJ25)/'Исходные данные'!$C$288*'Исходные данные'!$C$294","v":2724.8979999999992},{"$f":"(БДДС!AK21+БДДС!AK25)/'Исходные данные'!$C$288*'Исходные данные'!$C$294","v":2442.1189999999997},{"$f":"(БДДС!AL21+БДДС!AL25)/'Исходные данные'!$C$288*'Исходные данные'!$C$294","v":2376.8689999999997},{"$f":"(БДДС!AM21+БДДС!AM25)/'Исходные данные'!$C$288*'Исходные данные'!$C$294","v":2392.5289999999995},{"$f":"(БДДС!AN21+БДДС!AN25)/'Исходные данные'!$C$288*'Исходные данные'!$C$294","v":2353.3789999999999},{"$f":"(БДДС!AO21+БДДС!AO25)/'Исходные данные'!$C$288*'Исходные данные'!$C$294","v":2379.4790000000003},{"$f":"(БДДС!AP21+БДДС!AP25)/'Исходные данные'!$C$288*'Исходные данные'!$C$294","v":2379.4790000000003},{"$f":"(БДДС!AQ21+БДДС!AQ25)/'Исходные данные'!$C$288*'Исходные данные'!$C$294","v":2379.4790000000003},{"$f":"(БДДС!AR21+БДДС!AR25)/'Исходные данные'!$C$288*'Исходные данные'!$C$294","v":2353.3789999999999},{"$f":"(БДДС!AS21+БДДС!AS25)/'Исходные данные'!$C$288*'Исходные данные'!$C$294","v":2392.5289999999995},{"$f":"(БДДС!AT21+БДДС!AT25)/'Исходные данные'!$C$288*'Исходные данные'!$C$294","v":2920.5030000000002},{"$f":"(БДДС!AU21+БДДС!AU25)/'Исходные данные'!$C$288*'Исходные данные'!$C$294","v":4225.6769999999997},{"$f":"(БДДС!AV21+БДДС!AV25)/'Исходные данные'!$C$288*'Исходные данные'!$C$294","v":2724.8979999999992},{"$f":"(БДДС!AW21+БДДС!AW25)/'Исходные данные'!$C$288*'Исходные данные'!$C$294","v":2442.1189999999997},{"$f":"(БДДС!AX21+БДДС!AX25)/'Исходные данные'!$C$288*'Исходные данные'!$C$294","v":2376.8689999999997},{"$f":"(БДДС!AY21+БДДС!AY25)/'Исходные данные'!$C$288*'Исходные данные'!$C$294","v":2392.5289999999995},{"$f":"(БДДС!AZ21+БДДС!AZ25)/'Исходные данные'!$C$288*'Исходные данные'!$C$294","v":2353.3789999999999},{"$f":"(БДДС!BA21+БДДС!BA25)/'Исходные данные'!$C$288*'Исходные данные'!$C$294","v":2379.4790000000003},{"$f":"(БДДС!BB21+БДДС!BB25)/'Исходные данные'!$C$288*'Исходные данные'!$C$294","v":2379.4790000000003},{"$f":"(БДДС!BC21+БДДС!BC25)/'Исходные данные'!$C$288*'Исходные данные'!$C$294","v":2379.4790000000003},{"$f":"(БДДС!BD21+БДДС!BD25)/'Исходные данные'!$C$288*'Исходные данные'!$C$294","v":2353.3789999999999},{"$f":"(БДДС!BE21+БДДС!BE25)/'Исходные данные'!$C$288*'Исходные данные'!$C$294","v":2392.5289999999995},{"$f":"(БДДС!BF21+БДДС!BF25)/'Исходные данные'!$C$288*'Исходные данные'!$C$294","v":2920.5030000000002},{"$f":"(БДДС!BG21+БДДС!BG25)/'Исходные данные'!$C$288*'Исходные данные'!$C$294","v":4225.6769999999997},{"$f":"(БДДС!BH21+БДДС!BH25)/'Исходные данные'!$C$288*'Исходные данные'!$C$294","v":2724.8979999999992},{"$f":"(БДДС!BI21+БДДС!BI25)/'Исходные данные'!$C$288*'Исходные данные'!$C$294","v":2442.1189999999997},{"$f":"(БДДС!BJ21+БДДС!BJ25)/'Исходные данные'!$C$288*'Исходные данные'!$C$294","v":2376.8689999999997},{"$f":"(БДДС!BK21+БДДС!BK25)/'Исходные данные'!$C$288*'Исходные данные'!$C$294","v":2392.5289999999995}]
["Взносы от несчастных случаев",10658.786000000004,null,null,{"$f":"E52*'Исходные данные'!$C$296","v":95.612000000000009},{"$f":"F52*'Исходные данные'!$C$296","v":104.276},{"$f":"G52*'Исходные данные'!$C$296","v":156.69800000000001},{"$f":"H52*'Исходные данные'!$C$296","v":156.69800000000001},{"$f":"I52*'Исходные данные'!$C$296","v":162.30199999999999},{"$f":"J52*'Исходные данные'!$C$296","v":165.00200000000001},{"$f":"K52*'Исходные данные'!$C$296","v":201.41400000000002},{"$f":"L52*'Исходные данные'!$C$296","v":291.42599999999999},{"$f":"M52*'Исходные данные'!$C$296","v":187.92400000000001},{"$f":"N52*'Исходные данные'!$C$296","v":168.422},{"$f":"O52*'Исходные данные'!$C$296","v":163.922},{"$f":"P52*'Исходные данные'!$C$296","v":165.00200000000001},{"$f":"Q52*'Исходные данные'!$C$296","v":162.30199999999999},{"$f":"R52*'Исходные данные'!$C$296","v":164.102},{"$f":"S52*'Исходные данные'!$C$296","v":164.102},{"$f":"T52*'Исходные данные'!$C$296","v":164.102},{"$f":"U52*'Исходные данные'!$C$296","v":162.30199999999999},{"$f":"V52*'Исходные данные'!$C$296","v":165.00200000000001},{"$f":"W52*'Исходные данные'!$C$296","v":201.41400000000002},{"$f":"X52*'Исходные данные'!$C$296","v":291.42599999999999},{"$f":"Y52*'Исходные данные'!$C$296","v":187.92400000000001},{"$f":"Z52*'Исходные данные'!$C$296","v":168.422},{"$f":"AA52*'Исходные данные'!$C$296","v":163.922},{"$f":"AB52*'Исходные данные'!$C$296","v":165.00200000000001},{"$f":"AC52*'Исходные данные'!$C$296","v":162.30199999999999},{"$f":"AD52*'Исходные данные'!$C$296","v":164.102},{"$f":"AE52*'Исходные данные'!$C$296","v":164.102},{"$f":"AF52*'Исходные данные'!$C$296","v":164.102},{"$f":"AG52*'Исходные данные'!$C$296","v":162.30199999999999},{"$f":"AH52*'Исходные данные'!$C$296","v":165.00200000000001},{"$f":"AI52*'Исходные данные'!$C$296","v":201.41400000000002},{"$f":"AJ52*'Исходные данные'!$C$296","v":291.42599999999999},{"$f":"AK52*'Исходные данные'!$C$296","v":187.92400000000001},{"$f":"AL52*'Исходные данные'!$C$296","v":168.422},{"$f":"AM52*'Исходные данные'!$C$296","v":163.922},{"$f":"AN52*'Исходные данные'!$C$296","v":165.00200000000001},{"$f":"AO52*'Исходные данные'!$C$296","v":162.30199999999999},{"$f":"AP52*'Исходные данные'!$C$296","v":164.102},{"$f":"AQ52*'Исходные данные'!$C$296","v":164.102},{"$f":"AR52*'Исходные данные'!$C$296","v":164.102},{"$f":"AS52*'Исходные данные'!$C$296","v":162.30199999999999},{"$f":"AT52*'Исходные данные'!$C$296","v":165.00200000000001},{"$f":"AU52*'Исходные данные'!$C$296","v":201.41400000000002},{"$f":"AV52*'Исходные данные'!$C$296","v":291.42599999999999},{"$f":"AW52*'Исходные данные'!$C$296","v":187.92400000000001},{"$f":"AX52*'Исходные данные'!$C$296","v":168.422},{"$f":"AY52*'Исходные данные'!$C$296","v":163.922},{"$f":"AZ52*'Исходные данные'!$C$296","v":165.00200000000001},{"$f":"BA52*'Исходные данные'!$C$296","v":162.30199999999999},{"$f":"BB52*'Исходные данные'!$C$296","v":164.102},{"$f":"BC52*'Исходные данные'!$C$296","v":164.102},{"$f":"BD52*'Исходные данные'!$C$296","v":164.102},{"$f":"BE52*'Исходные данные'!$C$296","v":162.30199999999999},{"$f":"BF52*'Исходные данные'!$C$296","v":165.00200000000001},{"$f":"BG52*'Исходные данные'!$C$296","v":201.41400000000002},{"$f":"BH52*'Исходные данные'!$C$296","v":291.42599999999999},{"$f":"BI52*'Исходные данные'!$C$296","v":187.92400000000001},{"$f":"BJ52*'Исходные данные'!$C$296","v":168.422},{"$f":"BK52*'Исходные данные'!$C$296","v":163.922},{"$f":"BL52*'Исходные данные'!$C$296","v":165.00200000000001}]
["Взносы за ИП на ОПС",{"$f":"SUM(C19:BL19)","v":183528.75},{"$f":"IFERROR(HLOOKUP(C5,'Исходные данные'!$C$299:$E$302,2,FALSE),'Исходные данные'!$E$300)/12*C4-C20","v":0},{"$f":"IFERROR(HLOOKUP(D5,'Исходные данные'!$C$299:$E$302,2,FALSE),'Исходные данные'!$E$300)/12*D4-D20","v":8112},{"$f":"БДДС!D26-E20","v":0},{"$f":"БДДС!E26-F20","v":5408},{"$f":"БДДС!F26-G20","v":0},{"$f":"БДДС!G26-H20","v":0},{"$f":"БДДС!H26-I20","v":8112},{"$f":"БДДС!I26-J20","v":0},{"$f":"БДДС!J26-K20","v":0},{"$f":"БДДС!K26-L20","v":8112},{"$f":"БДДС!L26-M20","v":0},{"$f":"БДДС!M26-N20","v":0},{"$f":"БДДС!N26-O20","v":8608.75},{"$f":"БДДС!O26-P20","v":0},{"$f":"БДДС!P26-Q20","v":0},{"$f":"БДДС!Q26-R20","v":8608.75},{"$f":"БДДС!R26-S20","v":0},{"$f":"БДДС!S26-T20","v":0},{"$f":"БДДС!T26-U20","v":8608.75},{"$f":"БДДС!U26-V20","v":0},{"$f":"БДДС!V26-W20","v":0},{"$f":"БДДС!W26-X20","v":8608.75},{"$f":"БДДС!X26-Y20","v":0},{"$f":"БДДС!Y26-Z20","v":0},{"$f":"БДДС!Z26-AA20","v":9180.75},{"$f":"БДДС!AA26-AB20","v":0},{"$f":"БДДС!AB26-AC20","v":0},{"$f":"БДДС!AC26-AD20","v":9180.75},{"$f":"БДДС!AD26-AE20","v":0},{"$f":"БДДС!AE26-AF20","v":0},{"$f":"БДДС!AF26-AG20","v":9180.75},{"$f":"БДДС!AG26-AH20","v":0},{"$f":"БДДС!AH26-AI20","v":0},{"$f":"БДДС!AI26-AJ20","v":9180.75},{"$f":"БДДС!AJ26-AK20","v":0},{"$f":"БДДС!AK26-AL20","v":0},{"$f":"БДДС!AL26-AM20","v":9180.75},{"$f":"БДДС!AM26-AN20","v":0},{"$f":"БДДС!AN26-AO20","v":0},{"$f":"БДДС!AO26-AP20","v":9180.75},{"$f":"БДДС!AP26-AQ20","v":0},{"$f":"БДДС!AQ26-AR20","v":0},{"$f":"БДДС!AR26-AS20","v":9180.75},{"$f":"БДДС!AS26-AT20","v":0},{"$f":"БДДС!AT26-AU20","v":0},{"$f":"БДДС!AU26-AV20","v":9180.75},{"$f":"БДДС!AV26-AW20","v":0},{"$f":"БДДС!AW26-AX20","v":0},{"$f":"БДДС!AX26-AY20","v":9180.75},{"$f":"БДДС!AY26-AZ20","v":0},{"$f":"БДДС!AZ26-BA20","v":0},{"$f":"БДДС!BA26-BB20","v":9180.75},{"$f":"БДДС!BB26-BC20","v":0},{"$f":"БДДС!BC26-BD20","v":0},{"$f":"БДДС!BD26-BE20","v":9180.75},{"$f":"БДДС!BE26-BF20","v":0},{"$f":"БДДС!BF26-BG20","v":0},{"$f":"БДДС!BG26-BH20","v":9180.75},{"$f":"БДДС!BH26-BI20","v":0},{"$f":"БДДС!BI26-BJ20","v":0},{"$f":"БДДС!BJ26-BK20","v":9180.75},{"$f":"БДДС!BK26-BL20","v":0}]
["Взносы за ИП на ОМС",46136.583333333328,{"$f":"IFERROR(HLOOKUP(C5,'Исходные данные'!$C$299:$E$302,4,FALSE),'Исходные данные'!$E$302)/12*C4","v":0},{"$f":"IFERROR(HLOOKUP(D5,'Исходные данные'!$C$299:$E$302,4,FALSE),'Исходные данные'!$E$302)/12*D4","v":2106.5},{"$f":"IF(E9=0,0,IFERROR(HLOOKUP(E5,'Исходные данные'!$C$299:$E$302,4,FALSE),'Исходные данные'!$E$302)/12*БДДС!D10)","v":0},{"$f":"IF(F9=0,0,IFERROR(HLOOKUP(F5,'Исходные данные'!$C$299:$E$302,4,FALSE),'Исходные данные'!$E$302)/12*БДДС!E10)","v":1404.3333333333333},{"$f":"IF(G9=0,0,IFERROR(HLOOKUP(G5,'Исходные данные'!$C$299:$E$302,4,FALSE),'Исходные данные'!$E$302)/12*БДДС!F10)","v":0},{"$f":"IF(H9=0,0,IFERROR(HLOOKUP(H5,'Исходные данные'!$C$299:$E$302,4,FALSE),'Исходные данные'!$E$302)/12*БДДС!G10)","v":0},{"$f":"IF(I9=0,0,IFERROR(HLOOKUP(I5,'Исходные данные'!$C$299:$E$302,4,FALSE),'Исходные данные'!$E$302)/12*БДДС!H10)","v":2106.5},{"$f":"IF(J9=0,0,IFERROR(HLOOKUP(J5,'Исходные данные'!$C$299:$E$302,4,FALSE),'Исходные данные'!$E$302)/12*БДДС!I10)","v":0},{"$f":"IF(K9=0,0,IFERROR(HLOOKUP(K5,'Исходные данные'!$C$299:$E$302,4,FALSE),'Исходные данные'!$E$302)/12*БДДС!J10)","v":0},{"$f":"IF(L9=0,0,IFERROR(HLOOKUP(L5,'Исходные данные'!$C$299:$E$302,4,FALSE),'Исходные данные'!$E$302)/12*БДДС!K10)","v":2106.5},{"$f":"IF(M9=0,0,IFERROR(HLOOKUP(M5,'Исходные данные'!$C$299:$E$302,4,FALSE),'Исходные данные'!$E$302)/12*БДДС!L10)","v":0},{"$f":"IF(N9=0,0,IFERROR(HLOOKUP(N5,'Исходные данные'!$C$299:$E$302,4,FALSE),'Исходные данные'!$E$302)/12*БДДС!M10)","v":0},{"$f":"IF(O9=0,0,IFERROR(HLOOKUP(O5,'Исходные данные'!$C$299:$E$302,4,FALSE),'Исходные данные'!$E$302)/12*БДДС!N10)","v":2194},{"$f":"IF(P9=0,0,IFERROR(HLOOKUP(P5,'Исходные данные'!$C$299:$E$302,4,FALSE),'Исходные данные'!$E$302)/12*БДДС!O10)","v":0},{"$f":"IF(Q9=0,0,IFERROR(HLOOKUP(Q5,'Исходные данные'!$C$299:$E$302,4,FALSE),'Исходные данные'!$E$302)/12*БДДС!P10)","v":0},{"$f":"IF(R9=0,0,IFERROR(HLOOKUP(R5,'Исходные данные'!$C$299:$E$302,4,FALSE),'Исходные данные'!$E$302)/12*БДДС!Q10)","v":2194},{"$f":"IF(S9=0,0,IFERROR(HLOOKUP(S5,'Исходные данные'!$C$299:$E$302,4,FALSE),'Исходные данные'!$E$302)/12*БДДС!R10)","v":0},{"$f":"IF(T9=0,0,IFERROR(HLOOKUP(T5,'Исходные данные'!$C$299:$E$302,4,FALSE),'Исходные данные'!$E$302)/12*БДДС!S10)","v":0},{"$f":"IF(U9=0,0,IFERROR(HLOOKUP(U5,'Исходные данные'!$C$299:$E$302,4,FALSE),'Исходные данные'!$E$302)/12*БДДС!T10)","v":2194},{"$f":"IF(V9=0,0,IFERROR(HLOOKUP(V5,'Исходные данные'!$C$299:$E$302,4,FALSE),'Исходные данные'!$E$302)/12*БДДС!U10)","v":0},{"$f":"IF(W9=0,0,IFERROR(HLOOKUP(W5,'Исходные данные'!$C$299:$E$302,4,FALSE),'Исходные данные'!$E$302)/12*БДДС!V10)","v":0},{"$f":"IF(X9=0,0,IFERROR(HLOOKUP(X5,'Исходные данные'!$C$299:$E$302,4,FALSE),'Исходные данные'!$E$302)/12*БДДС!W10)","v":2194},{"$f":"IF(Y9=0,0,IFERROR(HLOOKUP(Y5,'Исходные данные'!$C$299:$E$302,4,FALSE),'Исходные данные'!$E$302)/12*БДДС!X10)","v":0},{"$f":"IF(Z9=0,0,IFERROR(HLOOKUP(Z5,'Исходные данные'!$C$299:$E$302,4,FALSE),'Исходные данные'!$E$302)/12*БДДС!Y10)","v":0},{"$f":"IF(AA9=0,0,IFERROR(HLOOKUP(AA5,'Исходные данные'!$C$299:$E$302,4,FALSE),'Исходные данные'!$E$302)/12*БДДС!Z10)","v":2279.75},{"$f":"IF(AB9=0,0,IFERROR(HLOOKUP(AB5,'Исходные данные'!$C$299:$E$302,4,FALSE),'Исходные данные'!$E$302)/12*БДДС!AA10)","v":0},{"$f":"IF(AC9=0,0,IFERROR(HLOOKUP(AC5,'Исходные данные'!$C$299:$E$302,4,FALSE),'Исходные данные'!$E$302)/12*БДДС!AB10)","v":0},{"$f":"IF(AD9=0,0,IFERROR(HLOOKUP(AD5,'Исходные данные'!$C$299:$E$302,4,FALSE),'Исходные данные'!$E$302)/12*БДДС!AC10)","v":2279.75},{"$f":"IF(AE9=0,0,IFERROR(HLOOKUP(AE5,'Исходные данные'!$C$299:$E$302,4,FALSE),'Исходные данные'!$E$302)/12*БДДС!AD10)","v":0},{"$f":"IF(AF9=0,0,IFERROR(HLOOKUP(AF5,'Исходные данные'!$C$299:$E$302,4,FALSE),'Исходные данные'!$E$302)/12*БДДС!AE10)","v":0},{"$f":"IF(AG9=0,0,IFERROR(HLOOKUP(AG5,'Исходные данные'!$C$299:$E$302,4,FALSE),'Исходные данные'!$E$302)/12*БДДС!AF10)","v":2279.75},{"$f":"IF(AH9=0,0,IFERROR(HLOOKUP(AH5,'Исходные данные'!$C$299:$E$302,4,FALSE),'Исходные данные'!$E$302)/12*БДДС!AG10)","v":0},{"$f":"IF(AI9=0,0,IFERROR(HLOOKUP(AI5,'Исходные данные'!$C$299:$E$302,4,FALSE),'Исходные данные'!$E$302)/12*БДДС!AH10)","v":0},{"$f":"IF(AJ9=0,0,IFERROR(HLOOKUP(AJ5,'Исходные данные'!$C$299:$E$302,4,FALSE),'Исходные данные'!$E$302)/12*БДДС!AI10)","v":2279.75},{"$f":"IF(AK9=0,0,IFERROR(HLOOKUP(AK5,'Исходные данные'!$C$299:$E$302,4,FALSE),'Исходные данные'!$E$302)/12*БДДС!AJ10)","v":0},{"$f":"IF(AL9=0,0,IFERROR(HLOOKUP(AL5,'Исходные данные'!$C$299:$E$302,4,FALSE),'Исходные данные'!$E$302)/12*БДДС!AK10)","v":0},{"$f":"IF(AM9=0,0,IFERROR(HLOOKUP(AM5,'Исходные данные'!$C$299:$E$302,4,FALSE),'Исходные данные'!$E$302)/12*БДДС!AL10)","v":2279.75},{"$f":"IF(AN9=0,0,IFERROR(HLOOKUP(AN5,'Исходные данные'!$C$299:$E$302,4,FALSE),'Исходные данные'!$E$302)/12*БДДС!AM10)","v":0},{"$f":"IF(AO9=0,0,IFERROR(HLOOKUP(AO5,'Исходные данные'!$C$299:$E$302,4,FALSE),'Исходные данные'!$E$302)/12*БДДС!AN10)","v":0},{"$f":"IF(AP9=0,0,IFERROR(HLOOKUP(AP5,'Исходные данные'!$C$299:$E$302,4,FALSE),'Исходные данные'!$E$302)/12*БДДС!AO10)","v":2279.75},{"$f":"IF(AQ9=0,0,IFERROR(HLOOKUP(AQ5,'Исходные данные'!$C$299:$E$302,4,FALSE),'Исходные данные'!$E$302)/12*БДДС!AP10)","v":0},{"$f":"IF(AR9=0,0,IFERROR(HLOOKUP(AR5,'Исходные данные'!$C$299:$E$302,4,FALSE),'Исходные данные'!$E$302)/12*БДДС!AQ10)","v":0},{"$f":"IF(AS9=0,0,IFERROR(HLOOKUP(AS5,'Исходные данные'!$C$299:$E$302,4,FALSE),'Исходные данные'!$E$302)/12*БДДС!AR10)","v":2279.75},{"$f":"IF(AT9=0,0,IFERROR(HLOOKUP(AT5,'Исходные данные'!$C$299:$E$302,4,FALSE),'Исходные данные'!$E$302)/12*БДДС!AS10)","v":0},{"$f":"IF(AU9=0,0,IFERROR(HLOOKUP(AU5,'Исходные данные'!$C$299:$E$302,4,FALSE),'Исходные данные'!$E$302)/12*БДДС!AT10)","v":0},{"$f":"IF(AV9=0,0,IFERROR(HLOOKUP(AV5,'Исходные данные'!$C$299:$E$302,4,FALSE),'Исходные данные'!$E$302)/12*БДДС!AU10)","v":2279.75},{"$f":"IF(AW9=0,0,IFERROR(HLOOKUP(AW5,'Исходные данные'!$C$299:$E$302,4,FALSE),'Исходные данные'!$E$302)/12*БДДС!AV10)","v":0},{"$f":"IF(AX9=0,0,IFERROR(HLOOKUP(AX5,'Исходные данные'!$C$299:$E$302,4,FALSE),'Исходные данные'!$E$302)/12*БДДС!AW10)","v":0},{"$f":"IF(AY9=0,0,IFERROR(HLOOKUP(AY5,'Исходные данные'!$C$299:$E$302,4,FALSE),'Исходные данные'!$E$302)/12*БДДС!AX10)","v":2279.75},{"$f":"IF(AZ9=0,0,IFERROR(HLOOKUP(AZ5,'Исходные данные'!$C$299:$E$302,4,FALSE),'Исходные данные'!$E$302)/12*БДДС!AY10)","v":0},{"$f":"IF(BA9=0,0,IFERROR(HLOOKUP(BA5,'Исходные данные'!$C$299:$E$302,4,FALSE),'Исходные данные'!$E$302)/12*БДДС!AZ10)","v":0},{"$f":"IF(BB9=0,0,IFERROR(HLOOKUP(BB5,'Исходные данные'!$C$299:$E$302,4,FALSE),'Исходные данные'!$E$302)/12*БДДС!BA10)","v":2279.75},{"$f":"IF(BC9=0,0,IFERROR(HLOOKUP(BC5,'Исходные данные'!$C$299:$E$302,4,FALSE),'Исходные данные'!$E$302)/12*БДДС!BB10)","v":0},{"$f":"IF(BD9=0,0,IFERROR(HLOOKUP(BD5,'Исходные данные'!$C$299:$E$302,4,FALSE),'Исходные данные'!$E$302)/12*БДДС!BC10)","v":0},{"$f":"IF(BE9=0,0,IFERROR(HLOOKUP(BE5,'Исходные данные'!$C$299:$E$302,4,FALSE),'Исходные данные'!$E$302)/12*БДДС!BD10)","v":2279.75},{"$f":"IF(BF9=0,0,IFERROR(HLOOKUP(BF5,'Исходные данные'!$C$299:$E$302,4,FALSE),'Исходные данные'!$E$302)/12*БДДС!BE10)","v":0},{"$f":"IF(BG9=0,0,IFERROR(HLOOKUP(BG5,'Исходные данные'!$C$299:$E$302,4,FALSE),'Исходные данные'!$E$302)/12*БДДС!BF10)","v":0},{"$f":"IF(BH9=0,0,IFERROR(HLOOKUP(BH5,'Исходные данные'!$C$299:$E$302,4,FALSE),'Исходные данные'!$E$302)/12*БДДС!BG10)","v":2279.75},{"$f":"IF(BI9=0,0,IFERROR(HLOOKUP(BI5,'Исходные данные'!$C$299:$E$302,4,FALSE),'Исходные данные'!$E$302)/12*БДДС!BH10)","v":0},{"$f":"IF(BJ9=0,0,IFERROR(HLOOKUP(BJ5,'Исходные данные'!$C$299:$E$302,4,FALSE),'Исходные данные'!$E$302)/12*БДДС!BI10)","v":0},{"$f":"IF(BK9=0,0,IFERROR(HLOOKUP(BK5,'Исходные данные'!$C$299:$E$302,4,FALSE),'Исходные данные'!$E$302)/12*БДДС!BJ10)","v":2279.75},{"$f":"IF(BL9=0,0,IFERROR(HLOOKUP(BL5,'Исходные данные'!$C$299:$E$302,4,FALSE),'Исходные данные'!$E$302)/12*БДДС!BK10)","v":0}]
["Взносы за ИП на ОПС (дополнительные)",487351.60000000003,null,null,{"$f":"IF(E11<>0,HLOOKUP(E5,$B$204:$G$211,8,FALSE),0)","v":0},0,0,0,0,0,0,67342.8,0,0,0,0,0,0,0,0,0,0,0,105002.2,0,0,0,0,0,0,0,0,0,0,0,105002.2,{"$f":"IF(AK11<>0,HLOOKUP(AK5,$B$204:$G$211,8,FALSE),0)","v":0},0,0,0,0,0,0,0,0,0,0,105002.2,0,0,0,0,0,0,0,0,0,0,0,105002.2,0,0,0,0]
[{"$f":"\"Налог по \"&'Исходные данные'!C8","v":"Налог по УСН доходы"},1481262.8743337113,null,null,{"$f":"E201","v":0},{"$f":"F201","v":15183.599999999999},0,0,58458.866749999994,0,0,66446.065500000026,0,0,167369.52124999999,0,0,66367.8,0,0,0,0,0,65040.105737500024,0,0,163045.39549999998,0,0,66367.8,0,0,0,0,0,64090.796302875002,0,0,163045.39549999998,0,0,66367.8,0,0,0,0,0,62271.275585913783,0,0,163045.39549999998,0,0,66367.8,0,0,0,0,0,64749.861207422633,0,0,163045.39549999998,0]
["К УПЛАТЕ ЗА ПЕРИОД",{"$f":"SUM(B24:B32)","v":4868908.8826670442},{"$f":"SUM(C24:C32)","v":0},10218.5,0,27464.525333333331,40145.322,36946.01249999999,49162.411999999989,100539.69125,44698.950000000004,64421.964499999995,141512.49750000003,38195.553,47430.552499999998,205230.07924999998,40170.073500000006,119870.62400000001,110528.0745,46252.574999999997,59147.625500000002,50071.326000000008,52689.451500000003,72996.715999999986,148097.03923750002,38195.553,48088.302499999998,200905.95349999997,40170.073500000006,158187.774,110528.0745,46252.574999999997,59805.375500000002,50071.326000000008,52689.451500000003,73654.465999999986,147147.72980287499,38195.553,48088.302499999998,200905.95349999997,40170.073500000006,158187.774,110528.0745,46252.574999999997,59805.375500000002,50071.326000000008,52689.451500000003,73654.465999999986,145328.20908591378,38195.553,48088.302499999998,200905.95349999997,40170.073500000006,158187.774,110528.0745,46252.574999999997,59805.375500000002,50071.326000000008,52689.451500000003,73654.465999999986,147806.79470742264,38195.553,48088.302499999998,200905.95349999997]
["Налог на доходы физических лиц",682095.9600000002,null,null,null,{"$f":"E14","v":6214.7800000000007},{"$f":"F14","v":6777.9400000000005},10185.369999999999,10185.369999999999,10549.630000000001,10725.130000000001,13091.91,18942.690000000002,12215.060000000001,10947.43,10654.93,10725.130000000001,10549.630000000001,10666.630000000001,10666.630000000001,10666.630000000001,10549.630000000001,10725.130000000001,13091.91,18942.690000000002,12215.060000000001,10947.43,10654.93,10725.130000000001,10549.630000000001,10666.630000000001,10666.630000000001,10666.630000000001,10549.630000000001,10725.130000000001,13091.91,18942.690000000002,12215.060000000001,10947.43,10654.93,10725.130000000001,10549.630000000001,10666.630000000001,10666.630000000001,10666.630000000001,10549.630000000001,10725.130000000001,13091.91,18942.690000000002,12215.060000000001,10947.43,10654.93,10725.130000000001,10549.630000000001,10666.630000000001,10666.630000000001,10666.630000000001,10549.630000000001,10725.130000000001,13091.91,18942.690000000002,12215.060000000001,10947.43,10654.93]
["Взноса на ОПС",1154316.2399999995,null,null,null,{"$f":"E15","v":10517.32},11470.36,17236.78,17236.78,17853.22,18150.22,22155.54,32056.86,20671.64,18526.419999999998,18031.419999999998,18150.22,17853.22,18051.22,18051.22,18051.22,17853.22,18150.22,22155.54,32056.86,20671.64,18526.419999999998,18031.419999999998,18150.22,17853.22,18051.22,18051.22,18051.22,17853.22,18150.22,22155.54,32056.86,20671.64,18526.419999999998,18031.419999999998,18150.22,17853.22,18051.22,18051.22,18051.22,17853.22,18150.22,22155.54,32056.86,20671.64,18526.419999999998,18031.419999999998,18150.22,17853.22,18051.22,18051.22,18051.22,17853.22,18150.22,22155.54,32056.86,20671.64,18526.419999999998,18031.419999999998]
["Взносы на ОМС",776565.42299999995,null,null,null,2438.1059999999998,5097.1439999999993,7095.0434999999998,9092.9429999999993,11162.2935,13266.069,15834.0975,19549.778999999999,2396.0309999999999,4543.4115000000002,6633.4169999999995,8737.1924999999992,10806.543,12898.843499999999,14991.143999999998,17083.444499999998,19152.794999999998,21256.570499999998,23824.598999999998,27540.280499999997,2396.0309999999999,4543.4115000000002,6633.4169999999995,8737.1924999999992,10806.543,12898.843499999999,14991.143999999998,17083.444499999998,19152.794999999998,21256.570499999998,23824.598999999998,27540.280499999997,2396.0309999999999,4543.4115000000002,6633.4169999999995,8737.1924999999992,10806.543,12898.843499999999,14991.143999999998,17083.444499999998,19152.794999999998,21256.570499999998,23824.598999999998,27540.280499999997,2396.0309999999999,4543.4115000000002,6633.4169999999995,8737.1924999999992,10806.543,12898.843499999999,14991.143999999998,17083.444499999998,19152.794999999998,21256.570499999998,23824.598999999998,27540.280499999997,2396.0309999999999,4543.4115000000002,6633.4169999999995]
["Взносы на ОСС",152159.86800000002,null,null,null,1386.3739999999998,1512.002,2272.1209999999996,2272.1209999999996,2353.3789999999999,2392.5289999999995,2920.5030000000002,4225.6769999999997,2724.8979999999992,2442.1189999999997,2376.8689999999997,2392.5289999999995,2353.3789999999999,2379.4790000000003,2379.4790000000003,2379.4790000000003,2353.3789999999999,2392.5289999999995,2920.5030000000002,4225.6769999999997,2724.8979999999992,2442.1189999999997,2376.8689999999997,2392.5289999999995,2353.3789999999999,2379.4790000000003,2379.4790000000003,2379.4790000000003,2353.3789999999999,2392.5289999999995,2920.5030000000002,4225.6769999999997,2724.8979999999992,2442.1189999999997,2376.8689999999997,2392.5289999999995,2353.3789999999999,2379.4790000000003,2379.4790000000003,2379.4790000000003,2353.3789999999999,2392.5289999999995,2920.5030000000002,4225.6769999999997,2724.8979999999992,2442.1189999999997,2376.8689999999997,2392.5289999999995,2353.3789999999999,2379.4790000000003,2379.4790000000003,2379.4790000000003,2353.3789999999999,2392.5289999999995,2920.5030000000002,4225.6769999999997,2724.8979999999992,2442.1189999999997,2376.8689999999997]
["Взносы от несчастных случаев",10493.784000000003,null,null,null,95.612000000000009,104.276,156.69800000000001,156.69800000000001,162.30199999999999,165.00200000000001,201.41400000000002,291.42599999999999,187.92400000000001,168.422,163.922,165.00200000000001,162.30199999999999,164.102,164.102,164.102,162.30199999999999,165.00200000000001,201.41400000000002,291.42599999999999,187.92400000000001,168.422,163.922,165.00200000000001,162.30199999999999,164.102,164.102,164.102,162.30199999999999,165.00200000000001,201.41400000000002,291.42599999999999,187.92400000000001,168.422,163.922,165.00200000000001,162.30199999999999,164.102,164.102,{"$f":"AR18","v":164.102},162.30199999999999,165.00200000000001,201.41400000000002,291.42599999999999,187.92400000000001,168.422,163.922,165.00200000000001,162.30199999999999,164.102,164.102,164.102,162.30199999999999,165.00200000000001,201.41400000000002,291.42599999999999,187.92400000000001,168.422,163.922]
["Взносы за ИП на ОПС",183528.75,{"$f":"C19","v":0},8112,{"$f":"E19","v":0},{"$f":"F19","v":5408},0,0,8112,0,0,8112,0,0,8608.75,0,0,8608.75,0,0,8608.75,0,0,8608.75,0,0,9180.75,0,0,9180.75,0,0,9180.75,0,0,9180.75,0,0,9180.75,0,0,9180.75,0,0,9180.75,0,0,9180.75,0,0,9180.75,0,0,9180.75,0,0,9180.75,0,0,9180.75,0,0,9180.75,0]
["Взносы за ИП на ОМС",46136.583333333328,{"$f":"C20","v":0},2106.5,{"$f":"E20","v":0},{"$f":"F20","v":1404.3333333333333},0,0,2106.5,0,0,2106.5,0,0,2194,0,0,2194,0,0,2194,0,0,2194,0,0,2279.75,0,0,2279.75,0,0,2279.75,0,0,2279.75,0,0,2279.75,0,0,2279.75,0,0,2279.75,0,0,2279.75,0,0,2279.75,0,0,2279.75,0,0,2279.75,0,0,2279.75,0,0,2279.75,0]
["Взносы за ИП на ОПС (дополнительные)",382349.4,null,null,null,null,null,null,null,null,{"$f":"E21","v":0},{"$f":"F21","v":0},0,0,0,0,0,67342.8,0,0,0,0,0,0,0,0,0,0,0,105002.2,0,0,0,0,0,0,0,0,0,0,0,105002.2,0,0,0,0,0,0,0,0,0,0,0,105002.2,0,0,0,0,0,0,0,0,0,0]
[{"$f":"\"Налог по \"&'Исходные данные'!C8","v":"Налог по УСН доходы"},1481262.8743337113,null,null,null,{"$f":"E22","v":0},{"$f":"F22","v":15183.599999999999},0,0,58458.866749999994,0,0,66446.065500000026,0,0,167369.52124999999,0,0,66367.8,0,0,0,0,0,65040.105737500024,0,0,163045.39549999998,0,0,66367.8,0,0,0,0,0,64090.796302875002,0,0,163045.39549999998,0,0,66367.8,0,0,0,0,0,62271.275585913783,0,0,163045.39549999998,0,0,66367.8,0,0,0,0,0,64749.861207422633,0,0,163045.39549999998]
[]
[]
["РАСЧЕТ СТРАХОВЫХ ВЗНОСОВ ОПС и ОСС ЗА ПЕРСОНАЛ"]
["Количество сотрудников",null,null,null,{"$f":"SUM(E37:E51)","v":1},{"$f":"SUM(F37:F51)","v":1},2,2,2,2,2,2,2,2,2,2,2,2,2,2,2,2,2,2,2,2,2,2,2,2,2,2,2,2,2,2,2,2,2,2,2,2,2,2,2,2,2,2,2,2,2,2,2,2,2,2,2,2,2,2,2,2,2,2]
[{"$f":"'Исходные данные'!B92","v":"Продавей"},null,null,null,{"$f":"'Исходные данные'!C114","v":1},{"$f":"'Исходные данные'!D114","v":1},{"$f":"'Исходные данные'!E114","v":2},{"$f":"'Исходные данные'!F114","v":2},{"$f":"'Исходные данные'!G114","v":2},{"$f":"'Исходные данные'!H114","v":2},{"$f":"'Исходные данные'!I114","v":2},{"$f":"'Исходные данные'!J114","v":2},{"$f":"'Исходные данные'!K114","v":2},{"$f":"'Исходные данные'!L114","v":2},{"$f":"'Исходные данные'!M114","v":2},{"$f":"'Исходные данные'!N114","v":2},{"$f":"'Исходные данные'!$C92","v":2},{"$f":"'Исходные данные'!$C92","v":2},{"$f":"'Исходные данные'!$C92","v":2},{"$f":"'Исходные данные'!$C92","v":2},{"$f":"'Исходные данные'!$C92","v":2},{"$f":"'Исходные данные'!$C92","v":2},{"$f":"'Исходные данные'!$C92","v":2},{"$f":"'Исходные данные'!$C92","v":2},{"$f":"'Исходные данные'!$C92","v":2},{"$f":"'Исходные данные'!$C92","v":2},{"$f":"'Исходные данные'!$C92","v":2},{"$f":"'Исходные данные'!$C92","v":2},{"$f":"'Исходные данные'!$C92","v":2},{"$f":"'Исходные данные'!$C92","v":2},{"$f":"'Исходные данные'!$C92","v":2},{"$f":"'Исходные данные'!$C92","v":2},{"$f":"'Исходные данные'!$C92","v":2},{"$f":"'Исходные данные'!$C92","v":2},{"$f":"'Исходные данные'!$C92","v":2},{"$f":"'Исходные данные'!$C92","v":2},{"$f":"'Исходные данные'!$C92","v":2},{"$f":"'Исходные данные'!$C92","v":2},{"$f":"'Исходные данные'!$C92","v":2},{"$f":"'Исходные данные'!$C92","v":2},{"$f":"'Исходные данные'!$C92","v":2},{"$f":"'Исходные данные'!$C92","v":2},{"$f":"'Исходные данные'!$C92","v":2},{"$f":"'Исходные данные'!$C92","v":2},{"$f":"'Исходные данные'!$C92","v":2},{"$f":"'Исходные данные'!$C92","v":2},{"$f":"'Исходные данные'!$C92","v":2},{"$f":"'Исходные данные'!$C92","v":2},{"$f":"'Исходные данные'!$C92","v":2},{"$f":"'Исходные данные'!$C92","v":2},{"$f":"'Исходные данные'!$C92","v":2},{"$f":"'Исходные данные'!$C92","v":2},{"$f":"'Исходные данные'!$C92","v":2},{"$f":"'Исходные данные'!$C92","v":2},{"$f":"'Исходные данные'!$C92","v":2},{"$f":"'Исходные данные'!$C92","v":2},{"$f":"'Исходные данные'!$C92","v":2},{"$f":"'Исходные данные'!$C92","v":2},{"$f":"'Исходные данные'!$C92","v":2},{"$f":"'Исходные данные'!$C92","v":2},{"$f":"'Исходные данные'!$C92","v":2},{"$f":"'Исходные данные'!$C92","v":2},{"$f":"'Исходные данные'!$C92","v":2},{"$f":"'Исходные данные'!$C92","v":2}]
[{"$f":"'Исходные данные'!B93","v":0},null,null,null,{"$f":"'Исходные данные'!C115","v":0},{"$f":"'Исходные данные'!D115","v":0},{"$f":"'Исходные данные'!E115","v":0},{"$f":"'Исходные данные'!F115","v":0},{"$f":"'Исходные данные'!G115","v":0},{"$f":"'Исходные данные'!H115","v":0},{"$f":"'Исходные данные'!I115","v":0},{"$f":"'Исходные данные'!J115","v":0},{"$f":"'Исходные данные'!K115","v":0},{"$f":"'Исходные данные'!L115","v":0},{"$f":"'Исходные данные'!M115","v":0},{"$f":"'Исходные данные'!N115","v":0},{"$f":"'Исходные данные'!$C93","v":0},{"$f":"'Исходные данные'!$C93","v":0},{"$f":"'Исходные данные'!$C93","v":0},{"$f":"'Исходные данные'!$C93","v":0},{"$f":"'Исходные данные'!$C93","v":0},{"$f":"'Исходные данные'!$C93","v":0},{"$f":"'Исходные данные'!$C93","v":0},{"$f":"'Исходные данные'!$C93","v":0},{"$f":"'Исходные данные'!$C93","v":0},{"$f":"'Исходные данные'!$C93","v":0},{"$f":"'Исходные данные'!$C93","v":0},{"$f":"'Исходные данные'!$C93","v":0},{"$f":"'Исходные данные'!$C93","v":0},{"$f":"'Исходные данные'!$C93","v":0},{"$f":"'Исходные данные'!$C93","v":0},{"$f":"'Исходные данные'!$C93","v":0},{"$f":"'Исходные данные'!$C93","v":0},{"$f":"'Исходные данные'!$C93","v":0},{"$f":"'Исходные данные'!$C93","v":0},{"$f":"'Исходные данные'!$C93","v":0},{"$f":"'Исходные данные'!$C93","v":0},{"$f":"'Исходные данные'!$C93","v":0},{"$f":"'Исходные данные'!$C93","v":0},{"$f":"'Исходные данные'!$C93","v":0},{"$f":"'Исходные данные'!$C93","v":0},{"$f":"'Исходные данные'!$C93","v":0},{"$f":"'Исходные данные'!$C93","v":0},{"$f":"'Исходные данные'!$C93","v":0},{"$f":"'Исходные данные'!$C93","v":0},{"$f":"'Исходные данные'!$C93","v":0},{"$f":"'Исходные данные'!$C93","v":0},{"$f":"'Исходные данные'!$C93","v":0},{"$f":"'Исходные данные'!$C93","v":0},{"$f":"'Исходные данные'!$C93","v":0},{"$f":"'Исходные данные'!$C93","v":0},{"$f":"'Исходные данные'!$C93","v":0},{"$f":"'Исходные данные'!$C93","v":0},{"$f":"'Исходные данные'!$C93","v":0},{"$f":"'Исходные данные'!$C93","v":0},{"$f":"'Исходные данные'!$C93","v":0},{"$f":"'Исходные данные'!$C93","v":0},{"$f":"'Исходные данные'!$C93","v":0},{"$f":"'Исходные данные'!$C93","v":0},{"$f":"'Исходные данные'!$C93","v":0},{"$f":"'Исходные данные'!$C93","v":0},{"$f":"'Исходные данные'!$C93","v":0},{"$f":"'Исходные данные'!$C93","v":0},{"$f":"'Исходные данные'!$C93","v":0}]
[{"$f":"'Исходные данные'!B94","v":0},null,null,null,{"$f":"'Исходные данные'!C116","v":0},{"$f":"'Исходные данные'!D116","v":0},{"$f":"'Исходные данные'!E116","v":0},{"$f":"'Исходные данные'!F116","v":0},{"$f":"'Исходные данные'!G116","v":0},{"$f":"'Исходные данные'!H116","v":0},{"$f":"'Исходные данные'!I116","v":0},{"$f":"'Исходные данные'!J116","v":0},{"$f":"'Исходные данные'!K116","v":0},{"$f":"'Исходные данные'!L116","v":0},{"$f":"'Исходные данные'!M116","v":0},{"$f":"'Исходные данные'!N116","v":0},{"$f":"'Исходные данные'!$C94","v":0},{"$f":"'Исходные данные'!$C94","v":0},{"$f":"'Исходные данные'!$C94","v":0},{"$f":"'Исходные данные'!$C94","v":0},{"$f":"'Исходные данные'!$C94","v":0},{"$f":"'Исходные данные'!$C94","v":0},{"$f":"'Исходные данные'!$C94","v":0},{"$f":"'Исходные данные'!$C94","v":0},{"$f":"'Исходные данные'!$C94","v":0},{"$f":"'Исходные данные'!$C94","v":0},{"$f":"'Исходные данные'!$C94","v":0},{"$f":"'Исходные данные'!$C94","v":0},{"$f":"'Исходные данные'!$C94","v":0},{"$f":"'Исходные данные'!$C94","v":0},{"$f":"'Исходные данные'!$C94","v":0},{"$f":"'Исходные данные'!$C94","v":0},{"$f":"'Исходные данные'!$C94","v":0},{"$f":"'Исходные данные'!$C94","v":0},{"$f":"'Исходные данные'!$C94","v":0},{"$f":"'Исходные данные'!$C94","v":0},{"$f":"'Исходные данные'!$C94","v":0},{"$f":"'Исходные данные'!$C94","v":0},{"$f":"'Исходные данные'!$C94","v":0},{"$f":"'Исходные данные'!$C94","v":0},{"$f":"'Исходные данные'!$C94","v":0},{"$f":"'Исходные данные'!$C94","v":0},{"$f":"'Исходные данные'!$C94","v":0},{"$f":"'Исходные данные'!$C94","v":0},{"$f":"'Исходные данные'!$C94","v":0},{"$f":"'Исходные данные'!$C94","v":0},{"$f":"'Исходные данные'!$C94","v":0},{"$f":"'Исходные данные'!$C94","v":0},{"$f":"'Исходные данные'!$C94","v":0},{"$f":"'Исходные данные'!$C94","v":0},{"$f":"'Исходные данные'!$C94","v":0},{"$f":"'Исходные данные'!$C94","v":0},{"$f":"'Исходные данные'!$C94","v":0},{"$f":"'Исходные данные'!$C94","v":0},{"$f":"'Исходные данные'!$C94","v":0},{"$f":"'Исходные данные'!$C94","v":0},{"$f":"'Исходные данные'!$C94","v":0},{"$f":"'Исходные данные'!$C94","v":0},{"$f":"'Исходные данные'!$C94","v":0},{"$f":"'Исходные данные'!$C94","v":0},{"$f":"'Исходные данные'!$C94","v":0},{"$f":"'Исходные данные'!$C94","v":0},{"$f":"'Исходные данные'!$C94","v":0},{"$f":"'Исходные данные'!$C94","v":0}]
[{"$f":"'Исходные данные'!B95","v":0},null,null,null,{"$f":"'Исходные данные'!C117","v":0},{"$f":"'Исходные данные'!D117","v":0},{"$f":"'Исходные данные'!E117","v":0},{"$f":"'Исходные данные'!F117","v":0},{"$f":"'Исходные данные'!G117","v":0},{"$f":"'Исходные данные'!H117","v":0},{"$f":"'Исходные данные'!I117","v":0},{"$f":"'Исходные данные'!J117","v":0},{"$f":"'Исходные данные'!K117","v":0},{"$f":"'Исходные данные'!L117","v":0},{"$f":"'Исходные данные'!M117","v":0},{"$f":"'Исходные данные'!N117","v":0},{"$f":"'Исходные данные'!$C95","v":0},{"$f":"'Исходные данные'!$C95","v":0},{"$f":"'Исходные данные'!$C95","v":0},{"$f":"'Исходные данные'!$C95","v":0},{"$f":"'Исходные данные'!$C95","v":0},{"$f":"'Исходные данные'!$C95","v":0},{"$f":"'Исходные данные'!$C95","v":0},{"$f":"'Исходные данные'!$C95","v":0},{"$f":"'Исходные данные'!$C95","v":0},{"$f":"'Исходные данные'!$C95","v":0},{"$f":"'Исходные данные'!$C95","v":0},{"$f":"'Исходные данные'!$C95","v":0},{"$f":"'Исходные данные'!$C95","v":0},{"$f":"'Исходные данные'!$C95","v":0},{"$f":"'Исходные данные'!$C95","v":0},{"$f":"'Исходные данные'!$C95","v":0},{"$f":"'Исходные данные'!$C95","v":0},{"$f":"'Исходные данные'!$C95","v":0},{"$f":"'Исходные данные'!$C95","v":0},{"$f":"'Исходные данные'!$C95","v":0},{"$f":"'Исходные данные'!$C95","v":0},{"$f":"'Исходные данные'!$C95","v":0},{"$f":"'Исходные данные'!$C95","v":0},{"$f":"'Исходные данные'!$C95","v":0},{"$f":"'Исходные данные'!$C95","v":0},{"$f":"'Исходные данные'!$C95","v":0},{"$f":"'Исходные данные'!$C95","v":0},{"$f":"'Исходные данные'!$C95","v":0},{"$f":"'Исходные данные'!$C95","v":0},{"$f":"'Исходные данные'!$C95","v":0},{"$f":"'Исходные данные'!$C95","v":0},{"$f":"'Исходные данные'!$C95","v":0},{"$f":"'Исходные данные'!$C95","v":0},{"$f":"'Исходные данные'!$C95","v":0},{"$f":"'Исходные данные'!$C95","v":0},{"$f":"'Исходные данные'!$C95","v":0},{"$f":"'Исходные данные'!$C95","v":0},{"$f":"'Исходные данные'!$C95","v":0},{"$f":"'Исходные данные'!$C95","v":0},{"$f":"'Исходные данные'!$C95","v":0},{"$f":"'Исходные данные'!$C95","v":0},{"$f":"'Исходные данные'!$C95","v":0},{"$f":"'Исходные данные'!$C95","v":0},{"$f":"'Исходные данные'!$C95","v":0},{"$f":"'Исходные данные'!$C95","v":0},{"$f":"'Исходные данные'!$C95","v":0},{"$f":"'Исходные данные'!$C95","v":0},{"$f":"'Исходные данные'!$C95","v":0}]
[{"$f":"'Исходные данные'!B96","v":0},null,null,null,{"$f":"'Исходные данные'!C118","v":0},{"$f":"'Исходные данные'!D118","v":0},{"$f":"'Исходные данные'!E118","v":0},{"$f":"'Исходные данные'!F118","v":0},{"$f":"'Исходные данные'!G118","v":0},{"$f":"'Исходные данные'!H118","v":0},{"$f":"'Исходные данные'!I118","v":0},{"$f":"'Исходные данные'!J118","v":0},{"$f":"'Исходные данные'!K118","v":0},{"$f":"'Исходные данные'!L118","v":0},{"$f":"'Исходные данные'!M118","v":0},{"$f":"'Исходные данные'!N118","v":0},{"$f":"'Исходные данные'!$C96","v":0},{"$f":"'Исходные данные'!$C96","v":0},{"$f":"'Исходные данные'!$C96","v":0},{"$f":"'Исходные данные'!$C96","v":0},{"$f":"'Исходные данные'!$C96","v":0},{"$f":"'Исходные данные'!$C96","v":0},{"$f":"'Исходные данные'!$C96","v":0},{"$f":"'Исходные данные'!$C96","v":0},{"$f":"'Исходные данные'!$C96","v":0},{"$f":"'Исходные данные'!$C96","v":0},{"$f":"'Исходные данные'!$C96","v":0},{"$f":"'Исходные данные'!$C96","v":0},{"$f":"'Исходные данные'!$C96","v":0},{"$f":"'Исходные данные'!$C96","v":0},{"$f":"'Исходные данные'!$C96","v":0},{"$f":"'Исходные данные'!$C96","v":0},{"$f":"'Исходные данные'!$C96","v":0},{"$f":"'Исходные данные'!$C96","v":0},{"$f":"'Исходные данные'!$C96","v":0},{"$f":"'Исходные данные'!$C96","v":0},{"$f":"'Исходные данные'!$C96","v":0},{"$f":"'Исходные данные'!$C96","v":0},{"$f":"'Исходные данные'!$C96","v":0},{"$f":"'Исходные данные'!$C96","v":0},{"$f":"'Исходные данные'!$C96","v":0},{"$f":"'Исходные данные'!$C96","v":0},{"$f":"'Исходные данные'!$C96","v":0},{"$f":"'Исходные данные'!$C96","v":0},{"$f":"'Исходные данные'!$C96","v":0},{"$f":"'Исходные данные'!$C96","v":0},{"$f":"'Исходные данные'!$C96","v":0},{"$f":"'Исходные данные'!$C96","v":0},{"$f":"'Исходные данные'!$C96","v":0},{"$f":"'Исходные данные'!$C96","v":0},{"$f":"'Исходные данные'!$C96","v":0},{"$f":"'Исходные данные'!$C96","v":0},{"$f":"'Исходные данные'!$C96","v":0},{"$f":"'Исходные данные'!$C96","v":0},{"$f":"'Исходные данные'!$C96","v":0},{"$f":"'Исходные данные'!$C96","v":0},{"$f":"'Исходные данные'!$C96","v":0},{"$f":"'Исходные данные'!$C96","v":0},{"$f":"'Исходные данные'!$C96","v":0},{"$f":"'Исходные данные'!$C96","v":0},{"$f":"'Исходные данные'!$C96","v":0},{"$f":"'Исходные данные'!$C96","v":0},{"$f":"'Исходные данные'!$C96","v":0},{"$f":"'Исходные данные'!$C96","v":0}]
[{"$f":"'Исходные данные'!B97","v":0},null,null,null,{"$f":"'Исходные данные'!C119","v":0},{"$f":"'Исходные данные'!D119","v":0},{"$f":"'Исходные данные'!E119","v":0},{"$f":"'Исходные данные'!F119","v":0},{"$f":"'Исходные данные'!G119","v":0},{"$f":"'Исходные данные'!H119","v":0},{"$f":"'Исходные данные'!I119","v":0},{"$f":"'Исходные данные'!J119","v":0},{"$f":"'Исходные данные'!K119","v":0},{"$f":"'Исходные данные'!L119","v":0},{"$f":"'Исходные данные'!M119","v":0},{"$f":"'Исходные данные'!N119","v":0},{"$f":"'Исходные данные'!$C97","v":0},{"$f":"'Исходные данные'!$C97","v":0},{"$f":"'Исходные данные'!$C97","v":0},{"$f":"'Исходные данные'!$C97","v":0},{"$f":"'Исходные данные'!$C97","v":0},{"$f":"'Исходные данные'!$C97","v":0},{"$f":"'Исходные данные'!$C97","v":0},{"$f":"'Исходные данные'!$C97","v":0},{"$f":"'Исходные данные'!$C97","v":0},{"$f":"'Исходные данные'!$C97","v":0},{"$f":"'Исходные данные'!$C97","v":0},{"$f":"'Исходные данные'!$C97","v":0},{"$f":"'Исходные данные'!$C97","v":0},{"$f":"'Исходные данные'!$C97","v":0},{"$f":"'Исходные данные'!$C97","v":0},{"$f":"'Исходные данные'!$C97","v":0},{"$f":"'Исходные данные'!$C97","v":0},{"$f":"'Исходные данные'!$C97","v":0},{"$f":"'Исходные данные'!$C97","v":0},{"$f":"'Исходные данные'!$C97","v":0},{"$f":"'Исходные данные'!$C97","v":0},{"$f":"'Исходные данные'!$C97","v":0},{"$f":"'Исходные данные'!$C97","v":0},{"$f":"'Исходные данные'!$C97","v":0},{"$f":"'Исходные данные'!$C97","v":0},{"$f":"'Исходные данные'!$C97","v":0},{"$f":"'Исходные данные'!$C97","v":0},{"$f":"'Исходные данные'!$C97","v":0},{"$f":"'Исходные данные'!$C97","v":0},{"$f":"'Исходные данные'!$C97","v":0},{"$f":"'Исходные данные'!$C97","v":0},{"$f":"'Исходные данные'!$C97","v":0},{"$f":"'Исходные данные'!$C97","v":0},{"$f":"'Исходные данные'!$C97","v":0},{"$f":"'Исходные данные'!$C97","v":0},{"$f":"'Исходные данные'!$C97","v":0},{"$f":"'Исходные данные'!$C97","v":0},{"$f":"'Исходные данные'!$C97","v":0},{"$f":"'Исходные данные'!$C97","v":0},{"$f":"'Исходные данные'!$C97","v":0},{"$f":"'Исходные данные'!$C97","v":0},{"$f":"'Исходные данные'!$C97","v":0},{"$f":"'Исходные данные'!$C97","v":0},{"$f":"'Исходные данные'!$C97","v":0},{"$f":"'Исходные данные'!$C97","v":0},{"$f":"'Исходные данные'!$C97","v":0},{"$f":"'Исходные данные'!$C97","v":0},{"$f":"'Исходные данные'!$C97","v":0}]
[{"$f":"'Исходные данные'!B98","v":0},null,null,null,{"$f":"'Исходные данные'!C120","v":0},{"$f":"'Исходные данные'!D120","v":0},{"$f":"'Исходные данные'!E120","v":0},{"$f":"'Исходные данные'!F120","v":0},{"$f":"'Исходные данные'!G120","v":0},{"$f":"'Исходные данные'!H120","v":0},{"$f":"'Исходные данные'!I120","v":0},{"$f":"'Исходные данные'!J120","v":0},{"$f":"'Исходные данные'!K120","v":0},{"$f":"'Исходные данные'!L120","v":0},{"$f":"'Исходные данные'!M120","v":0},{"$f":"'Исходные данные'!N120","v":0},{"$f":"'Исходные данные'!$C98","v":0},{"$f":"'Исходные данные'!$C98","v":0},{"$f":"'Исходные данные'!$C98","v":0},{"$f":"'Исходные данные'!$C98","v":0},{"$f":"'Исходные данные'!$C98","v":0},{"$f":"'Исходные данные'!$C98","v":0},{"$f":"'Исходные данные'!$C98","v":0},{"$f":"'Исходные данные'!$C98","v":0},{"$f":"'Исходные данные'!$C98","v":0},{"$f":"'Исходные данные'!$C98","v":0},{"$f":"'Исходные данные'!$C98","v":0},{"$f":"'Исходные данные'!$C98","v":0},{"$f":"'Исходные данные'!$C98","v":0},{"$f":"'Исходные данные'!$C98","v":0},{"$f":"'Исходные данные'!$C98","v":0},{"$f":"'Исходные данные'!$C98","v":0},{"$f":"'Исходные данные'!$C98","v":0},{"$f":"'Исходные данные'!$C98","v":0},{"$f":"'Исходные данные'!$C98","v":0},{"$f":"'Исходные данные'!$C98","v":0},{"$f":"'Исходные данные'!$C98","v":0},{"$f":"'Исходные данные'!$C98","v":0},{"$f":"'Исходные данные'!$C98","v":0},{"$f":"'Исходные данные'!$C98","v":0},{"$f":"'Исходные данные'!$C98","v":0},{"$f":"'Исходные данные'!$C98","v":0},{"$f":"'Исходные данные'!$C98","v":0},{"$f":"'Исходные данные'!$C98","v":0},{"$f":"'Исходные данные'!$C98","v":0},{"$f":"'Исходные данные'!$C98","v":0},{"$f":"'Исходные данные'!$C98","v":0},{"$f":"'Исходные данные'!$C98","v":0},{"$f":"'Исходные данные'!$C98","v":0},{"$f":"'Исходные данные'!$C98","v":0},{"$f":"'Исходные данные'!$C98","v":0},{"$f":"'Исходные данные'!$C98","v":0},{"$f":"'Исходные данные'!$C98","v":0},{"$f":"'Исходные данные'!$C98","v":0},{"$f":"'Исходные данные'!$C98","v":0},{"$f":"'Исходные данные'!$C98","v":0},{"$f":"'Исходные данные'!$C98","v":0},{"$f":"'Исходные данные'!$C98","v":0},{"$f":"'Исходные данные'!$C98","v":0},{"$f":"'Исходные данные'!$C98","v":0},{"$f":"'Исходные данные'!$C98","v":0},{"$f":"'Исходные данные'!$C98","v":0},{"$f":"'Исходные данные'!$C98","v":0},{"$f":"'Исходные данные'!$C98","v":0}]
[{"$f":"'Исходные данные'!B99","v":0},null,null,null,{"$f":"'Исходные данные'!C121","v":0},{"$f":"'Исходные данные'!D121","v":0},{"$f":"'Исходные данные'!E121","v":0},{"$f":"'Исходные данные'!F121","v":0},{"$f":"'Исходные данные'!G121","v":0},{"$f":"'Исходные данные'!H121","v":0},{"$f":"'Исходные данные'!I121","v":0},{"$f":"'Исходные данные'!J121","v":0},{"$f":"'Исходные данные'!K121","v":0},{"$f":"'Исходные данные'!L121","v":0},{"$f":"'Исходные данные'!M121","v":0},{"$f":"'Исходные данные'!N121","v":0},{"$f":"'Исходные данные'!$C99","v":0},{"$f":"'Исходные данные'!$C99","v":0},{"$f":"'Исходные данные'!$C99","v":0},{"$f":"'Исходные данные'!$C99","v":0},{"$f":"'Исходные данные'!$C99","v":0},{"$f":"'Исходные данные'!$C99","v":0},{"$f":"'Исходные данные'!$C99","v":0},{"$f":"'Исходные данные'!$C99","v":0},{"$f":"'Исходные данные'!$C99","v":0},{"$f":"'Исходные данные'!$C99","v":0},{"$f":"'Исходные данные'!$C99","v":0},{"$f":"'Исходные данные'!$C99","v":0},{"$f":"'Исходные данные'!$C99","v":0},{"$f":"'Исходные данные'!$C99","v":0},{"$f":"'Исходные данные'!$C99","v":0},{"$f":"'Исходные данные'!$C99","v":0},{"$f":"'Исходные данные'!$C99","v":0},{"$f":"'Исходные данные'!$C99","v":0},{"$f":"'Исходные данные'!$C99","v":0},{"$f":"'Исходные данные'!$C99","v":0},{"$f":"'Исходные данные'!$C99","v":0},{"$f":"'Исходные данные'!$C99","v":0},{"$f":"'Исходные данные'!$C99","v":0},{"$f":"'Исходные данные'!$C99","v":0},{"$f":"'Исходные данные'!$C99","v":0},{"$f":"'Исходные данные'!$C99","v":0},{"$f":"'Исходные данные'!$C99","v":0},{"$f":"'Исходные данные'!$C99","v":0},{"$f":"'Исходные данные'!$C99","v":0},{"$f":"'Исходные данные'!$C99","v":0},{"$f":"'Исходные данные'!$C99","v":0},{"$f":"'Исходные данные'!$C99","v":0},{"$f":"'Исходные данные'!$C99","v":0},{"$f":"'Исходные данные'!$C99","v":0},{"$f":"'Исходные данные'!$C99","v":0},{"$f":"'Исходные данные'!$C99","v":0},{"$f":"'Исходные данные'!$C99","v":0},{"$f":"'Исходные данные'!$C99","v":0},{"$f":"'Исходные данные'!$C99","v":0},{"$f":"'Исходные данные'!$C99","v":0},{"$f":"'Исходные данные'!$C99","v":0},{"$f":"'Исходные данные'!$C99","v":0},{"$f":"'Исходные данные'!$C99","v":0},{"$f":"'Исходные данные'!$C99","v":0},{"$f":"'Исходные данные'!$C99","v":0},{"$f":"'Исходные данные'!$C99","v":0},{"$f":"'Исходные данные'!$C99","v":0},{"$f":"'Исходные данные'!$C99","v":0}]
[{"$f":"'Исходные данные'!B100","v":0},null,null,null,{"$f":"'Исходные данные'!C122","v":0},{"$f":"'Исходные данные'!D122","v":0},{"$f":"'Исходные данные'!E122","v":0},{"$f":"'Исходные данные'!F122","v":0},{"$f":"'Исходные данные'!G122","v":0},{"$f":"'Исходные данные'!H122","v":0},{"$f":"'Исходные данные'!I122","v":0},{"$f":"'Исходные данные'!J122","v":0},{"$f":"'Исходные данные'!K122","v":0},{"$f":"'Исходные данные'!L122","v":0},{"$f":"'Исходные данные'!M122","v":0},{"$f":"'Исходные данные'!N122","v":0},{"$f":"'Исходные данные'!$C100","v":0},{"$f":"'Исходные данные'!$C100","v":0},{"$f":"'Исходные данные'!$C100","v":0},{"$f":"'Исходные данные'!$C100","v":0},{"$f":"'Исходные данные'!$C100","v":0},{"$f":"'Исходные данные'!$C100","v":0},{"$f":"'Исходные данные'!$C100","v":0},{"$f":"'Исходные данные'!$C100","v":0},{"$f":"'Исходные данные'!$C100","v":0},{"$f":"'Исходные данные'!$C100","v":0},{"$f":"'Исходные данные'!$C100","v":0},{"$f":"'Исходные данные'!$C100","v":0},{"$f":"'Исходные данные'!$C100","v":0},{"$f":"'Исходные данные'!$C100","v":0},{"$f":"'Исходные данные'!$C100","v":0},{"$f":"'Исходные данные'!$C100","v":0},{"$f":"'Исходные данные'!$C100","v":0},{"$f":"'Исходные данные'!$C100","v":0},{"$f":"'Исходные данные'!$C100","v":0},{"$f":"'Исходные данные'!$C100","v":0},{"$f":"'Исходные данные'!$C100","v":0},{"$f":"'Исходные данные'!$C100","v":0},{"$f":"'Исходные данные'!$C100","v":0},{"$f":"'Исходные данные'!$C100","v":0},{"$f":"'Исходные данные'!$C100","v":0},{"$f":"'Исходные данные'!$C100","v":0},{"$f":"'Исходные данные'!$C100","v":0},{"$f":"'Исходные данные'!$C100","v":0},{"$f":"'Исходные данные'!$C100","v":0},{"$f":"'Исходные данные'!$C100","v":0},{"$f":"'Исходные данные'!$C100","v":0},{"$f":"'Исходные данные'!$C100","v":0},{"$f":"'Исходные данные'!$C100","v":0},{"$f":"'Исходные данные'!$C100","v":0},{"$f":"'Исходные данные'!$C100","v":0},{"$f":"'Исходные данные'!$C100","v":0},{"$f":"'Исходные данные'!$C100","v":0},{"$f":"'Исходные данные'!$C100","v":0},{"$f":"'Исходные данные'!$C100","v":0},{"$f":"'Исходные данные'!$C100","v":0},{"$f":"'Исходные данные'!$C100","v":0},{"$f":"'Исходные данные'!$C100","v":0},{"$f":"'Исходные данные'!$C100","v":0},{"$f":"'Исходные данные'!$C100","v":0},{"$f":"'Исходные данные'!$C100","v":0},{"$f":"'Исходные данные'!$C100","v":0},{"$f":"'Исходные данные'!$C100","v":0},{"$f":"'Исходные данные'!$C100","v":0}]
[{"$f":"'Исходные данные'!B101","v":0},null,null,null,{"$f":"'Исходные данные'!C123","v":0},{"$f":"'Исходные данные'!D123","v":0},{"$f":"'Исходные данные'!E123","v":0},{"$f":"'Исходные данные'!F123","v":0},{"$f":"'Исходные данные'!G123","v":0},{"$f":"'Исходные данные'!H123","v":0},{"$f":"'Исходные данные'!I123","v":0},{"$f":"'Исходные данные'!J123","v":0},{"$f":"'Исходные данные'!K123","v":0},{"$f":"'Исходные данные'!L123","v":0},{"$f":"'Исходные данные'!M123","v":0},{"$f":"'Исходные данные'!N123","v":0},{"$f":"'Исходные данные'!$C101","v":0},{"$f":"'Исходные данные'!$C101","v":0},{"$f":"'Исходные данные'!$C101","v":0},{"$f":"'Исходные данные'!$C101","v":0},{"$f":"'Исходные данные'!$C101","v":0},{"$f":"'Исходные данные'!$C101","v":0},{"$f":"'Исходные данные'!$C101","v":0},{"$f":"'Исходные данные'!$C101","v":0},{"$f":"'Исходные данные'!$C101","v":0},{"$f":"'Исходные данные'!$C101","v":0},{"$f":"'Исходные данные'!$C101","v":0},{"$f":"'Исходные данные'!$C101","v":0},{"$f":"'Исходные данные'!$C101","v":0},{"$f":"'Исходные данные'!$C101","v":0},{"$f":"'Исходные данные'!$C101","v":0},{"$f":"'Исходные данные'!$C101","v":0},{"$f":"'Исходные данные'!$C101","v":0},{"$f":"'Исходные данные'!$C101","v":0},{"$f":"'Исходные данные'!$C101","v":0},{"$f":"'Исходные данные'!$C101","v":0},{"$f":"'Исходные данные'!$C101","v":0},{"$f":"'Исходные данные'!$C101","v":0},{"$f":"'Исходные данные'!$C101","v":0},{"$f":"'Исходные данные'!$C101","v":0},{"$f":"'Исходные данные'!$C101","v":0},{"$f":"'Исходные данные'!$C101","v":0},{"$f":"'Исходные данные'!$C101","v":0},{"$f":"'Исходные данные'!$C101","v":0},{"$f":"'Исходные данные'!$C101","v":0},{"$f":"'Исходные данные'!$C101","v":0},{"$f":"'Исходные данные'!$C101","v":0},{"$f":"'Исходные данные'!$C101","v":0},{"$f":"'Исходные данные'!$C101","v":0},{"$f":"'Исходные данные'!$C101","v":0},{"$f":"'Исходные данные'!$C101","v":0},{"$f":"'Исходные данные'!$C101","v":0},{"$f":"'Исходные данные'!$C101","v":0},{"$f":"'Исходные данные'!$C101","v":0},{"$f":"'Исходные данные'!$C101","v":0},{"$f":"'Исходные данные'!$C101","v":0},{"$f":"'Исходные данные'!$C101","v":0},{"$f":"'Исходные данные'!$C101","v":0},{"$f":"'Исходные данные'!$C101","v":0},{"$f":"'Исходные данные'!$C101","v":0},{"$f":"'Исходные данные'!$C101","v":0},{"$f":"'Исходные данные'!$C101","v":0},{"$f":"'Исходные данные'!$C101","v":0},{"$f":"'Исходные данные'!$C101","v":0}]
[{"$f":"'Исходные данные'!B102","v":0},null,null,null,{"$f":"'Исходные данные'!C124","v":0},{"$f":"'Исходные данные'!D124","v":0},{"$f":"'Исходные данные'!E124","v":0},{"$f":"'Исходные данные'!F124","v":0},{"$f":"'Исходные данные'!G124","v":0},{"$f":"'Исходные данные'!H124","v":0},{"$f":"'Исходные данные'!I124","v":0},{"$f":"'Исходные данные'!J124","v":0},{"$f":"'Исходные данные'!K124","v":0},{"$f":"'Исходные данные'!L124","v":0},{"$f":"'Исходные данные'!M124","v":0},{"$f":"'Исходные данные'!N124","v":0},{"$f":"'Исходные данные'!$C102","v":0},{"$f":"'Исходные данные'!$C102","v":0},{"$f":"'Исходные данные'!$C102","v":0},{"$f":"'Исходные данные'!$C102","v":0},{"$f":"'Исходные данные'!$C102","v":0},{"$f":"'Исходные данные'!$C102","v":0},{"$f":"'Исходные данные'!$C102","v":0},{"$f":"'Исходные данные'!$C102","v":0},{"$f":"'Исходные данные'!$C102","v":0},{"$f":"'Исходные данные'!$C102","v":0},{"$f":"'Исходные данные'!$C102","v":0},{"$f":"'Исходные данные'!$C102","v":0},{"$f":"'Исходные данные'!$C102","v":0},{"$f":"'Исходные данные'!$C102","v":0},{"$f":"'Исходные данные'!$C102","v":0},{"$f":"'Исходные данные'!$C102","v":0},{"$f":"'Исходные данные'!$C102","v":0},{"$f":"'Исходные данные'!$C102","v":0},{"$f":"'Исходные данные'!$C102","v":0},{"$f":"'Исходные данные'!$C102","v":0},{"$f":"'Исходные данные'!$C102","v":0},{"$f":"'Исходные данные'!$C102","v":0},{"$f":"'Исходные данные'!$C102","v":0},{"$f":"'Исходные данные'!$C102","v":0},{"$f":"'Исходные данные'!$C102","v":0},{"$f":"'Исходные данные'!$C102","v":0},{"$f":"'Исходные данные'!$C102","v":0},{"$f":"'Исходные данные'!$C102","v":0},{"$f":"'Исходные данные'!$C102","v":0},{"$f":"'Исходные данные'!$C102","v":0},{"$f":"'Исходные данные'!$C102","v":0},{"$f":"'Исходные данные'!$C102","v":0},{"$f":"'Исходные данные'!$C102","v":0},{"$f":"'Исходные данные'!$C102","v":0},{"$f":"'Исходные данные'!$C102","v":0},{"$f":"'Исходные данные'!$C102","v":0},{"$f":"'Исходные данные'!$C102","v":0},{"$f":"'Исходные данные'!$C102","v":0},{"$f":"'Исходные данные'!$C102","v":0},{"$f":"'Исходные данные'!$C102","v":0},{"$f":"'Исходные данные'!$C102","v":0},{"$f":"'Исходные данные'!$C102","v":0},{"$f":"'Исходные данные'!$C102","v":0},{"$f":"'Исходные данные'!$C102","v":0},{"$f":"'Исходные данные'!$C102","v":0},{"$f":"'Исходные данные'!$C102","v":0},{"$f":"'Исходные данные'!$C102","v":0},{"$f":"'Исходные данные'!$C102","v":0}]
[{"$f":"'Исходные данные'!B103","v":0},null,null,null,{"$f":"'Исходные данные'!C125","v":0},{"$f":"'Исходные данные'!D125","v":0},{"$f":"'Исходные данные'!E125","v":0},{"$f":"'Исходные данные'!F125","v":0},{"$f":"'Исходные данные'!G125","v":0},{"$f":"'Исходные данные'!H125","v":0},{"$f":"'Исходные данные'!I125","v":0},{"$f":"'Исходные данные'!J125","v":0},{"$f":"'Исходные данные'!K125","v":0},{"$f":"'Исходные данные'!L125","v":0},{"$f":"'Исходные данные'!M125","v":0},{"$f":"'Исходные данные'!N125","v":0},{"$f":"'Исходные данные'!$C103","v":0},{"$f":"'Исходные данные'!$C103","v":0},{"$f":"'Исходные данные'!$C103","v":0},{"$f":"'Исходные данные'!$C103","v":0},{"$f":"'Исходные данные'!$C103","v":0},{"$f":"'Исходные данные'!$C103","v":0},{"$f":"'Исходные данные'!$C103","v":0},{"$f":"'Исходные данные'!$C103","v":0},{"$f":"'Исходные данные'!$C103","v":0},{"$f":"'Исходные данные'!$C103","v":0},{"$f":"'Исходные данные'!$C103","v":0},{"$f":"'Исходные данные'!$C103","v":0},{"$f":"'Исходные данные'!$C103","v":0},{"$f":"'Исходные данные'!$C103","v":0},{"$f":"'Исходные данные'!$C103","v":0},{"$f":"'Исходные данные'!$C103","v":0},{"$f":"'Исходные данные'!$C103","v":0},{"$f":"'Исходные данные'!$C103","v":0},{"$f":"'Исходные данные'!$C103","v":0},{"$f":"'Исходные данные'!$C103","v":0},{"$f":"'Исходные данные'!$C103","v":0},{"$f":"'Исходные данные'!$C103","v":0},{"$f":"'Исходные данные'!$C103","v":0},{"$f":"'Исходные данные'!$C103","v":0},{"$f":"'Исходные данные'!$C103","v":0},{"$f":"'Исходные данные'!$C103","v":0},{"$f":"'Исходные данные'!$C103","v":0},{"$f":"'Исходные данные'!$C103","v":0},{"$f":"'Исходные данные'!$C103","v":0},{"$f":"'Исходные данные'!$C103","v":0},{"$f":"'Исходные данные'!$C103","v":0},{"$f":"'Исходные данные'!$C103","v":0},{"$f":"'Исходные данные'!$C103","v":0},{"$f":"'Исходные данные'!$C103","v":0},{"$f":"'Исходные данные'!$C103","v":0},{"$f":"'Исходные данные'!$C103","v":0},{"$f":"'Исходные данные'!$C103","v":0},{"$f":"'Исходные данные'!$C103","v":0},{"$f":"'Исходные данные'!$C103","v":0},{"$f":"'Исходные данные'!$C103","v":0},{"$f":"'Исходные данные'!$C103","v":0},{"$f":"'Исходные данные'!$C103","v":0},{"$f":"'Исходные данные'!$C103","v":0},{"$f":"'Исходные данные'!$C103","v":0},{"$f":"'Исходные данные'!$C103","v":0},{"$f":"'Исходные данные'!$C103","v":0},{"$f":"'Исходные данные'!$C103","v":0},{"$f":"'Исходные данные'!$C103","v":0}]
[{"$f":"'Исходные данные'!B104","v":0},null,null,null,{"$f":"'Исходные данные'!C126","v":0},{"$f":"'Исходные данные'!D126","v":0},{"$f":"'Исходные данные'!E126","v":0},{"$f":"'Исходные данные'!F126","v":0},{"$f":"'Исходные данные'!G126","v":0},{"$f":"'Исходные данные'!H126","v":0},{"$f":"'Исходные данные'!I126","v":0},{"$f":"'Исходные данные'!J126","v":0},{"$f":"'Исходные данные'!K126","v":0},{"$f":"'Исходные данные'!L126","v":0},{"$f":"'Исходные данные'!M126","v":0},{"$f":"'Исходные данные'!N126","v":0},{"$f":"'Исходные данные'!$C104","v":0},{"$f":"'Исходные данные'!$C104","v":0},{"$f":"'Исходные данные'!$C104","v":0},{"$f":"'Исходные данные'!$C104","v":0},{"$f":"'Исходные данные'!$C104","v":0},{"$f":"'Исходные данные'!$C104","v":0},{"$f":"'Исходные данные'!$C104","v":0},{"$f":"'Исходные данные'!$C104","v":0},{"$f":"'Исходные данные'!$C104","v":0},{"$f":"'Исходные данные'!$C104","v":0},{"$f":"'Исходные данные'!$C104","v":0},{"$f":"'Исходные данные'!$C104","v":0},{"$f":"'Исходные данные'!$C104","v":0},{"$f":"'Исходные данные'!$C104","v":0},{"$f":"'Исходные данные'!$C104","v":0},{"$f":"'Исходные данные'!$C104","v":0},{"$f":"'Исходные данные'!$C104","v":0},{"$f":"'Исходные данные'!$C104","v":0},{"$f":"'Исходные данные'!$C104","v":0},{"$f":"'Исходные данные'!$C104","v":0},{"$f":"'Исходные данные'!$C104","v":0},{"$f":"'Исходные данные'!$C104","v":0},{"$f":"'Исходные данные'!$C104","v":0},{"$f":"'Исходные данные'!$C104","v":0},{"$f":"'Исходные данные'!$C104","v":0},{"$f":"'Исходные данные'!$C104","v":0},{"$f":"'Исходные данные'!$C104","v":0},{"$f":"'Исходные данные'!$C104","v":0},{"$f":"'Исходные данные'!$C104","v":0},{"$f":"'Исходные данные'!$C104","v":0},{"$f":"'Исходные данные'!$C104","v":0},{"$f":"'Исходные данные'!$C104","v":0},{"$f":"'Исходные данные'!$C104","v":0},{"$f":"'Исходные данные'!$C104","v":0},{"$f":"'Исходные данные'!$C104","v":0},{"$f":"'Исходные данные'!$C104","v":0},{"$f":"'Исходные данные'!$C104","v":0},{"$f":"'Исходные данные'!$C104","v":0},{"$f":"'Исходные данные'!$C104","v":0},{"$f":"'Исходные данные'!$C104","v":0},{"$f":"'Исходные данные'!$C104","v":0},{"$f":"'Исходные данные'!$C104","v":0},{"$f":"'Исходные данные'!$C104","v":0},{"$f":"'Исходные данные'!$C104","v":0},{"$f":"'Исходные данные'!$C104","v":0},{"$f":"'Исходные данные'!$C104","v":0},{"$f":"'Исходные данные'!$C104","v":0},{"$f":"'Исходные данные'!$C104","v":0}]
[{"$f":"'Исходные данные'!B105","v":0},null,null,null,{"$f":"'Исходные данные'!C127","v":0},{"$f":"'Исходные данные'!D127","v":0},{"$f":"'Исходные данные'!E127","v":0},{"$f":"'Исходные данные'!F127","v":0},{"$f":"'Исходные данные'!G127","v":0},{"$f":"'Исходные данные'!H127","v":0},{"$f":"'Исходные данные'!I127","v":0},{"$f":"'Исходные данные'!J127","v":0},{"$f":"'Исходные данные'!K127","v":0},{"$f":"'Исходные данные'!L127","v":0},{"$f":"'Исходные данные'!M127","v":0},{"$f":"'Исходные данные'!N127","v":0},{"$f":"'Исходные данные'!$C105","v":0},{"$f":"'Исходные данные'!$C105","v":0},{"$f":"'Исходные данные'!$C105","v":0},{"$f":"'Исходные данные'!$C105","v":0},{"$f":"'Исходные данные'!$C105","v":0},{"$f":"'Исходные данные'!$C105","v":0},{"$f":"'Исходные данные'!$C105","v":0},{"$f":"'Исходные данные'!$C105","v":0},{"$f":"'Исходные данные'!$C105","v":0},{"$f":"'Исходные данные'!$C105","v":0},{"$f":"'Исходные данные'!$C105","v":0},{"$f":"'Исходные данные'!$C105","v":0},{"$f":"'Исходные данные'!$C105","v":0},{"$f":"'Исходные данные'!$C105","v":0},{"$f":"'Исходные данные'!$C105","v":0},{"$f":"'Исходные данные'!$C105","v":0},{"$f":"'Исходные данные'!$C105","v":0},{"$f":"'Исходные данные'!$C105","v":0},{"$f":"'Исходные данные'!$C105","v":0},{"$f":"'Исходные данные'!$C105","v":0},{"$f":"'Исходные данные'!$C105","v":0},{"$f":"'Исходные данные'!$C105","v":0},{"$f":"'Исходные данные'!$C105","v":0},{"$f":"'Исходные данные'!$C105","v":0},{"$f":"'Исходные данные'!$C105","v":0},{"$f":"'Исходные данные'!$C105","v":0},{"$f":"'Исходные данные'!$C105","v":0},{"$f":"'Исходные данные'!$C105","v":0},{"$f":"'Исходные данные'!$C105","v":0},{"$f":"'Исходные данные'!$C105","v":0},{"$f":"'Исходные данные'!$C105","v":0},{"$f":"'Исходные данные'!$C105","v":0},{"$f":"'Исходные данные'!$C105","v":0},{"$f":"'Исходные данные'!$C105","v":0},{"$f":"'Исходные данные'!$C105","v":0},{"$f":"'Исходные данные'!$C105","v":0},{"$f":"'Исходные данные'!$C105","v":0},{"$f":"'Исходные данные'!$C105","v":0},{"$f":"'Исходные данные'!$C105","v":0},{"$f":"'Исходные данные'!$C105","v":0},{"$f":"'Исходные данные'!$C105","v":0},{"$f":"'Исходные данные'!$C105","v":0},{"$f":"'Исходные данные'!$C105","v":0},{"$f":"'Исходные данные'!$C105","v":0},{"$f":"'Исходные данные'!$C105","v":0},{"$f":"'Исходные данные'!$C105","v":0},{"$f":"'Исходные данные'!$C105","v":0},{"$f":"'Исходные данные'!$C105","v":0}]
[{"$f":"'Исходные данные'!B106","v":0},null,null,null,{"$f":"'Исходные данные'!C128","v":0},{"$f":"'Исходные данные'!D128","v":0},{"$f":"'Исходные данные'!E128","v":0},{"$f":"'Исходные данные'!F128","v":0},{"$f":"'Исходные данные'!G128","v":0},{"$f":"'Исходные данные'!H128","v":0},{"$f":"'Исходные данные'!I128","v":0},{"$f":"'Исходные данные'!J128","v":0},{"$f":"'Исходные данные'!K128","v":0},{"$f":"'Исходные данные'!L128","v":0},{"$f":"'Исходные данные'!M128","v":0},{"$f":"'Исходные данные'!N128","v":0},{"$f":"'Исходные данные'!$C106","v":0},{"$f":"'Исходные данные'!$C106","v":0},{"$f":"'Исходные данные'!$C106","v":0},{"$f":"'Исходные данные'!$C106","v":0},{"$f":"'Исходные данные'!$C106","v":0},{"$f":"'Исходные данные'!$C106","v":0},{"$f":"'Исходные данные'!$C106","v":0},{"$f":"'Исходные данные'!$C106","v":0},{"$f":"'Исходные данные'!$C106","v":0},{"$f":"'Исходные данные'!$C106","v":0},{"$f":"'Исходные данные'!$C106","v":0},{"$f":"'Исходные данные'!$C106","v":0},{"$f":"'Исходные данные'!$C106","v":0},{"$f":"'Исходные данные'!$C106","v":0},{"$f":"'Исходные данные'!$C106","v":0},{"$f":"'Исходные данные'!$C106","v":0},{"$f":"'Исходные данные'!$C106","v":0},{"$f":"'Исходные данные'!$C106","v":0},{"$f":"'Исходные данные'!$C106","v":0},{"$f":"'Исходные данные'!$C106","v":0},{"$f":"'Исходные данные'!$C106","v":0},{"$f":"'Исходные данные'!$C106","v":0},{"$f":"'Исходные данные'!$C106","v":0},{"$f":"'Исходные данные'!$C106","v":0},{"$f":"'Исходные данные'!$C106","v":0},{"$f":"'Исходные данные'!$C106","v":0},{"$f":"'Исходные данные'!$C106","v":0},{"$f":"'Исходные данные'!$C106","v":0},{"$f":"'Исходные данные'!$C106","v":0},{"$f":"'Исходные данные'!$C106","v":0},{"$f":"'Исходные данные'!$C106","v":0},{"$f":"'Исходные данные'!$C106","v":0},{"$f":"'Исходные данные'!$C106","v":0},{"$f":"'Исходные данные'!$C106","v":0},{"$f":"'Исходные данные'!$C106","v":0},{"$f":"'Исходные данные'!$C106","v":0},{"$f":"'Исходные данные'!$C106","v":0},{"$f":"'Исходные данные'!$C106","v":0},{"$f":"'Исходные данные'!$C106","v":0},{"$f":"'Исходные данные'!$C106","v":0},{"$f":"'Исходные данные'!$C106","v":0},{"$f":"'Исходные данные'!$C106","v":0},{"$f":"'Исходные данные'!$C106","v":0},{"$f":"'Исходные данные'!$C106","v":0},{"$f":"'Исходные данные'!$C106","v":0},{"$f":"'Исходные данные'!$C106","v":0},{"$f":"'Исходные данные'!$C106","v":0},{"$f":"'Исходные данные'!$C106","v":0}]
["Начисление персоналу",null,null,null,{"$f":"SUM(E53:E67)","v":47806},{"$f":"SUM(F53:F67)","v":52138},78349,78349,81151,82501,100707,145713,93962,84211,81961,82501,81151,82051,82051,82051,81151,82501,100707,145713,93962,84211,81961,82501,81151,82051,82051,82051,81151,82501,100707,145713,93962,84211,81961,82501,81151,82051,82051,82051,81151,82501,100707,145713,93962,84211,81961,82501,81151,82051,82051,82051,81151,82501,100707,145713,93962,84211,81961,82501]
[{"$f":"A37","v":"Продавей"},null,null,null,{"$f":"E37*'Исходные данные'!$D92*(1+'Исходные данные'!$E92)+IF(E37=0,0,'Исходные данные'!$F92*'План продаж'!D$32)","v":47806},{"$f":"F37*'Исходные данные'!$D92*(1+'Исходные данные'!$E92)+IF(F37=0,0,'Исходные данные'!$F92*'План продаж'!E$32)","v":52138},{"$f":"G37*'Исходные данные'!$D92*(1+'Исходные данные'!$E92)+IF(G37=0,0,'Исходные данные'!$F92*'План продаж'!F$32)","v":78349},{"$f":"H37*'Исходные данные'!$D92*(1+'Исходные данные'!$E92)+IF(H37=0,0,'Исходные данные'!$F92*'План продаж'!G$32)","v":78349},{"$f":"I37*'Исходные данные'!$D92*(1+'Исходные данные'!$E92)+IF(I37=0,0,'Исходные данные'!$F92*'План продаж'!H$32)","v":81151},{"$f":"J37*'Исходные данные'!$D92*(1+'Исходные данные'!$E92)+IF(J37=0,0,'Исходные данные'!$F92*'План продаж'!I$32)","v":82501},{"$f":"K37*'Исходные данные'!$D92*(1+'Исходные данные'!$E92)+IF(K37=0,0,'Исходные данные'!$F92*'План продаж'!J$32)","v":100707},{"$f":"L37*'Исходные данные'!$D92*(1+'Исходные данные'!$E92)+IF(L37=0,0,'Исходные данные'!$F92*'План продаж'!K$32)","v":145713},{"$f":"M37*'Исходные данные'!$D92*(1+'Исходные данные'!$E92)+IF(M37=0,0,'Исходные данные'!$F92*'План продаж'!L$32)","v":93962},{"$f":"N37*'Исходные данные'!$D92*(1+'Исходные данные'!$E92)+IF(N37=0,0,'Исходные данные'!$F92*'План продаж'!M$32)","v":84211},{"$f":"O37*'Исходные данные'!$D92*(1+'Исходные данные'!$E92)+IF(O37=0,0,'Исходные данные'!$F92*'План продаж'!N$32)","v":81961},{"$f":"P37*'Исходные данные'!$D92*(1+'Исходные данные'!$E92)+IF(P37=0,0,'Исходные данные'!$F92*'План продаж'!O$32)","v":82501},{"$f":"Q37*'Исходные данные'!$D92*(1+'Исходные данные'!$E92)+IF(Q37=0,0,'Исходные данные'!$F92*'План продаж'!P$32)","v":81151},{"$f":"R37*'Исходные данные'!$D92*(1+'Исходные данные'!$E92)+IF(R37=0,0,'Исходные данные'!$F92*'План продаж'!Q$32)","v":82051},{"$f":"S37*'Исходные данные'!$D92*(1+'Исходные данные'!$E92)+IF(S37=0,0,'Исходные данные'!$F92*'План продаж'!R$32)","v":82051},{"$f":"T37*'Исходные данные'!$D92*(1+'Исходные данные'!$E92)+IF(T37=0,0,'Исходные данные'!$F92*'План продаж'!S$32)","v":82051},{"$f":"U37*'Исходные данные'!$D92*(1+'Исходные данные'!$E92)+IF(U37=0,0,'Исходные данные'!$F92*'План продаж'!T$32)","v":81151},{"$f":"V37*'Исходные данные'!$D92*(1+'Исходные данные'!$E92)+IF(V37=0,0,'Исходные данные'!$F92*'План продаж'!U$32)","v":82501},{"$f":"W37*'Исходные данные'!$D92*(1+'Исходные данные'!$E92)+IF(W37=0,0,'Исходные данные'!$F92*'План продаж'!V$32)","v":100707},{"$f":"X37*'Исходные данные'!$D92*(1+'Исходные данные'!$E92)+IF(X37=0,0,'Исходные данные'!$F92*'План продаж'!W$32)","v":145713},{"$f":"Y37*'Исходные данные'!$D92*(1+'Исходные данные'!$E92)+IF(Y37=0,0,'Исходные данные'!$F92*'План продаж'!X$32)","v":93962},{"$f":"Z37*'Исходные данные'!$D92*(1+'Исходные данные'!$E92)+IF(Z37=0,0,'Исходные данные'!$F92*'План продаж'!Y$32)","v":84211},{"$f":"AA37*'Исходные данные'!$D92*(1+'Исходные данные'!$E92)+IF(AA37=0,0,'Исходные данные'!$F92*'План продаж'!Z$32)","v":81961},{"$f":"AB37*'Исходные данные'!$D92*(1+'Исходные данные'!$E92)+IF(AB37=0,0,'Исходные данные'!$F92*'План продаж'!AA$32)","v":82501},{"$f":"AC37*'Исходные данные'!$D92*(1+'Исходные данные'!$E92)+IF(AC37=0,0,'Исходные данные'!$F92*'План продаж'!AB$32)","v":81151},{"$f":"AD37*'Исходные данные'!$D92*(1+'Исходные данные'!$E92)+IF(AD37=0,0,'Исходные данные'!$F92*'План продаж'!AC$32)","v":82051},{"$f":"AE37*'Исходные данные'!$D92*(1+'Исходные данные'!$E92)+IF(AE37=0,0,'Исходные данные'!$F92*'План продаж'!AD$32)","v":82051},{"$f":"AF37*'Исходные данные'!$D92*(1+'Исходные данные'!$E92)+IF(AF37=0,0,'Исходные данные'!$F92*'План продаж'!AE$32)","v":82051},{"$f":"AG37*'Исходные данные'!$D92*(1+'Исходные данные'!$E92)+IF(AG37=0,0,'Исходные данные'!$F92*'План продаж'!AF$32)","v":81151},{"$f":"AH37*'Исходные данные'!$D92*(1+'Исходные данные'!$E92)+IF(AH37=0,0,'Исходные данные'!$F92*'План продаж'!AG$32)","v":82501},{"$f":"AI37*'Исходные данные'!$D92*(1+'Исходные данные'!$E92)+IF(AI37=0,0,'Исходные данные'!$F92*'План продаж'!AH$32)","v":100707},{"$f":"AJ37*'Исходные данные'!$D92*(1+'Исходные данные'!$E92)+IF(AJ37=0,0,'Исходные данные'!$F92*'План продаж'!AI$32)","v":145713},{"$f":"AK37*'Исходные данные'!$D92*(1+'Исходные данные'!$E92)+IF(AK37=0,0,'Исходные данные'!$F92*'План продаж'!AJ$32)","v":93962},{"$f":"AL37*'Исходные данные'!$D92*(1+'Исходные данные'!$E92)+IF(AL37=0,0,'Исходные данные'!$F92*'План продаж'!AK$32)","v":84211},{"$f":"AM37*'Исходные данные'!$D92*(1+'Исходные данные'!$E92)+IF(AM37=0,0,'Исходные данные'!$F92*'План продаж'!AL$32)","v":81961},{"$f":"AN37*'Исходные данные'!$D92*(1+'Исходные данные'!$E92)+IF(AN37=0,0,'Исходные данные'!$F92*'План продаж'!AM$32)","v":82501},{"$f":"AO37*'Исходные данные'!$D92*(1+'Исходные данные'!$E92)+IF(AO37=0,0,'Исходные данные'!$F92*'План продаж'!AN$32)","v":81151},{"$f":"AP37*'Исходные данные'!$D92*(1+'Исходные данные'!$E92)+IF(AP37=0,0,'Исходные данные'!$F92*'План продаж'!AO$32)","v":82051},{"$f":"AQ37*'Исходные данные'!$D92*(1+'Исходные данные'!$E92)+IF(AQ37=0,0,'Исходные данные'!$F92*'План продаж'!AP$32)","v":82051},{"$f":"AR37*'Исходные данные'!$D92*(1+'Исходные данные'!$E92)+IF(AR37=0,0,'Исходные данные'!$F92*'План продаж'!AQ$32)","v":82051},{"$f":"AS37*'Исходные данные'!$D92*(1+'Исходные данные'!$E92)+IF(AS37=0,0,'Исходные данные'!$F92*'План продаж'!AR$32)","v":81151},{"$f":"AT37*'Исходные данные'!$D92*(1+'Исходные данные'!$E92)+IF(AT37=0,0,'Исходные данные'!$F92*'План продаж'!AS$32)","v":82501},{"$f":"AU37*'Исходные данные'!$D92*(1+'Исходные данные'!$E92)+IF(AU37=0,0,'Исходные данные'!$F92*'План продаж'!AT$32)","v":100707},{"$f":"AV37*'Исходные данные'!$D92*(1+'Исходные данные'!$E92)+IF(AV37=0,0,'Исходные данные'!$F92*'План продаж'!AU$32)","v":145713},{"$f":"AW37*'Исходные данные'!$D92*(1+'Исходные данные'!$E92)+IF(AW37=0,0,'Исходные данные'!$F92*'План продаж'!AV$32)","v":93962},{"$f":"AX37*'Исходные данные'!$D92*(1+'Исходные данные'!$E92)+IF(AX37=0,0,'Исходные данные'!$F92*'План продаж'!AW$32)","v":84211},{"$f":"AY37*'Исходные данные'!$D92*(1+'Исходные данные'!$E92)+IF(AY37=0,0,'Исходные данные'!$F92*'План продаж'!AX$32)","v":81961},{"$f":"AZ37*'Исходные данные'!$D92*(1+'Исходные данные'!$E92)+IF(AZ37=0,0,'Исходные данные'!$F92*'План продаж'!AY$32)","v":82501},{"$f":"BA37*'Исходные данные'!$D92*(1+'Исходные данные'!$E92)+IF(BA37=0,0,'Исходные данные'!$F92*'План продаж'!AZ$32)","v":81151},{"$f":"BB37*'Исходные данные'!$D92*(1+'Исходные данные'!$E92)+IF(BB37=0,0,'Исходные данные'!$F92*'План продаж'!BA$32)","v":82051},{"$f":"BC37*'Исходные данные'!$D92*(1+'Исходные данные'!$E92)+IF(BC37=0,0,'Исходные данные'!$F92*'План продаж'!BB$32)","v":82051},{"$f":"BD37*'Исходные данные'!$D92*(1+'Исходные данные'!$E92)+IF(BD37=0,0,'Исходные данные'!$F92*'План продаж'!BC$32)","v":82051},{"$f":"BE37*'Исходные данные'!$D92*(1+'Исходные данные'!$E92)+IF(BE37=0,0,'Исходные данные'!$F92*'План продаж'!BD$32)","v":81151},{"$f":"BF37*'Исходные данные'!$D92*(1+'Исходные данные'!$E92)+IF(BF37=0,0,'Исходные данные'!$F92*'План продаж'!BE$32)","v":82501},{"$f":"BG37*'Исходные данные'!$D92*(1+'Исходные данные'!$E92)+IF(BG37=0,0,'Исходные данные'!$F92*'План продаж'!BF$32)","v":100707},{"$f":"BH37*'Исходные данные'!$D92*(1+'Исходные данные'!$E92)+IF(BH37=0,0,'Исходные данные'!$F92*'План продаж'!BG$32)","v":145713},{"$f":"BI37*'Исходные данные'!$D92*(1+'Исходные данные'!$E92)+IF(BI37=0,0,'Исходные данные'!$F92*'План продаж'!BH$32)","v":93962},{"$f":"BJ37*'Исходные данные'!$D92*(1+'Исходные данные'!$E92)+IF(BJ37=0,0,'Исходные данные'!$F92*'План продаж'!BI$32)","v":84211},{"$f":"BK37*'Исходные данные'!$D92*(1+'Исходные данные'!$E92)+IF(BK37=0,0,'Исходные данные'!$F92*'План продаж'!BJ$32)","v":81961},{"$f":"BL37*'Исходные данные'!$D92*(1+'Исходные данные'!$E92)+IF(BL37=0,0,'Исходные данные'!$F92*'План продаж'!BK$32)","v":82501}]
[{"$f":"A38","v":0},null,null,null,{"$f":"E38*'Исходные данные'!$D93*(1+'Исходные данные'!$E93)+IF(E38=0,0,'Исходные данные'!$F93*'План продаж'!D$32)","v":0},{"$f":"F38*'Исходные данные'!$D93*(1+'Исходные данные'!$E93)+IF(F38=0,0,'Исходные данные'!$F93*'План продаж'!E$32)","v":0},{"$f":"G38*'Исходные данные'!$D93*(1+'Исходные данные'!$E93)+IF(G38=0,0,'Исходные данные'!$F93*'План продаж'!F$32)","v":0},{"$f":"H38*'Исходные данные'!$D93*(1+'Исходные данные'!$E93)+IF(H38=0,0,'Исходные данные'!$F93*'План продаж'!G$32)","v":0},{"$f":"I38*'Исходные данные'!$D93*(1+'Исходные данные'!$E93)+IF(I38=0,0,'Исходные данные'!$F93*'План продаж'!H$32)","v":0},{"$f":"J38*'Исходные данные'!$D93*(1+'Исходные данные'!$E93)+IF(J38=0,0,'Исходные данные'!$F93*'План продаж'!I$32)","v":0},{"$f":"K38*'Исходные данные'!$D93*(1+'Исходные данные'!$E93)+IF(K38=0,0,'Исходные данные'!$F93*'План продаж'!J$32)","v":0},{"$f":"L38*'Исходные данные'!$D93*(1+'Исходные данные'!$E93)+IF(L38=0,0,'Исходные данные'!$F93*'План продаж'!K$32)","v":0},{"$f":"M38*'Исходные данные'!$D93*(1+'Исходные данные'!$E93)+IF(M38=0,0,'Исходные данные'!$F93*'План продаж'!L$32)","v":0},{"$f":"N38*'Исходные данные'!$D93*(1+'Исходные данные'!$E93)+IF(N38=0,0,'Исходные данные'!$F93*'План продаж'!M$32)","v":0},{"$f":"O38*'Исходные данные'!$D93*(1+'Исходные данные'!$E93)+IF(O38=0,0,'Исходные данные'!$F93*'План продаж'!N$32)","v":0},{"$f":"P38*'Исходные данные'!$D93*(1+'Исходные данные'!$E93)+IF(P38=0,0,'Исходные данные'!$F93*'План продаж'!O$32)","v":0},{"$f":"Q38*'Исходные данные'!$D93*(1+'Исходные данные'!$E93)+IF(Q38=0,0,'Исходные данные'!$F93*'План продаж'!P$32)","v":0},{"$f":"R38*'Исходные данные'!$D93*(1+'Исходные данные'!$E93)+IF(R38=0,0,'Исходные данные'!$F93*'План продаж'!Q$32)","v":0},{"$f":"S38*'Исходные данные'!$D93*(1+'Исходные данные'!$E93)+IF(S38=0,0,'Исходные данные'!$F93*'План продаж'!R$32)","v":0},{"$f":"T38*'Исходные данные'!$D93*(1+'Исходные данные'!$E93)+IF(T38=0,0,'Исходные данные'!$F93*'План продаж'!S$32)","v":0},{"$f":"U38*'Исходные данные'!$D93*(1+'Исходные данные'!$E93)+IF(U38=0,0,'Исходные данные'!$F93*'План продаж'!T$32)","v":0},{"$f":"V38*'Исходные данные'!$D93*(1+'Исходные данные'!$E93)+IF(V38=0,0,'Исходные данные'!$F93*'План продаж'!U$32)","v":0},{"$f":"W38*'Исходные данные'!$D93*(1+'Исходные данные'!$E93)+IF(W38=0,0,'Исходные данные'!$F93*'План продаж'!V$32)","v":0},{"$f":"X38*'Исходные данные'!$D93*(1+'Исходные данные'!$E93)+IF(X38=0,0,'Исходные данные'!$F93*'План продаж'!W$32)","v":0},{"$f":"Y38*'Исходные данные'!$D93*(1+'Исходные данные'!$E93)+IF(Y38=0,0,'Исходные данные'!$F93*'План продаж'!X$32)","v":0},{"$f":"Z38*'Исходные данные'!$D93*(1+'Исходные данные'!$E93)+IF(Z38=0,0,'Исходные данные'!$F93*'План продаж'!Y$32)","v":0},{"$f":"AA38*'Исходные данные'!$D93*(1+'Исходные данные'!$E93)+IF(AA38=0,0,'Исходные данные'!$F93*'План продаж'!Z$32)","v":0},{"$f":"AB38*'Исходные данные'!$D93*(1+'Исходные данные'!$E93)+IF(AB38=0,0,'Исходные данные'!$F93*'План продаж'!AA$32)","v":0},{"$f":"AC38*'Исходные данные'!$D93*(1+'Исходные данные'!$E93)+IF(AC38=0,0,'Исходные данные'!$F93*'План продаж'!AB$32)","v":0},{"$f":"AD38*'Исходные данные'!$D93*(1+'Исходные данные'!$E93)+IF(AD38=0,0,'Исходные данные'!$F93*'План продаж'!AC$32)","v":0},{"$f":"AE38*'Исходные данные'!$D93*(1+'Исходные данные'!$E93)+IF(AE38=0,0,'Исходные данные'!$F93*'План продаж'!AD$32)","v":0},{"$f":"AF38*'Исходные данные'!$D93*(1+'Исходные данные'!$E93)+IF(AF38=0,0,'Исходные данные'!$F93*'План продаж'!AE$32)","v":0},{"$f":"AG38*'Исходные данные'!$D93*(1+'Исходные данные'!$E93)+IF(AG38=0,0,'Исходные данные'!$F93*'План продаж'!AF$32)","v":0},{"$f":"AH38*'Исходные данные'!$D93*(1+'Исходные данные'!$E93)+IF(AH38=0,0,'Исходные данные'!$F93*'План продаж'!AG$32)","v":0},{"$f":"AI38*'Исходные данные'!$D93*(1+'Исходные данные'!$E93)+IF(AI38=0,0,'Исходные данные'!$F93*'План продаж'!AH$32)","v":0},{"$f":"AJ38*'Исходные данные'!$D93*(1+'Исходные данные'!$E93)+IF(AJ38=0,0,'Исходные данные'!$F93*'План продаж'!AI$32)","v":0},{"$f":"AK38*'Исходные данные'!$D93*(1+'Исходные данные'!$E93)+IF(AK38=0,0,'Исходные данные'!$F93*'План продаж'!AJ$32)","v":0},{"$f":"AL38*'Исходные данные'!$D93*(1+'Исходные данные'!$E93)+IF(AL38=0,0,'Исходные данные'!$F93*'План продаж'!AK$32)","v":0},{"$f":"AM38*'Исходные данные'!$D93*(1+'Исходные данные'!$E93)+IF(AM38=0,0,'Исходные данные'!$F93*'План продаж'!AL$32)","v":0},{"$f":"AN38*'Исходные данные'!$D93*(1+'Исходные данные'!$E93)+IF(AN38=0,0,'Исходные данные'!$F93*'План продаж'!AM$32)","v":0},{"$f":"AO38*'Исходные данные'!$D93*(1+'Исходные данные'!$E93)+IF(AO38=0,0,'Исходные данные'!$F93*'План продаж'!AN$32)","v":0},{"$f":"AP38*'Исходные данные'!$D93*(1+'Исходные данные'!$E93)+IF(AP38=0,0,'Исходные данные'!$F93*'План продаж'!AO$32)","v":0},{"$f":"AQ38*'Исходные данные'!$D93*(1+'Исходные данные'!$E93)+IF(AQ38=0,0,'Исходные данные'!$F93*'План продаж'!AP$32)","v":0},{"$f":"AR38*'Исходные данные'!$D93*(1+'Исходные данные'!$E93)+IF(AR38=0,0,'Исходные данные'!$F93*'План продаж'!AQ$32)","v":0},{"$f":"AS38*'Исходные данные'!$D93*(1+'Исходные данные'!$E93)+IF(AS38=0,0,'Исходные данные'!$F93*'План продаж'!AR$32)","v":0},{"$f":"AT38*'Исходные данные'!$D93*(1+'Исходные данные'!$E93)+IF(AT38=0,0,'Исходные данные'!$F93*'План продаж'!AS$32)","v":0},{"$f":"AU38*'Исходные данные'!$D93*(1+'Исходные данные'!$E93)+IF(AU38=0,0,'Исходные данные'!$F93*'План продаж'!AT$32)","v":0},{"$f":"AV38*'Исходные данные'!$D93*(1+'Исходные данные'!$E93)+IF(AV38=0,0,'Исходные данные'!$F93*'План продаж'!AU$32)","v":0},{"$f":"AW38*'Исходные данные'!$D93*(1+'Исходные данные'!$E93)+IF(AW38=0,0,'Исходные данные'!$F93*'План продаж'!AV$32)","v":0},{"$f":"AX38*'Исходные данные'!$D93*(1+'Исходные данные'!$E93)+IF(AX38=0,0,'Исходные данные'!$F93*'План продаж'!AW$32)","v":0},{"$f":"AY38*'Исходные данные'!$D93*(1+'Исходные данные'!$E93)+IF(AY38=0,0,'Исходные данные'!$F93*'План продаж'!AX$32)","v":0},{"$f":"AZ38*'Исходные данные'!$D93*(1+'Исходные данные'!$E93)+IF(AZ38=0,0,'Исходные данные'!$F93*'План продаж'!AY$32)","v":0},{"$f":"BA38*'Исходные данные'!$D93*(1+'Исходные данные'!$E93)+IF(BA38=0,0,'Исходные данные'!$F93*'План продаж'!AZ$32)","v":0},{"$f":"BB38*'Исходные данные'!$D93*(1+'Исходные данные'!$E93)+IF(BB38=0,0,'Исходные данные'!$F93*'План продаж'!BA$32)","v":0},{"$f":"BC38*'Исходные данные'!$D93*(1+'Исходные данные'!$E93)+IF(BC38=0,0,'Исходные данные'!$F93*'План продаж'!BB$32)","v":0},{"$f":"BD38*'Исходные данные'!$D93*(1+'Исходные данные'!$E93)+IF(BD38=0,0,'Исходные данные'!$F93*'План продаж'!BC$32)","v":0},{"$f":"BE38*'Исходные данные'!$D93*(1+'Исходные данные'!$E93)+IF(BE38=0,0,'Исходные данные'!$F93*'План продаж'!BD$32)","v":0},{"$f":"BF38*'Исходные данные'!$D93*(1+'Исходные данные'!$E93)+IF(BF38=0,0,'Исходные данные'!$F93*'План продаж'!BE$32)","v":0},{"$f":"BG38*'Исходные данные'!$D93*(1+'Исходные данные'!$E93)+IF(BG38=0,0,'Исходные данные'!$F93*'План продаж'!BF$32)","v":0},{"$f":"BH38*'Исходные данные'!$D93*(1+'Исходные данные'!$E93)+IF(BH38=0,0,'Исходные данные'!$F93*'План продаж'!BG$32)","v":0},{"$f":"BI38*'Исходные данные'!$D93*(1+'Исходные данные'!$E93)+IF(BI38=0,0,'Исходные данные'!$F93*'План продаж'!BH$32)","v":0},{"$f":"BJ38*'Исходные данные'!$D93*(1+'Исходные данные'!$E93)+IF(BJ38=0,0,'Исходные данные'!$F93*'План продаж'!BI$32)","v":0},{"$f":"BK38*'Исходные данные'!$D93*(1+'Исходные данные'!$E93)+IF(BK38=0,0,'Исходные данные'!$F93*'План продаж'!BJ$32)","v":0},{"$f":"BL38*'Исходные данные'!$D93*(1+'Исходные данные'!$E93)+IF(BL38=0,0,'Исходные данные'!$F93*'План продаж'!BK$32)","v":0}]
[0,null,null,null,{"$f":"E39*'Исходные данные'!$D94*(1+'Исходные данные'!$E94)+IF(E39=0,0,'Исходные данные'!$F94*'План продаж'!D$32)","v":0},{"$f":"F39*'Исходные данные'!$D94*(1+'Исходные данные'!$E94)+IF(F39=0,0,'Исходные данные'!$F94*'План продаж'!E$32)","v":0},{"$f":"G39*'Исходные данные'!$D94*(1+'Исходные данные'!$E94)+IF(G39=0,0,'Исходные данные'!$F94*'План продаж'!F$32)","v":0},{"$f":"H39*'Исходные данные'!$D94*(1+'Исходные данные'!$E94)+IF(H39=0,0,'Исходные данные'!$F94*'План продаж'!G$32)","v":0},{"$f":"I39*'Исходные данные'!$D94*(1+'Исходные данные'!$E94)+IF(I39=0,0,'Исходные данные'!$F94*'План продаж'!H$32)","v":0},{"$f":"J39*'Исходные данные'!$D94*(1+'Исходные данные'!$E94)+IF(J39=0,0,'Исходные данные'!$F94*'План продаж'!I$32)","v":0},{"$f":"K39*'Исходные данные'!$D94*(1+'Исходные данные'!$E94)+IF(K39=0,0,'Исходные данные'!$F94*'План продаж'!J$32)","v":0},{"$f":"L39*'Исходные данные'!$D94*(1+'Исходные данные'!$E94)+IF(L39=0,0,'Исходные данные'!$F94*'План продаж'!K$32)","v":0},{"$f":"M39*'Исходные данные'!$D94*(1+'Исходные данные'!$E94)+IF(M39=0,0,'Исходные данные'!$F94*'План продаж'!L$32)","v":0},{"$f":"N39*'Исходные данные'!$D94*(1+'Исходные данные'!$E94)+IF(N39=0,0,'Исходные данные'!$F94*'План продаж'!M$32)","v":0},{"$f":"O39*'Исходные данные'!$D94*(1+'Исходные данные'!$E94)+IF(O39=0,0,'Исходные данные'!$F94*'План продаж'!N$32)","v":0},{"$f":"P39*'Исходные данные'!$D94*(1+'Исходные данные'!$E94)+IF(P39=0,0,'Исходные данные'!$F94*'План продаж'!O$32)","v":0},{"$f":"Q39*'Исходные данные'!$D94*(1+'Исходные данные'!$E94)+IF(Q39=0,0,'Исходные данные'!$F94*'План продаж'!P$32)","v":0},{"$f":"R39*'Исходные данные'!$D94*(1+'Исходные данные'!$E94)+IF(R39=0,0,'Исходные данные'!$F94*'План продаж'!Q$32)","v":0},{"$f":"S39*'Исходные данные'!$D94*(1+'Исходные данные'!$E94)+IF(S39=0,0,'Исходные данные'!$F94*'План продаж'!R$32)","v":0},{"$f":"T39*'Исходные данные'!$D94*(1+'Исходные данные'!$E94)+IF(T39=0,0,'Исходные данные'!$F94*'План продаж'!S$32)","v":0},{"$f":"U39*'Исходные данные'!$D94*(1+'Исходные данные'!$E94)+IF(U39=0,0,'Исходные данные'!$F94*'План продаж'!T$32)","v":0},{"$f":"V39*'Исходные данные'!$D94*(1+'Исходные данные'!$E94)+IF(V39=0,0,'Исходные данные'!$F94*'План продаж'!U$32)","v":0},{"$f":"W39*'Исходные данные'!$D94*(1+'Исходные данные'!$E94)+IF(W39=0,0,'Исходные данные'!$F94*'План продаж'!V$32)","v":0},{"$f":"X39*'Исходные данные'!$D94*(1+'Исходные данные'!$E94)+IF(X39=0,0,'Исходные данные'!$F94*'План продаж'!W$32)","v":0},{"$f":"Y39*'Исходные данные'!$D94*(1+'Исходные данные'!$E94)+IF(Y39=0,0,'Исходные данные'!$F94*'План продаж'!X$32)","v":0},{"$f":"Z39*'Исходные данные'!$D94*(1+'Исходные данные'!$E94)+IF(Z39=0,0,'Исходные данные'!$F94*'План продаж'!Y$32)","v":0},{"$f":"AA39*'Исходные данные'!$D94*(1+'Исходные данные'!$E94)+IF(AA39=0,0,'Исходные данные'!$F94*'План продаж'!Z$32)","v":0},{"$f":"AB39*'Исходные данные'!$D94*(1+'Исходные данные'!$E94)+IF(AB39=0,0,'Исходные данные'!$F94*'План продаж'!AA$32)","v":0},{"$f":"AC39*'Исходные данные'!$D94*(1+'Исходные данные'!$E94)+IF(AC39=0,0,'Исходные данные'!$F94*'План продаж'!AB$32)","v":0},{"$f":"AD39*'Исходные данные'!$D94*(1+'Исходные данные'!$E94)+IF(AD39=0,0,'Исходные данные'!$F94*'План продаж'!AC$32)","v":0},{"$f":"AE39*'Исходные данные'!$D94*(1+'Исходные данные'!$E94)+IF(AE39=0,0,'Исходные данные'!$F94*'План продаж'!AD$32)","v":0},{"$f":"AF39*'Исходные данные'!$D94*(1+'Исходные данные'!$E94)+IF(AF39=0,0,'Исходные данные'!$F94*'План продаж'!AE$32)","v":0},{"$f":"AG39*'Исходные данные'!$D94*(1+'Исходные данные'!$E94)+IF(AG39=0,0,'Исходные данные'!$F94*'План продаж'!AF$32)","v":0},{"$f":"AH39*'Исходные данные'!$D94*(1+'Исходные данные'!$E94)+IF(AH39=0,0,'Исходные данные'!$F94*'План продаж'!AG$32)","v":0},{"$f":"AI39*'Исходные данные'!$D94*(1+'Исходные данные'!$E94)+IF(AI39=0,0,'Исходные данные'!$F94*'План продаж'!AH$32)","v":0},{"$f":"AJ39*'Исходные данные'!$D94*(1+'Исходные данные'!$E94)+IF(AJ39=0,0,'Исходные данные'!$F94*'План продаж'!AI$32)","v":0},{"$f":"AK39*'Исходные данные'!$D94*(1+'Исходные данные'!$E94)+IF(AK39=0,0,'Исходные данные'!$F94*'План продаж'!AJ$32)","v":0},{"$f":"AL39*'Исходные данные'!$D94*(1+'Исходные данные'!$E94)+IF(AL39=0,0,'Исходные данные'!$F94*'План продаж'!AK$32)","v":0},{"$f":"AM39*'Исходные данные'!$D94*(1+'Исходные данные'!$E94)+IF(AM39=0,0,'Исходные данные'!$F94*'План продаж'!AL$32)","v":0},{"$f":"AN39*'Исходные данные'!$D94*(1+'Исходные данные'!$E94)+IF(AN39=0,0,'Исходные данные'!$F94*'План продаж'!AM$32)","v":0},{"$f":"AO39*'Исходные данные'!$D94*(1+'Исходные данные'!$E94)+IF(AO39=0,0,'Исходные данные'!$F94*'План продаж'!AN$32)","v":0},{"$f":"AP39*'Исходные данные'!$D94*(1+'Исходные данные'!$E94)+IF(AP39=0,0,'Исходные данные'!$F94*'План продаж'!AO$32)","v":0},{"$f":"AQ39*'Исходные данные'!$D94*(1+'Исходные данные'!$E94)+IF(AQ39=0,0,'Исходные данные'!$F94*'План продаж'!AP$32)","v":0},{"$f":"AR39*'Исходные данные'!$D94*(1+'Исходные данные'!$E94)+IF(AR39=0,0,'Исходные данные'!$F94*'План продаж'!AQ$32)","v":0},{"$f":"AS39*'Исходные данные'!$D94*(1+'Исходные данные'!$E94)+IF(AS39=0,0,'Исходные данные'!$F94*'План продаж'!AR$32)","v":0},{"$f":"AT39*'Исходные данные'!$D94*(1+'Исходные данные'!$E94)+IF(AT39=0,0,'Исходные данные'!$F94*'План продаж'!AS$32)","v":0},{"$f":"AU39*'Исходные данные'!$D94*(1+'Исходные данные'!$E94)+IF(AU39=0,0,'Исходные данные'!$F94*'План продаж'!AT$32)","v":0},{"$f":"AV39*'Исходные данные'!$D94*(1+'Исходные данные'!$E94)+IF(AV39=0,0,'Исходные данные'!$F94*'План продаж'!AU$32)","v":0},{"$f":"AW39*'Исходные данные'!$D94*(1+'Исходные данные'!$E94)+IF(AW39=0,0,'Исходные данные'!$F94*'План продаж'!AV$32)","v":0},{"$f":"AX39*'Исходные данные'!$D94*(1+'Исходные данные'!$E94)+IF(AX39=0,0,'Исходные данные'!$F94*'План продаж'!AW$32)","v":0},{"$f":"AY39*'Исходные данные'!$D94*(1+'Исходные данные'!$E94)+IF(AY39=0,0,'Исходные данные'!$F94*'План продаж'!AX$32)","v":0},{"$f":"AZ39*'Исходные данные'!$D94*(1+'Исходные данные'!$E94)+IF(AZ39=0,0,'Исходные данные'!$F94*'План продаж'!AY$32)","v":0},{"$f":"BA39*'Исходные данные'!$D94*(1+'Исходные данные'!$E94)+IF(BA39=0,0,'Исходные данные'!$F94*'План продаж'!AZ$32)","v":0},{"$f":"BB39*'Исходные данные'!$D94*(1+'Исходные данные'!$E94)+IF(BB39=0,0,'Исходные данные'!$F94*'План продаж'!BA$32)","v":0},{"$f":"BC39*'Исходные данные'!$D94*(1+'Исходные данные'!$E94)+IF(BC39=0,0,'Исходные данные'!$F94*'План продаж'!BB$32)","v":0},{"$f":"BD39*'Исходные данные'!$D94*(1+'Исходные данные'!$E94)+IF(BD39=0,0,'Исходные данные'!$F94*'План продаж'!BC$32)","v":0},{"$f":"BE39*'Исходные данные'!$D94*(1+'Исходные данные'!$E94)+IF(BE39=0,0,'Исходные данные'!$F94*'План продаж'!BD$32)","v":0},{"$f":"BF39*'Исходные данные'!$D94*(1+'Исходные данные'!$E94)+IF(BF39=0,0,'Исходные данные'!$F94*'План продаж'!BE$32)","v":0},{"$f":"BG39*'Исходные данные'!$D94*(1+'Исходные данные'!$E94)+IF(BG39=0,0,'Исходные данные'!$F94*'План продаж'!BF$32)","v":0},{"$f":"BH39*'Исходные данные'!$D94*(1+'Исходные данные'!$E94)+IF(BH39=0,0,'Исходные данные'!$F94*'План продаж'!BG$32)","v":0},{"$f":"BI39*'Исходные данные'!$D94*(1+'Исходные данные'!$E94)+IF(BI39=0,0,'Исходные данные'!$F94*'План продаж'!BH$32)","v":0},{"$f":"BJ39*'Исходные данные'!$D94*(1+'Исходные данные'!$E94)+IF(BJ39=0,0,'Исходные данные'!$F94*'План продаж'!BI$32)","v":0},{"$f":"BK39*'Исходные данные'!$D94*(1+'Исходные данные'!$E94)+IF(BK39=0,0,'Исходные данные'!$F94*'План продаж'!BJ$32)","v":0},{"$f":"BL39*'Исходные данные'!$D94*(1+'Исходные данные'!$E94)+IF(BL39=0,0,'Исходные данные'!$F94*'План продаж'!BK$32)","v":0}]
[0,null,null,null,{"$f":"E40*'Исходные данные'!$D95*(1+'Исходные данные'!$E95)+IF(E40=0,0,'Исходные данные'!$F95*'План продаж'!D$32)","v":0},{"$f":"F40*'Исходные данные'!$D95*(1+'Исходные данные'!$E95)+IF(F40=0,0,'Исходные данные'!$F95*'План продаж'!E$32)","v":0},{"$f":"G40*'Исходные данные'!$D95*(1+'Исходные данные'!$E95)+IF(G40=0,0,'Исходные данные'!$F95*'План продаж'!F$32)","v":0},{"$f":"H40*'Исходные данные'!$D95*(1+'Исходные данные'!$E95)+IF(H40=0,0,'Исходные данные'!$F95*'План продаж'!G$32)","v":0},{"$f":"I40*'Исходные данные'!$D95*(1+'Исходные данные'!$E95)+IF(I40=0,0,'Исходные данные'!$F95*'План продаж'!H$32)","v":0},{"$f":"J40*'Исходные данные'!$D95*(1+'Исходные данные'!$E95)+IF(J40=0,0,'Исходные данные'!$F95*'План продаж'!I$32)","v":0},{"$f":"K40*'Исходные данные'!$D95*(1+'Исходные данные'!$E95)+IF(K40=0,0,'Исходные данные'!$F95*'План продаж'!J$32)","v":0},{"$f":"L40*'Исходные данные'!$D95*(1+'Исходные данные'!$E95)+IF(L40=0,0,'Исходные данные'!$F95*'План продаж'!K$32)","v":0},{"$f":"M40*'Исходные данные'!$D95*(1+'Исходные данные'!$E95)+IF(M40=0,0,'Исходные данные'!$F95*'План продаж'!L$32)","v":0},{"$f":"N40*'Исходные данные'!$D95*(1+'Исходные данные'!$E95)+IF(N40=0,0,'Исходные данные'!$F95*'План продаж'!M$32)","v":0},{"$f":"O40*'Исходные данные'!$D95*(1+'Исходные данные'!$E95)+IF(O40=0,0,'Исходные данные'!$F95*'План продаж'!N$32)","v":0},{"$f":"P40*'Исходные данные'!$D95*(1+'Исходные данные'!$E95)+IF(P40=0,0,'Исходные данные'!$F95*'План продаж'!O$32)","v":0},{"$f":"Q40*'Исходные данные'!$D95*(1+'Исходные данные'!$E95)+IF(Q40=0,0,'Исходные данные'!$F95*'План продаж'!P$32)","v":0},{"$f":"R40*'Исходные данные'!$D95*(1+'Исходные данные'!$E95)+IF(R40=0,0,'Исходные данные'!$F95*'План продаж'!Q$32)","v":0},{"$f":"S40*'Исходные данные'!$D95*(1+'Исходные данные'!$E95)+IF(S40=0,0,'Исходные данные'!$F95*'План продаж'!R$32)","v":0},{"$f":"T40*'Исходные данные'!$D95*(1+'Исходные данные'!$E95)+IF(T40=0,0,'Исходные данные'!$F95*'План продаж'!S$32)","v":0},{"$f":"U40*'Исходные данные'!$D95*(1+'Исходные данные'!$E95)+IF(U40=0,0,'Исходные данные'!$F95*'План продаж'!T$32)","v":0},{"$f":"V40*'Исходные данные'!$D95*(1+'Исходные данные'!$E95)+IF(V40=0,0,'Исходные данные'!$F95*'План продаж'!U$32)","v":0},{"$f":"W40*'Исходные данные'!$D95*(1+'Исходные данные'!$E95)+IF(W40=0,0,'Исходные данные'!$F95*'План продаж'!V$32)","v":0},{"$f":"X40*'Исходные данные'!$D95*(1+'Исходные данные'!$E95)+IF(X40=0,0,'Исходные данные'!$F95*'План продаж'!W$32)","v":0},{"$f":"Y40*'Исходные данные'!$D95*(1+'Исходные данные'!$E95)+IF(Y40=0,0,'Исходные данные'!$F95*'План продаж'!X$32)","v":0},{"$f":"Z40*'Исходные данные'!$D95*(1+'Исходные данные'!$E95)+IF(Z40=0,0,'Исходные данные'!$F95*'План продаж'!Y$32)","v":0},{"$f":"AA40*'Исходные данные'!$D95*(1+'Исходные данные'!$E95)+IF(AA40=0,0,'Исходные данные'!$F95*'План продаж'!Z$32)","v":0},{"$f":"AB40*'Исходные данные'!$D95*(1+'Исходные данные'!$E95)+IF(AB40=0,0,'Исходные данные'!$F95*'План продаж'!AA$32)","v":0},{"$f":"AC40*'Исходные данные'!$D95*(1+'Исходные данные'!$E95)+IF(AC40=0,0,'Исходные данные'!$F95*'План продаж'!AB$32)","v":0},{"$f":"AD40*'Исходные данные'!$D95*(1+'Исходные данные'!$E95)+IF(AD40=0,0,'Исходные данные'!$F95*'План продаж'!AC$32)","v":0},{"$f":"AE40*'Исходные данные'!$D95*(1+'Исходные данные'!$E95)+IF(AE40=0,0,'Исходные данные'!$F95*'План продаж'!AD$32)","v":0},{"$f":"AF40*'Исходные данные'!$D95*(1+'Исходные данные'!$E95)+IF(AF40=0,0,'Исходные данные'!$F95*'План продаж'!AE$32)","v":0},{"$f":"AG40*'Исходные данные'!$D95*(1+'Исходные данные'!$E95)+IF(AG40=0,0,'Исходные данные'!$F95*'План продаж'!AF$32)","v":0},{"$f":"AH40*'Исходные данные'!$D95*(1+'Исходные данные'!$E95)+IF(AH40=0,0,'Исходные данные'!$F95*'План продаж'!AG$32)","v":0},{"$f":"AI40*'Исходные данные'!$D95*(1+'Исходные данные'!$E95)+IF(AI40=0,0,'Исходные данные'!$F95*'План продаж'!AH$32)","v":0},{"$f":"AJ40*'Исходные данные'!$D95*(1+'Исходные данные'!$E95)+IF(AJ40=0,0,'Исходные данные'!$F95*'План продаж'!AI$32)","v":0},{"$f":"AK40*'Исходные данные'!$D95*(1+'Исходные данные'!$E95)+IF(AK40=0,0,'Исходные данные'!$F95*'План продаж'!AJ$32)","v":0},{"$f":"AL40*'Исходные данные'!$D95*(1+'Исходные данные'!$E95)+IF(AL40=0,0,'Исходные данные'!$F95*'План продаж'!AK$32)","v":0},{"$f":"AM40*'Исходные данные'!$D95*(1+'Исходные данные'!$E95)+IF(AM40=0,0,'Исходные данные'!$F95*'План продаж'!AL$32)","v":0},{"$f":"AN40*'Исходные данные'!$D95*(1+'Исходные данные'!$E95)+IF(AN40=0,0,'Исходные данные'!$F95*'План продаж'!AM$32)","v":0},{"$f":"AO40*'Исходные данные'!$D95*(1+'Исходные данные'!$E95)+IF(AO40=0,0,'Исходные данные'!$F95*'План продаж'!AN$32)","v":0},{"$f":"AP40*'Исходные данные'!$D95*(1+'Исходные данные'!$E95)+IF(AP40=0,0,'Исходные данные'!$F95*'План продаж'!AO$32)","v":0},{"$f":"AQ40*'Исходные данные'!$D95*(1+'Исходные данные'!$E95)+IF(AQ40=0,0,'Исходные данные'!$F95*'План продаж'!AP$32)","v":0},{"$f":"AR40*'Исходные данные'!$D95*(1+'Исходные данные'!$E95)+IF(AR40=0,0,'Исходные данные'!$F95*'План продаж'!AQ$32)","v":0},{"$f":"AS40*'Исходные данные'!$D95*(1+'Исходные данные'!$E95)+IF(AS40=0,0,'Исходные данные'!$F95*'План продаж'!AR$32)","v":0},{"$f":"AT40*'Исходные данные'!$D95*(1+'Исходные данные'!$E95)+IF(AT40=0,0,'Исходные данные'!$F95*'План продаж'!AS$32)","v":0},{"$f":"AU40*'Исходные данные'!$D95*(1+'Исходные данные'!$E95)+IF(AU40=0,0,'Исходные данные'!$F95*'План продаж'!AT$32)","v":0},{"$f":"AV40*'Исходные данные'!$D95*(1+'Исходные данные'!$E95)+IF(AV40=0,0,'Исходные данные'!$F95*'План продаж'!AU$32)","v":0},{"$f":"AW40*'Исходные данные'!$D95*(1+'Исходные данные'!$E95)+IF(AW40=0,0,'Исходные данные'!$F95*'План продаж'!AV$32)","v":0},{"$f":"AX40*'Исходные данные'!$D95*(1+'Исходные данные'!$E95)+IF(AX40=0,0,'Исходные данные'!$F95*'План продаж'!AW$32)","v":0},{"$f":"AY40*'Исходные данные'!$D95*(1+'Исходные данные'!$E95)+IF(AY40=0,0,'Исходные данные'!$F95*'План продаж'!AX$32)","v":0},{"$f":"AZ40*'Исходные данные'!$D95*(1+'Исходные данные'!$E95)+IF(AZ40=0,0,'Исходные данные'!$F95*'План продаж'!AY$32)","v":0},{"$f":"BA40*'Исходные данные'!$D95*(1+'Исходные данные'!$E95)+IF(BA40=0,0,'Исходные данные'!$F95*'План продаж'!AZ$32)","v":0},{"$f":"BB40*'Исходные данные'!$D95*(1+'Исходные данные'!$E95)+IF(BB40=0,0,'Исходные данные'!$F95*'План продаж'!BA$32)","v":0},{"$f":"BC40*'Исходные данные'!$D95*(1+'Исходные данные'!$E95)+IF(BC40=0,0,'Исходные данные'!$F95*'План продаж'!BB$32)","v":0},{"$f":"BD40*'Исходные данные'!$D95*(1+'Исходные данные'!$E95)+IF(BD40=0,0,'Исходные данные'!$F95*'План продаж'!BC$32)","v":0},{"$f":"BE40*'Исходные данные'!$D95*(1+'Исходные данные'!$E95)+IF(BE40=0,0,'Исходные данные'!$F95*'План продаж'!BD$32)","v":0},{"$f":"BF40*'Исходные данные'!$D95*(1+'Исходные данные'!$E95)+IF(BF40=0,0,'Исходные данные'!$F95*'План продаж'!BE$32)","v":0},{"$f":"BG40*'Исходные данные'!$D95*(1+'Исходные данные'!$E95)+IF(BG40=0,0,'Исходные данные'!$F95*'План продаж'!BF$32)","v":0},{"$f":"BH40*'Исходные данные'!$D95*(1+'Исходные данные'!$E95)+IF(BH40=0,0,'Исходные данные'!$F95*'План продаж'!BG$32)","v":0},{"$f":"BI40*'Исходные данные'!$D95*(1+'Исходные данные'!$E95)+IF(BI40=0,0,'Исходные данные'!$F95*'План продаж'!BH$32)","v":0},{"$f":"BJ40*'Исходные данные'!$D95*(1+'Исходные данные'!$E95)+IF(BJ40=0,0,'Исходные данные'!$F95*'План продаж'!BI$32)","v":0},{"$f":"BK40*'Исходные данные'!$D95*(1+'Исходные данные'!$E95)+IF(BK40=0,0,'Исходные данные'!$F95*'План продаж'!BJ$32)","v":0},{"$f":"BL40*'Исходные данные'!$D95*(1+'Исходные данные'!$E95)+IF(BL40=0,0,'Исходные данные'!$F95*'План продаж'!BK$32)","v":0}]
[0,null,null,null,{"$f":"E41*'Исходные данные'!$D96*(1+'Исходные данные'!$E96)+IF(E41=0,0,'Исходные данные'!$F96*'План продаж'!D$32)","v":0},{"$f":"F41*'Исходные данные'!$D96*(1+'Исходные данные'!$E96)+IF(F41=0,0,'Исходные данные'!$F96*'План продаж'!E$32)","v":0},{"$f":"G41*'Исходные данные'!$D96*(1+'Исходные данные'!$E96)+IF(G41=0,0,'Исходные данные'!$F96*'План продаж'!F$32)","v":0},{"$f":"H41*'Исходные данные'!$D96*(1+'Исходные данные'!$E96)+IF(H41=0,0,'Исходные данные'!$F96*'План продаж'!G$32)","v":0},{"$f":"I41*'Исходные данные'!$D96*(1+'Исходные данные'!$E96)+IF(I41=0,0,'Исходные данные'!$F96*'План продаж'!H$32)","v":0},{"$f":"J41*'Исходные данные'!$D96*(1+'Исходные данные'!$E96)+IF(J41=0,0,'Исходные данные'!$F96*'План продаж'!I$32)","v":0},{"$f":"K41*'Исходные данные'!$D96*(1+'Исходные данные'!$E96)+IF(K41=0,0,'Исходные данные'!$F96*'План продаж'!J$32)","v":0},{"$f":"L41*'Исходные данные'!$D96*(1+'Исходные данные'!$E96)+IF(L41=0,0,'Исходные данные'!$F96*'План продаж'!K$32)","v":0},{"$f":"M41*'Исходные данные'!$D96*(1+'Исходные данные'!$E96)+IF(M41=0,0,'Исходные данные'!$F96*'План продаж'!L$32)","v":0},{"$f":"N41*'Исходные данные'!$D96*(1+'Исходные данные'!$E96)+IF(N41=0,0,'Исходные данные'!$F96*'План продаж'!M$32)","v":0},{"$f":"O41*'Исходные данные'!$D96*(1+'Исходные данные'!$E96)+IF(O41=0,0,'Исходные данные'!$F96*'План продаж'!N$32)","v":0},{"$f":"P41*'Исходные данные'!$D96*(1+'Исходные данные'!$E96)+IF(P41=0,0,'Исходные данные'!$F96*'План продаж'!O$32)","v":0},{"$f":"Q41*'Исходные данные'!$D96*(1+'Исходные данные'!$E96)+IF(Q41=0,0,'Исходные данные'!$F96*'План продаж'!P$32)","v":0},{"$f":"R41*'Исходные данные'!$D96*(1+'Исходные данные'!$E96)+IF(R41=0,0,'Исходные данные'!$F96*'План продаж'!Q$32)","v":0},{"$f":"S41*'Исходные данные'!$D96*(1+'Исходные данные'!$E96)+IF(S41=0,0,'Исходные данные'!$F96*'План продаж'!R$32)","v":0},{"$f":"T41*'Исходные данные'!$D96*(1+'Исходные данные'!$E96)+IF(T41=0,0,'Исходные данные'!$F96*'План продаж'!S$32)","v":0},{"$f":"U41*'Исходные данные'!$D96*(1+'Исходные данные'!$E96)+IF(U41=0,0,'Исходные данные'!$F96*'План продаж'!T$32)","v":0},{"$f":"V41*'Исходные данные'!$D96*(1+'Исходные данные'!$E96)+IF(V41=0,0,'Исходные данные'!$F96*'План продаж'!U$32)","v":0},{"$f":"W41*'Исходные данные'!$D96*(1+'Исходные данные'!$E96)+IF(W41=0,0,'Исходные данные'!$F96*'План продаж'!V$32)","v":0},{"$f":"X41*'Исходные данные'!$D96*(1+'Исходные данные'!$E96)+IF(X41=0,0,'Исходные данные'!$F96*'План продаж'!W$32)","v":0},{"$f":"Y41*'Исходные данные'!$D96*(1+'Исходные данные'!$E96)+IF(Y41=0,0,'Исходные данные'!$F96*'План продаж'!X$32)","v":0},{"$f":"Z41*'Исходные данные'!$D96*(1+'Исходные данные'!$E96)+IF(Z41=0,0,'Исходные данные'!$F96*'План продаж'!Y$32)","v":0},{"$f":"AA41*'Исходные данные'!$D96*(1+'Исходные данные'!$E96)+IF(AA41=0,0,'Исходные данные'!$F96*'План продаж'!Z$32)","v":0},{"$f":"AB41*'Исходные данные'!$D96*(1+'Исходные данные'!$E96)+IF(AB41=0,0,'Исходные данные'!$F96*'План продаж'!AA$32)","v":0},{"$f":"AC41*'Исходные данные'!$D96*(1+'Исходные данные'!$E96)+IF(AC41=0,0,'Исходные данные'!$F96*'План продаж'!AB$32)","v":0},{"$f":"AD41*'Исходные данные'!$D96*(1+'Исходные данные'!$E96)+IF(AD41=0,0,'Исходные данные'!$F96*'План продаж'!AC$32)","v":0},{"$f":"AE41*'Исходные данные'!$D96*(1+'Исходные данные'!$E96)+IF(AE41=0,0,'Исходные данные'!$F96*'План продаж'!AD$32)","v":0},{"$f":"AF41*'Исходные данные'!$D96*(1+'Исходные данные'!$E96)+IF(AF41=0,0,'Исходные данные'!$F96*'План продаж'!AE$32)","v":0},{"$f":"AG41*'Исходные данные'!$D96*(1+'Исходные данные'!$E96)+IF(AG41=0,0,'Исходные данные'!$F96*'План продаж'!AF$32)","v":0},{"$f":"AH41*'Исходные данные'!$D96*(1+'Исходные данные'!$E96)+IF(AH41=0,0,'Исходные данные'!$F96*'План продаж'!AG$32)","v":0},{"$f":"AI41*'Исходные данные'!$D96*(1+'Исходные данные'!$E96)+IF(AI41=0,0,'Исходные данные'!$F96*'План продаж'!AH$32)","v":0},{"$f":"AJ41*'Исходные данные'!$D96*(1+'Исходные данные'!$E96)+IF(AJ41=0,0,'Исходные данные'!$F96*'План продаж'!AI$32)","v":0},{"$f":"AK41*'Исходные данные'!$D96*(1+'Исходные данные'!$E96)+IF(AK41=0,0,'Исходные данные'!$F96*'План продаж'!AJ$32)","v":0},{"$f":"AL41*'Исходные данные'!$D96*(1+'Исходные данные'!$E96)+IF(AL41=0,0,'Исходные данные'!$F96*'План продаж'!AK$32)","v":0},{"$f":"AM41*'Исходные данные'!$D96*(1+'Исходные данные'!$E96)+IF(AM41=0,0,'Исходные данные'!$F96*'План продаж'!AL$32)","v":0},{"$f":"AN41*'Исходные данные'!$D96*(1+'Исходные данные'!$E96)+IF(AN41=0,0,'Исходные данные'!$F96*'План продаж'!AM$32)","v":0},{"$f":"AO41*'Исходные данные'!$D96*(1+'Исходные данные'!$E96)+IF(AO41=0,0,'Исходные данные'!$F96*'План продаж'!AN$32)","v":0},{"$f":"AP41*'Исходные данные'!$D96*(1+'Исходные данные'!$E96)+IF(AP41=0,0,'Исходные данные'!$F96*'План продаж'!AO$32)","v":0},{"$f":"AQ41*'Исходные данные'!$D96*(1+'Исходные данные'!$E96)+IF(AQ41=0,0,'Исходные данные'!$F96*'План продаж'!AP$32)","v":0},{"$f":"AR41*'Исходные данные'!$D96*(1+'Исходные данные'!$E96)+IF(AR41=0,0,'Исходные данные'!$F96*'План продаж'!AQ$32)","v":0},{"$f":"AS41*'Исходные данные'!$D96*(1+'Исходные данные'!$E96)+IF(AS41=0,0,'Исходные данные'!$F96*'План продаж'!AR$32)","v":0},{"$f":"AT41*'Исходные данные'!$D96*(1+'Исходные данные'!$E96)+IF(AT41=0,0,'Исходные данные'!$F96*'План продаж'!AS$32)","v":0},{"$f":"AU41*'Исходные данные'!$D96*(1+'Исходные данные'!$E96)+IF(AU41=0,0,'Исходные данные'!$F96*'План продаж'!AT$32)","v":0},{"$f":"AV41*'Исходные данные'!$D96*(1+'Исходные данные'!$E96)+IF(AV41=0,0,'Исходные данные'!$F96*'План продаж'!AU$32)","v":0},{"$f":"AW41*'Исходные данные'!$D96*(1+'Исходные данные'!$E96)+IF(AW41=0,0,'Исходные данные'!$F96*'План продаж'!AV$32)","v":0},{"$f":"AX41*'Исходные данные'!$D96*(1+'Исходные данные'!$E96)+IF(AX41=0,0,'Исходные данные'!$F96*'План продаж'!AW$32)","v":0},{"$f":"AY41*'Исходные данные'!$D96*(1+'Исходные данные'!$E96)+IF(AY41=0,0,'Исходные данные'!$F96*'План продаж'!AX$32)","v":0},{"$f":"AZ41*'Исходные данные'!$D96*(1+'Исходные данные'!$E96)+IF(AZ41=0,0,'Исходные данные'!$F96*'План продаж'!AY$32)","v":0},{"$f":"BA41*'Исходные данные'!$D96*(1+'Исходные данные'!$E96)+IF(BA41=0,0,'Исходные данные'!$F96*'План продаж'!AZ$32)","v":0},{"$f":"BB41*'Исходные данные'!$D96*(1+'Исходные данные'!$E96)+IF(BB41=0,0,'Исходные данные'!$F96*'План продаж'!BA$32)","v":0},{"$f":"BC41*'Исходные данные'!$D96*(1+'Исходные данные'!$E96)+IF(BC41=0,0,'Исходные данные'!$F96*'План продаж'!BB$32)","v":0},{"$f":"BD41*'Исходные данные'!$D96*(1+'Исходные данные'!$E96)+IF(BD41=0,0,'Исходные данные'!$F96*'План продаж'!BC$32)","v":0},{"$f":"BE41*'Исходные данные'!$D96*(1+'Исходные данные'!$E96)+IF(BE41=0,0,'Исходные данные'!$F96*'План продаж'!BD$32)","v":0},{"$f":"BF41*'Исходные данные'!$D96*(1+'Исходные данные'!$E96)+IF(BF41=0,0,'Исходные данные'!$F96*'План продаж'!BE$32)","v":0},{"$f":"BG41*'Исходные данные'!$D96*(1+'Исходные данные'!$E96)+IF(BG41=0,0,'Исходные данные'!$F96*'План продаж'!BF$32)","v":0},{"$f":"BH41*'Исходные данные'!$D96*(1+'Исходные данные'!$E96)+IF(BH41=0,0,'Исходные данные'!$F96*'План продаж'!BG$32)","v":0},{"$f":"BI41*'Исходные данные'!$D96*(1+'Исходные данные'!$E96)+IF(BI41=0,0,'Исходные данные'!$F96*'План продаж'!BH$32)","v":0},{"$f":"BJ41*'Исходные данные'!$D96*(1+'Исходные данные'!$E96)+IF(BJ41=0,0,'Исходные данные'!$F96*'План продаж'!BI$32)","v":0},{"$f":"BK41*'Исходные данные'!$D96*(1+'Исходные данные'!$E96)+IF(BK41=0,0,'Исходные данные'!$F96*'План продаж'!BJ$32)","v":0},{"$f":"BL41*'Исходные данные'!$D96*(1+'Исходные данные'!$E96)+IF(BL41=0,0,'Исходные данные'!$F96*'План продаж'!BK$32)","v":0}]
[0,null,null,null,{"$f":"E42*'Исходные данные'!$D97*(1+'Исходные данные'!$E97)+IF(E42=0,0,'Исходные данные'!$F97*'План продаж'!D$32)","v":0},{"$f":"F42*'Исходные данные'!$D97*(1+'Исходные данные'!$E97)+IF(F42=0,0,'Исходные данные'!$F97*'План продаж'!E$32)","v":0},{"$f":"G42*'Исходные данные'!$D97*(1+'Исходные данные'!$E97)+IF(G42=0,0,'Исходные данные'!$F97*'План продаж'!F$32)","v":0},{"$f":"H42*'Исходные данные'!$D97*(1+'Исходные данные'!$E97)+IF(H42=0,0,'Исходные данные'!$F97*'План продаж'!G$32)","v":0},{"$f":"I42*'Исходные данные'!$D97*(1+'Исходные данные'!$E97)+IF(I42=0,0,'Исходные данные'!$F97*'План продаж'!H$32)","v":0},{"$f":"J42*'Исходные данные'!$D97*(1+'Исходные данные'!$E97)+IF(J42=0,0,'Исходные данные'!$F97*'План продаж'!I$32)","v":0},{"$f":"K42*'Исходные данные'!$D97*(1+'Исходные данные'!$E97)+IF(K42=0,0,'Исходные данные'!$F97*'План продаж'!J$32)","v":0},{"$f":"L42*'Исходные данные'!$D97*(1+'Исходные данные'!$E97)+IF(L42=0,0,'Исходные данные'!$F97*'План продаж'!K$32)","v":0},{"$f":"M42*'Исходные данные'!$D97*(1+'Исходные данные'!$E97)+IF(M42=0,0,'Исходные данные'!$F97*'План продаж'!L$32)","v":0},{"$f":"N42*'Исходные данные'!$D97*(1+'Исходные данные'!$E97)+IF(N42=0,0,'Исходные данные'!$F97*'План продаж'!M$32)","v":0},{"$f":"O42*'Исходные данные'!$D97*(1+'Исходные данные'!$E97)+IF(O42=0,0,'Исходные данные'!$F97*'План продаж'!N$32)","v":0},{"$f":"P42*'Исходные данные'!$D97*(1+'Исходные данные'!$E97)+IF(P42=0,0,'Исходные данные'!$F97*'План продаж'!O$32)","v":0},{"$f":"Q42*'Исходные данные'!$D97*(1+'Исходные данные'!$E97)+IF(Q42=0,0,'Исходные данные'!$F97*'План продаж'!P$32)","v":0},{"$f":"R42*'Исходные данные'!$D97*(1+'Исходные данные'!$E97)+IF(R42=0,0,'Исходные данные'!$F97*'План продаж'!Q$32)","v":0},{"$f":"S42*'Исходные данные'!$D97*(1+'Исходные данные'!$E97)+IF(S42=0,0,'Исходные данные'!$F97*'План продаж'!R$32)","v":0},{"$f":"T42*'Исходные данные'!$D97*(1+'Исходные данные'!$E97)+IF(T42=0,0,'Исходные данные'!$F97*'План продаж'!S$32)","v":0},{"$f":"U42*'Исходные данные'!$D97*(1+'Исходные данные'!$E97)+IF(U42=0,0,'Исходные данные'!$F97*'План продаж'!T$32)","v":0},{"$f":"V42*'Исходные данные'!$D97*(1+'Исходные данные'!$E97)+IF(V42=0,0,'Исходные данные'!$F97*'План продаж'!U$32)","v":0},{"$f":"W42*'Исходные данные'!$D97*(1+'Исходные данные'!$E97)+IF(W42=0,0,'Исходные данные'!$F97*'План продаж'!V$32)","v":0},{"$f":"X42*'Исходные данные'!$D97*(1+'Исходные данные'!$E97)+IF(X42=0,0,'Исходные данные'!$F97*'План продаж'!W$32)","v":0},{"$f":"Y42*'Исходные данные'!$D97*(1+'Исходные данные'!$E97)+IF(Y42=0,0,'Исходные данные'!$F97*'План продаж'!X$32)","v":0},{"$f":"Z42*'Исходные данные'!$D97*(1+'Исходные данные'!$E97)+IF(Z42=0,0,'Исходные данные'!$F97*'План продаж'!Y$32)","v":0},{"$f":"AA42*'Исходные данные'!$D97*(1+'Исходные данные'!$E97)+IF(AA42=0,0,'Исходные данные'!$F97*'План продаж'!Z$32)","v":0},{"$f":"AB42*'Исходные данные'!$D97*(1+'Исходные данные'!$E97)+IF(AB42=0,0,'Исходные данные'!$F97*'План продаж'!AA$32)","v":0},{"$f":"AC42*'Исходные данные'!$D97*(1+'Исходные данные'!$E97)+IF(AC42=0,0,'Исходные данные'!$F97*'План продаж'!AB$32)","v":0},{"$f":"AD42*'Исходные данные'!$D97*(1+'Исходные данные'!$E97)+IF(AD42=0,0,'Исходные данные'!$F97*'План продаж'!AC$32)","v":0},{"$f":"AE42*'Исходные данные'!$D97*(1+'Исходные данные'!$E97)+IF(AE42=0,0,'Исходные данные'!$F97*'План продаж'!AD$32)","v":0},{"$f":"AF42*'Исходные данные'!$D97*(1+'Исходные данные'!$E97)+IF(AF42=0,0,'Исходные данные'!$F97*'План продаж'!AE$32)","v":0},{"$f":"AG42*'Исходные данные'!$D97*(1+'Исходные данные'!$E97)+IF(AG42=0,0,'Исходные данные'!$F97*'План продаж'!AF$32)","v":0},{"$f":"AH42*'Исходные данные'!$D97*(1+'Исходные данные'!$E97)+IF(AH42=0,0,'Исходные данные'!$F97*'План продаж'!AG$32)","v":0},{"$f":"AI42*'Исходные данные'!$D97*(1+'Исходные данные'!$E97)+IF(AI42=0,0,'Исходные данные'!$F97*'План продаж'!AH$32)","v":0},{"$f":"AJ42*'Исходные данные'!$D97*(1+'Исходные данные'!$E97)+IF(AJ42=0,0,'Исходные данные'!$F97*'План продаж'!AI$32)","v":0},{"$f":"AK42*'Исходные данные'!$D97*(1+'Исходные данные'!$E97)+IF(AK42=0,0,'Исходные данные'!$F97*'План продаж'!AJ$32)","v":0},{"$f":"AL42*'Исходные данные'!$D97*(1+'Исходные данные'!$E97)+IF(AL42=0,0,'Исходные данные'!$F97*'План продаж'!AK$32)","v":0},{"$f":"AM42*'Исходные данные'!$D97*(1+'Исходные данные'!$E97)+IF(AM42=0,0,'Исходные данные'!$F97*'План продаж'!AL$32)","v":0},{"$f":"AN42*'Исходные данные'!$D97*(1+'Исходные данные'!$E97)+IF(AN42=0,0,'Исходные данные'!$F97*'План продаж'!AM$32)","v":0},{"$f":"AO42*'Исходные данные'!$D97*(1+'Исходные данные'!$E97)+IF(AO42=0,0,'Исходные данные'!$F97*'План продаж'!AN$32)","v":0},{"$f":"AP42*'Исходные данные'!$D97*(1+'Исходные данные'!$E97)+IF(AP42=0,0,'Исходные данные'!$F97*'План продаж'!AO$32)","v":0},{"$f":"AQ42*'Исходные данные'!$D97*(1+'Исходные данные'!$E97)+IF(AQ42=0,0,'Исходные данные'!$F97*'План продаж'!AP$32)","v":0},{"$f":"AR42*'Исходные данные'!$D97*(1+'Исходные данные'!$E97)+IF(AR42=0,0,'Исходные данные'!$F97*'План продаж'!AQ$32)","v":0},{"$f":"AS42*'Исходные данные'!$D97*(1+'Исходные данные'!$E97)+IF(AS42=0,0,'Исходные данные'!$F97*'План продаж'!AR$32)","v":0},{"$f":"AT42*'Исходные данные'!$D97*(1+'Исходные данные'!$E97)+IF(AT42=0,0,'Исходные данные'!$F97*'План продаж'!AS$32)","v":0},{"$f":"AU42*'Исходные данные'!$D97*(1+'Исходные данные'!$E97)+IF(AU42=0,0,'Исходные данные'!$F97*'План продаж'!AT$32)","v":0},{"$f":"AV42*'Исходные данные'!$D97*(1+'Исходные данные'!$E97)+IF(AV42=0,0,'Исходные данные'!$F97*'План продаж'!AU$32)","v":0},{"$f":"AW42*'Исходные данные'!$D97*(1+'Исходные данные'!$E97)+IF(AW42=0,0,'Исходные данные'!$F97*'План продаж'!AV$32)","v":0},{"$f":"AX42*'Исходные данные'!$D97*(1+'Исходные данные'!$E97)+IF(AX42=0,0,'Исходные данные'!$F97*'План продаж'!AW$32)","v":0},{"$f":"AY42*'Исходные данные'!$D97*(1+'Исходные данные'!$E97)+IF(AY42=0,0,'Исходные данные'!$F97*'План продаж'!AX$32)","v":0},{"$f":"AZ42*'Исходные данные'!$D97*(1+'Исходные данные'!$E97)+IF(AZ42=0,0,'Исходные данные'!$F97*'План продаж'!AY$32)","v":0},{"$f":"BA42*'Исходные данные'!$D97*(1+'Исходные данные'!$E97)+IF(BA42=0,0,'Исходные данные'!$F97*'План продаж'!AZ$32)","v":0},{"$f":"BB42*'Исходные данные'!$D97*(1+'Исходные данные'!$E97)+IF(BB42=0,0,'Исходные данные'!$F97*'План продаж'!BA$32)","v":0},{"$f":"BC42*'Исходные данные'!$D97*(1+'Исходные данные'!$E97)+IF(BC42=0,0,'Исходные данные'!$F97*'План продаж'!BB$32)","v":0},{"$f":"BD42*'Исходные данные'!$D97*(1+'Исходные данные'!$E97)+IF(BD42=0,0,'Исходные данные'!$F97*'План продаж'!BC$32)","v":0},{"$f":"BE42*'Исходные данные'!$D97*(1+'Исходные данные'!$E97)+IF(BE42=0,0,'Исходные данные'!$F97*'План продаж'!BD$32)","v":0},{"$f":"BF42*'Исходные данные'!$D97*(1+'Исходные данные'!$E97)+IF(BF42=0,0,'Исходные данные'!$F97*'План продаж'!BE$32)","v":0},{"$f":"BG42*'Исходные данные'!$D97*(1+'Исходные данные'!$E97)+IF(BG42=0,0,'Исходные данные'!$F97*'План продаж'!BF$32)","v":0},{"$f":"BH42*'Исходные данные'!$D97*(1+'Исходные данные'!$E97)+IF(BH42=0,0,'Исходные данные'!$F97*'План продаж'!BG$32)","v":0},{"$f":"BI42*'Исходные данные'!$D97*(1+'Исходные данные'!$E97)+IF(BI42=0,0,'Исходные данные'!$F97*'План продаж'!BH$32)","v":0},{"$f":"BJ42*'Исходные данные'!$D97*(1+'Исходные данные'!$E97)+IF(BJ42=0,0,'Исходные данные'!$F97*'План продаж'!BI$32)","v":0},{"$f":"BK42*'Исходные данные'!$D97*(1+'Исходные данные'!$E97)+IF(BK42=0,0,'Исходные данные'!$F97*'План продаж'!BJ$32)","v":0},{"$f":"BL42*'Исходные данные'!$D97*(1+'Исходные данные'!$E97)+IF(BL42=0,0,'Исходные данные'!$F97*'План продаж'!BK$32)","v":0}]
[0,null,null,null,{"$f":"E43*'Исходные данные'!$D98*(1+'Исходные данные'!$E98)+IF(E43=0,0,'Исходные данные'!$F98*'План продаж'!D$32)","v":0},{"$f":"F43*'Исходные данные'!$D98*(1+'Исходные данные'!$E98)+IF(F43=0,0,'Исходные данные'!$F98*'План продаж'!E$32)","v":0},{"$f":"G43*'Исходные данные'!$D98*(1+'Исходные данные'!$E98)+IF(G43=0,0,'Исходные данные'!$F98*'План продаж'!F$32)","v":0},{"$f":"H43*'Исходные данные'!$D98*(1+'Исходные данные'!$E98)+IF(H43=0,0,'Исходные данные'!$F98*'План продаж'!G$32)","v":0},{"$f":"I43*'Исходные данные'!$D98*(1+'Исходные данные'!$E98)+IF(I43=0,0,'Исходные данные'!$F98*'План продаж'!H$32)","v":0},{"$f":"J43*'Исходные данные'!$D98*(1+'Исходные данные'!$E98)+IF(J43=0,0,'Исходные данные'!$F98*'План продаж'!I$32)","v":0},{"$f":"K43*'Исходные данные'!$D98*(1+'Исходные данные'!$E98)+IF(K43=0,0,'Исходные данные'!$F98*'План продаж'!J$32)","v":0},{"$f":"L43*'Исходные данные'!$D98*(1+'Исходные данные'!$E98)+IF(L43=0,0,'Исходные данные'!$F98*'План продаж'!K$32)","v":0},{"$f":"M43*'Исходные данные'!$D98*(1+'Исходные данные'!$E98)+IF(M43=0,0,'Исходные данные'!$F98*'План продаж'!L$32)","v":0},{"$f":"N43*'Исходные данные'!$D98*(1+'Исходные данные'!$E98)+IF(N43=0,0,'Исходные данные'!$F98*'План продаж'!M$32)","v":0},{"$f":"O43*'Исходные данные'!$D98*(1+'Исходные данные'!$E98)+IF(O43=0,0,'Исходные данные'!$F98*'План продаж'!N$32)","v":0},{"$f":"P43*'Исходные данные'!$D98*(1+'Исходные данные'!$E98)+IF(P43=0,0,'Исходные данные'!$F98*'План продаж'!O$32)","v":0},{"$f":"Q43*'Исходные данные'!$D98*(1+'Исходные данные'!$E98)+IF(Q43=0,0,'Исходные данные'!$F98*'План продаж'!P$32)","v":0},{"$f":"R43*'Исходные данные'!$D98*(1+'Исходные данные'!$E98)+IF(R43=0,0,'Исходные данные'!$F98*'План продаж'!Q$32)","v":0},{"$f":"S43*'Исходные данные'!$D98*(1+'Исходные данные'!$E98)+IF(S43=0,0,'Исходные данные'!$F98*'План продаж'!R$32)","v":0},{"$f":"T43*'Исходные данные'!$D98*(1+'Исходные данные'!$E98)+IF(T43=0,0,'Исходные данные'!$F98*'План продаж'!S$32)","v":0},{"$f":"U43*'Исходные данные'!$D98*(1+'Исходные данные'!$E98)+IF(U43=0,0,'Исходные данные'!$F98*'План продаж'!T$32)","v":0},{"$f":"V43*'Исходные данные'!$D98*(1+'Исходные данные'!$E98)+IF(V43=0,0,'Исходные данные'!$F98*'План продаж'!U$32)","v":0},{"$f":"W43*'Исходные данные'!$D98*(1+'Исходные данные'!$E98)+IF(W43=0,0,'Исходные данные'!$F98*'План продаж'!V$32)","v":0},{"$f":"X43*'Исходные данные'!$D98*(1+'Исходные данные'!$E98)+IF(X43=0,0,'Исходные данные'!$F98*'План продаж'!W$32)","v":0},{"$f":"Y43*'Исходные данные'!$D98*(1+'Исходные данные'!$E98)+IF(Y43=0,0,'Исходные данные'!$F98*'План продаж'!X$32)","v":0},{"$f":"Z43*'Исходные данные'!$D98*(1+'Исходные данные'!$E98)+IF(Z43=0,0,'Исходные данные'!$F98*'План продаж'!Y$32)","v":0},{"$f":"AA43*'Исходные данные'!$D98*(1+'Исходные данные'!$E98)+IF(AA43=0,0,'Исходные данные'!$F98*'План продаж'!Z$32)","v":0},{"$f":"AB43*'Исходные данные'!$D98*(1+'Исходные данные'!$E98)+IF(AB43=0,0,'Исходные данные'!$F98*'План продаж'!AA$32)","v":0},{"$f":"AC43*'Исходные данные'!$D98*(1+'Исходные данные'!$E98)+IF(AC43=0,0,'Исходные данные'!$F98*'План продаж'!AB$32)","v":0},{"$f":"AD43*'Исходные данные'!$D98*(1+'Исходные данные'!$E98)+IF(AD43=0,0,'Исходные данные'!$F98*'План продаж'!AC$32)","v":0},{"$f":"AE43*'Исходные данные'!$D98*(1+'Исходные данные'!$E98)+IF(AE43=0,0,'Исходные данные'!$F98*'План продаж'!AD$32)","v":0},{"$f":"AF43*'Исходные данные'!$D98*(1+'Исходные данные'!$E98)+IF(AF43=0,0,'Исходные данные'!$F98*'План продаж'!AE$32)","v":0},{"$f":"AG43*'Исходные данные'!$D98*(1+'Исходные данные'!$E98)+IF(AG43=0,0,'Исходные данные'!$F98*'План продаж'!AF$32)","v":0},{"$f":"AH43*'Исходные данные'!$D98*(1+'Исходные данные'!$E98)+IF(AH43=0,0,'Исходные данные'!$F98*'План продаж'!AG$32)","v":0},{"$f":"AI43*'Исходные данные'!$D98*(1+'Исходные данные'!$E98)+IF(AI43=0,0,'Исходные данные'!$F98*'План продаж'!AH$32)","v":0},{"$f":"AJ43*'Исходные данные'!$D98*(1+'Исходные данные'!$E98)+IF(AJ43=0,0,'Исходные данные'!$F98*'План продаж'!AI$32)","v":0},{"$f":"AK43*'Исходные данные'!$D98*(1+'Исходные данные'!$E98)+IF(AK43=0,0,'Исходные данные'!$F98*'План продаж'!AJ$32)","v":0},{"$f":"AL43*'Исходные данные'!$D98*(1+'Исходные данные'!$E98)+IF(AL43=0,0,'Исходные данные'!$F98*'План продаж'!AK$32)","v":0},{"$f":"AM43*'Исходные данные'!$D98*(1+'Исходные данные'!$E98)+IF(AM43=0,0,'Исходные данные'!$F98*'План продаж'!AL$32)","v":0},{"$f":"AN43*'Исходные данные'!$D98*(1+'Исходные данные'!$E98)+IF(AN43=0,0,'Исходные данные'!$F98*'План продаж'!AM$32)","v":0},{"$f":"AO43*'Исходные данные'!$D98*(1+'Исходные данные'!$E98)+IF(AO43=0,0,'Исходные данные'!$F98*'План продаж'!AN$32)","v":0},{"$f":"AP43*'Исходные данные'!$D98*(1+'Исходные данные'!$E98)+IF(AP43=0,0,'Исходные данные'!$F98*'План продаж'!AO$32)","v":0},{"$f":"AQ43*'Исходные данные'!$D98*(1+'Исходные данные'!$E98)+IF(AQ43=0,0,'Исходные данные'!$F98*'План продаж'!AP$32)","v":0},{"$f":"AR43*'Исходные данные'!$D98*(1+'Исходные данные'!$E98)+IF(AR43=0,0,'Исходные данные'!$F98*'План продаж'!AQ$32)","v":0},{"$f":"AS43*'Исходные данные'!$D98*(1+'Исходные данные'!$E98)+IF(AS43=0,0,'Исходные данные'!$F98*'План продаж'!AR$32)","v":0},{"$f":"AT43*'Исходные данные'!$D98*(1+'Исходные данные'!$E98)+IF(AT43=0,0,'Исходные данные'!$F98*'План продаж'!AS$32)","v":0},{"$f":"AU43*'Исходные данные'!$D98*(1+'Исходные данные'!$E98)+IF(AU43=0,0,'Исходные данные'!$F98*'План продаж'!AT$32)","v":0},{"$f":"AV43*'Исходные данные'!$D98*(1+'Исходные данные'!$E98)+IF(AV43=0,0,'Исходные данные'!$F98*'План продаж'!AU$32)","v":0},{"$f":"AW43*'Исходные данные'!$D98*(1+'Исходные данные'!$E98)+IF(AW43=0,0,'Исходные данные'!$F98*'План продаж'!AV$32)","v":0},{"$f":"AX43*'Исходные данные'!$D98*(1+'Исходные данные'!$E98)+IF(AX43=0,0,'Исходные данные'!$F98*'План продаж'!AW$32)","v":0},{"$f":"AY43*'Исходные данные'!$D98*(1+'Исходные данные'!$E98)+IF(AY43=0,0,'Исходные данные'!$F98*'План продаж'!AX$32)","v":0},{"$f":"AZ43*'Исходные данные'!$D98*(1+'Исходные данные'!$E98)+IF(AZ43=0,0,'Исходные данные'!$F98*'План продаж'!AY$32)","v":0},{"$f":"BA43*'Исходные данные'!$D98*(1+'Исходные данные'!$E98)+IF(BA43=0,0,'Исходные данные'!$F98*'План продаж'!AZ$32)","v":0},{"$f":"BB43*'Исходные данные'!$D98*(1+'Исходные данные'!$E98)+IF(BB43=0,0,'Исходные данные'!$F98*'План продаж'!BA$32)","v":0},{"$f":"BC43*'Исходные данные'!$D98*(1+'Исходные данные'!$E98)+IF(BC43=0,0,'Исходные данные'!$F98*'План продаж'!BB$32)","v":0},{"$f":"BD43*'Исходные данные'!$D98*(1+'Исходные данные'!$E98)+IF(BD43=0,0,'Исходные данные'!$F98*'План продаж'!BC$32)","v":0},{"$f":"BE43*'Исходные данные'!$D98*(1+'Исходные данные'!$E98)+IF(BE43=0,0,'Исходные данные'!$F98*'План продаж'!BD$32)","v":0},{"$f":"BF43*'Исходные данные'!$D98*(1+'Исходные данные'!$E98)+IF(BF43=0,0,'Исходные данные'!$F98*'План продаж'!BE$32)","v":0},{"$f":"BG43*'Исходные данные'!$D98*(1+'Исходные данные'!$E98)+IF(BG43=0,0,'Исходные данные'!$F98*'План продаж'!BF$32)","v":0},{"$f":"BH43*'Исходные данные'!$D98*(1+'Исходные данные'!$E98)+IF(BH43=0,0,'Исходные данные'!$F98*'План продаж'!BG$32)","v":0},{"$f":"BI43*'Исходные данные'!$D98*(1+'Исходные данные'!$E98)+IF(BI43=0,0,'Исходные данные'!$F98*'План продаж'!BH$32)","v":0},{"$f":"BJ43*'Исходные данные'!$D98*(1+'Исходные данные'!$E98)+IF(BJ43=0,0,'Исходные данные'!$F98*'План продаж'!BI$32)","v":0},{"$f":"BK43*'Исходные данные'!$D98*(1+'Исходные данные'!$E98)+IF(BK43=0,0,'Исходные данные'!$F98*'План продаж'!BJ$32)","v":0},{"$f":"BL43*'Исходные данные'!$D98*(1+'Исходные данные'!$E98)+IF(BL43=0,0,'Исходные данные'!$F98*'План продаж'!BK$32)","v":0}]
[0,null,null,null,{"$f":"E44*'Исходные данные'!$D99*(1+'Исходные данные'!$E99)+IF(E44=0,0,'Исходные данные'!$F99*'План продаж'!D$32)","v":0},{"$f":"F44*'Исходные данные'!$D99*(1+'Исходные данные'!$E99)+IF(F44=0,0,'Исходные данные'!$F99*'План продаж'!E$32)","v":0},{"$f":"G44*'Исходные данные'!$D99*(1+'Исходные данные'!$E99)+IF(G44=0,0,'Исходные данные'!$F99*'План продаж'!F$32)","v":0},{"$f":"H44*'Исходные данные'!$D99*(1+'Исходные данные'!$E99)+IF(H44=0,0,'Исходные данные'!$F99*'План продаж'!G$32)","v":0},{"$f":"I44*'Исходные данные'!$D99*(1+'Исходные данные'!$E99)+IF(I44=0,0,'Исходные данные'!$F99*'План продаж'!H$32)","v":0},{"$f":"J44*'Исходные данные'!$D99*(1+'Исходные данные'!$E99)+IF(J44=0,0,'Исходные данные'!$F99*'План продаж'!I$32)","v":0},{"$f":"K44*'Исходные данные'!$D99*(1+'Исходные данные'!$E99)+IF(K44=0,0,'Исходные данные'!$F99*'План продаж'!J$32)","v":0},{"$f":"L44*'Исходные данные'!$D99*(1+'Исходные данные'!$E99)+IF(L44=0,0,'Исходные данные'!$F99*'План продаж'!K$32)","v":0},{"$f":"M44*'Исходные данные'!$D99*(1+'Исходные данные'!$E99)+IF(M44=0,0,'Исходные данные'!$F99*'План продаж'!L$32)","v":0},{"$f":"N44*'Исходные данные'!$D99*(1+'Исходные данные'!$E99)+IF(N44=0,0,'Исходные данные'!$F99*'План продаж'!M$32)","v":0},{"$f":"O44*'Исходные данные'!$D99*(1+'Исходные данные'!$E99)+IF(O44=0,0,'Исходные данные'!$F99*'План продаж'!N$32)","v":0},{"$f":"P44*'Исходные данные'!$D99*(1+'Исходные данные'!$E99)+IF(P44=0,0,'Исходные данные'!$F99*'План продаж'!O$32)","v":0},{"$f":"Q44*'Исходные данные'!$D99*(1+'Исходные данные'!$E99)+IF(Q44=0,0,'Исходные данные'!$F99*'План продаж'!P$32)","v":0},{"$f":"R44*'Исходные данные'!$D99*(1+'Исходные данные'!$E99)+IF(R44=0,0,'Исходные данные'!$F99*'План продаж'!Q$32)","v":0},{"$f":"S44*'Исходные данные'!$D99*(1+'Исходные данные'!$E99)+IF(S44=0,0,'Исходные данные'!$F99*'План продаж'!R$32)","v":0},{"$f":"T44*'Исходные данные'!$D99*(1+'Исходные данные'!$E99)+IF(T44=0,0,'Исходные данные'!$F99*'План продаж'!S$32)","v":0},{"$f":"U44*'Исходные данные'!$D99*(1+'Исходные данные'!$E99)+IF(U44=0,0,'Исходные данные'!$F99*'План продаж'!T$32)","v":0},{"$f":"V44*'Исходные данные'!$D99*(1+'Исходные данные'!$E99)+IF(V44=0,0,'Исходные данные'!$F99*'План продаж'!U$32)","v":0},{"$f":"W44*'Исходные данные'!$D99*(1+'Исходные данные'!$E99)+IF(W44=0,0,'Исходные данные'!$F99*'План продаж'!V$32)","v":0},{"$f":"X44*'Исходные данные'!$D99*(1+'Исходные данные'!$E99)+IF(X44=0,0,'Исходные данные'!$F99*'План продаж'!W$32)","v":0},{"$f":"Y44*'Исходные данные'!$D99*(1+'Исходные данные'!$E99)+IF(Y44=0,0,'Исходные данные'!$F99*'План продаж'!X$32)","v":0},{"$f":"Z44*'Исходные данные'!$D99*(1+'Исходные данные'!$E99)+IF(Z44=0,0,'Исходные данные'!$F99*'План продаж'!Y$32)","v":0},{"$f":"AA44*'Исходные данные'!$D99*(1+'Исходные данные'!$E99)+IF(AA44=0,0,'Исходные данные'!$F99*'План продаж'!Z$32)","v":0},{"$f":"AB44*'Исходные данные'!$D99*(1+'Исходные данные'!$E99)+IF(AB44=0,0,'Исходные данные'!$F99*'План продаж'!AA$32)","v":0},{"$f":"AC44*'Исходные данные'!$D99*(1+'Исходные данные'!$E99)+IF(AC44=0,0,'Исходные данные'!$F99*'План продаж'!AB$32)","v":0},{"$f":"AD44*'Исходные данные'!$D99*(1+'Исходные данные'!$E99)+IF(AD44=0,0,'Исходные данные'!$F99*'План продаж'!AC$32)","v":0},{"$f":"AE44*'Исходные данные'!$D99*(1+'Исходные данные'!$E99)+IF(AE44=0,0,'Исходные данные'!$F99*'План продаж'!AD$32)","v":0},{"$f":"AF44*'Исходные данные'!$D99*(1+'Исходные данные'!$E99)+IF(AF44=0,0,'Исходные данные'!$F99*'План продаж'!AE$32)","v":0},{"$f":"AG44*'Исходные данные'!$D99*(1+'Исходные данные'!$E99)+IF(AG44=0,0,'Исходные данные'!$F99*'План продаж'!AF$32)","v":0},{"$f":"AH44*'Исходные данные'!$D99*(1+'Исходные данные'!$E99)+IF(AH44=0,0,'Исходные данные'!$F99*'План продаж'!AG$32)","v":0},{"$f":"AI44*'Исходные данные'!$D99*(1+'Исходные данные'!$E99)+IF(AI44=0,0,'Исходные данные'!$F99*'План продаж'!AH$32)","v":0},{"$f":"AJ44*'Исходные данные'!$D99*(1+'Исходные данные'!$E99)+IF(AJ44=0,0,'Исходные данные'!$F99*'План продаж'!AI$32)","v":0},{"$f":"AK44*'Исходные данные'!$D99*(1+'Исходные данные'!$E99)+IF(AK44=0,0,'Исходные данные'!$F99*'План продаж'!AJ$32)","v":0},{"$f":"AL44*'Исходные данные'!$D99*(1+'Исходные данные'!$E99)+IF(AL44=0,0,'Исходные данные'!$F99*'План продаж'!AK$32)","v":0},{"$f":"AM44*'Исходные данные'!$D99*(1+'Исходные данные'!$E99)+IF(AM44=0,0,'Исходные данные'!$F99*'План продаж'!AL$32)","v":0},{"$f":"AN44*'Исходные данные'!$D99*(1+'Исходные данные'!$E99)+IF(AN44=0,0,'Исходные данные'!$F99*'План продаж'!AM$32)","v":0},{"$f":"AO44*'Исходные данные'!$D99*(1+'Исходные данные'!$E99)+IF(AO44=0,0,'Исходные данные'!$F99*'План продаж'!AN$32)","v":0},{"$f":"AP44*'Исходные данные'!$D99*(1+'Исходные данные'!$E99)+IF(AP44=0,0,'Исходные данные'!$F99*'План продаж'!AO$32)","v":0},{"$f":"AQ44*'Исходные данные'!$D99*(1+'Исходные данные'!$E99)+IF(AQ44=0,0,'Исходные данные'!$F99*'План продаж'!AP$32)","v":0},{"$f":"AR44*'Исходные данные'!$D99*(1+'Исходные данные'!$E99)+IF(AR44=0,0,'Исходные данные'!$F99*'План продаж'!AQ$32)","v":0},{"$f":"AS44*'Исходные данные'!$D99*(1+'Исходные данные'!$E99)+IF(AS44=0,0,'Исходные данные'!$F99*'План продаж'!AR$32)","v":0},{"$f":"AT44*'Исходные данные'!$D99*(1+'Исходные данные'!$E99)+IF(AT44=0,0,'Исходные данные'!$F99*'План продаж'!AS$32)","v":0},{"$f":"AU44*'Исходные данные'!$D99*(1+'Исходные данные'!$E99)+IF(AU44=0,0,'Исходные данные'!$F99*'План продаж'!AT$32)","v":0},{"$f":"AV44*'Исходные данные'!$D99*(1+'Исходные данные'!$E99)+IF(AV44=0,0,'Исходные данные'!$F99*'План продаж'!AU$32)","v":0},{"$f":"AW44*'Исходные данные'!$D99*(1+'Исходные данные'!$E99)+IF(AW44=0,0,'Исходные данные'!$F99*'План продаж'!AV$32)","v":0},{"$f":"AX44*'Исходные данные'!$D99*(1+'Исходные данные'!$E99)+IF(AX44=0,0,'Исходные данные'!$F99*'План продаж'!AW$32)","v":0},{"$f":"AY44*'Исходные данные'!$D99*(1+'Исходные данные'!$E99)+IF(AY44=0,0,'Исходные данные'!$F99*'План продаж'!AX$32)","v":0},{"$f":"AZ44*'Исходные данные'!$D99*(1+'Исходные данные'!$E99)+IF(AZ44=0,0,'Исходные данные'!$F99*'План продаж'!AY$32)","v":0},{"$f":"BA44*'Исходные данные'!$D99*(1+'Исходные данные'!$E99)+IF(BA44=0,0,'Исходные данные'!$F99*'План продаж'!AZ$32)","v":0},{"$f":"BB44*'Исходные данные'!$D99*(1+'Исходные данные'!$E99)+IF(BB44=0,0,'Исходные данные'!$F99*'План продаж'!BA$32)","v":0},{"$f":"BC44*'Исходные данные'!$D99*(1+'Исходные данные'!$E99)+IF(BC44=0,0,'Исходные данные'!$F99*'План продаж'!BB$32)","v":0},{"$f":"BD44*'Исходные данные'!$D99*(1+'Исходные данные'!$E99)+IF(BD44=0,0,'Исходные данные'!$F99*'План продаж'!BC$32)","v":0},{"$f":"BE44*'Исходные данные'!$D99*(1+'Исходные данные'!$E99)+IF(BE44=0,0,'Исходные данные'!$F99*'План продаж'!BD$32)","v":0},{"$f":"BF44*'Исходные данные'!$D99*(1+'Исходные данные'!$E99)+IF(BF44=0,0,'Исходные данные'!$F99*'План продаж'!BE$32)","v":0},{"$f":"BG44*'Исходные данные'!$D99*(1+'Исходные данные'!$E99)+IF(BG44=0,0,'Исходные данные'!$F99*'План продаж'!BF$32)","v":0},{"$f":"BH44*'Исходные данные'!$D99*(1+'Исходные данные'!$E99)+IF(BH44=0,0,'Исходные данные'!$F99*'План продаж'!BG$32)","v":0},{"$f":"BI44*'Исходные данные'!$D99*(1+'Исходные данные'!$E99)+IF(BI44=0,0,'Исходные данные'!$F99*'План продаж'!BH$32)","v":0},{"$f":"BJ44*'Исходные данные'!$D99*(1+'Исходные данные'!$E99)+IF(BJ44=0,0,'Исходные данные'!$F99*'План продаж'!BI$32)","v":0},{"$f":"BK44*'Исходные данные'!$D99*(1+'Исходные данные'!$E99)+IF(BK44=0,0,'Исходные данные'!$F99*'План продаж'!BJ$32)","v":0},{"$f":"BL44*'Исходные данные'!$D99*(1+'Исходные данные'!$E99)+IF(BL44=0,0,'Исходные данные'!$F99*'План продаж'!BK$32)","v":0}]
[0,null,null,null,{"$f":"E45*'Исходные данные'!$D100*(1+'Исходные данные'!$E100)+IF(E45=0,0,'Исходные данные'!$F100*'План продаж'!D$32)","v":0},{"$f":"F45*'Исходные данные'!$D100*(1+'Исходные данные'!$E100)+IF(F45=0,0,'Исходные данные'!$F100*'План продаж'!E$32)","v":0},{"$f":"G45*'Исходные данные'!$D100*(1+'Исходные данные'!$E100)+IF(G45=0,0,'Исходные данные'!$F100*'План продаж'!F$32)","v":0},{"$f":"H45*'Исходные данные'!$D100*(1+'Исходные данные'!$E100)+IF(H45=0,0,'Исходные данные'!$F100*'План продаж'!G$32)","v":0},{"$f":"I45*'Исходные данные'!$D100*(1+'Исходные данные'!$E100)+IF(I45=0,0,'Исходные данные'!$F100*'План продаж'!H$32)","v":0},{"$f":"J45*'Исходные данные'!$D100*(1+'Исходные данные'!$E100)+IF(J45=0,0,'Исходные данные'!$F100*'План продаж'!I$32)","v":0},{"$f":"K45*'Исходные данные'!$D100*(1+'Исходные данные'!$E100)+IF(K45=0,0,'Исходные данные'!$F100*'План продаж'!J$32)","v":0},{"$f":"L45*'Исходные данные'!$D100*(1+'Исходные данные'!$E100)+IF(L45=0,0,'Исходные данные'!$F100*'План продаж'!K$32)","v":0},{"$f":"M45*'Исходные данные'!$D100*(1+'Исходные данные'!$E100)+IF(M45=0,0,'Исходные данные'!$F100*'План продаж'!L$32)","v":0},{"$f":"N45*'Исходные данные'!$D100*(1+'Исходные данные'!$E100)+IF(N45=0,0,'Исходные данные'!$F100*'План продаж'!M$32)","v":0},{"$f":"O45*'Исходные данные'!$D100*(1+'Исходные данные'!$E100)+IF(O45=0,0,'Исходные данные'!$F100*'План продаж'!N$32)","v":0},{"$f":"P45*'Исходные данные'!$D100*(1+'Исходные данные'!$E100)+IF(P45=0,0,'Исходные данные'!$F100*'План продаж'!O$32)","v":0},{"$f":"Q45*'Исходные данные'!$D100*(1+'Исходные данные'!$E100)+IF(Q45=0,0,'Исходные данные'!$F100*'План продаж'!P$32)","v":0},{"$f":"R45*'Исходные данные'!$D100*(1+'Исходные данные'!$E100)+IF(R45=0,0,'Исходные данные'!$F100*'План продаж'!Q$32)","v":0},{"$f":"S45*'Исходные данные'!$D100*(1+'Исходные данные'!$E100)+IF(S45=0,0,'Исходные данные'!$F100*'План продаж'!R$32)","v":0},{"$f":"T45*'Исходные данные'!$D100*(1+'Исходные данные'!$E100)+IF(T45=0,0,'Исходные данные'!$F100*'План продаж'!S$32)","v":0},{"$f":"U45*'Исходные данные'!$D100*(1+'Исходные данные'!$E100)+IF(U45=0,0,'Исходные данные'!$F100*'План продаж'!T$32)","v":0},{"$f":"V45*'Исходные данные'!$D100*(1+'Исходные данные'!$E100)+IF(V45=0,0,'Исходные данные'!$F100*'План продаж'!U$32)","v":0},{"$f":"W45*'Исходные данные'!$D100*(1+'Исходные данные'!$E100)+IF(W45=0,0,'Исходные данные'!$F100*'План продаж'!V$32)","v":0},{"$f":"X45*'Исходные данные'!$D100*(1+'Исходные данные'!$E100)+IF(X45=0,0,'Исходные данные'!$F100*'План продаж'!W$32)","v":0},{"$f":"Y45*'Исходные данные'!$D100*(1+'Исходные данные'!$E100)+IF(Y45=0,0,'Исходные данные'!$F100*'План продаж'!X$32)","v":0},{"$f":"Z45*'Исходные данные'!$D100*(1+'Исходные данные'!$E100)+IF(Z45=0,0,'Исходные данные'!$F100*'План продаж'!Y$32)","v":0},{"$f":"AA45*'Исходные данные'!$D100*(1+'Исходные данные'!$E100)+IF(AA45=0,0,'Исходные данные'!$F100*'План продаж'!Z$32)","v":0},{"$f":"AB45*'Исходные данные'!$D100*(1+'Исходные данные'!$E100)+IF(AB45=0,0,'Исходные данные'!$F100*'План продаж'!AA$32)","v":0},{"$f":"AC45*'Исходные данные'!$D100*(1+'Исходные данные'!$E100)+IF(AC45=0,0,'Исходные данные'!$F100*'План продаж'!AB$32)","v":0},{"$f":"AD45*'Исходные данные'!$D100*(1+'Исходные данные'!$E100)+IF(AD45=0,0,'Исходные данные'!$F100*'План продаж'!AC$32)","v":0},{"$f":"AE45*'Исходные данные'!$D100*(1+'Исходные данные'!$E100)+IF(AE45=0,0,'Исходные данные'!$F100*'План продаж'!AD$32)","v":0},{"$f":"AF45*'Исходные данные'!$D100*(1+'Исходные данные'!$E100)+IF(AF45=0,0,'Исходные данные'!$F100*'План продаж'!AE$32)","v":0},{"$f":"AG45*'Исходные данные'!$D100*(1+'Исходные данные'!$E100)+IF(AG45=0,0,'Исходные данные'!$F100*'План продаж'!AF$32)","v":0},{"$f":"AH45*'Исходные данные'!$D100*(1+'Исходные данные'!$E100)+IF(AH45=0,0,'Исходные данные'!$F100*'План продаж'!AG$32)","v":0},{"$f":"AI45*'Исходные данные'!$D100*(1+'Исходные данные'!$E100)+IF(AI45=0,0,'Исходные данные'!$F100*'План продаж'!AH$32)","v":0},{"$f":"AJ45*'Исходные данные'!$D100*(1+'Исходные данные'!$E100)+IF(AJ45=0,0,'Исходные данные'!$F100*'План продаж'!AI$32)","v":0},{"$f":"AK45*'Исходные данные'!$D100*(1+'Исходные данные'!$E100)+IF(AK45=0,0,'Исходные данные'!$F100*'План продаж'!AJ$32)","v":0},{"$f":"AL45*'Исходные данные'!$D100*(1+'Исходные данные'!$E100)+IF(AL45=0,0,'Исходные данные'!$F100*'План продаж'!AK$32)","v":0},{"$f":"AM45*'Исходные данные'!$D100*(1+'Исходные данные'!$E100)+IF(AM45=0,0,'Исходные данные'!$F100*'План продаж'!AL$32)","v":0},{"$f":"AN45*'Исходные данные'!$D100*(1+'Исходные данные'!$E100)+IF(AN45=0,0,'Исходные данные'!$F100*'План продаж'!AM$32)","v":0},{"$f":"AO45*'Исходные данные'!$D100*(1+'Исходные данные'!$E100)+IF(AO45=0,0,'Исходные данные'!$F100*'План продаж'!AN$32)","v":0},{"$f":"AP45*'Исходные данные'!$D100*(1+'Исходные данные'!$E100)+IF(AP45=0,0,'Исходные данные'!$F100*'План продаж'!AO$32)","v":0},{"$f":"AQ45*'Исходные данные'!$D100*(1+'Исходные данные'!$E100)+IF(AQ45=0,0,'Исходные данные'!$F100*'План продаж'!AP$32)","v":0},{"$f":"AR45*'Исходные данные'!$D100*(1+'Исходные данные'!$E100)+IF(AR45=0,0,'Исходные данные'!$F100*'План продаж'!AQ$32)","v":0},{"$f":"AS45*'Исходные данные'!$D100*(1+'Исходные данные'!$E100)+IF(AS45=0,0,'Исходные данные'!$F100*'План продаж'!AR$32)","v":0},{"$f":"AT45*'Исходные данные'!$D100*(1+'Исходные данные'!$E100)+IF(AT45=0,0,'Исходные данные'!$F100*'План продаж'!AS$32)","v":0},{"$f":"AU45*'Исходные данные'!$D100*(1+'Исходные данные'!$E100)+IF(AU45=0,0,'Исходные данные'!$F100*'План продаж'!AT$32)","v":0},{"$f":"AV45*'Исходные данные'!$D100*(1+'Исходные данные'!$E100)+IF(AV45=0,0,'Исходные данные'!$F100*'План продаж'!AU$32)","v":0},{"$f":"AW45*'Исходные данные'!$D100*(1+'Исходные данные'!$E100)+IF(AW45=0,0,'Исходные данные'!$F100*'План продаж'!AV$32)","v":0},{"$f":"AX45*'Исходные данные'!$D100*(1+'Исходные данные'!$E100)+IF(AX45=0,0,'Исходные данные'!$F100*'План продаж'!AW$32)","v":0},{"$f":"AY45*'Исходные данные'!$D100*(1+'Исходные данные'!$E100)+IF(AY45=0,0,'Исходные данные'!$F100*'План продаж'!AX$32)","v":0},{"$f":"AZ45*'Исходные данные'!$D100*(1+'Исходные данные'!$E100)+IF(AZ45=0,0,'Исходные данные'!$F100*'План продаж'!AY$32)","v":0},{"$f":"BA45*'Исходные данные'!$D100*(1+'Исходные данные'!$E100)+IF(BA45=0,0,'Исходные данные'!$F100*'План продаж'!AZ$32)","v":0},{"$f":"BB45*'Исходные данные'!$D100*(1+'Исходные данные'!$E100)+IF(BB45=0,0,'Исходные данные'!$F100*'План продаж'!BA$32)","v":0},{"$f":"BC45*'Исходные данные'!$D100*(1+'Исходные данные'!$E100)+IF(BC45=0,0,'Исходные данные'!$F100*'План продаж'!BB$32)","v":0},{"$f":"BD45*'Исходные данные'!$D100*(1+'Исходные данные'!$E100)+IF(BD45=0,0,'Исходные данные'!$F100*'План продаж'!BC$32)","v":0},{"$f":"BE45*'Исходные данные'!$D100*(1+'Исходные данные'!$E100)+IF(BE45=0,0,'Исходные данные'!$F100*'План продаж'!BD$32)","v":0},{"$f":"BF45*'Исходные данные'!$D100*(1+'Исходные данные'!$E100)+IF(BF45=0,0,'Исходные данные'!$F100*'План продаж'!BE$32)","v":0},{"$f":"BG45*'Исходные данные'!$D100*(1+'Исходные данные'!$E100)+IF(BG45=0,0,'Исходные данные'!$F100*'План продаж'!BF$32)","v":0},{"$f":"BH45*'Исходные данные'!$D100*(1+'Исходные данные'!$E100)+IF(BH45=0,0,'Исходные данные'!$F100*'План продаж'!BG$32)","v":0},{"$f":"BI45*'Исходные данные'!$D100*(1+'Исходные данные'!$E100)+IF(BI45=0,0,'Исходные данные'!$F100*'План продаж'!BH$32)","v":0},{"$f":"BJ45*'Исходные данные'!$D100*(1+'Исходные данные'!$E100)+IF(BJ45=0,0,'Исходные данные'!$F100*'План продаж'!BI$32)","v":0},{"$f":"BK45*'Исходные данные'!$D100*(1+'Исходные данные'!$E100)+IF(BK45=0,0,'Исходные данные'!$F100*'План продаж'!BJ$32)","v":0},{"$f":"BL45*'Исходные данные'!$D100*(1+'Исходные данные'!$E100)+IF(BL45=0,0,'Исходные данные'!$F100*'План продаж'!BK$32)","v":0}]
[0,null,null,null,{"$f":"E46*'Исходные данные'!$D101*(1+'Исходные данные'!$E101)+IF(E46=0,0,'Исходные данные'!$F101*'План продаж'!D$32)","v":0},{"$f":"F46*'Исходные данные'!$D101*(1+'Исходные данные'!$E101)+IF(F46=0,0,'Исходные данные'!$F101*'План продаж'!E$32)","v":0},{"$f":"G46*'Исходные данные'!$D101*(1+'Исходные данные'!$E101)+IF(G46=0,0,'Исходные данные'!$F101*'План продаж'!F$32)","v":0},{"$f":"H46*'Исходные данные'!$D101*(1+'Исходные данные'!$E101)+IF(H46=0,0,'Исходные данные'!$F101*'План продаж'!G$32)","v":0},{"$f":"I46*'Исходные данные'!$D101*(1+'Исходные данные'!$E101)+IF(I46=0,0,'Исходные данные'!$F101*'План продаж'!H$32)","v":0},{"$f":"J46*'Исходные данные'!$D101*(1+'Исходные данные'!$E101)+IF(J46=0,0,'Исходные данные'!$F101*'План продаж'!I$32)","v":0},{"$f":"K46*'Исходные данные'!$D101*(1+'Исходные данные'!$E101)+IF(K46=0,0,'Исходные данные'!$F101*'План продаж'!J$32)","v":0},{"$f":"L46*'Исходные данные'!$D101*(1+'Исходные данные'!$E101)+IF(L46=0,0,'Исходные данные'!$F101*'План продаж'!K$32)","v":0},{"$f":"M46*'Исходные данные'!$D101*(1+'Исходные данные'!$E101)+IF(M46=0,0,'Исходные данные'!$F101*'План продаж'!L$32)","v":0},{"$f":"N46*'Исходные данные'!$D101*(1+'Исходные данные'!$E101)+IF(N46=0,0,'Исходные данные'!$F101*'План продаж'!M$32)","v":0},{"$f":"O46*'Исходные данные'!$D101*(1+'Исходные данные'!$E101)+IF(O46=0,0,'Исходные данные'!$F101*'План продаж'!N$32)","v":0},{"$f":"P46*'Исходные данные'!$D101*(1+'Исходные данные'!$E101)+IF(P46=0,0,'Исходные данные'!$F101*'План продаж'!O$32)","v":0},{"$f":"Q46*'Исходные данные'!$D101*(1+'Исходные данные'!$E101)+IF(Q46=0,0,'Исходные данные'!$F101*'План продаж'!P$32)","v":0},{"$f":"R46*'Исходные данные'!$D101*(1+'Исходные данные'!$E101)+IF(R46=0,0,'Исходные данные'!$F101*'План продаж'!Q$32)","v":0},{"$f":"S46*'Исходные данные'!$D101*(1+'Исходные данные'!$E101)+IF(S46=0,0,'Исходные данные'!$F101*'План продаж'!R$32)","v":0},{"$f":"T46*'Исходные данные'!$D101*(1+'Исходные данные'!$E101)+IF(T46=0,0,'Исходные данные'!$F101*'План продаж'!S$32)","v":0},{"$f":"U46*'Исходные данные'!$D101*(1+'Исходные данные'!$E101)+IF(U46=0,0,'Исходные данные'!$F101*'План продаж'!T$32)","v":0},{"$f":"V46*'Исходные данные'!$D101*(1+'Исходные данные'!$E101)+IF(V46=0,0,'Исходные данные'!$F101*'План продаж'!U$32)","v":0},{"$f":"W46*'Исходные данные'!$D101*(1+'Исходные данные'!$E101)+IF(W46=0,0,'Исходные данные'!$F101*'План продаж'!V$32)","v":0},{"$f":"X46*'Исходные данные'!$D101*(1+'Исходные данные'!$E101)+IF(X46=0,0,'Исходные данные'!$F101*'План продаж'!W$32)","v":0},{"$f":"Y46*'Исходные данные'!$D101*(1+'Исходные данные'!$E101)+IF(Y46=0,0,'Исходные данные'!$F101*'План продаж'!X$32)","v":0},{"$f":"Z46*'Исходные данные'!$D101*(1+'Исходные данные'!$E101)+IF(Z46=0,0,'Исходные данные'!$F101*'План продаж'!Y$32)","v":0},{"$f":"AA46*'Исходные данные'!$D101*(1+'Исходные данные'!$E101)+IF(AA46=0,0,'Исходные данные'!$F101*'План продаж'!Z$32)","v":0},{"$f":"AB46*'Исходные данные'!$D101*(1+'Исходные данные'!$E101)+IF(AB46=0,0,'Исходные данные'!$F101*'План продаж'!AA$32)","v":0},{"$f":"AC46*'Исходные данные'!$D101*(1+'Исходные данные'!$E101)+IF(AC46=0,0,'Исходные данные'!$F101*'План продаж'!AB$32)","v":0},{"$f":"AD46*'Исходные данные'!$D101*(1+'Исходные данные'!$E101)+IF(AD46=0,0,'Исходные данные'!$F101*'План продаж'!AC$32)","v":0},{"$f":"AE46*'Исходные данные'!$D101*(1+'Исходные данные'!$E101)+IF(AE46=0,0,'Исходные данные'!$F101*'План продаж'!AD$32)","v":0},{"$f":"AF46*'Исходные данные'!$D101*(1+'Исходные данные'!$E101)+IF(AF46=0,0,'Исходные данные'!$F101*'План продаж'!AE$32)","v":0},{"$f":"AG46*'Исходные данные'!$D101*(1+'Исходные данные'!$E101)+IF(AG46=0,0,'Исходные данные'!$F101*'План продаж'!AF$32)","v":0},{"$f":"AH46*'Исходные данные'!$D101*(1+'Исходные данные'!$E101)+IF(AH46=0,0,'Исходные данные'!$F101*'План продаж'!AG$32)","v":0},{"$f":"AI46*'Исходные данные'!$D101*(1+'Исходные данные'!$E101)+IF(AI46=0,0,'Исходные данные'!$F101*'План продаж'!AH$32)","v":0},{"$f":"AJ46*'Исходные данные'!$D101*(1+'Исходные данные'!$E101)+IF(AJ46=0,0,'Исходные данные'!$F101*'План продаж'!AI$32)","v":0},{"$f":"AK46*'Исходные данные'!$D101*(1+'Исходные данные'!$E101)+IF(AK46=0,0,'Исходные данные'!$F101*'План продаж'!AJ$32)","v":0},{"$f":"AL46*'Исходные данные'!$D101*(1+'Исходные данные'!$E101)+IF(AL46=0,0,'Исходные данные'!$F101*'План продаж'!AK$32)","v":0},{"$f":"AM46*'Исходные данные'!$D101*(1+'Исходные данные'!$E101)+IF(AM46=0,0,'Исходные данные'!$F101*'План продаж'!AL$32)","v":0},{"$f":"AN46*'Исходные данные'!$D101*(1+'Исходные данные'!$E101)+IF(AN46=0,0,'Исходные данные'!$F101*'План продаж'!AM$32)","v":0},{"$f":"AO46*'Исходные данные'!$D101*(1+'Исходные данные'!$E101)+IF(AO46=0,0,'Исходные данные'!$F101*'План продаж'!AN$32)","v":0},{"$f":"AP46*'Исходные данные'!$D101*(1+'Исходные данные'!$E101)+IF(AP46=0,0,'Исходные данные'!$F101*'План продаж'!AO$32)","v":0},{"$f":"AQ46*'Исходные данные'!$D101*(1+'Исходные данные'!$E101)+IF(AQ46=0,0,'Исходные данные'!$F101*'План продаж'!AP$32)","v":0},{"$f":"AR46*'Исходные данные'!$D101*(1+'Исходные данные'!$E101)+IF(AR46=0,0,'Исходные данные'!$F101*'План продаж'!AQ$32)","v":0},{"$f":"AS46*'Исходные данные'!$D101*(1+'Исходные данные'!$E101)+IF(AS46=0,0,'Исходные данные'!$F101*'План продаж'!AR$32)","v":0},{"$f":"AT46*'Исходные данные'!$D101*(1+'Исходные данные'!$E101)+IF(AT46=0,0,'Исходные данные'!$F101*'План продаж'!AS$32)","v":0},{"$f":"AU46*'Исходные данные'!$D101*(1+'Исходные данные'!$E101)+IF(AU46=0,0,'Исходные данные'!$F101*'План продаж'!AT$32)","v":0},{"$f":"AV46*'Исходные данные'!$D101*(1+'Исходные данные'!$E101)+IF(AV46=0,0,'Исходные данные'!$F101*'План продаж'!AU$32)","v":0},{"$f":"AW46*'Исходные данные'!$D101*(1+'Исходные данные'!$E101)+IF(AW46=0,0,'Исходные данные'!$F101*'План продаж'!AV$32)","v":0},{"$f":"AX46*'Исходные данные'!$D101*(1+'Исходные данные'!$E101)+IF(AX46=0,0,'Исходные данные'!$F101*'План продаж'!AW$32)","v":0},{"$f":"AY46*'Исходные данные'!$D101*(1+'Исходные данные'!$E101)+IF(AY46=0,0,'Исходные данные'!$F101*'План продаж'!AX$32)","v":0},{"$f":"AZ46*'Исходные данные'!$D101*(1+'Исходные данные'!$E101)+IF(AZ46=0,0,'Исходные данные'!$F101*'План продаж'!AY$32)","v":0},{"$f":"BA46*'Исходные данные'!$D101*(1+'Исходные данные'!$E101)+IF(BA46=0,0,'Исходные данные'!$F101*'План продаж'!AZ$32)","v":0},{"$f":"BB46*'Исходные данные'!$D101*(1+'Исходные данные'!$E101)+IF(BB46=0,0,'Исходные данные'!$F101*'План продаж'!BA$32)","v":0},{"$f":"BC46*'Исходные данные'!$D101*(1+'Исходные данные'!$E101)+IF(BC46=0,0,'Исходные данные'!$F101*'План продаж'!BB$32)","v":0},{"$f":"BD46*'Исходные данные'!$D101*(1+'Исходные данные'!$E101)+IF(BD46=0,0,'Исходные данные'!$F101*'План продаж'!BC$32)","v":0},{"$f":"BE46*'Исходные данные'!$D101*(1+'Исходные данные'!$E101)+IF(BE46=0,0,'Исходные данные'!$F101*'План продаж'!BD$32)","v":0},{"$f":"BF46*'Исходные данные'!$D101*(1+'Исходные данные'!$E101)+IF(BF46=0,0,'Исходные данные'!$F101*'План продаж'!BE$32)","v":0},{"$f":"BG46*'Исходные данные'!$D101*(1+'Исходные данные'!$E101)+IF(BG46=0,0,'Исходные данные'!$F101*'План продаж'!BF$32)","v":0},{"$f":"BH46*'Исходные данные'!$D101*(1+'Исходные данные'!$E101)+IF(BH46=0,0,'Исходные данные'!$F101*'План продаж'!BG$32)","v":0},{"$f":"BI46*'Исходные данные'!$D101*(1+'Исходные данные'!$E101)+IF(BI46=0,0,'Исходные данные'!$F101*'План продаж'!BH$32)","v":0},{"$f":"BJ46*'Исходные данные'!$D101*(1+'Исходные данные'!$E101)+IF(BJ46=0,0,'Исходные данные'!$F101*'План продаж'!BI$32)","v":0},{"$f":"BK46*'Исходные данные'!$D101*(1+'Исходные данные'!$E101)+IF(BK46=0,0,'Исходные данные'!$F101*'План продаж'!BJ$32)","v":0},{"$f":"BL46*'Исходные данные'!$D101*(1+'Исходные данные'!$E101)+IF(BL46=0,0,'Исходные данные'!$F101*'План продаж'!BK$32)","v":0}]
[0,null,null,null,{"$f":"E47*'Исходные данные'!$D102*(1+'Исходные данные'!$E102)+IF(E47=0,0,'Исходные данные'!$F102*'План продаж'!D$32)","v":0},{"$f":"F47*'Исходные данные'!$D102*(1+'Исходные данные'!$E102)+IF(F47=0,0,'Исходные данные'!$F102*'План продаж'!E$32)","v":0},{"$f":"G47*'Исходные данные'!$D102*(1+'Исходные данные'!$E102)+IF(G47=0,0,'Исходные данные'!$F102*'План продаж'!F$32)","v":0},{"$f":"H47*'Исходные данные'!$D102*(1+'Исходные данные'!$E102)+IF(H47=0,0,'Исходные данные'!$F102*'План продаж'!G$32)","v":0},{"$f":"I47*'Исходные данные'!$D102*(1+'Исходные данные'!$E102)+IF(I47=0,0,'Исходные данные'!$F102*'План продаж'!H$32)","v":0},{"$f":"J47*'Исходные данные'!$D102*(1+'Исходные данные'!$E102)+IF(J47=0,0,'Исходные данные'!$F102*'План продаж'!I$32)","v":0},{"$f":"K47*'Исходные данные'!$D102*(1+'Исходные данные'!$E102)+IF(K47=0,0,'Исходные данные'!$F102*'План продаж'!J$32)","v":0},{"$f":"L47*'Исходные данные'!$D102*(1+'Исходные данные'!$E102)+IF(L47=0,0,'Исходные данные'!$F102*'План продаж'!K$32)","v":0},{"$f":"M47*'Исходные данные'!$D102*(1+'Исходные данные'!$E102)+IF(M47=0,0,'Исходные данные'!$F102*'План продаж'!L$32)","v":0},{"$f":"N47*'Исходные данные'!$D102*(1+'Исходные данные'!$E102)+IF(N47=0,0,'Исходные данные'!$F102*'План продаж'!M$32)","v":0},{"$f":"O47*'Исходные данные'!$D102*(1+'Исходные данные'!$E102)+IF(O47=0,0,'Исходные данные'!$F102*'План продаж'!N$32)","v":0},{"$f":"P47*'Исходные данные'!$D102*(1+'Исходные данные'!$E102)+IF(P47=0,0,'Исходные данные'!$F102*'План продаж'!O$32)","v":0},{"$f":"Q47*'Исходные данные'!$D102*(1+'Исходные данные'!$E102)+IF(Q47=0,0,'Исходные данные'!$F102*'План продаж'!P$32)","v":0},{"$f":"R47*'Исходные данные'!$D102*(1+'Исходные данные'!$E102)+IF(R47=0,0,'Исходные данные'!$F102*'План продаж'!Q$32)","v":0},{"$f":"S47*'Исходные данные'!$D102*(1+'Исходные данные'!$E102)+IF(S47=0,0,'Исходные данные'!$F102*'План продаж'!R$32)","v":0},{"$f":"T47*'Исходные данные'!$D102*(1+'Исходные данные'!$E102)+IF(T47=0,0,'Исходные данные'!$F102*'План продаж'!S$32)","v":0},{"$f":"U47*'Исходные данные'!$D102*(1+'Исходные данные'!$E102)+IF(U47=0,0,'Исходные данные'!$F102*'План продаж'!T$32)","v":0},{"$f":"V47*'Исходные данные'!$D102*(1+'Исходные данные'!$E102)+IF(V47=0,0,'Исходные данные'!$F102*'План продаж'!U$32)","v":0},{"$f":"W47*'Исходные данные'!$D102*(1+'Исходные данные'!$E102)+IF(W47=0,0,'Исходные данные'!$F102*'План продаж'!V$32)","v":0},{"$f":"X47*'Исходные данные'!$D102*(1+'Исходные данные'!$E102)+IF(X47=0,0,'Исходные данные'!$F102*'План продаж'!W$32)","v":0},{"$f":"Y47*'Исходные данные'!$D102*(1+'Исходные данные'!$E102)+IF(Y47=0,0,'Исходные данные'!$F102*'План продаж'!X$32)","v":0},{"$f":"Z47*'Исходные данные'!$D102*(1+'Исходные данные'!$E102)+IF(Z47=0,0,'Исходные данные'!$F102*'План продаж'!Y$32)","v":0},{"$f":"AA47*'Исходные данные'!$D102*(1+'Исходные данные'!$E102)+IF(AA47=0,0,'Исходные данные'!$F102*'План продаж'!Z$32)","v":0},{"$f":"AB47*'Исходные данные'!$D102*(1+'Исходные данные'!$E102)+IF(AB47=0,0,'Исходные данные'!$F102*'План продаж'!AA$32)","v":0},{"$f":"AC47*'Исходные данные'!$D102*(1+'Исходные данные'!$E102)+IF(AC47=0,0,'Исходные данные'!$F102*'План продаж'!AB$32)","v":0},{"$f":"AD47*'Исходные данные'!$D102*(1+'Исходные данные'!$E102)+IF(AD47=0,0,'Исходные данные'!$F102*'План продаж'!AC$32)","v":0},{"$f":"AE47*'Исходные данные'!$D102*(1+'Исходные данные'!$E102)+IF(AE47=0,0,'Исходные данные'!$F102*'План продаж'!AD$32)","v":0},{"$f":"AF47*'Исходные данные'!$D102*(1+'Исходные данные'!$E102)+IF(AF47=0,0,'Исходные данные'!$F102*'План продаж'!AE$32)","v":0},{"$f":"AG47*'Исходные данные'!$D102*(1+'Исходные данные'!$E102)+IF(AG47=0,0,'Исходные данные'!$F102*'План продаж'!AF$32)","v":0},{"$f":"AH47*'Исходные данные'!$D102*(1+'Исходные данные'!$E102)+IF(AH47=0,0,'Исходные данные'!$F102*'План продаж'!AG$32)","v":0},{"$f":"AI47*'Исходные данные'!$D102*(1+'Исходные данные'!$E102)+IF(AI47=0,0,'Исходные данные'!$F102*'План продаж'!AH$32)","v":0},{"$f":"AJ47*'Исходные данные'!$D102*(1+'Исходные данные'!$E102)+IF(AJ47=0,0,'Исходные данные'!$F102*'План продаж'!AI$32)","v":0},{"$f":"AK47*'Исходные данные'!$D102*(1+'Исходные данные'!$E102)+IF(AK47=0,0,'Исходные данные'!$F102*'План продаж'!AJ$32)","v":0},{"$f":"AL47*'Исходные данные'!$D102*(1+'Исходные данные'!$E102)+IF(AL47=0,0,'Исходные данные'!$F102*'План продаж'!AK$32)","v":0},{"$f":"AM47*'Исходные данные'!$D102*(1+'Исходные данные'!$E102)+IF(AM47=0,0,'Исходные данные'!$F102*'План продаж'!AL$32)","v":0},{"$f":"AN47*'Исходные данные'!$D102*(1+'Исходные данные'!$E102)+IF(AN47=0,0,'Исходные данные'!$F102*'План продаж'!AM$32)","v":0},{"$f":"AO47*'Исходные данные'!$D102*(1+'Исходные данные'!$E102)+IF(AO47=0,0,'Исходные данные'!$F102*'План продаж'!AN$32)","v":0},{"$f":"AP47*'Исходные данные'!$D102*(1+'Исходные данные'!$E102)+IF(AP47=0,0,'Исходные данные'!$F102*'План продаж'!AO$32)","v":0},{"$f":"AQ47*'Исходные данные'!$D102*(1+'Исходные данные'!$E102)+IF(AQ47=0,0,'Исходные данные'!$F102*'План продаж'!AP$32)","v":0},{"$f":"AR47*'Исходные данные'!$D102*(1+'Исходные данные'!$E102)+IF(AR47=0,0,'Исходные данные'!$F102*'План продаж'!AQ$32)","v":0},{"$f":"AS47*'Исходные данные'!$D102*(1+'Исходные данные'!$E102)+IF(AS47=0,0,'Исходные данные'!$F102*'План продаж'!AR$32)","v":0},{"$f":"AT47*'Исходные данные'!$D102*(1+'Исходные данные'!$E102)+IF(AT47=0,0,'Исходные данные'!$F102*'План продаж'!AS$32)","v":0},{"$f":"AU47*'Исходные данные'!$D102*(1+'Исходные данные'!$E102)+IF(AU47=0,0,'Исходные данные'!$F102*'План продаж'!AT$32)","v":0},{"$f":"AV47*'Исходные данные'!$D102*(1+'Исходные данные'!$E102)+IF(AV47=0,0,'Исходные данные'!$F102*'План продаж'!AU$32)","v":0},{"$f":"AW47*'Исходные данные'!$D102*(1+'Исходные данные'!$E102)+IF(AW47=0,0,'Исходные данные'!$F102*'План продаж'!AV$32)","v":0},{"$f":"AX47*'Исходные данные'!$D102*(1+'Исходные данные'!$E102)+IF(AX47=0,0,'Исходные данные'!$F102*'План продаж'!AW$32)","v":0},{"$f":"AY47*'Исходные данные'!$D102*(1+'Исходные данные'!$E102)+IF(AY47=0,0,'Исходные данные'!$F102*'План продаж'!AX$32)","v":0},{"$f":"AZ47*'Исходные данные'!$D102*(1+'Исходные данные'!$E102)+IF(AZ47=0,0,'Исходные данные'!$F102*'План продаж'!AY$32)","v":0},{"$f":"BA47*'Исходные данные'!$D102*(1+'Исходные данные'!$E102)+IF(BA47=0,0,'Исходные данные'!$F102*'План продаж'!AZ$32)","v":0},{"$f":"BB47*'Исходные данные'!$D102*(1+'Исходные данные'!$E102)+IF(BB47=0,0,'Исходные данные'!$F102*'План продаж'!BA$32)","v":0},{"$f":"BC47*'Исходные данные'!$D102*(1+'Исходные данные'!$E102)+IF(BC47=0,0,'Исходные данные'!$F102*'План продаж'!BB$32)","v":0},{"$f":"BD47*'Исходные данные'!$D102*(1+'Исходные данные'!$E102)+IF(BD47=0,0,'Исходные данные'!$F102*'План продаж'!BC$32)","v":0},{"$f":"BE47*'Исходные данные'!$D102*(1+'Исходные данные'!$E102)+IF(BE47=0,0,'Исходные данные'!$F102*'План продаж'!BD$32)","v":0},{"$f":"BF47*'Исходные данные'!$D102*(1+'Исходные данные'!$E102)+IF(BF47=0,0,'Исходные данные'!$F102*'План продаж'!BE$32)","v":0},{"$f":"BG47*'Исходные данные'!$D102*(1+'Исходные данные'!$E102)+IF(BG47=0,0,'Исходные данные'!$F102*'План продаж'!BF$32)","v":0},{"$f":"BH47*'Исходные данные'!$D102*(1+'Исходные данные'!$E102)+IF(BH47=0,0,'Исходные данные'!$F102*'План продаж'!BG$32)","v":0},{"$f":"BI47*'Исходные данные'!$D102*(1+'Исходные данные'!$E102)+IF(BI47=0,0,'Исходные данные'!$F102*'План продаж'!BH$32)","v":0},{"$f":"BJ47*'Исходные данные'!$D102*(1+'Исходные данные'!$E102)+IF(BJ47=0,0,'Исходные данные'!$F102*'План продаж'!BI$32)","v":0},{"$f":"BK47*'Исходные данные'!$D102*(1+'Исходные данные'!$E102)+IF(BK47=0,0,'Исходные данные'!$F102*'План продаж'!BJ$32)","v":0},{"$f":"BL47*'Исходные данные'!$D102*(1+'Исходные данные'!$E102)+IF(BL47=0,0,'Исходные данные'!$F102*'План продаж'!BK$32)","v":0}]
[0,null,null,null,{"$f":"E48*'Исходные данные'!$D103*(1+'Исходные данные'!$E103)+IF(E48=0,0,'Исходные данные'!$F103*'План продаж'!D$32)","v":0},{"$f":"F48*'Исходные данные'!$D103*(1+'Исходные данные'!$E103)+IF(F48=0,0,'Исходные данные'!$F103*'План продаж'!E$32)","v":0},{"$f":"G48*'Исходные данные'!$D103*(1+'Исходные данные'!$E103)+IF(G48=0,0,'Исходные данные'!$F103*'План продаж'!F$32)","v":0},{"$f":"H48*'Исходные данные'!$D103*(1+'Исходные данные'!$E103)+IF(H48=0,0,'Исходные данные'!$F103*'План продаж'!G$32)","v":0},{"$f":"I48*'Исходные данные'!$D103*(1+'Исходные данные'!$E103)+IF(I48=0,0,'Исходные данные'!$F103*'План продаж'!H$32)","v":0},{"$f":"J48*'Исходные данные'!$D103*(1+'Исходные данные'!$E103)+IF(J48=0,0,'Исходные данные'!$F103*'План продаж'!I$32)","v":0},{"$f":"K48*'Исходные данные'!$D103*(1+'Исходные данные'!$E103)+IF(K48=0,0,'Исходные данные'!$F103*'План продаж'!J$32)","v":0},{"$f":"L48*'Исходные данные'!$D103*(1+'Исходные данные'!$E103)+IF(L48=0,0,'Исходные данные'!$F103*'План продаж'!K$32)","v":0},{"$f":"M48*'Исходные данные'!$D103*(1+'Исходные данные'!$E103)+IF(M48=0,0,'Исходные данные'!$F103*'План продаж'!L$32)","v":0},{"$f":"N48*'Исходные данные'!$D103*(1+'Исходные данные'!$E103)+IF(N48=0,0,'Исходные данные'!$F103*'План продаж'!M$32)","v":0},{"$f":"O48*'Исходные данные'!$D103*(1+'Исходные данные'!$E103)+IF(O48=0,0,'Исходные данные'!$F103*'План продаж'!N$32)","v":0},{"$f":"P48*'Исходные данные'!$D103*(1+'Исходные данные'!$E103)+IF(P48=0,0,'Исходные данные'!$F103*'План продаж'!O$32)","v":0},{"$f":"Q48*'Исходные данные'!$D103*(1+'Исходные данные'!$E103)+IF(Q48=0,0,'Исходные данные'!$F103*'План продаж'!P$32)","v":0},{"$f":"R48*'Исходные данные'!$D103*(1+'Исходные данные'!$E103)+IF(R48=0,0,'Исходные данные'!$F103*'План продаж'!Q$32)","v":0},{"$f":"S48*'Исходные данные'!$D103*(1+'Исходные данные'!$E103)+IF(S48=0,0,'Исходные данные'!$F103*'План продаж'!R$32)","v":0},{"$f":"T48*'Исходные данные'!$D103*(1+'Исходные данные'!$E103)+IF(T48=0,0,'Исходные данные'!$F103*'План продаж'!S$32)","v":0},{"$f":"U48*'Исходные данные'!$D103*(1+'Исходные данные'!$E103)+IF(U48=0,0,'Исходные данные'!$F103*'План продаж'!T$32)","v":0},{"$f":"V48*'Исходные данные'!$D103*(1+'Исходные данные'!$E103)+IF(V48=0,0,'Исходные данные'!$F103*'План продаж'!U$32)","v":0},{"$f":"W48*'Исходные данные'!$D103*(1+'Исходные данные'!$E103)+IF(W48=0,0,'Исходные данные'!$F103*'План продаж'!V$32)","v":0},{"$f":"X48*'Исходные данные'!$D103*(1+'Исходные данные'!$E103)+IF(X48=0,0,'Исходные данные'!$F103*'План продаж'!W$32)","v":0},{"$f":"Y48*'Исходные данные'!$D103*(1+'Исходные данные'!$E103)+IF(Y48=0,0,'Исходные данные'!$F103*'План продаж'!X$32)","v":0},{"$f":"Z48*'Исходные данные'!$D103*(1+'Исходные данные'!$E103)+IF(Z48=0,0,'Исходные данные'!$F103*'План продаж'!Y$32)","v":0},{"$f":"AA48*'Исходные данные'!$D103*(1+'Исходные данные'!$E103)+IF(AA48=0,0,'Исходные данные'!$F103*'План продаж'!Z$32)","v":0},{"$f":"AB48*'Исходные данные'!$D103*(1+'Исходные данные'!$E103)+IF(AB48=0,0,'Исходные данные'!$F103*'План продаж'!AA$32)","v":0},{"$f":"AC48*'Исходные данные'!$D103*(1+'Исходные данные'!$E103)+IF(AC48=0,0,'Исходные данные'!$F103*'План продаж'!AB$32)","v":0},{"$f":"AD48*'Исходные данные'!$D103*(1+'Исходные данные'!$E103)+IF(AD48=0,0,'Исходные данные'!$F103*'План продаж'!AC$32)","v":0},{"$f":"AE48*'Исходные данные'!$D103*(1+'Исходные данные'!$E103)+IF(AE48=0,0,'Исходные данные'!$F103*'План продаж'!AD$32)","v":0},{"$f":"AF48*'Исходные данные'!$D103*(1+'Исходные данные'!$E103)+IF(AF48=0,0,'Исходные данные'!$F103*'План продаж'!AE$32)","v":0},{"$f":"AG48*'Исходные данные'!$D103*(1+'Исходные данные'!$E103)+IF(AG48=0,0,'Исходные данные'!$F103*'План продаж'!AF$32)","v":0},{"$f":"AH48*'Исходные данные'!$D103*(1+'Исходные данные'!$E103)+IF(AH48=0,0,'Исходные данные'!$F103*'План продаж'!AG$32)","v":0},{"$f":"AI48*'Исходные данные'!$D103*(1+'Исходные данные'!$E103)+IF(AI48=0,0,'Исходные данные'!$F103*'План продаж'!AH$32)","v":0},{"$f":"AJ48*'Исходные данные'!$D103*(1+'Исходные данные'!$E103)+IF(AJ48=0,0,'Исходные данные'!$F103*'План продаж'!AI$32)","v":0},{"$f":"AK48*'Исходные данные'!$D103*(1+'Исходные данные'!$E103)+IF(AK48=0,0,'Исходные данные'!$F103*'План продаж'!AJ$32)","v":0},{"$f":"AL48*'Исходные данные'!$D103*(1+'Исходные данные'!$E103)+IF(AL48=0,0,'Исходные данные'!$F103*'План продаж'!AK$32)","v":0},{"$f":"AM48*'Исходные данные'!$D103*(1+'Исходные данные'!$E103)+IF(AM48=0,0,'Исходные данные'!$F103*'План продаж'!AL$32)","v":0},{"$f":"AN48*'Исходные данные'!$D103*(1+'Исходные данные'!$E103)+IF(AN48=0,0,'Исходные данные'!$F103*'План продаж'!AM$32)","v":0},{"$f":"AO48*'Исходные данные'!$D103*(1+'Исходные данные'!$E103)+IF(AO48=0,0,'Исходные данные'!$F103*'План продаж'!AN$32)","v":0},{"$f":"AP48*'Исходные данные'!$D103*(1+'Исходные данные'!$E103)+IF(AP48=0,0,'Исходные данные'!$F103*'План продаж'!AO$32)","v":0},{"$f":"AQ48*'Исходные данные'!$D103*(1+'Исходные данные'!$E103)+IF(AQ48=0,0,'Исходные данные'!$F103*'План продаж'!AP$32)","v":0},{"$f":"AR48*'Исходные данные'!$D103*(1+'Исходные данные'!$E103)+IF(AR48=0,0,'Исходные данные'!$F103*'План продаж'!AQ$32)","v":0},{"$f":"AS48*'Исходные данные'!$D103*(1+'Исходные данные'!$E103)+IF(AS48=0,0,'Исходные данные'!$F103*'План продаж'!AR$32)","v":0},{"$f":"AT48*'Исходные данные'!$D103*(1+'Исходные данные'!$E103)+IF(AT48=0,0,'Исходные данные'!$F103*'План продаж'!AS$32)","v":0},{"$f":"AU48*'Исходные данные'!$D103*(1+'Исходные данные'!$E103)+IF(AU48=0,0,'Исходные данные'!$F103*'План продаж'!AT$32)","v":0},{"$f":"AV48*'Исходные данные'!$D103*(1+'Исходные данные'!$E103)+IF(AV48=0,0,'Исходные данные'!$F103*'План продаж'!AU$32)","v":0},{"$f":"AW48*'Исходные данные'!$D103*(1+'Исходные данные'!$E103)+IF(AW48=0,0,'Исходные данные'!$F103*'План продаж'!AV$32)","v":0},{"$f":"AX48*'Исходные данные'!$D103*(1+'Исходные данные'!$E103)+IF(AX48=0,0,'Исходные данные'!$F103*'План продаж'!AW$32)","v":0},{"$f":"AY48*'Исходные данные'!$D103*(1+'Исходные данные'!$E103)+IF(AY48=0,0,'Исходные данные'!$F103*'План продаж'!AX$32)","v":0},{"$f":"AZ48*'Исходные данные'!$D103*(1+'Исходные данные'!$E103)+IF(AZ48=0,0,'Исходные данные'!$F103*'План продаж'!AY$32)","v":0},{"$f":"BA48*'Исходные данные'!$D103*(1+'Исходные данные'!$E103)+IF(BA48=0,0,'Исходные данные'!$F103*'План продаж'!AZ$32)","v":0},{"$f":"BB48*'Исходные данные'!$D103*(1+'Исходные данные'!$E103)+IF(BB48=0,0,'Исходные данные'!$F103*'План продаж'!BA$32)","v":0},{"$f":"BC48*'Исходные данные'!$D103*(1+'Исходные данные'!$E103)+IF(BC48=0,0,'Исходные данные'!$F103*'План продаж'!BB$32)","v":0},{"$f":"BD48*'Исходные данные'!$D103*(1+'Исходные данные'!$E103)+IF(BD48=0,0,'Исходные данные'!$F103*'План продаж'!BC$32)","v":0},{"$f":"BE48*'Исходные данные'!$D103*(1+'Исходные данные'!$E103)+IF(BE48=0,0,'Исходные данные'!$F103*'План продаж'!BD$32)","v":0},{"$f":"BF48*'Исходные данные'!$D103*(1+'Исходные данные'!$E103)+IF(BF48=0,0,'Исходные данные'!$F103*'План продаж'!BE$32)","v":0},{"$f":"BG48*'Исходные данные'!$D103*(1+'Исходные данные'!$E103)+IF(BG48=0,0,'Исходные данные'!$F103*'План продаж'!BF$32)","v":0},{"$f":"BH48*'Исходные данные'!$D103*(1+'Исходные данные'!$E103)+IF(BH48=0,0,'Исходные данные'!$F103*'План продаж'!BG$32)","v":0},{"$f":"BI48*'Исходные данные'!$D103*(1+'Исходные данные'!$E103)+IF(BI48=0,0,'Исходные данные'!$F103*'План продаж'!BH$32)","v":0},{"$f":"BJ48*'Исходные данные'!$D103*(1+'Исходные данные'!$E103)+IF(BJ48=0,0,'Исходные данные'!$F103*'План продаж'!BI$32)","v":0},{"$f":"BK48*'Исходные данные'!$D103*(1+'Исходные данные'!$E103)+IF(BK48=0,0,'Исходные данные'!$F103*'План продаж'!BJ$32)","v":0},{"$f":"BL48*'Исходные данные'!$D103*(1+'Исходные данные'!$E103)+IF(BL48=0,0,'Исходные данные'!$F103*'План продаж'!BK$32)","v":0}]
[0,null,null,null,{"$f":"E49*'Исходные данные'!$D104*(1+'Исходные данные'!$E104)+IF(E49=0,0,'Исходные данные'!$F104*'План продаж'!D$32)","v":0},{"$f":"F49*'Исходные данные'!$D104*(1+'Исходные данные'!$E104)+IF(F49=0,0,'Исходные данные'!$F104*'План продаж'!E$32)","v":0},{"$f":"G49*'Исходные данные'!$D104*(1+'Исходные данные'!$E104)+IF(G49=0,0,'Исходные данные'!$F104*'План продаж'!F$32)","v":0},{"$f":"H49*'Исходные данные'!$D104*(1+'Исходные данные'!$E104)+IF(H49=0,0,'Исходные данные'!$F104*'План продаж'!G$32)","v":0},{"$f":"I49*'Исходные данные'!$D104*(1+'Исходные данные'!$E104)+IF(I49=0,0,'Исходные данные'!$F104*'План продаж'!H$32)","v":0},{"$f":"J49*'Исходные данные'!$D104*(1+'Исходные данные'!$E104)+IF(J49=0,0,'Исходные данные'!$F104*'План продаж'!I$32)","v":0},{"$f":"K49*'Исходные данные'!$D104*(1+'Исходные данные'!$E104)+IF(K49=0,0,'Исходные данные'!$F104*'План продаж'!J$32)","v":0},{"$f":"L49*'Исходные данные'!$D104*(1+'Исходные данные'!$E104)+IF(L49=0,0,'Исходные данные'!$F104*'План продаж'!K$32)","v":0},{"$f":"M49*'Исходные данные'!$D104*(1+'Исходные данные'!$E104)+IF(M49=0,0,'Исходные данные'!$F104*'План продаж'!L$32)","v":0},{"$f":"N49*'Исходные данные'!$D104*(1+'Исходные данные'!$E104)+IF(N49=0,0,'Исходные данные'!$F104*'План продаж'!M$32)","v":0},{"$f":"O49*'Исходные данные'!$D104*(1+'Исходные данные'!$E104)+IF(O49=0,0,'Исходные данные'!$F104*'План продаж'!N$32)","v":0},{"$f":"P49*'Исходные данные'!$D104*(1+'Исходные данные'!$E104)+IF(P49=0,0,'Исходные данные'!$F104*'План продаж'!O$32)","v":0},{"$f":"Q49*'Исходные данные'!$D104*(1+'Исходные данные'!$E104)+IF(Q49=0,0,'Исходные данные'!$F104*'План продаж'!P$32)","v":0},{"$f":"R49*'Исходные данные'!$D104*(1+'Исходные данные'!$E104)+IF(R49=0,0,'Исходные данные'!$F104*'План продаж'!Q$32)","v":0},{"$f":"S49*'Исходные данные'!$D104*(1+'Исходные данные'!$E104)+IF(S49=0,0,'Исходные данные'!$F104*'План продаж'!R$32)","v":0},{"$f":"T49*'Исходные данные'!$D104*(1+'Исходные данные'!$E104)+IF(T49=0,0,'Исходные данные'!$F104*'План продаж'!S$32)","v":0},{"$f":"U49*'Исходные данные'!$D104*(1+'Исходные данные'!$E104)+IF(U49=0,0,'Исходные данные'!$F104*'План продаж'!T$32)","v":0},{"$f":"V49*'Исходные данные'!$D104*(1+'Исходные данные'!$E104)+IF(V49=0,0,'Исходные данные'!$F104*'План продаж'!U$32)","v":0},{"$f":"W49*'Исходные данные'!$D104*(1+'Исходные данные'!$E104)+IF(W49=0,0,'Исходные данные'!$F104*'План продаж'!V$32)","v":0},{"$f":"X49*'Исходные данные'!$D104*(1+'Исходные данные'!$E104)+IF(X49=0,0,'Исходные данные'!$F104*'План продаж'!W$32)","v":0},{"$f":"Y49*'Исходные данные'!$D104*(1+'Исходные данные'!$E104)+IF(Y49=0,0,'Исходные данные'!$F104*'План продаж'!X$32)","v":0},{"$f":"Z49*'Исходные данные'!$D104*(1+'Исходные данные'!$E104)+IF(Z49=0,0,'Исходные данные'!$F104*'План продаж'!Y$32)","v":0},{"$f":"AA49*'Исходные данные'!$D104*(1+'Исходные данные'!$E104)+IF(AA49=0,0,'Исходные данные'!$F104*'План продаж'!Z$32)","v":0},{"$f":"AB49*'Исходные данные'!$D104*(1+'Исходные данные'!$E104)+IF(AB49=0,0,'Исходные данные'!$F104*'План продаж'!AA$32)","v":0},{"$f":"AC49*'Исходные данные'!$D104*(1+'Исходные данные'!$E104)+IF(AC49=0,0,'Исходные данные'!$F104*'План продаж'!AB$32)","v":0},{"$f":"AD49*'Исходные данные'!$D104*(1+'Исходные данные'!$E104)+IF(AD49=0,0,'Исходные данные'!$F104*'План продаж'!AC$32)","v":0},{"$f":"AE49*'Исходные данные'!$D104*(1+'Исходные данные'!$E104)+IF(AE49=0,0,'Исходные данные'!$F104*'План продаж'!AD$32)","v":0},{"$f":"AF49*'Исходные данные'!$D104*(1+'Исходные данные'!$E104)+IF(AF49=0,0,'Исходные данные'!$F104*'План продаж'!AE$32)","v":0},{"$f":"AG49*'Исходные данные'!$D104*(1+'Исходные данные'!$E104)+IF(AG49=0,0,'Исходные данные'!$F104*'План продаж'!AF$32)","v":0},{"$f":"AH49*'Исходные данные'!$D104*(1+'Исходные данные'!$E104)+IF(AH49=0,0,'Исходные данные'!$F104*'План продаж'!AG$32)","v":0},{"$f":"AI49*'Исходные данные'!$D104*(1+'Исходные данные'!$E104)+IF(AI49=0,0,'Исходные данные'!$F104*'План продаж'!AH$32)","v":0},{"$f":"AJ49*'Исходные данные'!$D104*(1+'Исходные данные'!$E104)+IF(AJ49=0,0,'Исходные данные'!$F104*'План продаж'!AI$32)","v":0},{"$f":"AK49*'Исходные данные'!$D104*(1+'Исходные данные'!$E104)+IF(AK49=0,0,'Исходные данные'!$F104*'План продаж'!AJ$32)","v":0},{"$f":"AL49*'Исходные данные'!$D104*(1+'Исходные данные'!$E104)+IF(AL49=0,0,'Исходные данные'!$F104*'План продаж'!AK$32)","v":0},{"$f":"AM49*'Исходные данные'!$D104*(1+'Исходные данные'!$E104)+IF(AM49=0,0,'Исходные данные'!$F104*'План продаж'!AL$32)","v":0},{"$f":"AN49*'Исходные данные'!$D104*(1+'Исходные данные'!$E104)+IF(AN49=0,0,'Исходные данные'!$F104*'План продаж'!AM$32)","v":0},{"$f":"AO49*'Исходные данные'!$D104*(1+'Исходные данные'!$E104)+IF(AO49=0,0,'Исходные данные'!$F104*'План продаж'!AN$32)","v":0},{"$f":"AP49*'Исходные данные'!$D104*(1+'Исходные данные'!$E104)+IF(AP49=0,0,'Исходные данные'!$F104*'План продаж'!AO$32)","v":0},{"$f":"AQ49*'Исходные данные'!$D104*(1+'Исходные данные'!$E104)+IF(AQ49=0,0,'Исходные данные'!$F104*'План продаж'!AP$32)","v":0},{"$f":"AR49*'Исходные данные'!$D104*(1+'Исходные данные'!$E104)+IF(AR49=0,0,'Исходные данные'!$F104*'План продаж'!AQ$32)","v":0},{"$f":"AS49*'Исходные данные'!$D104*(1+'Исходные данные'!$E104)+IF(AS49=0,0,'Исходные данные'!$F104*'План продаж'!AR$32)","v":0},{"$f":"AT49*'Исходные данные'!$D104*(1+'Исходные данные'!$E104)+IF(AT49=0,0,'Исходные данные'!$F104*'План продаж'!AS$32)","v":0},{"$f":"AU49*'Исходные данные'!$D104*(1+'Исходные данные'!$E104)+IF(AU49=0,0,'Исходные данные'!$F104*'План продаж'!AT$32)","v":0},{"$f":"AV49*'Исходные данные'!$D104*(1+'Исходные данные'!$E104)+IF(AV49=0,0,'Исходные данные'!$F104*'План продаж'!AU$32)","v":0},{"$f":"AW49*'Исходные данные'!$D104*(1+'Исходные данные'!$E104)+IF(AW49=0,0,'Исходные данные'!$F104*'План продаж'!AV$32)","v":0},{"$f":"AX49*'Исходные данные'!$D104*(1+'Исходные данные'!$E104)+IF(AX49=0,0,'Исходные данные'!$F104*'План продаж'!AW$32)","v":0},{"$f":"AY49*'Исходные данные'!$D104*(1+'Исходные данные'!$E104)+IF(AY49=0,0,'Исходные данные'!$F104*'План продаж'!AX$32)","v":0},{"$f":"AZ49*'Исходные данные'!$D104*(1+'Исходные данные'!$E104)+IF(AZ49=0,0,'Исходные данные'!$F104*'План продаж'!AY$32)","v":0},{"$f":"BA49*'Исходные данные'!$D104*(1+'Исходные данные'!$E104)+IF(BA49=0,0,'Исходные данные'!$F104*'План продаж'!AZ$32)","v":0},{"$f":"BB49*'Исходные данные'!$D104*(1+'Исходные данные'!$E104)+IF(BB49=0,0,'Исходные данные'!$F104*'План продаж'!BA$32)","v":0},{"$f":"BC49*'Исходные данные'!$D104*(1+'Исходные данные'!$E104)+IF(BC49=0,0,'Исходные данные'!$F104*'План продаж'!BB$32)","v":0},{"$f":"BD49*'Исходные данные'!$D104*(1+'Исходные данные'!$E104)+IF(BD49=0,0,'Исходные данные'!$F104*'План продаж'!BC$32)","v":0},{"$f":"BE49*'Исходные данные'!$D104*(1+'Исходные данные'!$E104)+IF(BE49=0,0,'Исходные данные'!$F104*'План продаж'!BD$32)","v":0},{"$f":"BF49*'Исходные данные'!$D104*(1+'Исходные данные'!$E104)+IF(BF49=0,0,'Исходные данные'!$F104*'План продаж'!BE$32)","v":0},{"$f":"BG49*'Исходные данные'!$D104*(1+'Исходные данные'!$E104)+IF(BG49=0,0,'Исходные данные'!$F104*'План продаж'!BF$32)","v":0},{"$f":"BH49*'Исходные данные'!$D104*(1+'Исходные данные'!$E104)+IF(BH49=0,0,'Исходные данные'!$F104*'План продаж'!BG$32)","v":0},{"$f":"BI49*'Исходные данные'!$D104*(1+'Исходные данные'!$E104)+IF(BI49=0,0,'Исходные данные'!$F104*'План продаж'!BH$32)","v":0},{"$f":"BJ49*'Исходные данные'!$D104*(1+'Исходные данные'!$E104)+IF(BJ49=0,0,'Исходные данные'!$F104*'План продаж'!BI$32)","v":0},{"$f":"BK49*'Исходные данные'!$D104*(1+'Исходные данные'!$E104)+IF(BK49=0,0,'Исходные данные'!$F104*'План продаж'!BJ$32)","v":0},{"$f":"BL49*'Исходные данные'!$D104*(1+'Исходные данные'!$E104)+IF(BL49=0,0,'Исходные данные'!$F104*'План продаж'!BK$32)","v":0}]
[0,null,null,null,{"$f":"E50*'Исходные данные'!$D105*(1+'Исходные данные'!$E105)+IF(E50=0,0,'Исходные данные'!$F105*'План продаж'!D$32)","v":0},{"$f":"F50*'Исходные данные'!$D105*(1+'Исходные данные'!$E105)+IF(F50=0,0,'Исходные данные'!$F105*'План продаж'!E$32)","v":0},{"$f":"G50*'Исходные данные'!$D105*(1+'Исходные данные'!$E105)+IF(G50=0,0,'Исходные данные'!$F105*'План продаж'!F$32)","v":0},{"$f":"H50*'Исходные данные'!$D105*(1+'Исходные данные'!$E105)+IF(H50=0,0,'Исходные данные'!$F105*'План продаж'!G$32)","v":0},{"$f":"I50*'Исходные данные'!$D105*(1+'Исходные данные'!$E105)+IF(I50=0,0,'Исходные данные'!$F105*'План продаж'!H$32)","v":0},{"$f":"J50*'Исходные данные'!$D105*(1+'Исходные данные'!$E105)+IF(J50=0,0,'Исходные данные'!$F105*'План продаж'!I$32)","v":0},{"$f":"K50*'Исходные данные'!$D105*(1+'Исходные данные'!$E105)+IF(K50=0,0,'Исходные данные'!$F105*'План продаж'!J$32)","v":0},{"$f":"L50*'Исходные данные'!$D105*(1+'Исходные данные'!$E105)+IF(L50=0,0,'Исходные данные'!$F105*'План продаж'!K$32)","v":0},{"$f":"M50*'Исходные данные'!$D105*(1+'Исходные данные'!$E105)+IF(M50=0,0,'Исходные данные'!$F105*'План продаж'!L$32)","v":0},{"$f":"N50*'Исходные данные'!$D105*(1+'Исходные данные'!$E105)+IF(N50=0,0,'Исходные данные'!$F105*'План продаж'!M$32)","v":0},{"$f":"O50*'Исходные данные'!$D105*(1+'Исходные данные'!$E105)+IF(O50=0,0,'Исходные данные'!$F105*'План продаж'!N$32)","v":0},{"$f":"P50*'Исходные данные'!$D105*(1+'Исходные данные'!$E105)+IF(P50=0,0,'Исходные данные'!$F105*'План продаж'!O$32)","v":0},{"$f":"Q50*'Исходные данные'!$D105*(1+'Исходные данные'!$E105)+IF(Q50=0,0,'Исходные данные'!$F105*'План продаж'!P$32)","v":0},{"$f":"R50*'Исходные данные'!$D105*(1+'Исходные данные'!$E105)+IF(R50=0,0,'Исходные данные'!$F105*'План продаж'!Q$32)","v":0},{"$f":"S50*'Исходные данные'!$D105*(1+'Исходные данные'!$E105)+IF(S50=0,0,'Исходные данные'!$F105*'План продаж'!R$32)","v":0},{"$f":"T50*'Исходные данные'!$D105*(1+'Исходные данные'!$E105)+IF(T50=0,0,'Исходные данные'!$F105*'План продаж'!S$32)","v":0},{"$f":"U50*'Исходные данные'!$D105*(1+'Исходные данные'!$E105)+IF(U50=0,0,'Исходные данные'!$F105*'План продаж'!T$32)","v":0},{"$f":"V50*'Исходные данные'!$D105*(1+'Исходные данные'!$E105)+IF(V50=0,0,'Исходные данные'!$F105*'План продаж'!U$32)","v":0},{"$f":"W50*'Исходные данные'!$D105*(1+'Исходные данные'!$E105)+IF(W50=0,0,'Исходные данные'!$F105*'План продаж'!V$32)","v":0},{"$f":"X50*'Исходные данные'!$D105*(1+'Исходные данные'!$E105)+IF(X50=0,0,'Исходные данные'!$F105*'План продаж'!W$32)","v":0},{"$f":"Y50*'Исходные данные'!$D105*(1+'Исходные данные'!$E105)+IF(Y50=0,0,'Исходные данные'!$F105*'План продаж'!X$32)","v":0},{"$f":"Z50*'Исходные данные'!$D105*(1+'Исходные данные'!$E105)+IF(Z50=0,0,'Исходные данные'!$F105*'План продаж'!Y$32)","v":0},{"$f":"AA50*'Исходные данные'!$D105*(1+'Исходные данные'!$E105)+IF(AA50=0,0,'Исходные данные'!$F105*'План продаж'!Z$32)","v":0},{"$f":"AB50*'Исходные данные'!$D105*(1+'Исходные данные'!$E105)+IF(AB50=0,0,'Исходные данные'!$F105*'План продаж'!AA$32)","v":0},{"$f":"AC50*'Исходные данные'!$D105*(1+'Исходные данные'!$E105)+IF(AC50=0,0,'Исходные данные'!$F105*'План продаж'!AB$32)","v":0},{"$f":"AD50*'Исходные данные'!$D105*(1+'Исходные данные'!$E105)+IF(AD50=0,0,'Исходные данные'!$F105*'План продаж'!AC$32)","v":0},{"$f":"AE50*'Исходные данные'!$D105*(1+'Исходные данные'!$E105)+IF(AE50=0,0,'Исходные данные'!$F105*'План продаж'!AD$32)","v":0},{"$f":"AF50*'Исходные данные'!$D105*(1+'Исходные данные'!$E105)+IF(AF50=0,0,'Исходные данные'!$F105*'План продаж'!AE$32)","v":0},{"$f":"AG50*'Исходные данные'!$D105*(1+'Исходные данные'!$E105)+IF(AG50=0,0,'Исходные данные'!$F105*'План продаж'!AF$32)","v":0},{"$f":"AH50*'Исходные данные'!$D105*(1+'Исходные данные'!$E105)+IF(AH50=0,0,'Исходные данные'!$F105*'План продаж'!AG$32)","v":0},{"$f":"AI50*'Исходные данные'!$D105*(1+'Исходные данные'!$E105)+IF(AI50=0,0,'Исходные данные'!$F105*'План продаж'!AH$32)","v":0},{"$f":"AJ50*'Исходные данные'!$D105*(1+'Исходные данные'!$E105)+IF(AJ50=0,0,'Исходные данные'!$F105*'План продаж'!AI$32)","v":0},{"$f":"AK50*'Исходные данные'!$D105*(1+'Исходные данные'!$E105)+IF(AK50=0,0,'Исходные данные'!$F105*'План продаж'!AJ$32)","v":0},{"$f":"AL50*'Исходные данные'!$D105*(1+'Исходные данные'!$E105)+IF(AL50=0,0,'Исходные данные'!$F105*'План продаж'!AK$32)","v":0},{"$f":"AM50*'Исходные данные'!$D105*(1+'Исходные данные'!$E105)+IF(AM50=0,0,'Исходные данные'!$F105*'План продаж'!AL$32)","v":0},{"$f":"AN50*'Исходные данные'!$D105*(1+'Исходные данные'!$E105)+IF(AN50=0,0,'Исходные данные'!$F105*'План продаж'!AM$32)","v":0},{"$f":"AO50*'Исходные данные'!$D105*(1+'Исходные данные'!$E105)+IF(AO50=0,0,'Исходные данные'!$F105*'План продаж'!AN$32)","v":0},{"$f":"AP50*'Исходные данные'!$D105*(1+'Исходные данные'!$E105)+IF(AP50=0,0,'Исходные данные'!$F105*'План продаж'!AO$32)","v":0},{"$f":"AQ50*'Исходные данные'!$D105*(1+'Исходные данные'!$E105)+IF(AQ50=0,0,'Исходные данные'!$F105*'План продаж'!AP$32)","v":0},{"$f":"AR50*'Исходные данные'!$D105*(1+'Исходные данные'!$E105)+IF(AR50=0,0,'Исходные данные'!$F105*'План продаж'!AQ$32)","v":0},{"$f":"AS50*'Исходные данные'!$D105*(1+'Исходные данные'!$E105)+IF(AS50=0,0,'Исходные данные'!$F105*'План продаж'!AR$32)","v":0},{"$f":"AT50*'Исходные данные'!$D105*(1+'Исходные данные'!$E105)+IF(AT50=0,0,'Исходные данные'!$F105*'План продаж'!AS$32)","v":0},{"$f":"AU50*'Исходные данные'!$D105*(1+'Исходные данные'!$E105)+IF(AU50=0,0,'Исходные данные'!$F105*'План продаж'!AT$32)","v":0},{"$f":"AV50*'Исходные данные'!$D105*(1+'Исходные данные'!$E105)+IF(AV50=0,0,'Исходные данные'!$F105*'План продаж'!AU$32)","v":0},{"$f":"AW50*'Исходные данные'!$D105*(1+'Исходные данные'!$E105)+IF(AW50=0,0,'Исходные данные'!$F105*'План продаж'!AV$32)","v":0},{"$f":"AX50*'Исходные данные'!$D105*(1+'Исходные данные'!$E105)+IF(AX50=0,0,'Исходные данные'!$F105*'План продаж'!AW$32)","v":0},{"$f":"AY50*'Исходные данные'!$D105*(1+'Исходные данные'!$E105)+IF(AY50=0,0,'Исходные данные'!$F105*'План продаж'!AX$32)","v":0},{"$f":"AZ50*'Исходные данные'!$D105*(1+'Исходные данные'!$E105)+IF(AZ50=0,0,'Исходные данные'!$F105*'План продаж'!AY$32)","v":0},{"$f":"BA50*'Исходные данные'!$D105*(1+'Исходные данные'!$E105)+IF(BA50=0,0,'Исходные данные'!$F105*'План продаж'!AZ$32)","v":0},{"$f":"BB50*'Исходные данные'!$D105*(1+'Исходные данные'!$E105)+IF(BB50=0,0,'Исходные данные'!$F105*'План продаж'!BA$32)","v":0},{"$f":"BC50*'Исходные данные'!$D105*(1+'Исходные данные'!$E105)+IF(BC50=0,0,'Исходные данные'!$F105*'План продаж'!BB$32)","v":0},{"$f":"BD50*'Исходные данные'!$D105*(1+'Исходные данные'!$E105)+IF(BD50=0,0,'Исходные данные'!$F105*'План продаж'!BC$32)","v":0},{"$f":"BE50*'Исходные данные'!$D105*(1+'Исходные данные'!$E105)+IF(BE50=0,0,'Исходные данные'!$F105*'План продаж'!BD$32)","v":0},{"$f":"BF50*'Исходные данные'!$D105*(1+'Исходные данные'!$E105)+IF(BF50=0,0,'Исходные данные'!$F105*'План продаж'!BE$32)","v":0},{"$f":"BG50*'Исходные данные'!$D105*(1+'Исходные данные'!$E105)+IF(BG50=0,0,'Исходные данные'!$F105*'План продаж'!BF$32)","v":0},{"$f":"BH50*'Исходные данные'!$D105*(1+'Исходные данные'!$E105)+IF(BH50=0,0,'Исходные данные'!$F105*'План продаж'!BG$32)","v":0},{"$f":"BI50*'Исходные данные'!$D105*(1+'Исходные данные'!$E105)+IF(BI50=0,0,'Исходные данные'!$F105*'План продаж'!BH$32)","v":0},{"$f":"BJ50*'Исходные данные'!$D105*(1+'Исходные данные'!$E105)+IF(BJ50=0,0,'Исходные данные'!$F105*'План продаж'!BI$32)","v":0},{"$f":"BK50*'Исходные данные'!$D105*(1+'Исходные данные'!$E105)+IF(BK50=0,0,'Исходные данные'!$F105*'План продаж'!BJ$32)","v":0},{"$f":"BL50*'Исходные данные'!$D105*(1+'Исходные данные'!$E105)+IF(BL50=0,0,'Исходные данные'!$F105*'План продаж'!BK$32)","v":0}]
[0,null,null,null,{"$f":"E51*'Исходные данные'!$D106*(1+'Исходные данные'!$E106)+IF(E51=0,0,'Исходные данные'!$F106*'План продаж'!D$32)","v":0},{"$f":"F51*'Исходные данные'!$D106*(1+'Исходные данные'!$E106)+IF(F51=0,0,'Исходные данные'!$F106*'План продаж'!E$32)","v":0},{"$f":"G51*'Исходные данные'!$D106*(1+'Исходные данные'!$E106)+IF(G51=0,0,'Исходные данные'!$F106*'План продаж'!F$32)","v":0},{"$f":"H51*'Исходные данные'!$D106*(1+'Исходные данные'!$E106)+IF(H51=0,0,'Исходные данные'!$F106*'План продаж'!G$32)","v":0},{"$f":"I51*'Исходные данные'!$D106*(1+'Исходные данные'!$E106)+IF(I51=0,0,'Исходные данные'!$F106*'План продаж'!H$32)","v":0},{"$f":"J51*'Исходные данные'!$D106*(1+'Исходные данные'!$E106)+IF(J51=0,0,'Исходные данные'!$F106*'План продаж'!I$32)","v":0},{"$f":"K51*'Исходные данные'!$D106*(1+'Исходные данные'!$E106)+IF(K51=0,0,'Исходные данные'!$F106*'План продаж'!J$32)","v":0},{"$f":"L51*'Исходные данные'!$D106*(1+'Исходные данные'!$E106)+IF(L51=0,0,'Исходные данные'!$F106*'План продаж'!K$32)","v":0},{"$f":"M51*'Исходные данные'!$D106*(1+'Исходные данные'!$E106)+IF(M51=0,0,'Исходные данные'!$F106*'План продаж'!L$32)","v":0},{"$f":"N51*'Исходные данные'!$D106*(1+'Исходные данные'!$E106)+IF(N51=0,0,'Исходные данные'!$F106*'План продаж'!M$32)","v":0},{"$f":"O51*'Исходные данные'!$D106*(1+'Исходные данные'!$E106)+IF(O51=0,0,'Исходные данные'!$F106*'План продаж'!N$32)","v":0},{"$f":"P51*'Исходные данные'!$D106*(1+'Исходные данные'!$E106)+IF(P51=0,0,'Исходные данные'!$F106*'План продаж'!O$32)","v":0},{"$f":"Q51*'Исходные данные'!$D106*(1+'Исходные данные'!$E106)+IF(Q51=0,0,'Исходные данные'!$F106*'План продаж'!P$32)","v":0},{"$f":"R51*'Исходные данные'!$D106*(1+'Исходные данные'!$E106)+IF(R51=0,0,'Исходные данные'!$F106*'План продаж'!Q$32)","v":0},{"$f":"S51*'Исходные данные'!$D106*(1+'Исходные данные'!$E106)+IF(S51=0,0,'Исходные данные'!$F106*'План продаж'!R$32)","v":0},{"$f":"T51*'Исходные данные'!$D106*(1+'Исходные данные'!$E106)+IF(T51=0,0,'Исходные данные'!$F106*'План продаж'!S$32)","v":0},{"$f":"U51*'Исходные данные'!$D106*(1+'Исходные данные'!$E106)+IF(U51=0,0,'Исходные данные'!$F106*'План продаж'!T$32)","v":0},{"$f":"V51*'Исходные данные'!$D106*(1+'Исходные данные'!$E106)+IF(V51=0,0,'Исходные данные'!$F106*'План продаж'!U$32)","v":0},{"$f":"W51*'Исходные данные'!$D106*(1+'Исходные данные'!$E106)+IF(W51=0,0,'Исходные данные'!$F106*'План продаж'!V$32)","v":0},{"$f":"X51*'Исходные данные'!$D106*(1+'Исходные данные'!$E106)+IF(X51=0,0,'Исходные данные'!$F106*'План продаж'!W$32)","v":0},{"$f":"Y51*'Исходные данные'!$D106*(1+'Исходные данные'!$E106)+IF(Y51=0,0,'Исходные данные'!$F106*'План продаж'!X$32)","v":0},{"$f":"Z51*'Исходные данные'!$D106*(1+'Исходные данные'!$E106)+IF(Z51=0,0,'Исходные данные'!$F106*'План продаж'!Y$32)","v":0},{"$f":"AA51*'Исходные данные'!$D106*(1+'Исходные данные'!$E106)+IF(AA51=0,0,'Исходные данные'!$F106*'План продаж'!Z$32)","v":0},{"$f":"AB51*'Исходные данные'!$D106*(1+'Исходные данные'!$E106)+IF(AB51=0,0,'Исходные данные'!$F106*'План продаж'!AA$32)","v":0},{"$f":"AC51*'Исходные данные'!$D106*(1+'Исходные данные'!$E106)+IF(AC51=0,0,'Исходные данные'!$F106*'План продаж'!AB$32)","v":0},{"$f":"AD51*'Исходные данные'!$D106*(1+'Исходные данные'!$E106)+IF(AD51=0,0,'Исходные данные'!$F106*'План продаж'!AC$32)","v":0},{"$f":"AE51*'Исходные данные'!$D106*(1+'Исходные данные'!$E106)+IF(AE51=0,0,'Исходные данные'!$F106*'План продаж'!AD$32)","v":0},{"$f":"AF51*'Исходные данные'!$D106*(1+'Исходные данные'!$E106)+IF(AF51=0,0,'Исходные данные'!$F106*'План продаж'!AE$32)","v":0},{"$f":"AG51*'Исходные данные'!$D106*(1+'Исходные данные'!$E106)+IF(AG51=0,0,'Исходные данные'!$F106*'План продаж'!AF$32)","v":0},{"$f":"AH51*'Исходные данные'!$D106*(1+'Исходные данные'!$E106)+IF(AH51=0,0,'Исходные данные'!$F106*'План продаж'!AG$32)","v":0},{"$f":"AI51*'Исходные данные'!$D106*(1+'Исходные данные'!$E106)+IF(AI51=0,0,'Исходные данные'!$F106*'План продаж'!AH$32)","v":0},{"$f":"AJ51*'Исходные данные'!$D106*(1+'Исходные данные'!$E106)+IF(AJ51=0,0,'Исходные данные'!$F106*'План продаж'!AI$32)","v":0},{"$f":"AK51*'Исходные данные'!$D106*(1+'Исходные данные'!$E106)+IF(AK51=0,0,'Исходные данные'!$F106*'План продаж'!AJ$32)","v":0},{"$f":"AL51*'Исходные данные'!$D106*(1+'Исходные данные'!$E106)+IF(AL51=0,0,'Исходные данные'!$F106*'План продаж'!AK$32)","v":0},{"$f":"AM51*'Исходные данные'!$D106*(1+'Исходные данные'!$E106)+IF(AM51=0,0,'Исходные данные'!$F106*'План продаж'!AL$32)","v":0},{"$f":"AN51*'Исходные данные'!$D106*(1+'Исходные данные'!$E106)+IF(AN51=0,0,'Исходные данные'!$F106*'План продаж'!AM$32)","v":0},{"$f":"AO51*'Исходные данные'!$D106*(1+'Исходные данные'!$E106)+IF(AO51=0,0,'Исходные данные'!$F106*'План продаж'!AN$32)","v":0},{"$f":"AP51*'Исходные данные'!$D106*(1+'Исходные данные'!$E106)+IF(AP51=0,0,'Исходные данные'!$F106*'План продаж'!AO$32)","v":0},{"$f":"AQ51*'Исходные данные'!$D106*(1+'Исходные данные'!$E106)+IF(AQ51=0,0,'Исходные данные'!$F106*'План продаж'!AP$32)","v":0},{"$f":"AR51*'Исходные данные'!$D106*(1+'Исходные данные'!$E106)+IF(AR51=0,0,'Исходные данные'!$F106*'План продаж'!AQ$32)","v":0},{"$f":"AS51*'Исходные данные'!$D106*(1+'Исходные данные'!$E106)+IF(AS51=0,0,'Исходные данные'!$F106*'План продаж'!AR$32)","v":0},{"$f":"AT51*'Исходные данные'!$D106*(1+'Исходные данные'!$E106)+IF(AT51=0,0,'Исходные данные'!$F106*'План продаж'!AS$32)","v":0},{"$f":"AU51*'Исходные данные'!$D106*(1+'Исходные данные'!$E106)+IF(AU51=0,0,'Исходные данные'!$F106*'План продаж'!AT$32)","v":0},{"$f":"AV51*'Исходные данные'!$D106*(1+'Исходные данные'!$E106)+IF(AV51=0,0,'Исходные данные'!$F106*'План продаж'!AU$32)","v":0},{"$f":"AW51*'Исходные данные'!$D106*(1+'Исходные данные'!$E106)+IF(AW51=0,0,'Исходные данные'!$F106*'План продаж'!AV$32)","v":0},{"$f":"AX51*'Исходные данные'!$D106*(1+'Исходные данные'!$E106)+IF(AX51=0,0,'Исходные данные'!$F106*'План продаж'!AW$32)","v":0},{"$f":"AY51*'Исходные данные'!$D106*(1+'Исходные данные'!$E106)+IF(AY51=0,0,'Исходные данные'!$F106*'План продаж'!AX$32)","v":0},{"$f":"AZ51*'Исходные данные'!$D106*(1+'Исходные данные'!$E106)+IF(AZ51=0,0,'Исходные данные'!$F106*'План продаж'!AY$32)","v":0},{"$f":"BA51*'Исходные данные'!$D106*(1+'Исходные данные'!$E106)+IF(BA51=0,0,'Исходные данные'!$F106*'План продаж'!AZ$32)","v":0},{"$f":"BB51*'Исходные данные'!$D106*(1+'Исходные данные'!$E106)+IF(BB51=0,0,'Исходные данные'!$F106*'План продаж'!BA$32)","v":0},{"$f":"BC51*'Исходные данные'!$D106*(1+'Исходные данные'!$E106)+IF(BC51=0,0,'Исходные данные'!$F106*'План продаж'!BB$32)","v":0},{"$f":"BD51*'Исходные данные'!$D106*(1+'Исходные данные'!$E106)+IF(BD51=0,0,'Исходные данные'!$F106*'План продаж'!BC$32)","v":0},{"$f":"BE51*'Исходные данные'!$D106*(1+'Исходные данные'!$E106)+IF(BE51=0,0,'Исходные данные'!$F106*'План продаж'!BD$32)","v":0},{"$f":"BF51*'Исходные данные'!$D106*(1+'Исходные данные'!$E106)+IF(BF51=0,0,'Исходные данные'!$F106*'План продаж'!BE$32)","v":0},{"$f":"BG51*'Исходные данные'!$D106*(1+'Исходные данные'!$E106)+IF(BG51=0,0,'Исходные данные'!$F106*'План продаж'!BF$32)","v":0},{"$f":"BH51*'Исходные данные'!$D106*(1+'Исходные данные'!$E106)+IF(BH51=0,0,'Исходные данные'!$F106*'План продаж'!BG$32)","v":0},{"$f":"BI51*'Исходные данные'!$D106*(1+'Исходные данные'!$E106)+IF(BI51=0,0,'Исходные данные'!$F106*'План продаж'!BH$32)","v":0},{"$f":"BJ51*'Исходные данные'!$D106*(1+'Исходные данные'!$E106)+IF(BJ51=0,0,'Исходные данные'!$F106*'План продаж'!BI$32)","v":0},{"$f":"BK51*'Исходные данные'!$D106*(1+'Исходные данные'!$E106)+IF(BK51=0,0,'Исходные данные'!$F106*'План продаж'!BJ$32)","v":0},{"$f":"BL51*'Исходные данные'!$D106*(1+'Исходные данные'!$E106)+IF(BL51=0,0,'Исходные данные'!$F106*'План продаж'!BK$32)","v":0}]
["Накопительная сумма начисления на 1 ед.",null,null,null,{"$f":"SUM(E69:E83)","v":47806},{"$f":"SUM(F69:F83)","v":99944},{"$f":"SUM(G69:G83)","v":139118.5},{"$f":"SUM(H69:H83)","v":178293},{"$f":"SUM(I69:I83)","v":218868.5},{"$f":"SUM(J69:J83)","v":260119},{"$f":"SUM(K69:K83)","v":310472.5},{"$f":"SUM(L69:L83)","v":383329},{"$f":"SUM(M69:M83)","v":46981},{"$f":"SUM(N69:N83)","v":89086.5},{"$f":"SUM(O69:O83)","v":130067},{"$f":"SUM(P69:P83)","v":171317.5},{"$f":"SUM(Q69:Q83)","v":211893},{"$f":"SUM(R69:R83)","v":252918.5},{"$f":"SUM(S69:S83)","v":293944},{"$f":"SUM(T69:T83)","v":334969.5},{"$f":"SUM(U69:U83)","v":375545},{"$f":"SUM(V69:V83)","v":416795.5},{"$f":"SUM(W69:W83)","v":467149},{"$f":"SUM(X69:X83)","v":540005.5},{"$f":"SUM(Y69:Y83)","v":46981},{"$f":"SUM(Z69:Z83)","v":89086.5},{"$f":"SUM(AA69:AA83)","v":130067},{"$f":"SUM(AB69:AB83)","v":171317.5},{"$f":"SUM(AC69:AC83)","v":211893},{"$f":"SUM(AD69:AD83)","v":252918.5},{"$f":"SUM(AE69:AE83)","v":293944},{"$f":"SUM(AF69:AF83)","v":334969.5},{"$f":"SUM(AG69:AG83)","v":375545},{"$f":"SUM(AH69:AH83)","v":416795.5},{"$f":"SUM(AI69:AI83)","v":467149},{"$f":"SUM(AJ69:AJ83)","v":540005.5},{"$f":"SUM(AK69:AK83)","v":46981},{"$f":"SUM(AL69:AL83)","v":89086.5},{"$f":"SUM(AM69:AM83)","v":130067},{"$f":"SUM(AN69:AN83)","v":171317.5},{"$f":"SUM(AO69:AO83)","v":211893},{"$f":"SUM(AP69:AP83)","v":252918.5},{"$f":"SUM(AQ69:AQ83)","v":293944},{"$f":"SUM(AR69:AR83)","v":334969.5},{"$f":"SUM(AS69:AS83)","v":375545},{"$f":"SUM(AT69:AT83)","v":416795.5},{"$f":"SUM(AU69:AU83)","v":467149},{"$f":"SUM(AV69:AV83)","v":540005.5},{"$f":"SUM(AW69:AW83)","v":46981},{"$f":"SUM(AX69:AX83)","v":89086.5},{"$f":"SUM(AY69:AY83)","v":130067},{"$f":"SUM(AZ69:AZ83)","v":171317.5},{"$f":"SUM(BA69:BA83)","v":211893},{"$f":"SUM(BB69:BB83)","v":252918.5},{"$f":"SUM(BC69:BC83)","v":293944},{"$f":"SUM(BD69:BD83)","v":334969.5},{"$f":"SUM(BE69:BE83)","v":375545},{"$f":"SUM(BF69:BF83)","v":416795.5},{"$f":"SUM(BG69:BG83)","v":467149},{"$f":"SUM(BH69:BH83)","v":540005.5},{"$f":"SUM(BI69:BI83)","v":46981},{"$f":"SUM(BJ69:BJ83)","v":89086.5},{"$f":"SUM(BK69:BK83)","v":130067},{"$f":"SUM(BL69:BL83)","v":171317.5}]
[{"$f":"A53","v":"Продавей"},null,null,null,{"$f":"IFERROR(E53/E37,0)","v":47806},{"$f":"IF(F$4=\"Январь\",IFERROR(F53/F37,0),IFERROR(F53/F37,0)+E69)","v":99944},{"$f":"IF(G$4=\"Январь\",IFERROR(G53/G37,0),IFERROR(G53/G37,0)+F69)","v":139118.5},178293,218868.5,260119,310472.5,383329,46981,89086.5,130067,171317.5,211893,252918.5,293944,334969.5,375545,416795.5,467149,540005.5,46981,89086.5,130067,171317.5,211893,252918.5,293944,334969.5,375545,416795.5,467149,540005.5,46981,89086.5,130067,171317.5,211893,252918.5,293944,334969.5,375545,416795.5,467149,540005.5,46981,89086.5,130067,171317.5,211893,252918.5,293944,334969.5,375545,416795.5,467149,540005.5,46981,89086.5,130067,171317.5]
[{"$f":"A54","v":0},null,null,null,{"$f":"IFERROR(E54/E38,0)","v":0},{"$f":"IF(F$4=\"Январь\",IFERROR(F54/F38,0),IFERROR(F54/F38,0)+E70)","v":0},0,0,0,0,0,0,0,0,0,0,0,0,0,0,0,0,0,0,0,0,0,0,0,0,0,0,0,0,0,0,0,0,0,0,0,0,0,0,0,0,0,0,0,0,0,0,0,0,0,0,0,0,0,0,0,0,0,0]
[0,null,null,null,0,0,0,0,0,0,0,0,0,0,0,0,0,0,0,0,0,0,0,0,0,0,0,0,0,0,0,0,0,0,0,0,0,0,0,0,0,0,0,0,0,0,0,0,0,0,0,0,0,0,0,0,0,0,0,0,0,0,0,0]
[0,null,null,null,0,0,0,0,0,0,0,0,0,0,0,0,0,0,0,0,0,0,0,0,0,0,0,0,0,0,0,0,0,0,0,0,0,0,0,0,0,0,0,0,0,0,0,0,0,0,0,0,0,0,0,0,0,0,0,0,0,0,0,0]
[0,null,null,null,0,0,0,0,0,0,0,0,0,0,0,0,0,0,0,0,0,0,0,0,0,0,0,0,0,0,0,0,0,0,0,0,0,0,0,0,0,0,0,0,{"$f":"IF(AS$4=\"Январь\",IFERROR(AS57/AS41,0),IFERROR(AS57/AS41,0)+AR73)","v":0},0,0,0,0,0,0,0,0,0,0,0,0,0,0,0,0,0,0,0]
[0,null,null,null,0,0,0,0,0,0,0,0,0,0,0,0,0,0,0,0,0,0,0,0,0,0,0,0,0,0,0,0,0,0,0,0,0,0,0,0,0,0,0,0,0,0,0,0,0,0,0,0,0,0,0,0,0,0,0,0,0,0,0,0]
[0,null,null,null,0,0,0,0,0,0,0,0,0,0,0,0,0,0,0,0,0,0,0,0,0,0,0,0,0,0,0,0,0,0,0,0,0,0,0,0,0,0,0,0,0,0,0,0,0,0,0,0,0,0,0,0,0,0,0,0,0,0,0,0]
[0,null,null,null,0,0,0,0,0,0,0,0,0,0,0,0,0,0,0,0,0,0,0,0,0,0,0,0,0,0,0,0,0,0,0,0,0,0,0,0,0,0,0,0,0,0,0,0,0,0,0,0,0,0,0,0,0,0,0,0,0,0,0,0]
[0,null,null,null,0,0,0,0,0,0,0,0,0,0,0,0,0,0,0,0,0,0,0,0,0,0,0,0,0,0,0,0,0,0,0,0,0,0,0,0,0,0,0,0,0,0,0,0,0,0,0,0,0,0,0,0,0,0,0,0,0,0,0,0]
[0,null,null,null,0,0,0,0,0,{"$f":"IF(J$4=\"Январь\",IFERROR(J62/J46,0),IFERROR(J62/J46,0)+I78)","v":0},0,0,0,0,0,0,0,0,0,0,0,0,0,0,0,0,0,0,0,0,0,0,0,0,0,0,0,0,0,0,0,0,0,0,0,0,0,0,0,0,0,0,0,0,0,0,0,0,0,0,0,0,0,0]
[0,null,null,null,0,0,0,0,0,0,0,0,0,0,0,0,0,0,0,0,0,0,0,0,0,0,0,0,0,0,0,0,0,0,0,0,0,0,0,0,0,0,0,0,0,0,0,0,0,0,0,0,0,0,0,0,0,0,0,0,0,0,0,0]
[0,null,null,null,0,0,0,0,0,0,0,0,0,0,0,0,0,0,0,0,0,0,0,0,0,0,0,0,0,0,0,0,0,0,0,0,0,0,0,0,0,0,0,0,0,0,0,0,0,0,0,0,0,0,0,0,0,0,0,0,0,0,0,0]
[0,null,null,null,0,0,0,0,0,0,0,0,0,0,0,0,0,0,0,0,0,0,0,0,0,0,0,0,0,0,0,0,0,0,0,0,0,0,0,0,0,0,0,0,0,0,0,0,0,0,0,0,0,0,0,0,0,0,0,0,0,0,0,0]
[0,null,null,null,0,0,0,0,0,0,0,0,0,0,0,0,0,0,0,0,0,0,0,0,0,0,0,0,0,0,0,0,{"$f":"IF(AG$4=\"Январь\",IFERROR(AG66/AG50,0),IFERROR(AG66/AG50,0)+AF82)","v":0},0,0,0,0,0,0,0,0,0,0,0,0,0,0,0,0,0,0,0,0,0,0,0,0,0,0,0,0,0,0,0]
[0,null,null,null,0,0,0,0,0,0,0,0,0,0,0,0,0,0,0,0,0,0,0,0,0,0,0,0,0,0,0,0,0,0,0,0,0,0,0,0,0,0,0,0,0,0,0,0,0,0,0,0,0,0,0,0,0,0,0,0,0,0,0,0]
["Процент взноса в ПФР"]
[{"$f":"A69","v":"Продавей"},null,null,null,{"$f":"IF((E69-'Исходные данные'!$C$291)<0,'Исходные данные'!$C$290,'Исходные данные'!$C$292)","v":0.22},{"$f":"IF((F69-'Исходные данные'!$C$291)<0,'Исходные данные'!$C$290,'Исходные данные'!$C$292)","v":0.22},{"$f":"IF((G69-'Исходные данные'!$C$291)<0,'Исходные данные'!$C$290,'Исходные данные'!$C$292)","v":0.22},{"$f":"IF((H69-'Исходные данные'!$C$291)<0,'Исходные данные'!$C$290,'Исходные данные'!$C$292)","v":0.22},{"$f":"IF((I69-'Исходные данные'!$C$291)<0,'Исходные данные'!$C$290,'Исходные данные'!$C$292)","v":0.22},{"$f":"IF((J69-'Исходные данные'!$C$291)<0,'Исходные данные'!$C$290,'Исходные данные'!$C$292)","v":0.22},{"$f":"IF((K69-'Исходные данные'!$C$291)<0,'Исходные данные'!$C$290,'Исходные данные'!$C$292)","v":0.22},{"$f":"IF((L69-'Исходные данные'!$C$291)<0,'Исходные данные'!$C$290,'Исходные данные'!$C$292)","v":0.22},{"$f":"IF((M69-'Исходные данные'!$C$291)<0,'Исходные данные'!$C$290,'Исходные данные'!$C$292)","v":0.22},{"$f":"IF((N69-'Исходные данные'!$C$291)<0,'Исходные данные'!$C$290,'Исходные данные'!$C$292)","v":0.22},{"$f":"IF((O69-'Исходные данные'!$C$291)<0,'Исходные данные'!$C$290,'Исходные данные'!$C$292)","v":0.22},{"$f":"IF((P69-'Исходные данные'!$C$291)<0,'Исходные данные'!$C$290,'Исходные данные'!$C$292)","v":0.22},{"$f":"IF((Q69-'Исходные данные'!$C$291)<0,'Исходные данные'!$C$290,'Исходные данные'!$C$292)","v":0.22},{"$f":"IF((R69-'Исходные данные'!$C$291)<0,'Исходные данные'!$C$290,'Исходные данные'!$C$292)","v":0.22},{"$f":"IF((S69-'Исходные данные'!$C$291)<0,'Исходные данные'!$C$290,'Исходные данные'!$C$292)","v":0.22},{"$f":"IF((T69-'Исходные данные'!$C$291)<0,'Исходные данные'!$C$290,'Исходные данные'!$C$292)","v":0.22},{"$f":"IF((U69-'Исходные данные'!$C$291)<0,'Исходные данные'!$C$290,'Исходные данные'!$C$292)","v":0.22},{"$f":"IF((V69-'Исходные данные'!$C$291)<0,'Исходные данные'!$C$290,'Исходные данные'!$C$292)","v":0.22},{"$f":"IF((W69-'Исходные данные'!$C$291)<0,'Исходные данные'!$C$290,'Исходные данные'!$C$292)","v":0.22},{"$f":"IF((X69-'Исходные данные'!$C$291)<0,'Исходные данные'!$C$290,'Исходные данные'!$C$292)","v":0.22},{"$f":"IF((Y69-'Исходные данные'!$C$291)<0,'Исходные данные'!$C$290,'Исходные данные'!$C$292)","v":0.22},{"$f":"IF((Z69-'Исходные данные'!$C$291)<0,'Исходные данные'!$C$290,'Исходные данные'!$C$292)","v":0.22},{"$f":"IF((AA69-'Исходные данные'!$C$291)<0,'Исходные данные'!$C$290,'Исходные данные'!$C$292)","v":0.22},{"$f":"IF((AB69-'Исходные данные'!$C$291)<0,'Исходные данные'!$C$290,'Исходные данные'!$C$292)","v":0.22},{"$f":"IF((AC69-'Исходные данные'!$C$291)<0,'Исходные данные'!$C$290,'Исходные данные'!$C$292)","v":0.22},{"$f":"IF((AD69-'Исходные данные'!$C$291)<0,'Исходные данные'!$C$290,'Исходные данные'!$C$292)","v":0.22},{"$f":"IF((AE69-'Исходные данные'!$C$291)<0,'Исходные данные'!$C$290,'Исходные данные'!$C$292)","v":0.22},{"$f":"IF((AF69-'Исходные данные'!$C$291)<0,'Исходные данные'!$C$290,'Исходные данные'!$C$292)","v":0.22},{"$f":"IF((AG69-'Исходные данные'!$C$291)<0,'Исходные данные'!$C$290,'Исходные данные'!$C$292)","v":0.22},{"$f":"IF((AH69-'Исходные данные'!$C$291)<0,'Исходные данные'!$C$290,'Исходные данные'!$C$292)","v":0.22},{"$f":"IF((AI69-'Исходные данные'!$C$291)<0,'Исходные данные'!$C$290,'Исходные данные'!$C$292)","v":0.22},{"$f":"IF((AJ69-'Исходные данные'!$C$291)<0,'Исходные данные'!$C$290,'Исходные данные'!$C$292)","v":0.22},{"$f":"IF((AK69-'Исходные данные'!$C$291)<0,'Исходные данные'!$C$290,'Исходные данные'!$C$292)","v":0.22},{"$f":"IF((AL69-'Исходные данные'!$C$291)<0,'Исходные данные'!$C$290,'Исходные данные'!$C$292)","v":0.22},{"$f":"IF((AM69-'Исходные данные'!$C$291)<0,'Исходные данные'!$C$290,'Исходные данные'!$C$292)","v":0.22},{"$f":"IF((AN69-'Исходные данные'!$C$291)<0,'Исходные данные'!$C$290,'Исходные данные'!$C$292)","v":0.22},{"$f":"IF((AO69-'Исходные данные'!$C$291)<0,'Исходные данные'!$C$290,'Исходные данные'!$C$292)","v":0.22},{"$f":"IF((AP69-'Исходные данные'!$C$291)<0,'Исходные данные'!$C$290,'Исходные данные'!$C$292)","v":0.22},{"$f":"IF((AQ69-'Исходные данные'!$C$291)<0,'Исходные данные'!$C$290,'Исходные данные'!$C$292)","v":0.22},{"$f":"IF((AR69-'Исходные данные'!$C$291)<0,'Исходные данные'!$C$290,'Исходные данные'!$C$292)","v":0.22},{"$f":"IF((AS69-'Исходные данные'!$C$291)<0,'Исходные данные'!$C$290,'Исходные данные'!$C$292)","v":0.22},{"$f":"IF((AT69-'Исходные данные'!$C$291)<0,'Исходные данные'!$C$290,'Исходные данные'!$C$292)","v":0.22},{"$f":"IF((AU69-'Исходные данные'!$C$291)<0,'Исходные данные'!$C$290,'Исходные данные'!$C$292)","v":0.22},{"$f":"IF((AV69-'Исходные данные'!$C$291)<0,'Исходные данные'!$C$290,'Исходные данные'!$C$292)","v":0.22},{"$f":"IF((AW69-'Исходные данные'!$C$291)<0,'Исходные данные'!$C$290,'Исходные данные'!$C$292)","v":0.22},{"$f":"IF((AX69-'Исходные данные'!$C$291)<0,'Исходные данные'!$C$290,'Исходные данные'!$C$292)","v":0.22},{"$f":"IF((AY69-'Исходные данные'!$C$291)<0,'Исходные данные'!$C$290,'Исходные данные'!$C$292)","v":0.22},{"$f":"IF((AZ69-'Исходные данные'!$C$291)<0,'Исходные данные'!$C$290,'Исходные данные'!$C$292)","v":0.22},{"$f":"IF((BA69-'Исходные данные'!$C$291)<0,'Исходные данные'!$C$290,'Исходные данные'!$C$292)","v":0.22},{"$f":"IF((BB69-'Исходные данные'!$C$291)<0,'Исходные данные'!$C$290,'Исходные данные'!$C$292)","v":0.22},{"$f":"IF((BC69-'Исходные данные'!$C$291)<0,'Исходные данные'!$C$290,'Исходные данные'!$C$292)","v":0.22},{"$f":"IF((BD69-'Исходные данные'!$C$291)<0,'Исходные данные'!$C$290,'Исходные данные'!$C$292)","v":0.22},{"$f":"IF((BE69-'Исходные данные'!$C$291)<0,'Исходные данные'!$C$290,'Исходные данные'!$C$292)","v":0.22},{"$f":"IF((BF69-'Исходные данные'!$C$291)<0,'Исходные данные'!$C$290,'Исходные данные'!$C$292)","v":0.22},{"$f":"IF((BG69-'Исходные данные'!$C$291)<0,'Исходные данные'!$C$290,'Исходные данные'!$C$292)","v":0.22},{"$f":"IF((BH69-'Исходные данные'!$C$291)<0,'Исходные данные'!$C$290,'Исходные данные'!$C$292)","v":0.22},{"$f":"IF((BI69-'Исходные данные'!$C$291)<0,'Исходные данные'!$C$290,'Исходные данные'!$C$292)","v":0.22},{"$f":"IF((BJ69-'Исходные данные'!$C$291)<0,'Исходные данные'!$C$290,'Исходные данные'!$C$292)","v":0.22},{"$f":"IF((BK69-'Исходные данные'!$C$291)<0,'Исходные данные'!$C$290,'Исходные данные'!$C$292)","v":0.22},{"$f":"IF((BL69-'Исходные данные'!$C$291)<0,'Исходные данные'!$C$290,'Исходные данные'!$C$292)","v":0.22}]
[{"$f":"A70","v":0},null,null,null,{"$f":"IF((E70-'Исходные данные'!$C$291)<0,'Исходные данные'!$C$290,'Исходные данные'!$C$292)","v":0.22},{"$f":"IF((F70-'Исходные данные'!$C$291)<0,'Исходные данные'!$C$290,'Исходные данные'!$C$292)","v":0.22},{"$f":"IF((G70-'Исходные данные'!$C$291)<0,'Исходные данные'!$C$290,'Исходные данные'!$C$292)","v":0.22},{"$f":"IF((H70-'Исходные данные'!$C$291)<0,'Исходные данные'!$C$290,'Исходные данные'!$C$292)","v":0.22},{"$f":"IF((I70-'Исходные данные'!$C$291)<0,'Исходные данные'!$C$290,'Исходные данные'!$C$292)","v":0.22},{"$f":"IF((J70-'Исходные данные'!$C$291)<0,'Исходные данные'!$C$290,'Исходные данные'!$C$292)","v":0.22},{"$f":"IF((K70-'Исходные данные'!$C$291)<0,'Исходные данные'!$C$290,'Исходные данные'!$C$292)","v":0.22},{"$f":"IF((L70-'Исходные данные'!$C$291)<0,'Исходные данные'!$C$290,'Исходные данные'!$C$292)","v":0.22},{"$f":"IF((M70-'Исходные данные'!$C$291)<0,'Исходные данные'!$C$290,'Исходные данные'!$C$292)","v":0.22},{"$f":"IF((N70-'Исходные данные'!$C$291)<0,'Исходные данные'!$C$290,'Исходные данные'!$C$292)","v":0.22},{"$f":"IF((O70-'Исходные данные'!$C$291)<0,'Исходные данные'!$C$290,'Исходные данные'!$C$292)","v":0.22},{"$f":"IF((P70-'Исходные данные'!$C$291)<0,'Исходные данные'!$C$290,'Исходные данные'!$C$292)","v":0.22},{"$f":"IF((Q70-'Исходные данные'!$C$291)<0,'Исходные данные'!$C$290,'Исходные данные'!$C$292)","v":0.22},{"$f":"IF((R70-'Исходные данные'!$C$291)<0,'Исходные данные'!$C$290,'Исходные данные'!$C$292)","v":0.22},{"$f":"IF((S70-'Исходные данные'!$C$291)<0,'Исходные данные'!$C$290,'Исходные данные'!$C$292)","v":0.22},{"$f":"IF((T70-'Исходные данные'!$C$291)<0,'Исходные данные'!$C$290,'Исходные данные'!$C$292)","v":0.22},{"$f":"IF((U70-'Исходные данные'!$C$291)<0,'Исходные данные'!$C$290,'Исходные данные'!$C$292)","v":0.22},{"$f":"IF((V70-'Исходные данные'!$C$291)<0,'Исходные данные'!$C$290,'Исходные данные'!$C$292)","v":0.22},{"$f":"IF((W70-'Исходные данные'!$C$291)<0,'Исходные данные'!$C$290,'Исходные данные'!$C$292)","v":0.22},{"$f":"IF((X70-'Исходные данные'!$C$291)<0,'Исходные данные'!$C$290,'Исходные данные'!$C$292)","v":0.22},{"$f":"IF((Y70-'Исходные данные'!$C$291)<0,'Исходные данные'!$C$290,'Исходные данные'!$C$292)","v":0.22},{"$f":"IF((Z70-'Исходные данные'!$C$291)<0,'Исходные данные'!$C$290,'Исходные данные'!$C$292)","v":0.22},{"$f":"IF((AA70-'Исходные данные'!$C$291)<0,'Исходные данные'!$C$290,'Исходные данные'!$C$292)","v":0.22},{"$f":"IF((AB70-'Исходные данные'!$C$291)<0,'Исходные данные'!$C$290,'Исходные данные'!$C$292)","v":0.22},{"$f":"IF((AC70-'Исходные данные'!$C$291)<0,'Исходные данные'!$C$290,'Исходные данные'!$C$292)","v":0.22},{"$f":"IF((AD70-'Исходные данные'!$C$291)<0,'Исходные данные'!$C$290,'Исходные данные'!$C$292)","v":0.22},{"$f":"IF((AE70-'Исходные данные'!$C$291)<0,'Исходные данные'!$C$290,'Исходные данные'!$C$292)","v":0.22},{"$f":"IF((AF70-'Исходные данные'!$C$291)<0,'Исходные данные'!$C$290,'Исходные данные'!$C$292)","v":0.22},{"$f":"IF((AG70-'Исходные данные'!$C$291)<0,'Исходные данные'!$C$290,'Исходные данные'!$C$292)","v":0.22},{"$f":"IF((AH70-'Исходные данные'!$C$291)<0,'Исходные данные'!$C$290,'Исходные данные'!$C$292)","v":0.22},{"$f":"IF((AI70-'Исходные данные'!$C$291)<0,'Исходные данные'!$C$290,'Исходные данные'!$C$292)","v":0.22},{"$f":"IF((AJ70-'Исходные данные'!$C$291)<0,'Исходные данные'!$C$290,'Исходные данные'!$C$292)","v":0.22},{"$f":"IF((AK70-'Исходные данные'!$C$291)<0,'Исходные данные'!$C$290,'Исходные данные'!$C$292)","v":0.22},{"$f":"IF((AL70-'Исходные данные'!$C$291)<0,'Исходные данные'!$C$290,'Исходные данные'!$C$292)","v":0.22},{"$f":"IF((AM70-'Исходные данные'!$C$291)<0,'Исходные данные'!$C$290,'Исходные данные'!$C$292)","v":0.22},{"$f":"IF((AN70-'Исходные данные'!$C$291)<0,'Исходные данные'!$C$290,'Исходные данные'!$C$292)","v":0.22},{"$f":"IF((AO70-'Исходные данные'!$C$291)<0,'Исходные данные'!$C$290,'Исходные данные'!$C$292)","v":0.22},{"$f":"IF((AP70-'Исходные данные'!$C$291)<0,'Исходные данные'!$C$290,'Исходные данные'!$C$292)","v":0.22},{"$f":"IF((AQ70-'Исходные данные'!$C$291)<0,'Исходные данные'!$C$290,'Исходные данные'!$C$292)","v":0.22},{"$f":"IF((AR70-'Исходные данные'!$C$291)<0,'Исходные данные'!$C$290,'Исходные данные'!$C$292)","v":0.22},{"$f":"IF((AS70-'Исходные данные'!$C$291)<0,'Исходные данные'!$C$290,'Исходные данные'!$C$292)","v":0.22},{"$f":"IF((AT70-'Исходные данные'!$C$291)<0,'Исходные данные'!$C$290,'Исходные данные'!$C$292)","v":0.22},{"$f":"IF((AU70-'Исходные данные'!$C$291)<0,'Исходные данные'!$C$290,'Исходные данные'!$C$292)","v":0.22},{"$f":"IF((AV70-'Исходные данные'!$C$291)<0,'Исходные данные'!$C$290,'Исходные данные'!$C$292)","v":0.22},{"$f":"IF((AW70-'Исходные данные'!$C$291)<0,'Исходные данные'!$C$290,'Исходные данные'!$C$292)","v":0.22},{"$f":"IF((AX70-'Исходные данные'!$C$291)<0,'Исходные данные'!$C$290,'Исходные данные'!$C$292)","v":0.22},{"$f":"IF((AY70-'Исходные данные'!$C$291)<0,'Исходные данные'!$C$290,'Исходные данные'!$C$292)","v":0.22},{"$f":"IF((AZ70-'Исходные данные'!$C$291)<0,'Исходные данные'!$C$290,'Исходные данные'!$C$292)","v":0.22},{"$f":"IF((BA70-'Исходные данные'!$C$291)<0,'Исходные данные'!$C$290,'Исходные данные'!$C$292)","v":0.22},{"$f":"IF((BB70-'Исходные данные'!$C$291)<0,'Исходные данные'!$C$290,'Исходные данные'!$C$292)","v":0.22},{"$f":"IF((BC70-'Исходные данные'!$C$291)<0,'Исходные данные'!$C$290,'Исходные данные'!$C$292)","v":0.22},{"$f":"IF((BD70-'Исходные данные'!$C$291)<0,'Исходные данные'!$C$290,'Исходные данные'!$C$292)","v":0.22},{"$f":"IF((BE70-'Исходные данные'!$C$291)<0,'Исходные данные'!$C$290,'Исходные данные'!$C$292)","v":0.22},{"$f":"IF((BF70-'Исходные данные'!$C$291)<0,'Исходные данные'!$C$290,'Исходные данные'!$C$292)","v":0.22},{"$f":"IF((BG70-'Исходные данные'!$C$291)<0,'Исходные данные'!$C$290,'Исходные данные'!$C$292)","v":0.22},{"$f":"IF((BH70-'Исходные данные'!$C$291)<0,'Исходные данные'!$C$290,'Исходные данные'!$C$292)","v":0.22},{"$f":"IF((BI70-'Исходные данные'!$C$291)<0,'Исходные данные'!$C$290,'Исходные данные'!$C$292)","v":0.22},{"$f":"IF((BJ70-'Исходные данные'!$C$291)<0,'Исходные данные'!$C$290,'Исходные данные'!$C$292)","v":0.22},{"$f":"IF((BK70-'Исходные данные'!$C$291)<0,'Исходные данные'!$C$290,'Исходные данные'!$C$292)","v":0.22},{"$f":"IF((BL70-'Исходные данные'!$C$291)<0,'Исходные данные'!$C$290,'Исходные данные'!$C$292)","v":0.22}]
[0,null,null,null,{"$f":"IF((E71-'Исходные данные'!$C$291)<0,'Исходные данные'!$C$290,'Исходные данные'!$C$292)","v":0.22},{"$f":"IF((F71-'Исходные данные'!$C$291)<0,'Исходные данные'!$C$290,'Исходные данные'!$C$292)","v":0.22},{"$f":"IF((G71-'Исходные данные'!$C$291)<0,'Исходные данные'!$C$290,'Исходные данные'!$C$292)","v":0.22},{"$f":"IF((H71-'Исходные данные'!$C$291)<0,'Исходные данные'!$C$290,'Исходные данные'!$C$292)","v":0.22},{"$f":"IF((I71-'Исходные данные'!$C$291)<0,'Исходные данные'!$C$290,'Исходные данные'!$C$292)","v":0.22},{"$f":"IF((J71-'Исходные данные'!$C$291)<0,'Исходные данные'!$C$290,'Исходные данные'!$C$292)","v":0.22},{"$f":"IF((K71-'Исходные данные'!$C$291)<0,'Исходные данные'!$C$290,'Исходные данные'!$C$292)","v":0.22},{"$f":"IF((L71-'Исходные данные'!$C$291)<0,'Исходные данные'!$C$290,'Исходные данные'!$C$292)","v":0.22},{"$f":"IF((M71-'Исходные данные'!$C$291)<0,'Исходные данные'!$C$290,'Исходные данные'!$C$292)","v":0.22},{"$f":"IF((N71-'Исходные данные'!$C$291)<0,'Исходные данные'!$C$290,'Исходные данные'!$C$292)","v":0.22},{"$f":"IF((O71-'Исходные данные'!$C$291)<0,'Исходные данные'!$C$290,'Исходные данные'!$C$292)","v":0.22},{"$f":"IF((P71-'Исходные данные'!$C$291)<0,'Исходные данные'!$C$290,'Исходные данные'!$C$292)","v":0.22},{"$f":"IF((Q71-'Исходные данные'!$C$291)<0,'Исходные данные'!$C$290,'Исходные данные'!$C$292)","v":0.22},{"$f":"IF((R71-'Исходные данные'!$C$291)<0,'Исходные данные'!$C$290,'Исходные данные'!$C$292)","v":0.22},{"$f":"IF((S71-'Исходные данные'!$C$291)<0,'Исходные данные'!$C$290,'Исходные данные'!$C$292)","v":0.22},{"$f":"IF((T71-'Исходные данные'!$C$291)<0,'Исходные данные'!$C$290,'Исходные данные'!$C$292)","v":0.22},{"$f":"IF((U71-'Исходные данные'!$C$291)<0,'Исходные данные'!$C$290,'Исходные данные'!$C$292)","v":0.22},{"$f":"IF((V71-'Исходные данные'!$C$291)<0,'Исходные данные'!$C$290,'Исходные данные'!$C$292)","v":0.22},{"$f":"IF((W71-'Исходные данные'!$C$291)<0,'Исходные данные'!$C$290,'Исходные данные'!$C$292)","v":0.22},{"$f":"IF((X71-'Исходные данные'!$C$291)<0,'Исходные данные'!$C$290,'Исходные данные'!$C$292)","v":0.22},{"$f":"IF((Y71-'Исходные данные'!$C$291)<0,'Исходные данные'!$C$290,'Исходные данные'!$C$292)","v":0.22},{"$f":"IF((Z71-'Исходные данные'!$C$291)<0,'Исходные данные'!$C$290,'Исходные данные'!$C$292)","v":0.22},{"$f":"IF((AA71-'Исходные данные'!$C$291)<0,'Исходные данные'!$C$290,'Исходные данные'!$C$292)","v":0.22},{"$f":"IF((AB71-'Исходные данные'!$C$291)<0,'Исходные данные'!$C$290,'Исходные данные'!$C$292)","v":0.22},{"$f":"IF((AC71-'Исходные данные'!$C$291)<0,'Исходные данные'!$C$290,'Исходные данные'!$C$292)","v":0.22},{"$f":"IF((AD71-'Исходные данные'!$C$291)<0,'Исходные данные'!$C$290,'Исходные данные'!$C$292)","v":0.22},{"$f":"IF((AE71-'Исходные данные'!$C$291)<0,'Исходные данные'!$C$290,'Исходные данные'!$C$292)","v":0.22},{"$f":"IF((AF71-'Исходные данные'!$C$291)<0,'Исходные данные'!$C$290,'Исходные данные'!$C$292)","v":0.22},{"$f":"IF((AG71-'Исходные данные'!$C$291)<0,'Исходные данные'!$C$290,'Исходные данные'!$C$292)","v":0.22},{"$f":"IF((AH71-'Исходные данные'!$C$291)<0,'Исходные данные'!$C$290,'Исходные данные'!$C$292)","v":0.22},{"$f":"IF((AI71-'Исходные данные'!$C$291)<0,'Исходные данные'!$C$290,'Исходные данные'!$C$292)","v":0.22},{"$f":"IF((AJ71-'Исходные данные'!$C$291)<0,'Исходные данные'!$C$290,'Исходные данные'!$C$292)","v":0.22},{"$f":"IF((AK71-'Исходные данные'!$C$291)<0,'Исходные данные'!$C$290,'Исходные данные'!$C$292)","v":0.22},{"$f":"IF((AL71-'Исходные данные'!$C$291)<0,'Исходные данные'!$C$290,'Исходные данные'!$C$292)","v":0.22},{"$f":"IF((AM71-'Исходные данные'!$C$291)<0,'Исходные данные'!$C$290,'Исходные данные'!$C$292)","v":0.22},{"$f":"IF((AN71-'Исходные данные'!$C$291)<0,'Исходные данные'!$C$290,'Исходные данные'!$C$292)","v":0.22},{"$f":"IF((AO71-'Исходные данные'!$C$291)<0,'Исходные данные'!$C$290,'Исходные данные'!$C$292)","v":0.22},{"$f":"IF((AP71-'Исходные данные'!$C$291)<0,'Исходные данные'!$C$290,'Исходные данные'!$C$292)","v":0.22},{"$f":"IF((AQ71-'Исходные данные'!$C$291)<0,'Исходные данные'!$C$290,'Исходные данные'!$C$292)","v":0.22},{"$f":"IF((AR71-'Исходные данные'!$C$291)<0,'Исходные данные'!$C$290,'Исходные данные'!$C$292)","v":0.22},{"$f":"IF((AS71-'Исходные данные'!$C$291)<0,'Исходные данные'!$C$290,'Исходные данные'!$C$292)","v":0.22},{"$f":"IF((AT71-'Исходные данные'!$C$291)<0,'Исходные данные'!$C$290,'Исходные данные'!$C$292)","v":0.22},{"$f":"IF((AU71-'Исходные данные'!$C$291)<0,'Исходные данные'!$C$290,'Исходные данные'!$C$292)","v":0.22},{"$f":"IF((AV71-'Исходные данные'!$C$291)<0,'Исходные данные'!$C$290,'Исходные данные'!$C$292)","v":0.22},{"$f":"IF((AW71-'Исходные данные'!$C$291)<0,'Исходные данные'!$C$290,'Исходные данные'!$C$292)","v":0.22},{"$f":"IF((AX71-'Исходные данные'!$C$291)<0,'Исходные данные'!$C$290,'Исходные данные'!$C$292)","v":0.22},{"$f":"IF((AY71-'Исходные данные'!$C$291)<0,'Исходные данные'!$C$290,'Исходные данные'!$C$292)","v":0.22},{"$f":"IF((AZ71-'Исходные данные'!$C$291)<0,'Исходные данные'!$C$290,'Исходные данные'!$C$292)","v":0.22},{"$f":"IF((BA71-'Исходные данные'!$C$291)<0,'Исходные данные'!$C$290,'Исходные данные'!$C$292)","v":0.22},{"$f":"IF((BB71-'Исходные данные'!$C$291)<0,'Исходные данные'!$C$290,'Исходные данные'!$C$292)","v":0.22},{"$f":"IF((BC71-'Исходные данные'!$C$291)<0,'Исходные данные'!$C$290,'Исходные данные'!$C$292)","v":0.22},{"$f":"IF((BD71-'Исходные данные'!$C$291)<0,'Исходные данные'!$C$290,'Исходные данные'!$C$292)","v":0.22},{"$f":"IF((BE71-'Исходные данные'!$C$291)<0,'Исходные данные'!$C$290,'Исходные данные'!$C$292)","v":0.22},{"$f":"IF((BF71-'Исходные данные'!$C$291)<0,'Исходные данные'!$C$290,'Исходные данные'!$C$292)","v":0.22},{"$f":"IF((BG71-'Исходные данные'!$C$291)<0,'Исходные данные'!$C$290,'Исходные данные'!$C$292)","v":0.22},{"$f":"IF((BH71-'Исходные данные'!$C$291)<0,'Исходные данные'!$C$290,'Исходные данные'!$C$292)","v":0.22},{"$f":"IF((BI71-'Исходные данные'!$C$291)<0,'Исходные данные'!$C$290,'Исходные данные'!$C$292)","v":0.22},{"$f":"IF((BJ71-'Исходные данные'!$C$291)<0,'Исходные данные'!$C$290,'Исходные данные'!$C$292)","v":0.22},{"$f":"IF((BK71-'Исходные данные'!$C$291)<0,'Исходные данные'!$C$290,'Исходные данные'!$C$292)","v":0.22},{"$f":"IF((BL71-'Исходные данные'!$C$291)<0,'Исходные данные'!$C$290,'Исходные данные'!$C$292)","v":0.22}]
[0,null,null,null,{"$f":"IF((E72-'Исходные данные'!$C$291)<0,'Исходные данные'!$C$290,'Исходные данные'!$C$292)","v":0.22},{"$f":"IF((F72-'Исходные данные'!$C$291)<0,'Исходные данные'!$C$290,'Исходные данные'!$C$292)","v":0.22},{"$f":"IF((G72-'Исходные данные'!$C$291)<0,'Исходные данные'!$C$290,'Исходные данные'!$C$292)","v":0.22},{"$f":"IF((H72-'Исходные данные'!$C$291)<0,'Исходные данные'!$C$290,'Исходные данные'!$C$292)","v":0.22},{"$f":"IF((I72-'Исходные данные'!$C$291)<0,'Исходные данные'!$C$290,'Исходные данные'!$C$292)","v":0.22},{"$f":"IF((J72-'Исходные данные'!$C$291)<0,'Исходные данные'!$C$290,'Исходные данные'!$C$292)","v":0.22},{"$f":"IF((K72-'Исходные данные'!$C$291)<0,'Исходные данные'!$C$290,'Исходные данные'!$C$292)","v":0.22},{"$f":"IF((L72-'Исходные данные'!$C$291)<0,'Исходные данные'!$C$290,'Исходные данные'!$C$292)","v":0.22},{"$f":"IF((M72-'Исходные данные'!$C$291)<0,'Исходные данные'!$C$290,'Исходные данные'!$C$292)","v":0.22},{"$f":"IF((N72-'Исходные данные'!$C$291)<0,'Исходные данные'!$C$290,'Исходные данные'!$C$292)","v":0.22},{"$f":"IF((O72-'Исходные данные'!$C$291)<0,'Исходные данные'!$C$290,'Исходные данные'!$C$292)","v":0.22},{"$f":"IF((P72-'Исходные данные'!$C$291)<0,'Исходные данные'!$C$290,'Исходные данные'!$C$292)","v":0.22},{"$f":"IF((Q72-'Исходные данные'!$C$291)<0,'Исходные данные'!$C$290,'Исходные данные'!$C$292)","v":0.22},{"$f":"IF((R72-'Исходные данные'!$C$291)<0,'Исходные данные'!$C$290,'Исходные данные'!$C$292)","v":0.22},{"$f":"IF((S72-'Исходные данные'!$C$291)<0,'Исходные данные'!$C$290,'Исходные данные'!$C$292)","v":0.22},{"$f":"IF((T72-'Исходные данные'!$C$291)<0,'Исходные данные'!$C$290,'Исходные данные'!$C$292)","v":0.22},{"$f":"IF((U72-'Исходные данные'!$C$291)<0,'Исходные данные'!$C$290,'Исходные данные'!$C$292)","v":0.22},{"$f":"IF((V72-'Исходные данные'!$C$291)<0,'Исходные данные'!$C$290,'Исходные данные'!$C$292)","v":0.22},{"$f":"IF((W72-'Исходные данные'!$C$291)<0,'Исходные данные'!$C$290,'Исходные данные'!$C$292)","v":0.22},{"$f":"IF((X72-'Исходные данные'!$C$291)<0,'Исходные данные'!$C$290,'Исходные данные'!$C$292)","v":0.22},{"$f":"IF((Y72-'Исходные данные'!$C$291)<0,'Исходные данные'!$C$290,'Исходные данные'!$C$292)","v":0.22},{"$f":"IF((Z72-'Исходные данные'!$C$291)<0,'Исходные данные'!$C$290,'Исходные данные'!$C$292)","v":0.22},{"$f":"IF((AA72-'Исходные данные'!$C$291)<0,'Исходные данные'!$C$290,'Исходные данные'!$C$292)","v":0.22},{"$f":"IF((AB72-'Исходные данные'!$C$291)<0,'Исходные данные'!$C$290,'Исходные данные'!$C$292)","v":0.22},{"$f":"IF((AC72-'Исходные данные'!$C$291)<0,'Исходные данные'!$C$290,'Исходные данные'!$C$292)","v":0.22},{"$f":"IF((AD72-'Исходные данные'!$C$291)<0,'Исходные данные'!$C$290,'Исходные данные'!$C$292)","v":0.22},{"$f":"IF((AE72-'Исходные данные'!$C$291)<0,'Исходные данные'!$C$290,'Исходные данные'!$C$292)","v":0.22},{"$f":"IF((AF72-'Исходные данные'!$C$291)<0,'Исходные данные'!$C$290,'Исходные данные'!$C$292)","v":0.22},{"$f":"IF((AG72-'Исходные данные'!$C$291)<0,'Исходные данные'!$C$290,'Исходные данные'!$C$292)","v":0.22},{"$f":"IF((AH72-'Исходные данные'!$C$291)<0,'Исходные данные'!$C$290,'Исходные данные'!$C$292)","v":0.22},{"$f":"IF((AI72-'Исходные данные'!$C$291)<0,'Исходные данные'!$C$290,'Исходные данные'!$C$292)","v":0.22},{"$f":"IF((AJ72-'Исходные данные'!$C$291)<0,'Исходные данные'!$C$290,'Исходные данные'!$C$292)","v":0.22},{"$f":"IF((AK72-'Исходные данные'!$C$291)<0,'Исходные данные'!$C$290,'Исходные данные'!$C$292)","v":0.22},{"$f":"IF((AL72-'Исходные данные'!$C$291)<0,'Исходные данные'!$C$290,'Исходные данные'!$C$292)","v":0.22},{"$f":"IF((AM72-'Исходные данные'!$C$291)<0,'Исходные данные'!$C$290,'Исходные данные'!$C$292)","v":0.22},{"$f":"IF((AN72-'Исходные данные'!$C$291)<0,'Исходные данные'!$C$290,'Исходные данные'!$C$292)","v":0.22},{"$f":"IF((AO72-'Исходные данные'!$C$291)<0,'Исходные данные'!$C$290,'Исходные данные'!$C$292)","v":0.22},{"$f":"IF((AP72-'Исходные данные'!$C$291)<0,'Исходные данные'!$C$290,'Исходные данные'!$C$292)","v":0.22},{"$f":"IF((AQ72-'Исходные данные'!$C$291)<0,'Исходные данные'!$C$290,'Исходные данные'!$C$292)","v":0.22},{"$f":"IF((AR72-'Исходные данные'!$C$291)<0,'Исходные данные'!$C$290,'Исходные данные'!$C$292)","v":0.22},{"$f":"IF((AS72-'Исходные данные'!$C$291)<0,'Исходные данные'!$C$290,'Исходные данные'!$C$292)","v":0.22},{"$f":"IF((AT72-'Исходные данные'!$C$291)<0,'Исходные данные'!$C$290,'Исходные данные'!$C$292)","v":0.22},{"$f":"IF((AU72-'Исходные данные'!$C$291)<0,'Исходные данные'!$C$290,'Исходные данные'!$C$292)","v":0.22},{"$f":"IF((AV72-'Исходные данные'!$C$291)<0,'Исходные данные'!$C$290,'Исходные данные'!$C$292)","v":0.22},{"$f":"IF((AW72-'Исходные данные'!$C$291)<0,'Исходные данные'!$C$290,'Исходные данные'!$C$292)","v":0.22},{"$f":"IF((AX72-'Исходные данные'!$C$291)<0,'Исходные данные'!$C$290,'Исходные данные'!$C$292)","v":0.22},{"$f":"IF((AY72-'Исходные данные'!$C$291)<0,'Исходные данные'!$C$290,'Исходные данные'!$C$292)","v":0.22},{"$f":"IF((AZ72-'Исходные данные'!$C$291)<0,'Исходные данные'!$C$290,'Исходные данные'!$C$292)","v":0.22},{"$f":"IF((BA72-'Исходные данные'!$C$291)<0,'Исходные данные'!$C$290,'Исходные данные'!$C$292)","v":0.22},{"$f":"IF((BB72-'Исходные данные'!$C$291)<0,'Исходные данные'!$C$290,'Исходные данные'!$C$292)","v":0.22},{"$f":"IF((BC72-'Исходные данные'!$C$291)<0,'Исходные данные'!$C$290,'Исходные данные'!$C$292)","v":0.22},{"$f":"IF((BD72-'Исходные данные'!$C$291)<0,'Исходные данные'!$C$290,'Исходные данные'!$C$292)","v":0.22},{"$f":"IF((BE72-'Исходные данные'!$C$291)<0,'Исходные данные'!$C$290,'Исходные данные'!$C$292)","v":0.22},{"$f":"IF((BF72-'Исходные данные'!$C$291)<0,'Исходные данные'!$C$290,'Исходные данные'!$C$292)","v":0.22},{"$f":"IF((BG72-'Исходные данные'!$C$291)<0,'Исходные данные'!$C$290,'Исходные данные'!$C$292)","v":0.22},{"$f":"IF((BH72-'Исходные данные'!$C$291)<0,'Исходные данные'!$C$290,'Исходные данные'!$C$292)","v":0.22},{"$f":"IF((BI72-'Исходные данные'!$C$291)<0,'Исходные данные'!$C$290,'Исходные данные'!$C$292)","v":0.22},{"$f":"IF((BJ72-'Исходные данные'!$C$291)<0,'Исходные данные'!$C$290,'Исходные данные'!$C$292)","v":0.22},{"$f":"IF((BK72-'Исходные данные'!$C$291)<0,'Исходные данные'!$C$290,'Исходные данные'!$C$292)","v":0.22},{"$f":"IF((BL72-'Исходные данные'!$C$291)<0,'Исходные данные'!$C$290,'Исходные данные'!$C$292)","v":0.22}]
[0,null,null,null,{"$f":"IF((E73-'Исходные данные'!$C$291)<0,'Исходные данные'!$C$290,'Исходные данные'!$C$292)","v":0.22},{"$f":"IF((F73-'Исходные данные'!$C$291)<0,'Исходные данные'!$C$290,'Исходные данные'!$C$292)","v":0.22},{"$f":"IF((G73-'Исходные данные'!$C$291)<0,'Исходные данные'!$C$290,'Исходные данные'!$C$292)","v":0.22},{"$f":"IF((H73-'Исходные данные'!$C$291)<0,'Исходные данные'!$C$290,'Исходные данные'!$C$292)","v":0.22},{"$f":"IF((I73-'Исходные данные'!$C$291)<0,'Исходные данные'!$C$290,'Исходные данные'!$C$292)","v":0.22},{"$f":"IF((J73-'Исходные данные'!$C$291)<0,'Исходные данные'!$C$290,'Исходные данные'!$C$292)","v":0.22},{"$f":"IF((K73-'Исходные данные'!$C$291)<0,'Исходные данные'!$C$290,'Исходные данные'!$C$292)","v":0.22},{"$f":"IF((L73-'Исходные данные'!$C$291)<0,'Исходные данные'!$C$290,'Исходные данные'!$C$292)","v":0.22},{"$f":"IF((M73-'Исходные данные'!$C$291)<0,'Исходные данные'!$C$290,'Исходные данные'!$C$292)","v":0.22},{"$f":"IF((N73-'Исходные данные'!$C$291)<0,'Исходные данные'!$C$290,'Исходные данные'!$C$292)","v":0.22},{"$f":"IF((O73-'Исходные данные'!$C$291)<0,'Исходные данные'!$C$290,'Исходные данные'!$C$292)","v":0.22},{"$f":"IF((P73-'Исходные данные'!$C$291)<0,'Исходные данные'!$C$290,'Исходные данные'!$C$292)","v":0.22},{"$f":"IF((Q73-'Исходные данные'!$C$291)<0,'Исходные данные'!$C$290,'Исходные данные'!$C$292)","v":0.22},{"$f":"IF((R73-'Исходные данные'!$C$291)<0,'Исходные данные'!$C$290,'Исходные данные'!$C$292)","v":0.22},{"$f":"IF((S73-'Исходные данные'!$C$291)<0,'Исходные данные'!$C$290,'Исходные данные'!$C$292)","v":0.22},{"$f":"IF((T73-'Исходные данные'!$C$291)<0,'Исходные данные'!$C$290,'Исходные данные'!$C$292)","v":0.22},{"$f":"IF((U73-'Исходные данные'!$C$291)<0,'Исходные данные'!$C$290,'Исходные данные'!$C$292)","v":0.22},{"$f":"IF((V73-'Исходные данные'!$C$291)<0,'Исходные данные'!$C$290,'Исходные данные'!$C$292)","v":0.22},{"$f":"IF((W73-'Исходные данные'!$C$291)<0,'Исходные данные'!$C$290,'Исходные данные'!$C$292)","v":0.22},{"$f":"IF((X73-'Исходные данные'!$C$291)<0,'Исходные данные'!$C$290,'Исходные данные'!$C$292)","v":0.22},{"$f":"IF((Y73-'Исходные данные'!$C$291)<0,'Исходные данные'!$C$290,'Исходные данные'!$C$292)","v":0.22},{"$f":"IF((Z73-'Исходные данные'!$C$291)<0,'Исходные данные'!$C$290,'Исходные данные'!$C$292)","v":0.22},{"$f":"IF((AA73-'Исходные данные'!$C$291)<0,'Исходные данные'!$C$290,'Исходные данные'!$C$292)","v":0.22},{"$f":"IF((AB73-'Исходные данные'!$C$291)<0,'Исходные данные'!$C$290,'Исходные данные'!$C$292)","v":0.22},{"$f":"IF((AC73-'Исходные данные'!$C$291)<0,'Исходные данные'!$C$290,'Исходные данные'!$C$292)","v":0.22},{"$f":"IF((AD73-'Исходные данные'!$C$291)<0,'Исходные данные'!$C$290,'Исходные данные'!$C$292)","v":0.22},{"$f":"IF((AE73-'Исходные данные'!$C$291)<0,'Исходные данные'!$C$290,'Исходные данные'!$C$292)","v":0.22},{"$f":"IF((AF73-'Исходные данные'!$C$291)<0,'Исходные данные'!$C$290,'Исходные данные'!$C$292)","v":0.22},{"$f":"IF((AG73-'Исходные данные'!$C$291)<0,'Исходные данные'!$C$290,'Исходные данные'!$C$292)","v":0.22},{"$f":"IF((AH73-'Исходные данные'!$C$291)<0,'Исходные данные'!$C$290,'Исходные данные'!$C$292)","v":0.22},{"$f":"IF((AI73-'Исходные данные'!$C$291)<0,'Исходные данные'!$C$290,'Исходные данные'!$C$292)","v":0.22},{"$f":"IF((AJ73-'Исходные данные'!$C$291)<0,'Исходные данные'!$C$290,'Исходные данные'!$C$292)","v":0.22},{"$f":"IF((AK73-'Исходные данные'!$C$291)<0,'Исходные данные'!$C$290,'Исходные данные'!$C$292)","v":0.22},{"$f":"IF((AL73-'Исходные данные'!$C$291)<0,'Исходные данные'!$C$290,'Исходные данные'!$C$292)","v":0.22},{"$f":"IF((AM73-'Исходные данные'!$C$291)<0,'Исходные данные'!$C$290,'Исходные данные'!$C$292)","v":0.22},{"$f":"IF((AN73-'Исходные данные'!$C$291)<0,'Исходные данные'!$C$290,'Исходные данные'!$C$292)","v":0.22},{"$f":"IF((AO73-'Исходные данные'!$C$291)<0,'Исходные данные'!$C$290,'Исходные данные'!$C$292)","v":0.22},{"$f":"IF((AP73-'Исходные данные'!$C$291)<0,'Исходные данные'!$C$290,'Исходные данные'!$C$292)","v":0.22},{"$f":"IF((AQ73-'Исходные данные'!$C$291)<0,'Исходные данные'!$C$290,'Исходные данные'!$C$292)","v":0.22},{"$f":"IF((AR73-'Исходные данные'!$C$291)<0,'Исходные данные'!$C$290,'Исходные данные'!$C$292)","v":0.22},{"$f":"IF((AS73-'Исходные данные'!$C$291)<0,'Исходные данные'!$C$290,'Исходные данные'!$C$292)","v":0.22},{"$f":"IF((AT73-'Исходные данные'!$C$291)<0,'Исходные данные'!$C$290,'Исходные данные'!$C$292)","v":0.22},{"$f":"IF((AU73-'Исходные данные'!$C$291)<0,'Исходные данные'!$C$290,'Исходные данные'!$C$292)","v":0.22},{"$f":"IF((AV73-'Исходные данные'!$C$291)<0,'Исходные данные'!$C$290,'Исходные данные'!$C$292)","v":0.22},{"$f":"IF((AW73-'Исходные данные'!$C$291)<0,'Исходные данные'!$C$290,'Исходные данные'!$C$292)","v":0.22},{"$f":"IF((AX73-'Исходные данные'!$C$291)<0,'Исходные данные'!$C$290,'Исходные данные'!$C$292)","v":0.22},{"$f":"IF((AY73-'Исходные данные'!$C$291)<0,'Исходные данные'!$C$290,'Исходные данные'!$C$292)","v":0.22},{"$f":"IF((AZ73-'Исходные данные'!$C$291)<0,'Исходные данные'!$C$290,'Исходные данные'!$C$292)","v":0.22},{"$f":"IF((BA73-'Исходные данные'!$C$291)<0,'Исходные данные'!$C$290,'Исходные данные'!$C$292)","v":0.22},{"$f":"IF((BB73-'Исходные данные'!$C$291)<0,'Исходные данные'!$C$290,'Исходные данные'!$C$292)","v":0.22},{"$f":"IF((BC73-'Исходные данные'!$C$291)<0,'Исходные данные'!$C$290,'Исходные данные'!$C$292)","v":0.22},{"$f":"IF((BD73-'Исходные данные'!$C$291)<0,'Исходные данные'!$C$290,'Исходные данные'!$C$292)","v":0.22},{"$f":"IF((BE73-'Исходные данные'!$C$291)<0,'Исходные данные'!$C$290,'Исходные данные'!$C$292)","v":0.22},{"$f":"IF((BF73-'Исходные данные'!$C$291)<0,'Исходные данные'!$C$290,'Исходные данные'!$C$292)","v":0.22},{"$f":"IF((BG73-'Исходные данные'!$C$291)<0,'Исходные данные'!$C$290,'Исходные данные'!$C$292)","v":0.22},{"$f":"IF((BH73-'Исходные данные'!$C$291)<0,'Исходные данные'!$C$290,'Исходные данные'!$C$292)","v":0.22},{"$f":"IF((BI73-'Исходные данные'!$C$291)<0,'Исходные данные'!$C$290,'Исходные данные'!$C$292)","v":0.22},{"$f":"IF((BJ73-'Исходные данные'!$C$291)<0,'Исходные данные'!$C$290,'Исходные данные'!$C$292)","v":0.22},{"$f":"IF((BK73-'Исходные данные'!$C$291)<0,'Исходные данные'!$C$290,'Исходные данные'!$C$292)","v":0.22},{"$f":"IF((BL73-'Исходные данные'!$C$291)<0,'Исходные данные'!$C$290,'Исходные данные'!$C$292)","v":0.22}]
[0,null,null,null,{"$f":"IF((E74-'Исходные данные'!$C$291)<0,'Исходные данные'!$C$290,'Исходные данные'!$C$292)","v":0.22},{"$f":"IF((F74-'Исходные данные'!$C$291)<0,'Исходные данные'!$C$290,'Исходные данные'!$C$292)","v":0.22},{"$f":"IF((G74-'Исходные данные'!$C$291)<0,'Исходные данные'!$C$290,'Исходные данные'!$C$292)","v":0.22},{"$f":"IF((H74-'Исходные данные'!$C$291)<0,'Исходные данные'!$C$290,'Исходные данные'!$C$292)","v":0.22},{"$f":"IF((I74-'Исходные данные'!$C$291)<0,'Исходные данные'!$C$290,'Исходные данные'!$C$292)","v":0.22},{"$f":"IF((J74-'Исходные данные'!$C$291)<0,'Исходные данные'!$C$290,'Исходные данные'!$C$292)","v":0.22},{"$f":"IF((K74-'Исходные данные'!$C$291)<0,'Исходные данные'!$C$290,'Исходные данные'!$C$292)","v":0.22},{"$f":"IF((L74-'Исходные данные'!$C$291)<0,'Исходные данные'!$C$290,'Исходные данные'!$C$292)","v":0.22},{"$f":"IF((M74-'Исходные данные'!$C$291)<0,'Исходные данные'!$C$290,'Исходные данные'!$C$292)","v":0.22},{"$f":"IF((N74-'Исходные данные'!$C$291)<0,'Исходные данные'!$C$290,'Исходные данные'!$C$292)","v":0.22},{"$f":"IF((O74-'Исходные данные'!$C$291)<0,'Исходные данные'!$C$290,'Исходные данные'!$C$292)","v":0.22},{"$f":"IF((P74-'Исходные данные'!$C$291)<0,'Исходные данные'!$C$290,'Исходные данные'!$C$292)","v":0.22},{"$f":"IF((Q74-'Исходные данные'!$C$291)<0,'Исходные данные'!$C$290,'Исходные данные'!$C$292)","v":0.22},{"$f":"IF((R74-'Исходные данные'!$C$291)<0,'Исходные данные'!$C$290,'Исходные данные'!$C$292)","v":0.22},{"$f":"IF((S74-'Исходные данные'!$C$291)<0,'Исходные данные'!$C$290,'Исходные данные'!$C$292)","v":0.22},{"$f":"IF((T74-'Исходные данные'!$C$291)<0,'Исходные данные'!$C$290,'Исходные данные'!$C$292)","v":0.22},{"$f":"IF((U74-'Исходные данные'!$C$291)<0,'Исходные данные'!$C$290,'Исходные данные'!$C$292)","v":0.22},{"$f":"IF((V74-'Исходные данные'!$C$291)<0,'Исходные данные'!$C$290,'Исходные данные'!$C$292)","v":0.22},{"$f":"IF((W74-'Исходные данные'!$C$291)<0,'Исходные данные'!$C$290,'Исходные данные'!$C$292)","v":0.22},{"$f":"IF((X74-'Исходные данные'!$C$291)<0,'Исходные данные'!$C$290,'Исходные данные'!$C$292)","v":0.22},{"$f":"IF((Y74-'Исходные данные'!$C$291)<0,'Исходные данные'!$C$290,'Исходные данные'!$C$292)","v":0.22},{"$f":"IF((Z74-'Исходные данные'!$C$291)<0,'Исходные данные'!$C$290,'Исходные данные'!$C$292)","v":0.22},{"$f":"IF((AA74-'Исходные данные'!$C$291)<0,'Исходные данные'!$C$290,'Исходные данные'!$C$292)","v":0.22},{"$f":"IF((AB74-'Исходные данные'!$C$291)<0,'Исходные данные'!$C$290,'Исходные данные'!$C$292)","v":0.22},{"$f":"IF((AC74-'Исходные данные'!$C$291)<0,'Исходные данные'!$C$290,'Исходные данные'!$C$292)","v":0.22},{"$f":"IF((AD74-'Исходные данные'!$C$291)<0,'Исходные данные'!$C$290,'Исходные данные'!$C$292)","v":0.22},{"$f":"IF((AE74-'Исходные данные'!$C$291)<0,'Исходные данные'!$C$290,'Исходные данные'!$C$292)","v":0.22},{"$f":"IF((AF74-'Исходные данные'!$C$291)<0,'Исходные данные'!$C$290,'Исходные данные'!$C$292)","v":0.22},{"$f":"IF((AG74-'Исходные данные'!$C$291)<0,'Исходные данные'!$C$290,'Исходные данные'!$C$292)","v":0.22},{"$f":"IF((AH74-'Исходные данные'!$C$291)<0,'Исходные данные'!$C$290,'Исходные данные'!$C$292)","v":0.22},{"$f":"IF((AI74-'Исходные данные'!$C$291)<0,'Исходные данные'!$C$290,'Исходные данные'!$C$292)","v":0.22},{"$f":"IF((AJ74-'Исходные данные'!$C$291)<0,'Исходные данные'!$C$290,'Исходные данные'!$C$292)","v":0.22},{"$f":"IF((AK74-'Исходные данные'!$C$291)<0,'Исходные данные'!$C$290,'Исходные данные'!$C$292)","v":0.22},{"$f":"IF((AL74-'Исходные данные'!$C$291)<0,'Исходные данные'!$C$290,'Исходные данные'!$C$292)","v":0.22},{"$f":"IF((AM74-'Исходные данные'!$C$291)<0,'Исходные данные'!$C$290,'Исходные данные'!$C$292)","v":0.22},{"$f":"IF((AN74-'Исходные данные'!$C$291)<0,'Исходные данные'!$C$290,'Исходные данные'!$C$292)","v":0.22},{"$f":"IF((AO74-'Исходные данные'!$C$291)<0,'Исходные данные'!$C$290,'Исходные данные'!$C$292)","v":0.22},{"$f":"IF((AP74-'Исходные данные'!$C$291)<0,'Исходные данные'!$C$290,'Исходные данные'!$C$292)","v":0.22},{"$f":"IF((AQ74-'Исходные данные'!$C$291)<0,'Исходные данные'!$C$290,'Исходные данные'!$C$292)","v":0.22},{"$f":"IF((AR74-'Исходные данные'!$C$291)<0,'Исходные данные'!$C$290,'Исходные данные'!$C$292)","v":0.22},{"$f":"IF((AS74-'Исходные данные'!$C$291)<0,'Исходные данные'!$C$290,'Исходные данные'!$C$292)","v":0.22},{"$f":"IF((AT74-'Исходные данные'!$C$291)<0,'Исходные данные'!$C$290,'Исходные данные'!$C$292)","v":0.22},{"$f":"IF((AU74-'Исходные данные'!$C$291)<0,'Исходные данные'!$C$290,'Исходные данные'!$C$292)","v":0.22},{"$f":"IF((AV74-'Исходные данные'!$C$291)<0,'Исходные данные'!$C$290,'Исходные данные'!$C$292)","v":0.22},{"$f":"IF((AW74-'Исходные данные'!$C$291)<0,'Исходные данные'!$C$290,'Исходные данные'!$C$292)","v":0.22},{"$f":"IF((AX74-'Исходные данные'!$C$291)<0,'Исходные данные'!$C$290,'Исходные данные'!$C$292)","v":0.22},{"$f":"IF((AY74-'Исходные данные'!$C$291)<0,'Исходные данные'!$C$290,'Исходные данные'!$C$292)","v":0.22},{"$f":"IF((AZ74-'Исходные данные'!$C$291)<0,'Исходные данные'!$C$290,'Исходные данные'!$C$292)","v":0.22},{"$f":"IF((BA74-'Исходные данные'!$C$291)<0,'Исходные данные'!$C$290,'Исходные данные'!$C$292)","v":0.22},{"$f":"IF((BB74-'Исходные данные'!$C$291)<0,'Исходные данные'!$C$290,'Исходные данные'!$C$292)","v":0.22},{"$f":"IF((BC74-'Исходные данные'!$C$291)<0,'Исходные данные'!$C$290,'Исходные данные'!$C$292)","v":0.22},{"$f":"IF((BD74-'Исходные данные'!$C$291)<0,'Исходные данные'!$C$290,'Исходные данные'!$C$292)","v":0.22},{"$f":"IF((BE74-'Исходные данные'!$C$291)<0,'Исходные данные'!$C$290,'Исходные данные'!$C$292)","v":0.22},{"$f":"IF((BF74-'Исходные данные'!$C$291)<0,'Исходные данные'!$C$290,'Исходные данные'!$C$292)","v":0.22},{"$f":"IF((BG74-'Исходные данные'!$C$291)<0,'Исходные данные'!$C$290,'Исходные данные'!$C$292)","v":0.22},{"$f":"IF((BH74-'Исходные данные'!$C$291)<0,'Исходные данные'!$C$290,'Исходные данные'!$C$292)","v":0.22},{"$f":"IF((BI74-'Исходные данные'!$C$291)<0,'Исходные данные'!$C$290,'Исходные данные'!$C$292)","v":0.22},{"$f":"IF((BJ74-'Исходные данные'!$C$291)<0,'Исходные данные'!$C$290,'Исходные данные'!$C$292)","v":0.22},{"$f":"IF((BK74-'Исходные данные'!$C$291)<0,'Исходные данные'!$C$290,'Исходные данные'!$C$292)","v":0.22},{"$f":"IF((BL74-'Исходные данные'!$C$291)<0,'Исходные данные'!$C$290,'Исходные данные'!$C$292)","v":0.22}]
[0,null,null,null,{"$f":"IF((E75-'Исходные данные'!$C$291)<0,'Исходные данные'!$C$290,'Исходные данные'!$C$292)","v":0.22},{"$f":"IF((F75-'Исходные данные'!$C$291)<0,'Исходные данные'!$C$290,'Исходные данные'!$C$292)","v":0.22},{"$f":"IF((G75-'Исходные данные'!$C$291)<0,'Исходные данные'!$C$290,'Исходные данные'!$C$292)","v":0.22},{"$f":"IF((H75-'Исходные данные'!$C$291)<0,'Исходные данные'!$C$290,'Исходные данные'!$C$292)","v":0.22},{"$f":"IF((I75-'Исходные данные'!$C$291)<0,'Исходные данные'!$C$290,'Исходные данные'!$C$292)","v":0.22},{"$f":"IF((J75-'Исходные данные'!$C$291)<0,'Исходные данные'!$C$290,'Исходные данные'!$C$292)","v":0.22},{"$f":"IF((K75-'Исходные данные'!$C$291)<0,'Исходные данные'!$C$290,'Исходные данные'!$C$292)","v":0.22},{"$f":"IF((L75-'Исходные данные'!$C$291)<0,'Исходные данные'!$C$290,'Исходные данные'!$C$292)","v":0.22},{"$f":"IF((M75-'Исходные данные'!$C$291)<0,'Исходные данные'!$C$290,'Исходные данные'!$C$292)","v":0.22},{"$f":"IF((N75-'Исходные данные'!$C$291)<0,'Исходные данные'!$C$290,'Исходные данные'!$C$292)","v":0.22},{"$f":"IF((O75-'Исходные данные'!$C$291)<0,'Исходные данные'!$C$290,'Исходные данные'!$C$292)","v":0.22},{"$f":"IF((P75-'Исходные данные'!$C$291)<0,'Исходные данные'!$C$290,'Исходные данные'!$C$292)","v":0.22},{"$f":"IF((Q75-'Исходные данные'!$C$291)<0,'Исходные данные'!$C$290,'Исходные данные'!$C$292)","v":0.22},{"$f":"IF((R75-'Исходные данные'!$C$291)<0,'Исходные данные'!$C$290,'Исходные данные'!$C$292)","v":0.22},{"$f":"IF((S75-'Исходные данные'!$C$291)<0,'Исходные данные'!$C$290,'Исходные данные'!$C$292)","v":0.22},{"$f":"IF((T75-'Исходные данные'!$C$291)<0,'Исходные данные'!$C$290,'Исходные данные'!$C$292)","v":0.22},{"$f":"IF((U75-'Исходные данные'!$C$291)<0,'Исходные данные'!$C$290,'Исходные данные'!$C$292)","v":0.22},{"$f":"IF((V75-'Исходные данные'!$C$291)<0,'Исходные данные'!$C$290,'Исходные данные'!$C$292)","v":0.22},{"$f":"IF((W75-'Исходные данные'!$C$291)<0,'Исходные данные'!$C$290,'Исходные данные'!$C$292)","v":0.22},{"$f":"IF((X75-'Исходные данные'!$C$291)<0,'Исходные данные'!$C$290,'Исходные данные'!$C$292)","v":0.22},{"$f":"IF((Y75-'Исходные данные'!$C$291)<0,'Исходные данные'!$C$290,'Исходные данные'!$C$292)","v":0.22},{"$f":"IF((Z75-'Исходные данные'!$C$291)<0,'Исходные данные'!$C$290,'Исходные данные'!$C$292)","v":0.22},{"$f":"IF((AA75-'Исходные данные'!$C$291)<0,'Исходные данные'!$C$290,'Исходные данные'!$C$292)","v":0.22},{"$f":"IF((AB75-'Исходные данные'!$C$291)<0,'Исходные данные'!$C$290,'Исходные данные'!$C$292)","v":0.22},{"$f":"IF((AC75-'Исходные данные'!$C$291)<0,'Исходные данные'!$C$290,'Исходные данные'!$C$292)","v":0.22},{"$f":"IF((AD75-'Исходные данные'!$C$291)<0,'Исходные данные'!$C$290,'Исходные данные'!$C$292)","v":0.22},{"$f":"IF((AE75-'Исходные данные'!$C$291)<0,'Исходные данные'!$C$290,'Исходные данные'!$C$292)","v":0.22},{"$f":"IF((AF75-'Исходные данные'!$C$291)<0,'Исходные данные'!$C$290,'Исходные данные'!$C$292)","v":0.22},{"$f":"IF((AG75-'Исходные данные'!$C$291)<0,'Исходные данные'!$C$290,'Исходные данные'!$C$292)","v":0.22},{"$f":"IF((AH75-'Исходные данные'!$C$291)<0,'Исходные данные'!$C$290,'Исходные данные'!$C$292)","v":0.22},{"$f":"IF((AI75-'Исходные данные'!$C$291)<0,'Исходные данные'!$C$290,'Исходные данные'!$C$292)","v":0.22},{"$f":"IF((AJ75-'Исходные данные'!$C$291)<0,'Исходные данные'!$C$290,'Исходные данные'!$C$292)","v":0.22},{"$f":"IF((AK75-'Исходные данные'!$C$291)<0,'Исходные данные'!$C$290,'Исходные данные'!$C$292)","v":0.22},{"$f":"IF((AL75-'Исходные данные'!$C$291)<0,'Исходные данные'!$C$290,'Исходные данные'!$C$292)","v":0.22},{"$f":"IF((AM75-'Исходные данные'!$C$291)<0,'Исходные данные'!$C$290,'Исходные данные'!$C$292)","v":0.22},{"$f":"IF((AN75-'Исходные данные'!$C$291)<0,'Исходные данные'!$C$290,'Исходные данные'!$C$292)","v":0.22},{"$f":"IF((AO75-'Исходные данные'!$C$291)<0,'Исходные данные'!$C$290,'Исходные данные'!$C$292)","v":0.22},{"$f":"IF((AP75-'Исходные данные'!$C$291)<0,'Исходные данные'!$C$290,'Исходные данные'!$C$292)","v":0.22},{"$f":"IF((AQ75-'Исходные данные'!$C$291)<0,'Исходные данные'!$C$290,'Исходные данные'!$C$292)","v":0.22},{"$f":"IF((AR75-'Исходные данные'!$C$291)<0,'Исходные данные'!$C$290,'Исходные данные'!$C$292)","v":0.22},{"$f":"IF((AS75-'Исходные данные'!$C$291)<0,'Исходные данные'!$C$290,'Исходные данные'!$C$292)","v":0.22},{"$f":"IF((AT75-'Исходные данные'!$C$291)<0,'Исходные данные'!$C$290,'Исходные данные'!$C$292)","v":0.22},{"$f":"IF((AU75-'Исходные данные'!$C$291)<0,'Исходные данные'!$C$290,'Исходные данные'!$C$292)","v":0.22},{"$f":"IF((AV75-'Исходные данные'!$C$291)<0,'Исходные данные'!$C$290,'Исходные данные'!$C$292)","v":0.22},{"$f":"IF((AW75-'Исходные данные'!$C$291)<0,'Исходные данные'!$C$290,'Исходные данные'!$C$292)","v":0.22},{"$f":"IF((AX75-'Исходные данные'!$C$291)<0,'Исходные данные'!$C$290,'Исходные данные'!$C$292)","v":0.22},{"$f":"IF((AY75-'Исходные данные'!$C$291)<0,'Исходные данные'!$C$290,'Исходные данные'!$C$292)","v":0.22},{"$f":"IF((AZ75-'Исходные данные'!$C$291)<0,'Исходные данные'!$C$290,'Исходные данные'!$C$292)","v":0.22},{"$f":"IF((BA75-'Исходные данные'!$C$291)<0,'Исходные данные'!$C$290,'Исходные данные'!$C$292)","v":0.22},{"$f":"IF((BB75-'Исходные данные'!$C$291)<0,'Исходные данные'!$C$290,'Исходные данные'!$C$292)","v":0.22},{"$f":"IF((BC75-'Исходные данные'!$C$291)<0,'Исходные данные'!$C$290,'Исходные данные'!$C$292)","v":0.22},{"$f":"IF((BD75-'Исходные данные'!$C$291)<0,'Исходные данные'!$C$290,'Исходные данные'!$C$292)","v":0.22},{"$f":"IF((BE75-'Исходные данные'!$C$291)<0,'Исходные данные'!$C$290,'Исходные данные'!$C$292)","v":0.22},{"$f":"IF((BF75-'Исходные данные'!$C$291)<0,'Исходные данные'!$C$290,'Исходные данные'!$C$292)","v":0.22},{"$f":"IF((BG75-'Исходные данные'!$C$291)<0,'Исходные данные'!$C$290,'Исходные данные'!$C$292)","v":0.22},{"$f":"IF((BH75-'Исходные данные'!$C$291)<0,'Исходные данные'!$C$290,'Исходные данные'!$C$292)","v":0.22},{"$f":"IF((BI75-'Исходные данные'!$C$291)<0,'Исходные данные'!$C$290,'Исходные данные'!$C$292)","v":0.22},{"$f":"IF((BJ75-'Исходные данные'!$C$291)<0,'Исходные данные'!$C$290,'Исходные данные'!$C$292)","v":0.22},{"$f":"IF((BK75-'Исходные данные'!$C$291)<0,'Исходные данные'!$C$290,'Исходные данные'!$C$292)","v":0.22},{"$f":"IF((BL75-'Исходные данные'!$C$291)<0,'Исходные данные'!$C$290,'Исходные данные'!$C$292)","v":0.22}]
[0,null,null,null,{"$f":"IF((E76-'Исходные данные'!$C$291)<0,'Исходные данные'!$C$290,'Исходные данные'!$C$292)","v":0.22},{"$f":"IF((F76-'Исходные данные'!$C$291)<0,'Исходные данные'!$C$290,'Исходные данные'!$C$292)","v":0.22},{"$f":"IF((G76-'Исходные данные'!$C$291)<0,'Исходные данные'!$C$290,'Исходные данные'!$C$292)","v":0.22},{"$f":"IF((H76-'Исходные данные'!$C$291)<0,'Исходные данные'!$C$290,'Исходные данные'!$C$292)","v":0.22},{"$f":"IF((I76-'Исходные данные'!$C$291)<0,'Исходные данные'!$C$290,'Исходные данные'!$C$292)","v":0.22},{"$f":"IF((J76-'Исходные данные'!$C$291)<0,'Исходные данные'!$C$290,'Исходные данные'!$C$292)","v":0.22},{"$f":"IF((K76-'Исходные данные'!$C$291)<0,'Исходные данные'!$C$290,'Исходные данные'!$C$292)","v":0.22},{"$f":"IF((L76-'Исходные данные'!$C$291)<0,'Исходные данные'!$C$290,'Исходные данные'!$C$292)","v":0.22},{"$f":"IF((M76-'Исходные данные'!$C$291)<0,'Исходные данные'!$C$290,'Исходные данные'!$C$292)","v":0.22},{"$f":"IF((N76-'Исходные данные'!$C$291)<0,'Исходные данные'!$C$290,'Исходные данные'!$C$292)","v":0.22},{"$f":"IF((O76-'Исходные данные'!$C$291)<0,'Исходные данные'!$C$290,'Исходные данные'!$C$292)","v":0.22},{"$f":"IF((P76-'Исходные данные'!$C$291)<0,'Исходные данные'!$C$290,'Исходные данные'!$C$292)","v":0.22},{"$f":"IF((Q76-'Исходные данные'!$C$291)<0,'Исходные данные'!$C$290,'Исходные данные'!$C$292)","v":0.22},{"$f":"IF((R76-'Исходные данные'!$C$291)<0,'Исходные данные'!$C$290,'Исходные данные'!$C$292)","v":0.22},{"$f":"IF((S76-'Исходные данные'!$C$291)<0,'Исходные данные'!$C$290,'Исходные данные'!$C$292)","v":0.22},{"$f":"IF((T76-'Исходные данные'!$C$291)<0,'Исходные данные'!$C$290,'Исходные данные'!$C$292)","v":0.22},{"$f":"IF((U76-'Исходные данные'!$C$291)<0,'Исходные данные'!$C$290,'Исходные данные'!$C$292)","v":0.22},{"$f":"IF((V76-'Исходные данные'!$C$291)<0,'Исходные данные'!$C$290,'Исходные данные'!$C$292)","v":0.22},{"$f":"IF((W76-'Исходные данные'!$C$291)<0,'Исходные данные'!$C$290,'Исходные данные'!$C$292)","v":0.22},{"$f":"IF((X76-'Исходные данные'!$C$291)<0,'Исходные данные'!$C$290,'Исходные данные'!$C$292)","v":0.22},{"$f":"IF((Y76-'Исходные данные'!$C$291)<0,'Исходные данные'!$C$290,'Исходные данные'!$C$292)","v":0.22},{"$f":"IF((Z76-'Исходные данные'!$C$291)<0,'Исходные данные'!$C$290,'Исходные данные'!$C$292)","v":0.22},{"$f":"IF((AA76-'Исходные данные'!$C$291)<0,'Исходные данные'!$C$290,'Исходные данные'!$C$292)","v":0.22},{"$f":"IF((AB76-'Исходные данные'!$C$291)<0,'Исходные данные'!$C$290,'Исходные данные'!$C$292)","v":0.22},{"$f":"IF((AC76-'Исходные данные'!$C$291)<0,'Исходные данные'!$C$290,'Исходные данные'!$C$292)","v":0.22},{"$f":"IF((AD76-'Исходные данные'!$C$291)<0,'Исходные данные'!$C$290,'Исходные данные'!$C$292)","v":0.22},{"$f":"IF((AE76-'Исходные данные'!$C$291)<0,'Исходные данные'!$C$290,'Исходные данные'!$C$292)","v":0.22},{"$f":"IF((AF76-'Исходные данные'!$C$291)<0,'Исходные данные'!$C$290,'Исходные данные'!$C$292)","v":0.22},{"$f":"IF((AG76-'Исходные данные'!$C$291)<0,'Исходные данные'!$C$290,'Исходные данные'!$C$292)","v":0.22},{"$f":"IF((AH76-'Исходные данные'!$C$291)<0,'Исходные данные'!$C$290,'Исходные данные'!$C$292)","v":0.22},{"$f":"IF((AI76-'Исходные данные'!$C$291)<0,'Исходные данные'!$C$290,'Исходные данные'!$C$292)","v":0.22},{"$f":"IF((AJ76-'Исходные данные'!$C$291)<0,'Исходные данные'!$C$290,'Исходные данные'!$C$292)","v":0.22},{"$f":"IF((AK76-'Исходные данные'!$C$291)<0,'Исходные данные'!$C$290,'Исходные данные'!$C$292)","v":0.22},{"$f":"IF((AL76-'Исходные данные'!$C$291)<0,'Исходные данные'!$C$290,'Исходные данные'!$C$292)","v":0.22},{"$f":"IF((AM76-'Исходные данные'!$C$291)<0,'Исходные данные'!$C$290,'Исходные данные'!$C$292)","v":0.22},{"$f":"IF((AN76-'Исходные данные'!$C$291)<0,'Исходные данные'!$C$290,'Исходные данные'!$C$292)","v":0.22},{"$f":"IF((AO76-'Исходные данные'!$C$291)<0,'Исходные данные'!$C$290,'Исходные данные'!$C$292)","v":0.22},{"$f":"IF((AP76-'Исходные данные'!$C$291)<0,'Исходные данные'!$C$290,'Исходные данные'!$C$292)","v":0.22},{"$f":"IF((AQ76-'Исходные данные'!$C$291)<0,'Исходные данные'!$C$290,'Исходные данные'!$C$292)","v":0.22},{"$f":"IF((AR76-'Исходные данные'!$C$291)<0,'Исходные данные'!$C$290,'Исходные данные'!$C$292)","v":0.22},{"$f":"IF((AS76-'Исходные данные'!$C$291)<0,'Исходные данные'!$C$290,'Исходные данные'!$C$292)","v":0.22},{"$f":"IF((AT76-'Исходные данные'!$C$291)<0,'Исходные данные'!$C$290,'Исходные данные'!$C$292)","v":0.22},{"$f":"IF((AU76-'Исходные данные'!$C$291)<0,'Исходные данные'!$C$290,'Исходные данные'!$C$292)","v":0.22},{"$f":"IF((AV76-'Исходные данные'!$C$291)<0,'Исходные данные'!$C$290,'Исходные данные'!$C$292)","v":0.22},{"$f":"IF((AW76-'Исходные данные'!$C$291)<0,'Исходные данные'!$C$290,'Исходные данные'!$C$292)","v":0.22},{"$f":"IF((AX76-'Исходные данные'!$C$291)<0,'Исходные данные'!$C$290,'Исходные данные'!$C$292)","v":0.22},{"$f":"IF((AY76-'Исходные данные'!$C$291)<0,'Исходные данные'!$C$290,'Исходные данные'!$C$292)","v":0.22},{"$f":"IF((AZ76-'Исходные данные'!$C$291)<0,'Исходные данные'!$C$290,'Исходные данные'!$C$292)","v":0.22},{"$f":"IF((BA76-'Исходные данные'!$C$291)<0,'Исходные данные'!$C$290,'Исходные данные'!$C$292)","v":0.22},{"$f":"IF((BB76-'Исходные данные'!$C$291)<0,'Исходные данные'!$C$290,'Исходные данные'!$C$292)","v":0.22},{"$f":"IF((BC76-'Исходные данные'!$C$291)<0,'Исходные данные'!$C$290,'Исходные данные'!$C$292)","v":0.22},{"$f":"IF((BD76-'Исходные данные'!$C$291)<0,'Исходные данные'!$C$290,'Исходные данные'!$C$292)","v":0.22},{"$f":"IF((BE76-'Исходные данные'!$C$291)<0,'Исходные данные'!$C$290,'Исходные данные'!$C$292)","v":0.22},{"$f":"IF((BF76-'Исходные данные'!$C$291)<0,'Исходные данные'!$C$290,'Исходные данные'!$C$292)","v":0.22},{"$f":"IF((BG76-'Исходные данные'!$C$291)<0,'Исходные данные'!$C$290,'Исходные данные'!$C$292)","v":0.22},{"$f":"IF((BH76-'Исходные данные'!$C$291)<0,'Исходные данные'!$C$290,'Исходные данные'!$C$292)","v":0.22},{"$f":"IF((BI76-'Исходные данные'!$C$291)<0,'Исходные данные'!$C$290,'Исходные данные'!$C$292)","v":0.22},{"$f":"IF((BJ76-'Исходные данные'!$C$291)<0,'Исходные данные'!$C$290,'Исходные данные'!$C$292)","v":0.22},{"$f":"IF((BK76-'Исходные данные'!$C$291)<0,'Исходные данные'!$C$290,'Исходные данные'!$C$292)","v":0.22},{"$f":"IF((BL76-'Исходные данные'!$C$291)<0,'Исходные данные'!$C$290,'Исходные данные'!$C$292)","v":0.22}]
[0,null,null,null,{"$f":"IF((E77-'Исходные данные'!$C$291)<0,'Исходные данные'!$C$290,'Исходные данные'!$C$292)","v":0.22},{"$f":"IF((F77-'Исходные данные'!$C$291)<0,'Исходные данные'!$C$290,'Исходные данные'!$C$292)","v":0.22},{"$f":"IF((G77-'Исходные данные'!$C$291)<0,'Исходные данные'!$C$290,'Исходные данные'!$C$292)","v":0.22},{"$f":"IF((H77-'Исходные данные'!$C$291)<0,'Исходные данные'!$C$290,'Исходные данные'!$C$292)","v":0.22},{"$f":"IF((I77-'Исходные данные'!$C$291)<0,'Исходные данные'!$C$290,'Исходные данные'!$C$292)","v":0.22},{"$f":"IF((J77-'Исходные данные'!$C$291)<0,'Исходные данные'!$C$290,'Исходные данные'!$C$292)","v":0.22},{"$f":"IF((K77-'Исходные данные'!$C$291)<0,'Исходные данные'!$C$290,'Исходные данные'!$C$292)","v":0.22},{"$f":"IF((L77-'Исходные данные'!$C$291)<0,'Исходные данные'!$C$290,'Исходные данные'!$C$292)","v":0.22},{"$f":"IF((M77-'Исходные данные'!$C$291)<0,'Исходные данные'!$C$290,'Исходные данные'!$C$292)","v":0.22},{"$f":"IF((N77-'Исходные данные'!$C$291)<0,'Исходные данные'!$C$290,'Исходные данные'!$C$292)","v":0.22},{"$f":"IF((O77-'Исходные данные'!$C$291)<0,'Исходные данные'!$C$290,'Исходные данные'!$C$292)","v":0.22},{"$f":"IF((P77-'Исходные данные'!$C$291)<0,'Исходные данные'!$C$290,'Исходные данные'!$C$292)","v":0.22},{"$f":"IF((Q77-'Исходные данные'!$C$291)<0,'Исходные данные'!$C$290,'Исходные данные'!$C$292)","v":0.22},{"$f":"IF((R77-'Исходные данные'!$C$291)<0,'Исходные данные'!$C$290,'Исходные данные'!$C$292)","v":0.22},{"$f":"IF((S77-'Исходные данные'!$C$291)<0,'Исходные данные'!$C$290,'Исходные данные'!$C$292)","v":0.22},{"$f":"IF((T77-'Исходные данные'!$C$291)<0,'Исходные данные'!$C$290,'Исходные данные'!$C$292)","v":0.22},{"$f":"IF((U77-'Исходные данные'!$C$291)<0,'Исходные данные'!$C$290,'Исходные данные'!$C$292)","v":0.22},{"$f":"IF((V77-'Исходные данные'!$C$291)<0,'Исходные данные'!$C$290,'Исходные данные'!$C$292)","v":0.22},{"$f":"IF((W77-'Исходные данные'!$C$291)<0,'Исходные данные'!$C$290,'Исходные данные'!$C$292)","v":0.22},{"$f":"IF((X77-'Исходные данные'!$C$291)<0,'Исходные данные'!$C$290,'Исходные данные'!$C$292)","v":0.22},{"$f":"IF((Y77-'Исходные данные'!$C$291)<0,'Исходные данные'!$C$290,'Исходные данные'!$C$292)","v":0.22},{"$f":"IF((Z77-'Исходные данные'!$C$291)<0,'Исходные данные'!$C$290,'Исходные данные'!$C$292)","v":0.22},{"$f":"IF((AA77-'Исходные данные'!$C$291)<0,'Исходные данные'!$C$290,'Исходные данные'!$C$292)","v":0.22},{"$f":"IF((AB77-'Исходные данные'!$C$291)<0,'Исходные данные'!$C$290,'Исходные данные'!$C$292)","v":0.22},{"$f":"IF((AC77-'Исходные данные'!$C$291)<0,'Исходные данные'!$C$290,'Исходные данные'!$C$292)","v":0.22},{"$f":"IF((AD77-'Исходные данные'!$C$291)<0,'Исходные данные'!$C$290,'Исходные данные'!$C$292)","v":0.22},{"$f":"IF((AE77-'Исходные данные'!$C$291)<0,'Исходные данные'!$C$290,'Исходные данные'!$C$292)","v":0.22},{"$f":"IF((AF77-'Исходные данные'!$C$291)<0,'Исходные данные'!$C$290,'Исходные данные'!$C$292)","v":0.22},{"$f":"IF((AG77-'Исходные данные'!$C$291)<0,'Исходные данные'!$C$290,'Исходные данные'!$C$292)","v":0.22},{"$f":"IF((AH77-'Исходные данные'!$C$291)<0,'Исходные данные'!$C$290,'Исходные данные'!$C$292)","v":0.22},{"$f":"IF((AI77-'Исходные данные'!$C$291)<0,'Исходные данные'!$C$290,'Исходные данные'!$C$292)","v":0.22},{"$f":"IF((AJ77-'Исходные данные'!$C$291)<0,'Исходные данные'!$C$290,'Исходные данные'!$C$292)","v":0.22},{"$f":"IF((AK77-'Исходные данные'!$C$291)<0,'Исходные данные'!$C$290,'Исходные данные'!$C$292)","v":0.22},{"$f":"IF((AL77-'Исходные данные'!$C$291)<0,'Исходные данные'!$C$290,'Исходные данные'!$C$292)","v":0.22},{"$f":"IF((AM77-'Исходные данные'!$C$291)<0,'Исходные данные'!$C$290,'Исходные данные'!$C$292)","v":0.22},{"$f":"IF((AN77-'Исходные данные'!$C$291)<0,'Исходные данные'!$C$290,'Исходные данные'!$C$292)","v":0.22},{"$f":"IF((AO77-'Исходные данные'!$C$291)<0,'Исходные данные'!$C$290,'Исходные данные'!$C$292)","v":0.22},{"$f":"IF((AP77-'Исходные данные'!$C$291)<0,'Исходные данные'!$C$290,'Исходные данные'!$C$292)","v":0.22},{"$f":"IF((AQ77-'Исходные данные'!$C$291)<0,'Исходные данные'!$C$290,'Исходные данные'!$C$292)","v":0.22},{"$f":"IF((AR77-'Исходные данные'!$C$291)<0,'Исходные данные'!$C$290,'Исходные данные'!$C$292)","v":0.22},{"$f":"IF((AS77-'Исходные данные'!$C$291)<0,'Исходные данные'!$C$290,'Исходные данные'!$C$292)","v":0.22},{"$f":"IF((AT77-'Исходные данные'!$C$291)<0,'Исходные данные'!$C$290,'Исходные данные'!$C$292)","v":0.22},{"$f":"IF((AU77-'Исходные данные'!$C$291)<0,'Исходные данные'!$C$290,'Исходные данные'!$C$292)","v":0.22},{"$f":"IF((AV77-'Исходные данные'!$C$291)<0,'Исходные данные'!$C$290,'Исходные данные'!$C$292)","v":0.22},{"$f":"IF((AW77-'Исходные данные'!$C$291)<0,'Исходные данные'!$C$290,'Исходные данные'!$C$292)","v":0.22},{"$f":"IF((AX77-'Исходные данные'!$C$291)<0,'Исходные данные'!$C$290,'Исходные данные'!$C$292)","v":0.22},{"$f":"IF((AY77-'Исходные данные'!$C$291)<0,'Исходные данные'!$C$290,'Исходные данные'!$C$292)","v":0.22},{"$f":"IF((AZ77-'Исходные данные'!$C$291)<0,'Исходные данные'!$C$290,'Исходные данные'!$C$292)","v":0.22},{"$f":"IF((BA77-'Исходные данные'!$C$291)<0,'Исходные данные'!$C$290,'Исходные данные'!$C$292)","v":0.22},{"$f":"IF((BB77-'Исходные данные'!$C$291)<0,'Исходные данные'!$C$290,'Исходные данные'!$C$292)","v":0.22},{"$f":"IF((BC77-'Исходные данные'!$C$291)<0,'Исходные данные'!$C$290,'Исходные данные'!$C$292)","v":0.22},{"$f":"IF((BD77-'Исходные данные'!$C$291)<0,'Исходные данные'!$C$290,'Исходные данные'!$C$292)","v":0.22},{"$f":"IF((BE77-'Исходные данные'!$C$291)<0,'Исходные данные'!$C$290,'Исходные данные'!$C$292)","v":0.22},{"$f":"IF((BF77-'Исходные данные'!$C$291)<0,'Исходные данные'!$C$290,'Исходные данные'!$C$292)","v":0.22},{"$f":"IF((BG77-'Исходные данные'!$C$291)<0,'Исходные данные'!$C$290,'Исходные данные'!$C$292)","v":0.22},{"$f":"IF((BH77-'Исходные данные'!$C$291)<0,'Исходные данные'!$C$290,'Исходные данные'!$C$292)","v":0.22},{"$f":"IF((BI77-'Исходные данные'!$C$291)<0,'Исходные данные'!$C$290,'Исходные данные'!$C$292)","v":0.22},{"$f":"IF((BJ77-'Исходные данные'!$C$291)<0,'Исходные данные'!$C$290,'Исходные данные'!$C$292)","v":0.22},{"$f":"IF((BK77-'Исходные данные'!$C$291)<0,'Исходные данные'!$C$290,'Исходные данные'!$C$292)","v":0.22},{"$f":"IF((BL77-'Исходные данные'!$C$291)<0,'Исходные данные'!$C$290,'Исходные данные'!$C$292)","v":0.22}]
[0,null,null,null,{"$f":"IF((E78-'Исходные данные'!$C$291)<0,'Исходные данные'!$C$290,'Исходные данные'!$C$292)","v":0.22},{"$f":"IF((F78-'Исходные данные'!$C$291)<0,'Исходные данные'!$C$290,'Исходные данные'!$C$292)","v":0.22},{"$f":"IF((G78-'Исходные данные'!$C$291)<0,'Исходные данные'!$C$290,'Исходные данные'!$C$292)","v":0.22},{"$f":"IF((H78-'Исходные данные'!$C$291)<0,'Исходные данные'!$C$290,'Исходные данные'!$C$292)","v":0.22},{"$f":"IF((I78-'Исходные данные'!$C$291)<0,'Исходные данные'!$C$290,'Исходные данные'!$C$292)","v":0.22},{"$f":"IF((J78-'Исходные данные'!$C$291)<0,'Исходные данные'!$C$290,'Исходные данные'!$C$292)","v":0.22},{"$f":"IF((K78-'Исходные данные'!$C$291)<0,'Исходные данные'!$C$290,'Исходные данные'!$C$292)","v":0.22},{"$f":"IF((L78-'Исходные данные'!$C$291)<0,'Исходные данные'!$C$290,'Исходные данные'!$C$292)","v":0.22},{"$f":"IF((M78-'Исходные данные'!$C$291)<0,'Исходные данные'!$C$290,'Исходные данные'!$C$292)","v":0.22},{"$f":"IF((N78-'Исходные данные'!$C$291)<0,'Исходные данные'!$C$290,'Исходные данные'!$C$292)","v":0.22},{"$f":"IF((O78-'Исходные данные'!$C$291)<0,'Исходные данные'!$C$290,'Исходные данные'!$C$292)","v":0.22},{"$f":"IF((P78-'Исходные данные'!$C$291)<0,'Исходные данные'!$C$290,'Исходные данные'!$C$292)","v":0.22},{"$f":"IF((Q78-'Исходные данные'!$C$291)<0,'Исходные данные'!$C$290,'Исходные данные'!$C$292)","v":0.22},{"$f":"IF((R78-'Исходные данные'!$C$291)<0,'Исходные данные'!$C$290,'Исходные данные'!$C$292)","v":0.22},{"$f":"IF((S78-'Исходные данные'!$C$291)<0,'Исходные данные'!$C$290,'Исходные данные'!$C$292)","v":0.22},{"$f":"IF((T78-'Исходные данные'!$C$291)<0,'Исходные данные'!$C$290,'Исходные данные'!$C$292)","v":0.22},{"$f":"IF((U78-'Исходные данные'!$C$291)<0,'Исходные данные'!$C$290,'Исходные данные'!$C$292)","v":0.22},{"$f":"IF((V78-'Исходные данные'!$C$291)<0,'Исходные данные'!$C$290,'Исходные данные'!$C$292)","v":0.22},{"$f":"IF((W78-'Исходные данные'!$C$291)<0,'Исходные данные'!$C$290,'Исходные данные'!$C$292)","v":0.22},{"$f":"IF((X78-'Исходные данные'!$C$291)<0,'Исходные данные'!$C$290,'Исходные данные'!$C$292)","v":0.22},{"$f":"IF((Y78-'Исходные данные'!$C$291)<0,'Исходные данные'!$C$290,'Исходные данные'!$C$292)","v":0.22},{"$f":"IF((Z78-'Исходные данные'!$C$291)<0,'Исходные данные'!$C$290,'Исходные данные'!$C$292)","v":0.22},{"$f":"IF((AA78-'Исходные данные'!$C$291)<0,'Исходные данные'!$C$290,'Исходные данные'!$C$292)","v":0.22},{"$f":"IF((AB78-'Исходные данные'!$C$291)<0,'Исходные данные'!$C$290,'Исходные данные'!$C$292)","v":0.22},{"$f":"IF((AC78-'Исходные данные'!$C$291)<0,'Исходные данные'!$C$290,'Исходные данные'!$C$292)","v":0.22},{"$f":"IF((AD78-'Исходные данные'!$C$291)<0,'Исходные данные'!$C$290,'Исходные данные'!$C$292)","v":0.22},{"$f":"IF((AE78-'Исходные данные'!$C$291)<0,'Исходные данные'!$C$290,'Исходные данные'!$C$292)","v":0.22},{"$f":"IF((AF78-'Исходные данные'!$C$291)<0,'Исходные данные'!$C$290,'Исходные данные'!$C$292)","v":0.22},{"$f":"IF((AG78-'Исходные данные'!$C$291)<0,'Исходные данные'!$C$290,'Исходные данные'!$C$292)","v":0.22},{"$f":"IF((AH78-'Исходные данные'!$C$291)<0,'Исходные данные'!$C$290,'Исходные данные'!$C$292)","v":0.22},{"$f":"IF((AI78-'Исходные данные'!$C$291)<0,'Исходные данные'!$C$290,'Исходные данные'!$C$292)","v":0.22},{"$f":"IF((AJ78-'Исходные данные'!$C$291)<0,'Исходные данные'!$C$290,'Исходные данные'!$C$292)","v":0.22},{"$f":"IF((AK78-'Исходные данные'!$C$291)<0,'Исходные данные'!$C$290,'Исходные данные'!$C$292)","v":0.22},{"$f":"IF((AL78-'Исходные данные'!$C$291)<0,'Исходные данные'!$C$290,'Исходные данные'!$C$292)","v":0.22},{"$f":"IF((AM78-'Исходные данные'!$C$291)<0,'Исходные данные'!$C$290,'Исходные данные'!$C$292)","v":0.22},{"$f":"IF((AN78-'Исходные данные'!$C$291)<0,'Исходные данные'!$C$290,'Исходные данные'!$C$292)","v":0.22},{"$f":"IF((AO78-'Исходные данные'!$C$291)<0,'Исходные данные'!$C$290,'Исходные данные'!$C$292)","v":0.22},{"$f":"IF((AP78-'Исходные данные'!$C$291)<0,'Исходные данные'!$C$290,'Исходные данные'!$C$292)","v":0.22},{"$f":"IF((AQ78-'Исходные данные'!$C$291)<0,'Исходные данные'!$C$290,'Исходные данные'!$C$292)","v":0.22},{"$f":"IF((AR78-'Исходные данные'!$C$291)<0,'Исходные данные'!$C$290,'Исходные данные'!$C$292)","v":0.22},{"$f":"IF((AS78-'Исходные данные'!$C$291)<0,'Исходные данные'!$C$290,'Исходные данные'!$C$292)","v":0.22},{"$f":"IF((AT78-'Исходные данные'!$C$291)<0,'Исходные данные'!$C$290,'Исходные данные'!$C$292)","v":0.22},{"$f":"IF((AU78-'Исходные данные'!$C$291)<0,'Исходные данные'!$C$290,'Исходные данные'!$C$292)","v":0.22},{"$f":"IF((AV78-'Исходные данные'!$C$291)<0,'Исходные данные'!$C$290,'Исходные данные'!$C$292)","v":0.22},{"$f":"IF((AW78-'Исходные данные'!$C$291)<0,'Исходные данные'!$C$290,'Исходные данные'!$C$292)","v":0.22},{"$f":"IF((AX78-'Исходные данные'!$C$291)<0,'Исходные данные'!$C$290,'Исходные данные'!$C$292)","v":0.22},{"$f":"IF((AY78-'Исходные данные'!$C$291)<0,'Исходные данные'!$C$290,'Исходные данные'!$C$292)","v":0.22},{"$f":"IF((AZ78-'Исходные данные'!$C$291)<0,'Исходные данные'!$C$290,'Исходные данные'!$C$292)","v":0.22},{"$f":"IF((BA78-'Исходные данные'!$C$291)<0,'Исходные данные'!$C$290,'Исходные данные'!$C$292)","v":0.22},{"$f":"IF((BB78-'Исходные данные'!$C$291)<0,'Исходные данные'!$C$290,'Исходные данные'!$C$292)","v":0.22},{"$f":"IF((BC78-'Исходные данные'!$C$291)<0,'Исходные данные'!$C$290,'Исходные данные'!$C$292)","v":0.22},{"$f":"IF((BD78-'Исходные данные'!$C$291)<0,'Исходные данные'!$C$290,'Исходные данные'!$C$292)","v":0.22},{"$f":"IF((BE78-'Исходные данные'!$C$291)<0,'Исходные данные'!$C$290,'Исходные данные'!$C$292)","v":0.22},{"$f":"IF((BF78-'Исходные данные'!$C$291)<0,'Исходные данные'!$C$290,'Исходные данные'!$C$292)","v":0.22},{"$f":"IF((BG78-'Исходные данные'!$C$291)<0,'Исходные данные'!$C$290,'Исходные данные'!$C$292)","v":0.22},{"$f":"IF((BH78-'Исходные данные'!$C$291)<0,'Исходные данные'!$C$290,'Исходные данные'!$C$292)","v":0.22},{"$f":"IF((BI78-'Исходные данные'!$C$291)<0,'Исходные данные'!$C$290,'Исходные данные'!$C$292)","v":0.22},{"$f":"IF((BJ78-'Исходные данные'!$C$291)<0,'Исходные данные'!$C$290,'Исходные данные'!$C$292)","v":0.22},{"$f":"IF((BK78-'Исходные данные'!$C$291)<0,'Исходные данные'!$C$290,'Исходные данные'!$C$292)","v":0.22},{"$f":"IF((BL78-'Исходные данные'!$C$291)<0,'Исходные данные'!$C$290,'Исходные данные'!$C$292)","v":0.22}]
[0,null,null,null,{"$f":"IF((E79-'Исходные данные'!$C$291)<0,'Исходные данные'!$C$290,'Исходные данные'!$C$292)","v":0.22},{"$f":"IF((F79-'Исходные данные'!$C$291)<0,'Исходные данные'!$C$290,'Исходные данные'!$C$292)","v":0.22},{"$f":"IF((G79-'Исходные данные'!$C$291)<0,'Исходные данные'!$C$290,'Исходные данные'!$C$292)","v":0.22},{"$f":"IF((H79-'Исходные данные'!$C$291)<0,'Исходные данные'!$C$290,'Исходные данные'!$C$292)","v":0.22},{"$f":"IF((I79-'Исходные данные'!$C$291)<0,'Исходные данные'!$C$290,'Исходные данные'!$C$292)","v":0.22},{"$f":"IF((J79-'Исходные данные'!$C$291)<0,'Исходные данные'!$C$290,'Исходные данные'!$C$292)","v":0.22},{"$f":"IF((K79-'Исходные данные'!$C$291)<0,'Исходные данные'!$C$290,'Исходные данные'!$C$292)","v":0.22},{"$f":"IF((L79-'Исходные данные'!$C$291)<0,'Исходные данные'!$C$290,'Исходные данные'!$C$292)","v":0.22},{"$f":"IF((M79-'Исходные данные'!$C$291)<0,'Исходные данные'!$C$290,'Исходные данные'!$C$292)","v":0.22},{"$f":"IF((N79-'Исходные данные'!$C$291)<0,'Исходные данные'!$C$290,'Исходные данные'!$C$292)","v":0.22},{"$f":"IF((O79-'Исходные данные'!$C$291)<0,'Исходные данные'!$C$290,'Исходные данные'!$C$292)","v":0.22},{"$f":"IF((P79-'Исходные данные'!$C$291)<0,'Исходные данные'!$C$290,'Исходные данные'!$C$292)","v":0.22},{"$f":"IF((Q79-'Исходные данные'!$C$291)<0,'Исходные данные'!$C$290,'Исходные данные'!$C$292)","v":0.22},{"$f":"IF((R79-'Исходные данные'!$C$291)<0,'Исходные данные'!$C$290,'Исходные данные'!$C$292)","v":0.22},{"$f":"IF((S79-'Исходные данные'!$C$291)<0,'Исходные данные'!$C$290,'Исходные данные'!$C$292)","v":0.22},{"$f":"IF((T79-'Исходные данные'!$C$291)<0,'Исходные данные'!$C$290,'Исходные данные'!$C$292)","v":0.22},{"$f":"IF((U79-'Исходные данные'!$C$291)<0,'Исходные данные'!$C$290,'Исходные данные'!$C$292)","v":0.22},{"$f":"IF((V79-'Исходные данные'!$C$291)<0,'Исходные данные'!$C$290,'Исходные данные'!$C$292)","v":0.22},{"$f":"IF((W79-'Исходные данные'!$C$291)<0,'Исходные данные'!$C$290,'Исходные данные'!$C$292)","v":0.22},{"$f":"IF((X79-'Исходные данные'!$C$291)<0,'Исходные данные'!$C$290,'Исходные данные'!$C$292)","v":0.22},{"$f":"IF((Y79-'Исходные данные'!$C$291)<0,'Исходные данные'!$C$290,'Исходные данные'!$C$292)","v":0.22},{"$f":"IF((Z79-'Исходные данные'!$C$291)<0,'Исходные данные'!$C$290,'Исходные данные'!$C$292)","v":0.22},{"$f":"IF((AA79-'Исходные данные'!$C$291)<0,'Исходные данные'!$C$290,'Исходные данные'!$C$292)","v":0.22},{"$f":"IF((AB79-'Исходные данные'!$C$291)<0,'Исходные данные'!$C$290,'Исходные данные'!$C$292)","v":0.22},{"$f":"IF((AC79-'Исходные данные'!$C$291)<0,'Исходные данные'!$C$290,'Исходные данные'!$C$292)","v":0.22},{"$f":"IF((AD79-'Исходные данные'!$C$291)<0,'Исходные данные'!$C$290,'Исходные данные'!$C$292)","v":0.22},{"$f":"IF((AE79-'Исходные данные'!$C$291)<0,'Исходные данные'!$C$290,'Исходные данные'!$C$292)","v":0.22},{"$f":"IF((AF79-'Исходные данные'!$C$291)<0,'Исходные данные'!$C$290,'Исходные данные'!$C$292)","v":0.22},{"$f":"IF((AG79-'Исходные данные'!$C$291)<0,'Исходные данные'!$C$290,'Исходные данные'!$C$292)","v":0.22},{"$f":"IF((AH79-'Исходные данные'!$C$291)<0,'Исходные данные'!$C$290,'Исходные данные'!$C$292)","v":0.22},{"$f":"IF((AI79-'Исходные данные'!$C$291)<0,'Исходные данные'!$C$290,'Исходные данные'!$C$292)","v":0.22},{"$f":"IF((AJ79-'Исходные данные'!$C$291)<0,'Исходные данные'!$C$290,'Исходные данные'!$C$292)","v":0.22},{"$f":"IF((AK79-'Исходные данные'!$C$291)<0,'Исходные данные'!$C$290,'Исходные данные'!$C$292)","v":0.22},{"$f":"IF((AL79-'Исходные данные'!$C$291)<0,'Исходные данные'!$C$290,'Исходные данные'!$C$292)","v":0.22},{"$f":"IF((AM79-'Исходные данные'!$C$291)<0,'Исходные данные'!$C$290,'Исходные данные'!$C$292)","v":0.22},{"$f":"IF((AN79-'Исходные данные'!$C$291)<0,'Исходные данные'!$C$290,'Исходные данные'!$C$292)","v":0.22},{"$f":"IF((AO79-'Исходные данные'!$C$291)<0,'Исходные данные'!$C$290,'Исходные данные'!$C$292)","v":0.22},{"$f":"IF((AP79-'Исходные данные'!$C$291)<0,'Исходные данные'!$C$290,'Исходные данные'!$C$292)","v":0.22},{"$f":"IF((AQ79-'Исходные данные'!$C$291)<0,'Исходные данные'!$C$290,'Исходные данные'!$C$292)","v":0.22},{"$f":"IF((AR79-'Исходные данные'!$C$291)<0,'Исходные данные'!$C$290,'Исходные данные'!$C$292)","v":0.22},{"$f":"IF((AS79-'Исходные данные'!$C$291)<0,'Исходные данные'!$C$290,'Исходные данные'!$C$292)","v":0.22},{"$f":"IF((AT79-'Исходные данные'!$C$291)<0,'Исходные данные'!$C$290,'Исходные данные'!$C$292)","v":0.22},{"$f":"IF((AU79-'Исходные данные'!$C$291)<0,'Исходные данные'!$C$290,'Исходные данные'!$C$292)","v":0.22},{"$f":"IF((AV79-'Исходные данные'!$C$291)<0,'Исходные данные'!$C$290,'Исходные данные'!$C$292)","v":0.22},{"$f":"IF((AW79-'Исходные данные'!$C$291)<0,'Исходные данные'!$C$290,'Исходные данные'!$C$292)","v":0.22},{"$f":"IF((AX79-'Исходные данные'!$C$291)<0,'Исходные данные'!$C$290,'Исходные данные'!$C$292)","v":0.22},{"$f":"IF((AY79-'Исходные данные'!$C$291)<0,'Исходные данные'!$C$290,'Исходные данные'!$C$292)","v":0.22},{"$f":"IF((AZ79-'Исходные данные'!$C$291)<0,'Исходные данные'!$C$290,'Исходные данные'!$C$292)","v":0.22},{"$f":"IF((BA79-'Исходные данные'!$C$291)<0,'Исходные данные'!$C$290,'Исходные данные'!$C$292)","v":0.22},{"$f":"IF((BB79-'Исходные данные'!$C$291)<0,'Исходные данные'!$C$290,'Исходные данные'!$C$292)","v":0.22},{"$f":"IF((BC79-'Исходные данные'!$C$291)<0,'Исходные данные'!$C$290,'Исходные данные'!$C$292)","v":0.22},{"$f":"IF((BD79-'Исходные данные'!$C$291)<0,'Исходные данные'!$C$290,'Исходные данные'!$C$292)","v":0.22},{"$f":"IF((BE79-'Исходные данные'!$C$291)<0,'Исходные данные'!$C$290,'Исходные данные'!$C$292)","v":0.22},{"$f":"IF((BF79-'Исходные данные'!$C$291)<0,'Исходные данные'!$C$290,'Исходные данные'!$C$292)","v":0.22},{"$f":"IF((BG79-'Исходные данные'!$C$291)<0,'Исходные данные'!$C$290,'Исходные данные'!$C$292)","v":0.22},{"$f":"IF((BH79-'Исходные данные'!$C$291)<0,'Исходные данные'!$C$290,'Исходные данные'!$C$292)","v":0.22},{"$f":"IF((BI79-'Исходные данные'!$C$291)<0,'Исходные данные'!$C$290,'Исходные данные'!$C$292)","v":0.22},{"$f":"IF((BJ79-'Исходные данные'!$C$291)<0,'Исходные данные'!$C$290,'Исходные данные'!$C$292)","v":0.22},{"$f":"IF((BK79-'Исходные данные'!$C$291)<0,'Исходные данные'!$C$290,'Исходные данные'!$C$292)","v":0.22},{"$f":"IF((BL79-'Исходные данные'!$C$291)<0,'Исходные данные'!$C$290,'Исходные данные'!$C$292)","v":0.22}]
[0,null,null,null,{"$f":"IF((E80-'Исходные данные'!$C$291)<0,'Исходные данные'!$C$290,'Исходные данные'!$C$292)","v":0.22},{"$f":"IF((F80-'Исходные данные'!$C$291)<0,'Исходные данные'!$C$290,'Исходные данные'!$C$292)","v":0.22},{"$f":"IF((G80-'Исходные данные'!$C$291)<0,'Исходные данные'!$C$290,'Исходные данные'!$C$292)","v":0.22},{"$f":"IF((H80-'Исходные данные'!$C$291)<0,'Исходные данные'!$C$290,'Исходные данные'!$C$292)","v":0.22},{"$f":"IF((I80-'Исходные данные'!$C$291)<0,'Исходные данные'!$C$290,'Исходные данные'!$C$292)","v":0.22},{"$f":"IF((J80-'Исходные данные'!$C$291)<0,'Исходные данные'!$C$290,'Исходные данные'!$C$292)","v":0.22},{"$f":"IF((K80-'Исходные данные'!$C$291)<0,'Исходные данные'!$C$290,'Исходные данные'!$C$292)","v":0.22},{"$f":"IF((L80-'Исходные данные'!$C$291)<0,'Исходные данные'!$C$290,'Исходные данные'!$C$292)","v":0.22},{"$f":"IF((M80-'Исходные данные'!$C$291)<0,'Исходные данные'!$C$290,'Исходные данные'!$C$292)","v":0.22},{"$f":"IF((N80-'Исходные данные'!$C$291)<0,'Исходные данные'!$C$290,'Исходные данные'!$C$292)","v":0.22},{"$f":"IF((O80-'Исходные данные'!$C$291)<0,'Исходные данные'!$C$290,'Исходные данные'!$C$292)","v":0.22},{"$f":"IF((P80-'Исходные данные'!$C$291)<0,'Исходные данные'!$C$290,'Исходные данные'!$C$292)","v":0.22},{"$f":"IF((Q80-'Исходные данные'!$C$291)<0,'Исходные данные'!$C$290,'Исходные данные'!$C$292)","v":0.22},{"$f":"IF((R80-'Исходные данные'!$C$291)<0,'Исходные данные'!$C$290,'Исходные данные'!$C$292)","v":0.22},{"$f":"IF((S80-'Исходные данные'!$C$291)<0,'Исходные данные'!$C$290,'Исходные данные'!$C$292)","v":0.22},{"$f":"IF((T80-'Исходные данные'!$C$291)<0,'Исходные данные'!$C$290,'Исходные данные'!$C$292)","v":0.22},{"$f":"IF((U80-'Исходные данные'!$C$291)<0,'Исходные данные'!$C$290,'Исходные данные'!$C$292)","v":0.22},{"$f":"IF((V80-'Исходные данные'!$C$291)<0,'Исходные данные'!$C$290,'Исходные данные'!$C$292)","v":0.22},{"$f":"IF((W80-'Исходные данные'!$C$291)<0,'Исходные данные'!$C$290,'Исходные данные'!$C$292)","v":0.22},{"$f":"IF((X80-'Исходные данные'!$C$291)<0,'Исходные данные'!$C$290,'Исходные данные'!$C$292)","v":0.22},{"$f":"IF((Y80-'Исходные данные'!$C$291)<0,'Исходные данные'!$C$290,'Исходные данные'!$C$292)","v":0.22},{"$f":"IF((Z80-'Исходные данные'!$C$291)<0,'Исходные данные'!$C$290,'Исходные данные'!$C$292)","v":0.22},{"$f":"IF((AA80-'Исходные данные'!$C$291)<0,'Исходные данные'!$C$290,'Исходные данные'!$C$292)","v":0.22},{"$f":"IF((AB80-'Исходные данные'!$C$291)<0,'Исходные данные'!$C$290,'Исходные данные'!$C$292)","v":0.22},{"$f":"IF((AC80-'Исходные данные'!$C$291)<0,'Исходные данные'!$C$290,'Исходные данные'!$C$292)","v":0.22},{"$f":"IF((AD80-'Исходные данные'!$C$291)<0,'Исходные данные'!$C$290,'Исходные данные'!$C$292)","v":0.22},{"$f":"IF((AE80-'Исходные данные'!$C$291)<0,'Исходные данные'!$C$290,'Исходные данные'!$C$292)","v":0.22},{"$f":"IF((AF80-'Исходные данные'!$C$291)<0,'Исходные данные'!$C$290,'Исходные данные'!$C$292)","v":0.22},{"$f":"IF((AG80-'Исходные данные'!$C$291)<0,'Исходные данные'!$C$290,'Исходные данные'!$C$292)","v":0.22},{"$f":"IF((AH80-'Исходные данные'!$C$291)<0,'Исходные данные'!$C$290,'Исходные данные'!$C$292)","v":0.22},{"$f":"IF((AI80-'Исходные данные'!$C$291)<0,'Исходные данные'!$C$290,'Исходные данные'!$C$292)","v":0.22},{"$f":"IF((AJ80-'Исходные данные'!$C$291)<0,'Исходные данные'!$C$290,'Исходные данные'!$C$292)","v":0.22},{"$f":"IF((AK80-'Исходные данные'!$C$291)<0,'Исходные данные'!$C$290,'Исходные данные'!$C$292)","v":0.22},{"$f":"IF((AL80-'Исходные данные'!$C$291)<0,'Исходные данные'!$C$290,'Исходные данные'!$C$292)","v":0.22},{"$f":"IF((AM80-'Исходные данные'!$C$291)<0,'Исходные данные'!$C$290,'Исходные данные'!$C$292)","v":0.22},{"$f":"IF((AN80-'Исходные данные'!$C$291)<0,'Исходные данные'!$C$290,'Исходные данные'!$C$292)","v":0.22},{"$f":"IF((AO80-'Исходные данные'!$C$291)<0,'Исходные данные'!$C$290,'Исходные данные'!$C$292)","v":0.22},{"$f":"IF((AP80-'Исходные данные'!$C$291)<0,'Исходные данные'!$C$290,'Исходные данные'!$C$292)","v":0.22},{"$f":"IF((AQ80-'Исходные данные'!$C$291)<0,'Исходные данные'!$C$290,'Исходные данные'!$C$292)","v":0.22},{"$f":"IF((AR80-'Исходные данные'!$C$291)<0,'Исходные данные'!$C$290,'Исходные данные'!$C$292)","v":0.22},{"$f":"IF((AS80-'Исходные данные'!$C$291)<0,'Исходные данные'!$C$290,'Исходные данные'!$C$292)","v":0.22},{"$f":"IF((AT80-'Исходные данные'!$C$291)<0,'Исходные данные'!$C$290,'Исходные данные'!$C$292)","v":0.22},{"$f":"IF((AU80-'Исходные данные'!$C$291)<0,'Исходные данные'!$C$290,'Исходные данные'!$C$292)","v":0.22},{"$f":"IF((AV80-'Исходные данные'!$C$291)<0,'Исходные данные'!$C$290,'Исходные данные'!$C$292)","v":0.22},{"$f":"IF((AW80-'Исходные данные'!$C$291)<0,'Исходные данные'!$C$290,'Исходные данные'!$C$292)","v":0.22},{"$f":"IF((AX80-'Исходные данные'!$C$291)<0,'Исходные данные'!$C$290,'Исходные данные'!$C$292)","v":0.22},{"$f":"IF((AY80-'Исходные данные'!$C$291)<0,'Исходные данные'!$C$290,'Исходные данные'!$C$292)","v":0.22},{"$f":"IF((AZ80-'Исходные данные'!$C$291)<0,'Исходные данные'!$C$290,'Исходные данные'!$C$292)","v":0.22},{"$f":"IF((BA80-'Исходные данные'!$C$291)<0,'Исходные данные'!$C$290,'Исходные данные'!$C$292)","v":0.22},{"$f":"IF((BB80-'Исходные данные'!$C$291)<0,'Исходные данные'!$C$290,'Исходные данные'!$C$292)","v":0.22},{"$f":"IF((BC80-'Исходные данные'!$C$291)<0,'Исходные данные'!$C$290,'Исходные данные'!$C$292)","v":0.22},{"$f":"IF((BD80-'Исходные данные'!$C$291)<0,'Исходные данные'!$C$290,'Исходные данные'!$C$292)","v":0.22},{"$f":"IF((BE80-'Исходные данные'!$C$291)<0,'Исходные данные'!$C$290,'Исходные данные'!$C$292)","v":0.22},{"$f":"IF((BF80-'Исходные данные'!$C$291)<0,'Исходные данные'!$C$290,'Исходные данные'!$C$292)","v":0.22},{"$f":"IF((BG80-'Исходные данные'!$C$291)<0,'Исходные данные'!$C$290,'Исходные данные'!$C$292)","v":0.22},{"$f":"IF((BH80-'Исходные данные'!$C$291)<0,'Исходные данные'!$C$290,'Исходные данные'!$C$292)","v":0.22},{"$f":"IF((BI80-'Исходные данные'!$C$291)<0,'Исходные данные'!$C$290,'Исходные данные'!$C$292)","v":0.22},{"$f":"IF((BJ80-'Исходные данные'!$C$291)<0,'Исходные данные'!$C$290,'Исходные данные'!$C$292)","v":0.22},{"$f":"IF((BK80-'Исходные данные'!$C$291)<0,'Исходные данные'!$C$290,'Исходные данные'!$C$292)","v":0.22},{"$f":"IF((BL80-'Исходные данные'!$C$291)<0,'Исходные данные'!$C$290,'Исходные данные'!$C$292)","v":0.22}]
[0,null,null,null,{"$f":"IF((E81-'Исходные данные'!$C$291)<0,'Исходные данные'!$C$290,'Исходные данные'!$C$292)","v":0.22},{"$f":"IF((F81-'Исходные данные'!$C$291)<0,'Исходные данные'!$C$290,'Исходные данные'!$C$292)","v":0.22},{"$f":"IF((G81-'Исходные данные'!$C$291)<0,'Исходные данные'!$C$290,'Исходные данные'!$C$292)","v":0.22},{"$f":"IF((H81-'Исходные данные'!$C$291)<0,'Исходные данные'!$C$290,'Исходные данные'!$C$292)","v":0.22},{"$f":"IF((I81-'Исходные данные'!$C$291)<0,'Исходные данные'!$C$290,'Исходные данные'!$C$292)","v":0.22},{"$f":"IF((J81-'Исходные данные'!$C$291)<0,'Исходные данные'!$C$290,'Исходные данные'!$C$292)","v":0.22},{"$f":"IF((K81-'Исходные данные'!$C$291)<0,'Исходные данные'!$C$290,'Исходные данные'!$C$292)","v":0.22},{"$f":"IF((L81-'Исходные данные'!$C$291)<0,'Исходные данные'!$C$290,'Исходные данные'!$C$292)","v":0.22},{"$f":"IF((M81-'Исходные данные'!$C$291)<0,'Исходные данные'!$C$290,'Исходные данные'!$C$292)","v":0.22},{"$f":"IF((N81-'Исходные данные'!$C$291)<0,'Исходные данные'!$C$290,'Исходные данные'!$C$292)","v":0.22},{"$f":"IF((O81-'Исходные данные'!$C$291)<0,'Исходные данные'!$C$290,'Исходные данные'!$C$292)","v":0.22},{"$f":"IF((P81-'Исходные данные'!$C$291)<0,'Исходные данные'!$C$290,'Исходные данные'!$C$292)","v":0.22},{"$f":"IF((Q81-'Исходные данные'!$C$291)<0,'Исходные данные'!$C$290,'Исходные данные'!$C$292)","v":0.22},{"$f":"IF((R81-'Исходные данные'!$C$291)<0,'Исходные данные'!$C$290,'Исходные данные'!$C$292)","v":0.22},{"$f":"IF((S81-'Исходные данные'!$C$291)<0,'Исходные данные'!$C$290,'Исходные данные'!$C$292)","v":0.22},{"$f":"IF((T81-'Исходные данные'!$C$291)<0,'Исходные данные'!$C$290,'Исходные данные'!$C$292)","v":0.22},{"$f":"IF((U81-'Исходные данные'!$C$291)<0,'Исходные данные'!$C$290,'Исходные данные'!$C$292)","v":0.22},{"$f":"IF((V81-'Исходные данные'!$C$291)<0,'Исходные данные'!$C$290,'Исходные данные'!$C$292)","v":0.22},{"$f":"IF((W81-'Исходные данные'!$C$291)<0,'Исходные данные'!$C$290,'Исходные данные'!$C$292)","v":0.22},{"$f":"IF((X81-'Исходные данные'!$C$291)<0,'Исходные данные'!$C$290,'Исходные данные'!$C$292)","v":0.22},{"$f":"IF((Y81-'Исходные данные'!$C$291)<0,'Исходные данные'!$C$290,'Исходные данные'!$C$292)","v":0.22},{"$f":"IF((Z81-'Исходные данные'!$C$291)<0,'Исходные данные'!$C$290,'Исходные данные'!$C$292)","v":0.22},{"$f":"IF((AA81-'Исходные данные'!$C$291)<0,'Исходные данные'!$C$290,'Исходные данные'!$C$292)","v":0.22},{"$f":"IF((AB81-'Исходные данные'!$C$291)<0,'Исходные данные'!$C$290,'Исходные данные'!$C$292)","v":0.22},{"$f":"IF((AC81-'Исходные данные'!$C$291)<0,'Исходные данные'!$C$290,'Исходные данные'!$C$292)","v":0.22},{"$f":"IF((AD81-'Исходные данные'!$C$291)<0,'Исходные данные'!$C$290,'Исходные данные'!$C$292)","v":0.22},{"$f":"IF((AE81-'Исходные данные'!$C$291)<0,'Исходные данные'!$C$290,'Исходные данные'!$C$292)","v":0.22},{"$f":"IF((AF81-'Исходные данные'!$C$291)<0,'Исходные данные'!$C$290,'Исходные данные'!$C$292)","v":0.22},{"$f":"IF((AG81-'Исходные данные'!$C$291)<0,'Исходные данные'!$C$290,'Исходные данные'!$C$292)","v":0.22},{"$f":"IF((AH81-'Исходные данные'!$C$291)<0,'Исходные данные'!$C$290,'Исходные данные'!$C$292)","v":0.22},{"$f":"IF((AI81-'Исходные данные'!$C$291)<0,'Исходные данные'!$C$290,'Исходные данные'!$C$292)","v":0.22},{"$f":"IF((AJ81-'Исходные данные'!$C$291)<0,'Исходные данные'!$C$290,'Исходные данные'!$C$292)","v":0.22},{"$f":"IF((AK81-'Исходные данные'!$C$291)<0,'Исходные данные'!$C$290,'Исходные данные'!$C$292)","v":0.22},{"$f":"IF((AL81-'Исходные данные'!$C$291)<0,'Исходные данные'!$C$290,'Исходные данные'!$C$292)","v":0.22},{"$f":"IF((AM81-'Исходные данные'!$C$291)<0,'Исходные данные'!$C$290,'Исходные данные'!$C$292)","v":0.22},{"$f":"IF((AN81-'Исходные данные'!$C$291)<0,'Исходные данные'!$C$290,'Исходные данные'!$C$292)","v":0.22},{"$f":"IF((AO81-'Исходные данные'!$C$291)<0,'Исходные данные'!$C$290,'Исходные данные'!$C$292)","v":0.22},{"$f":"IF((AP81-'Исходные данные'!$C$291)<0,'Исходные данные'!$C$290,'Исходные данные'!$C$292)","v":0.22},{"$f":"IF((AQ81-'Исходные данные'!$C$291)<0,'Исходные данные'!$C$290,'Исходные данные'!$C$292)","v":0.22},{"$f":"IF((AR81-'Исходные данные'!$C$291)<0,'Исходные данные'!$C$290,'Исходные данные'!$C$292)","v":0.22},{"$f":"IF((AS81-'Исходные данные'!$C$291)<0,'Исходные данные'!$C$290,'Исходные данные'!$C$292)","v":0.22},{"$f":"IF((AT81-'Исходные данные'!$C$291)<0,'Исходные данные'!$C$290,'Исходные данные'!$C$292)","v":0.22},{"$f":"IF((AU81-'Исходные данные'!$C$291)<0,'Исходные данные'!$C$290,'Исходные данные'!$C$292)","v":0.22},{"$f":"IF((AV81-'Исходные данные'!$C$291)<0,'Исходные данные'!$C$290,'Исходные данные'!$C$292)","v":0.22},{"$f":"IF((AW81-'Исходные данные'!$C$291)<0,'Исходные данные'!$C$290,'Исходные данные'!$C$292)","v":0.22},{"$f":"IF((AX81-'Исходные данные'!$C$291)<0,'Исходные данные'!$C$290,'Исходные данные'!$C$292)","v":0.22},{"$f":"IF((AY81-'Исходные данные'!$C$291)<0,'Исходные данные'!$C$290,'Исходные данные'!$C$292)","v":0.22},{"$f":"IF((AZ81-'Исходные данные'!$C$291)<0,'Исходные данные'!$C$290,'Исходные данные'!$C$292)","v":0.22},{"$f":"IF((BA81-'Исходные данные'!$C$291)<0,'Исходные данные'!$C$290,'Исходные данные'!$C$292)","v":0.22},{"$f":"IF((BB81-'Исходные данные'!$C$291)<0,'Исходные данные'!$C$290,'Исходные данные'!$C$292)","v":0.22},{"$f":"IF((BC81-'Исходные данные'!$C$291)<0,'Исходные данные'!$C$290,'Исходные данные'!$C$292)","v":0.22},{"$f":"IF((BD81-'Исходные данные'!$C$291)<0,'Исходные данные'!$C$290,'Исходные данные'!$C$292)","v":0.22},{"$f":"IF((BE81-'Исходные данные'!$C$291)<0,'Исходные данные'!$C$290,'Исходные данные'!$C$292)","v":0.22},{"$f":"IF((BF81-'Исходные данные'!$C$291)<0,'Исходные данные'!$C$290,'Исходные данные'!$C$292)","v":0.22},{"$f":"IF((BG81-'Исходные данные'!$C$291)<0,'Исходные данные'!$C$290,'Исходные данные'!$C$292)","v":0.22},{"$f":"IF((BH81-'Исходные данные'!$C$291)<0,'Исходные данные'!$C$290,'Исходные данные'!$C$292)","v":0.22},{"$f":"IF((BI81-'Исходные данные'!$C$291)<0,'Исходные данные'!$C$290,'Исходные данные'!$C$292)","v":0.22},{"$f":"IF((BJ81-'Исходные данные'!$C$291)<0,'Исходные данные'!$C$290,'Исходные данные'!$C$292)","v":0.22},{"$f":"IF((BK81-'Исходные данные'!$C$291)<0,'Исходные данные'!$C$290,'Исходные данные'!$C$292)","v":0.22},{"$f":"IF((BL81-'Исходные данные'!$C$291)<0,'Исходные данные'!$C$290,'Исходные данные'!$C$292)","v":0.22}]
[0,null,null,null,{"$f":"IF((E82-'Исходные данные'!$C$291)<0,'Исходные данные'!$C$290,'Исходные данные'!$C$292)","v":0.22},{"$f":"IF((F82-'Исходные данные'!$C$291)<0,'Исходные данные'!$C$290,'Исходные данные'!$C$292)","v":0.22},{"$f":"IF((G82-'Исходные данные'!$C$291)<0,'Исходные данные'!$C$290,'Исходные данные'!$C$292)","v":0.22},{"$f":"IF((H82-'Исходные данные'!$C$291)<0,'Исходные данные'!$C$290,'Исходные данные'!$C$292)","v":0.22},{"$f":"IF((I82-'Исходные данные'!$C$291)<0,'Исходные данные'!$C$290,'Исходные данные'!$C$292)","v":0.22},{"$f":"IF((J82-'Исходные данные'!$C$291)<0,'Исходные данные'!$C$290,'Исходные данные'!$C$292)","v":0.22},{"$f":"IF((K82-'Исходные данные'!$C$291)<0,'Исходные данные'!$C$290,'Исходные данные'!$C$292)","v":0.22},{"$f":"IF((L82-'Исходные данные'!$C$291)<0,'Исходные данные'!$C$290,'Исходные данные'!$C$292)","v":0.22},{"$f":"IF((M82-'Исходные данные'!$C$291)<0,'Исходные данные'!$C$290,'Исходные данные'!$C$292)","v":0.22},{"$f":"IF((N82-'Исходные данные'!$C$291)<0,'Исходные данные'!$C$290,'Исходные данные'!$C$292)","v":0.22},{"$f":"IF((O82-'Исходные данные'!$C$291)<0,'Исходные данные'!$C$290,'Исходные данные'!$C$292)","v":0.22},{"$f":"IF((P82-'Исходные данные'!$C$291)<0,'Исходные данные'!$C$290,'Исходные данные'!$C$292)","v":0.22},{"$f":"IF((Q82-'Исходные данные'!$C$291)<0,'Исходные данные'!$C$290,'Исходные данные'!$C$292)","v":0.22},{"$f":"IF((R82-'Исходные данные'!$C$291)<0,'Исходные данные'!$C$290,'Исходные данные'!$C$292)","v":0.22},{"$f":"IF((S82-'Исходные данные'!$C$291)<0,'Исходные данные'!$C$290,'Исходные данные'!$C$292)","v":0.22},{"$f":"IF((T82-'Исходные данные'!$C$291)<0,'Исходные данные'!$C$290,'Исходные данные'!$C$292)","v":0.22},{"$f":"IF((U82-'Исходные данные'!$C$291)<0,'Исходные данные'!$C$290,'Исходные данные'!$C$292)","v":0.22},{"$f":"IF((V82-'Исходные данные'!$C$291)<0,'Исходные данные'!$C$290,'Исходные данные'!$C$292)","v":0.22},{"$f":"IF((W82-'Исходные данные'!$C$291)<0,'Исходные данные'!$C$290,'Исходные данные'!$C$292)","v":0.22},{"$f":"IF((X82-'Исходные данные'!$C$291)<0,'Исходные данные'!$C$290,'Исходные данные'!$C$292)","v":0.22},{"$f":"IF((Y82-'Исходные данные'!$C$291)<0,'Исходные данные'!$C$290,'Исходные данные'!$C$292)","v":0.22},{"$f":"IF((Z82-'Исходные данные'!$C$291)<0,'Исходные данные'!$C$290,'Исходные данные'!$C$292)","v":0.22},{"$f":"IF((AA82-'Исходные данные'!$C$291)<0,'Исходные данные'!$C$290,'Исходные данные'!$C$292)","v":0.22},{"$f":"IF((AB82-'Исходные данные'!$C$291)<0,'Исходные данные'!$C$290,'Исходные данные'!$C$292)","v":0.22},{"$f":"IF((AC82-'Исходные данные'!$C$291)<0,'Исходные данные'!$C$290,'Исходные данные'!$C$292)","v":0.22},{"$f":"IF((AD82-'Исходные данные'!$C$291)<0,'Исходные данные'!$C$290,'Исходные данные'!$C$292)","v":0.22},{"$f":"IF((AE82-'Исходные данные'!$C$291)<0,'Исходные данные'!$C$290,'Исходные данные'!$C$292)","v":0.22},{"$f":"IF((AF82-'Исходные данные'!$C$291)<0,'Исходные данные'!$C$290,'Исходные данные'!$C$292)","v":0.22},{"$f":"IF((AG82-'Исходные данные'!$C$291)<0,'Исходные данные'!$C$290,'Исходные данные'!$C$292)","v":0.22},{"$f":"IF((AH82-'Исходные данные'!$C$291)<0,'Исходные данные'!$C$290,'Исходные данные'!$C$292)","v":0.22},{"$f":"IF((AI82-'Исходные данные'!$C$291)<0,'Исходные данные'!$C$290,'Исходные данные'!$C$292)","v":0.22},{"$f":"IF((AJ82-'Исходные данные'!$C$291)<0,'Исходные данные'!$C$290,'Исходные данные'!$C$292)","v":0.22},{"$f":"IF((AK82-'Исходные данные'!$C$291)<0,'Исходные данные'!$C$290,'Исходные данные'!$C$292)","v":0.22},{"$f":"IF((AL82-'Исходные данные'!$C$291)<0,'Исходные данные'!$C$290,'Исходные данные'!$C$292)","v":0.22},{"$f":"IF((AM82-'Исходные данные'!$C$291)<0,'Исходные данные'!$C$290,'Исходные данные'!$C$292)","v":0.22},{"$f":"IF((AN82-'Исходные данные'!$C$291)<0,'Исходные данные'!$C$290,'Исходные данные'!$C$292)","v":0.22},{"$f":"IF((AO82-'Исходные данные'!$C$291)<0,'Исходные данные'!$C$290,'Исходные данные'!$C$292)","v":0.22},{"$f":"IF((AP82-'Исходные данные'!$C$291)<0,'Исходные данные'!$C$290,'Исходные данные'!$C$292)","v":0.22},{"$f":"IF((AQ82-'Исходные данные'!$C$291)<0,'Исходные данные'!$C$290,'Исходные данные'!$C$292)","v":0.22},{"$f":"IF((AR82-'Исходные данные'!$C$291)<0,'Исходные данные'!$C$290,'Исходные данные'!$C$292)","v":0.22},{"$f":"IF((AS82-'Исходные данные'!$C$291)<0,'Исходные данные'!$C$290,'Исходные данные'!$C$292)","v":0.22},{"$f":"IF((AT82-'Исходные данные'!$C$291)<0,'Исходные данные'!$C$290,'Исходные данные'!$C$292)","v":0.22},{"$f":"IF((AU82-'Исходные данные'!$C$291)<0,'Исходные данные'!$C$290,'Исходные данные'!$C$292)","v":0.22},{"$f":"IF((AV82-'Исходные данные'!$C$291)<0,'Исходные данные'!$C$290,'Исходные данные'!$C$292)","v":0.22},{"$f":"IF((AW82-'Исходные данные'!$C$291)<0,'Исходные данные'!$C$290,'Исходные данные'!$C$292)","v":0.22},{"$f":"IF((AX82-'Исходные данные'!$C$291)<0,'Исходные данные'!$C$290,'Исходные данные'!$C$292)","v":0.22},{"$f":"IF((AY82-'Исходные данные'!$C$291)<0,'Исходные данные'!$C$290,'Исходные данные'!$C$292)","v":0.22},{"$f":"IF((AZ82-'Исходные данные'!$C$291)<0,'Исходные данные'!$C$290,'Исходные данные'!$C$292)","v":0.22},{"$f":"IF((BA82-'Исходные данные'!$C$291)<0,'Исходные данные'!$C$290,'Исходные данные'!$C$292)","v":0.22},{"$f":"IF((BB82-'Исходные данные'!$C$291)<0,'Исходные данные'!$C$290,'Исходные данные'!$C$292)","v":0.22},{"$f":"IF((BC82-'Исходные данные'!$C$291)<0,'Исходные данные'!$C$290,'Исходные данные'!$C$292)","v":0.22},{"$f":"IF((BD82-'Исходные данные'!$C$291)<0,'Исходные данные'!$C$290,'Исходные данные'!$C$292)","v":0.22},{"$f":"IF((BE82-'Исходные данные'!$C$291)<0,'Исходные данные'!$C$290,'Исходные данные'!$C$292)","v":0.22},{"$f":"IF((BF82-'Исходные данные'!$C$291)<0,'Исходные данные'!$C$290,'Исходные данные'!$C$292)","v":0.22},{"$f":"IF((BG82-'Исходные данные'!$C$291)<0,'Исходные данные'!$C$290,'Исходные данные'!$C$292)","v":0.22},{"$f":"IF((BH82-'Исходные данные'!$C$291)<0,'Исходные данные'!$C$290,'Исходные данные'!$C$292)","v":0.22},{"$f":"IF((BI82-'Исходные данные'!$C$291)<0,'Исходные данные'!$C$290,'Исходные данные'!$C$292)","v":0.22},{"$f":"IF((BJ82-'Исходные данные'!$C$291)<0,'Исходные данные'!$C$290,'Исходные данные'!$C$292)","v":0.22},{"$f":"IF((BK82-'Исходные данные'!$C$291)<0,'Исходные данные'!$C$290,'Исходные данные'!$C$292)","v":0.22},{"$f":"IF((BL82-'Исходные данные'!$C$291)<0,'Исходные данные'!$C$290,'Исходные данные'!$C$292)","v":0.22}]
[0,null,null,null,{"$f":"IF((E83-'Исходные данные'!$C$291)<0,'Исходные данные'!$C$290,'Исходные данные'!$C$292)","v":0.22},{"$f":"IF((F83-'Исходные данные'!$C$291)<0,'Исходные данные'!$C$290,'Исходные данные'!$C$292)","v":0.22},{"$f":"IF((G83-'Исходные данные'!$C$291)<0,'Исходные данные'!$C$290,'Исходные данные'!$C$292)","v":0.22},{"$f":"IF((H83-'Исходные данные'!$C$291)<0,'Исходные данные'!$C$290,'Исходные данные'!$C$292)","v":0.22},{"$f":"IF((I83-'Исходные данные'!$C$291)<0,'Исходные данные'!$C$290,'Исходные данные'!$C$292)","v":0.22},{"$f":"IF((J83-'Исходные данные'!$C$291)<0,'Исходные данные'!$C$290,'Исходные данные'!$C$292)","v":0.22},{"$f":"IF((K83-'Исходные данные'!$C$291)<0,'Исходные данные'!$C$290,'Исходные данные'!$C$292)","v":0.22},{"$f":"IF((L83-'Исходные данные'!$C$291)<0,'Исходные данные'!$C$290,'Исходные данные'!$C$292)","v":0.22},{"$f":"IF((M83-'Исходные данные'!$C$291)<0,'Исходные данные'!$C$290,'Исходные данные'!$C$292)","v":0.22},{"$f":"IF((N83-'Исходные данные'!$C$291)<0,'Исходные данные'!$C$290,'Исходные данные'!$C$292)","v":0.22},{"$f":"IF((O83-'Исходные данные'!$C$291)<0,'Исходные данные'!$C$290,'Исходные данные'!$C$292)","v":0.22},{"$f":"IF((P83-'Исходные данные'!$C$291)<0,'Исходные данные'!$C$290,'Исходные данные'!$C$292)","v":0.22},{"$f":"IF((Q83-'Исходные данные'!$C$291)<0,'Исходные данные'!$C$290,'Исходные данные'!$C$292)","v":0.22},{"$f":"IF((R83-'Исходные данные'!$C$291)<0,'Исходные данные'!$C$290,'Исходные данные'!$C$292)","v":0.22},{"$f":"IF((S83-'Исходные данные'!$C$291)<0,'Исходные данные'!$C$290,'Исходные данные'!$C$292)","v":0.22},{"$f":"IF((T83-'Исходные данные'!$C$291)<0,'Исходные данные'!$C$290,'Исходные данные'!$C$292)","v":0.22},{"$f":"IF((U83-'Исходные данные'!$C$291)<0,'Исходные данные'!$C$290,'Исходные данные'!$C$292)","v":0.22},{"$f":"IF((V83-'Исходные данные'!$C$291)<0,'Исходные данные'!$C$290,'Исходные данные'!$C$292)","v":0.22},{"$f":"IF((W83-'Исходные данные'!$C$291)<0,'Исходные данные'!$C$290,'Исходные данные'!$C$292)","v":0.22},{"$f":"IF((X83-'Исходные данные'!$C$291)<0,'Исходные данные'!$C$290,'Исходные данные'!$C$292)","v":0.22},{"$f":"IF((Y83-'Исходные данные'!$C$291)<0,'Исходные данные'!$C$290,'Исходные данные'!$C$292)","v":0.22},{"$f":"IF((Z83-'Исходные данные'!$C$291)<0,'Исходные данные'!$C$290,'Исходные данные'!$C$292)","v":0.22},{"$f":"IF((AA83-'Исходные данные'!$C$291)<0,'Исходные данные'!$C$290,'Исходные данные'!$C$292)","v":0.22},{"$f":"IF((AB83-'Исходные данные'!$C$291)<0,'Исходные данные'!$C$290,'Исходные данные'!$C$292)","v":0.22},{"$f":"IF((AC83-'Исходные данные'!$C$291)<0,'Исходные данные'!$C$290,'Исходные данные'!$C$292)","v":0.22},{"$f":"IF((AD83-'Исходные данные'!$C$291)<0,'Исходные данные'!$C$290,'Исходные данные'!$C$292)","v":0.22},{"$f":"IF((AE83-'Исходные данные'!$C$291)<0,'Исходные данные'!$C$290,'Исходные данные'!$C$292)","v":0.22},{"$f":"IF((AF83-'Исходные данные'!$C$291)<0,'Исходные данные'!$C$290,'Исходные данные'!$C$292)","v":0.22},{"$f":"IF((AG83-'Исходные данные'!$C$291)<0,'Исходные данные'!$C$290,'Исходные данные'!$C$292)","v":0.22},{"$f":"IF((AH83-'Исходные данные'!$C$291)<0,'Исходные данные'!$C$290,'Исходные данные'!$C$292)","v":0.22},{"$f":"IF((AI83-'Исходные данные'!$C$291)<0,'Исходные данные'!$C$290,'Исходные данные'!$C$292)","v":0.22},{"$f":"IF((AJ83-'Исходные данные'!$C$291)<0,'Исходные данные'!$C$290,'Исходные данные'!$C$292)","v":0.22},{"$f":"IF((AK83-'Исходные данные'!$C$291)<0,'Исходные данные'!$C$290,'Исходные данные'!$C$292)","v":0.22},{"$f":"IF((AL83-'Исходные данные'!$C$291)<0,'Исходные данные'!$C$290,'Исходные данные'!$C$292)","v":0.22},{"$f":"IF((AM83-'Исходные данные'!$C$291)<0,'Исходные данные'!$C$290,'Исходные данные'!$C$292)","v":0.22},{"$f":"IF((AN83-'Исходные данные'!$C$291)<0,'Исходные данные'!$C$290,'Исходные данные'!$C$292)","v":0.22},{"$f":"IF((AO83-'Исходные данные'!$C$291)<0,'Исходные данные'!$C$290,'Исходные данные'!$C$292)","v":0.22},{"$f":"IF((AP83-'Исходные данные'!$C$291)<0,'Исходные данные'!$C$290,'Исходные данные'!$C$292)","v":0.22},{"$f":"IF((AQ83-'Исходные данные'!$C$291)<0,'Исходные данные'!$C$290,'Исходные данные'!$C$292)","v":0.22},{"$f":"IF((AR83-'Исходные данные'!$C$291)<0,'Исходные данные'!$C$290,'Исходные данные'!$C$292)","v":0.22},{"$f":"IF((AS83-'Исходные данные'!$C$291)<0,'Исходные данные'!$C$290,'Исходные данные'!$C$292)","v":0.22},{"$f":"IF((AT83-'Исходные данные'!$C$291)<0,'Исходные данные'!$C$290,'Исходные данные'!$C$292)","v":0.22},{"$f":"IF((AU83-'Исходные данные'!$C$291)<0,'Исходные данные'!$C$290,'Исходные данные'!$C$292)","v":0.22},{"$f":"IF((AV83-'Исходные данные'!$C$291)<0,'Исходные данные'!$C$290,'Исходные данные'!$C$292)","v":0.22},{"$f":"IF((AW83-'Исходные данные'!$C$291)<0,'Исходные данные'!$C$290,'Исходные данные'!$C$292)","v":0.22},{"$f":"IF((AX83-'Исходные данные'!$C$291)<0,'Исходные данные'!$C$290,'Исходные данные'!$C$292)","v":0.22},{"$f":"IF((AY83-'Исходные данные'!$C$291)<0,'Исходные данные'!$C$290,'Исходные данные'!$C$292)","v":0.22},{"$f":"IF((AZ83-'Исходные данные'!$C$291)<0,'Исходные данные'!$C$290,'Исходные данные'!$C$292)","v":0.22},{"$f":"IF((BA83-'Исходные данные'!$C$291)<0,'Исходные данные'!$C$290,'Исходные данные'!$C$292)","v":0.22},{"$f":"IF((BB83-'Исходные данные'!$C$291)<0,'Исходные данные'!$C$290,'Исходные данные'!$C$292)","v":0.22},{"$f":"IF((BC83-'Исходные данные'!$C$291)<0,'Исходные данные'!$C$290,'Исходные данные'!$C$292)","v":0.22},{"$f":"IF((BD83-'Исходные данные'!$C$291)<0,'Исходные данные'!$C$290,'Исходные данные'!$C$292)","v":0.22},{"$f":"IF((BE83-'Исходные данные'!$C$291)<0,'Исходные данные'!$C$290,'Исходные данные'!$C$292)","v":0.22},{"$f":"IF((BF83-'Исходные данные'!$C$291)<0,'Исходные данные'!$C$290,'Исходные данные'!$C$292)","v":0.22},{"$f":"IF((BG83-'Исходные данные'!$C$291)<0,'Исходные данные'!$C$290,'Исходные данные'!$C$292)","v":0.22},{"$f":"IF((BH83-'Исходные данные'!$C$291)<0,'Исходные данные'!$C$290,'Исходные данные'!$C$292)","v":0.22},{"$f":"IF((BI83-'Исходные данные'!$C$291)<0,'Исходные данные'!$C$290,'Исходные данные'!$C$292)","v":0.22},{"$f":"IF((BJ83-'Исходные данные'!$C$291)<0,'Исходные данные'!$C$290,'Исходные данные'!$C$292)","v":0.22},{"$f":"IF((BK83-'Исходные данные'!$C$291)<0,'Исходные данные'!$C$290,'Исходные данные'!$C$292)","v":0.22},{"$f":"IF((BL83-'Исходные данные'!$C$291)<0,'Исходные данные'!$C$290,'Исходные данные'!$C$292)","v":0.22}]
["Страховые взносы в ПФР (постоянная часть)",null,null,null,{"$f":"SUM(E101:E115)","v":4950},{"$f":"SUM(F101:F115)","v":4950},{"$f":"SUM(G101:G115)","v":9900},{"$f":"SUM(H101:H115)","v":9900},{"$f":"SUM(I101:I115)","v":9900},{"$f":"SUM(J101:J115)","v":9900},{"$f":"SUM(K101:K115)","v":9900},{"$f":"SUM(L101:L115)","v":9900},{"$f":"SUM(M101:M115)","v":9900},{"$f":"SUM(N101:N115)","v":9900},{"$f":"SUM(O101:O115)","v":9900},{"$f":"SUM(P101:P115)","v":9900},{"$f":"SUM(Q101:Q115)","v":9900},{"$f":"SUM(R101:R115)","v":9900},{"$f":"SUM(S101:S115)","v":9900},{"$f":"SUM(T101:T115)","v":9900},{"$f":"SUM(U101:U115)","v":9900},{"$f":"SUM(V101:V115)","v":9900},{"$f":"SUM(W101:W115)","v":9900},{"$f":"SUM(X101:X115)","v":9900},{"$f":"SUM(Y101:Y115)","v":9900},{"$f":"SUM(Z101:Z115)","v":9900},{"$f":"SUM(AA101:AA115)","v":9900},{"$f":"SUM(AB101:AB115)","v":9900},{"$f":"SUM(AC101:AC115)","v":9900},{"$f":"SUM(AD101:AD115)","v":9900},{"$f":"SUM(AE101:AE115)","v":9900},{"$f":"SUM(AF101:AF115)","v":9900},{"$f":"SUM(AG101:AG115)","v":9900},{"$f":"SUM(AH101:AH115)","v":9900},{"$f":"SUM(AI101:AI115)","v":9900},{"$f":"SUM(AJ101:AJ115)","v":9900},{"$f":"SUM(AK101:AK115)","v":9900},{"$f":"SUM(AL101:AL115)","v":9900},{"$f":"SUM(AM101:AM115)","v":9900},{"$f":"SUM(AN101:AN115)","v":9900},{"$f":"SUM(AO101:AO115)","v":9900},{"$f":"SUM(AP101:AP115)","v":9900},{"$f":"SUM(AQ101:AQ115)","v":9900},{"$f":"SUM(AR101:AR115)","v":9900},{"$f":"SUM(AS101:AS115)","v":9900},{"$f":"SUM(AT101:AT115)","v":9900},{"$f":"SUM(AU101:AU115)","v":9900},{"$f":"SUM(AV101:AV115)","v":9900},{"$f":"SUM(AW101:AW115)","v":9900},{"$f":"SUM(AX101:AX115)","v":9900},{"$f":"SUM(AY101:AY115)","v":9900},{"$f":"SUM(AZ101:AZ115)","v":9900},{"$f":"SUM(BA101:BA115)","v":9900},{"$f":"SUM(BB101:BB115)","v":9900},{"$f":"SUM(BC101:BC115)","v":9900},{"$f":"SUM(BD101:BD115)","v":9900},{"$f":"SUM(BE101:BE115)","v":9900},{"$f":"SUM(BF101:BF115)","v":9900},{"$f":"SUM(BG101:BG115)","v":9900},{"$f":"SUM(BH101:BH115)","v":9900},{"$f":"SUM(BI101:BI115)","v":9900},{"$f":"SUM(BJ101:BJ115)","v":9900},{"$f":"SUM(BK101:BK115)","v":9900},{"$f":"SUM(BL101:BL115)","v":9900}]
[{"$f":"A85","v":"Продавей"},null,null,null,{"$f":"'Исходные данные'!C114*'Исходные данные'!$D92*(1+'Исходные данные'!$E92)*E85","v":4950},{"$f":"'Исходные данные'!D114*'Исходные данные'!$D92*(1+'Исходные данные'!$E92)*F85","v":4950},{"$f":"'Исходные данные'!E114*'Исходные данные'!$D92*(1+'Исходные данные'!$E92)*G85","v":9900},{"$f":"'Исходные данные'!F114*'Исходные данные'!$D92*(1+'Исходные данные'!$E92)*H85","v":9900},{"$f":"'Исходные данные'!G114*'Исходные данные'!$D92*(1+'Исходные данные'!$E92)*I85","v":9900},{"$f":"'Исходные данные'!H114*'Исходные данные'!$D92*(1+'Исходные данные'!$E92)*J85","v":9900},{"$f":"'Исходные данные'!I114*'Исходные данные'!$D92*(1+'Исходные данные'!$E92)*K85","v":9900},{"$f":"'Исходные данные'!J114*'Исходные данные'!$D92*(1+'Исходные данные'!$E92)*L85","v":9900},{"$f":"'Исходные данные'!K114*'Исходные данные'!$D92*(1+'Исходные данные'!$E92)*M85","v":9900},{"$f":"'Исходные данные'!L114*'Исходные данные'!$D92*(1+'Исходные данные'!$E92)*N85","v":9900},{"$f":"'Исходные данные'!M114*'Исходные данные'!$D92*(1+'Исходные данные'!$E92)*O85","v":9900},{"$f":"'Исходные данные'!N114*'Исходные данные'!$D92*(1+'Исходные данные'!$E92)*P85","v":9900},{"$f":"'Исходные данные'!$C92*'Исходные данные'!$D92*(1+'Исходные данные'!$E92)*Q85","v":9900},{"$f":"'Исходные данные'!$C92*'Исходные данные'!$D92*(1+'Исходные данные'!$E92)*R85","v":9900},{"$f":"'Исходные данные'!$C92*'Исходные данные'!$D92*(1+'Исходные данные'!$E92)*S85","v":9900},{"$f":"'Исходные данные'!$C92*'Исходные данные'!$D92*(1+'Исходные данные'!$E92)*T85","v":9900},{"$f":"'Исходные данные'!$C92*'Исходные данные'!$D92*(1+'Исходные данные'!$E92)*U85","v":9900},{"$f":"'Исходные данные'!$C92*'Исходные данные'!$D92*(1+'Исходные данные'!$E92)*V85","v":9900},{"$f":"'Исходные данные'!$C92*'Исходные данные'!$D92*(1+'Исходные данные'!$E92)*W85","v":9900},{"$f":"'Исходные данные'!$C92*'Исходные данные'!$D92*(1+'Исходные данные'!$E92)*X85","v":9900},{"$f":"'Исходные данные'!$C92*'Исходные данные'!$D92*(1+'Исходные данные'!$E92)*Y85","v":9900},{"$f":"'Исходные данные'!$C92*'Исходные данные'!$D92*(1+'Исходные данные'!$E92)*Z85","v":9900},{"$f":"'Исходные данные'!$C92*'Исходные данные'!$D92*(1+'Исходные данные'!$E92)*AA85","v":9900},{"$f":"'Исходные данные'!$C92*'Исходные данные'!$D92*(1+'Исходные данные'!$E92)*AB85","v":9900},{"$f":"'Исходные данные'!$C92*'Исходные данные'!$D92*(1+'Исходные данные'!$E92)*AC85","v":9900},{"$f":"'Исходные данные'!$C92*'Исходные данные'!$D92*(1+'Исходные данные'!$E92)*AD85","v":9900},{"$f":"'Исходные данные'!$C92*'Исходные данные'!$D92*(1+'Исходные данные'!$E92)*AE85","v":9900},{"$f":"'Исходные данные'!$C92*'Исходные данные'!$D92*(1+'Исходные данные'!$E92)*AF85","v":9900},{"$f":"'Исходные данные'!$C92*'Исходные данные'!$D92*(1+'Исходные данные'!$E92)*AG85","v":9900},{"$f":"'Исходные данные'!$C92*'Исходные данные'!$D92*(1+'Исходные данные'!$E92)*AH85","v":9900},{"$f":"'Исходные данные'!$C92*'Исходные данные'!$D92*(1+'Исходные данные'!$E92)*AI85","v":9900},{"$f":"'Исходные данные'!$C92*'Исходные данные'!$D92*(1+'Исходные данные'!$E92)*AJ85","v":9900},{"$f":"'Исходные данные'!$C92*'Исходные данные'!$D92*(1+'Исходные данные'!$E92)*AK85","v":9900},{"$f":"'Исходные данные'!$C92*'Исходные данные'!$D92*(1+'Исходные данные'!$E92)*AL85","v":9900},{"$f":"'Исходные данные'!$C92*'Исходные данные'!$D92*(1+'Исходные данные'!$E92)*AM85","v":9900},{"$f":"'Исходные данные'!$C92*'Исходные данные'!$D92*(1+'Исходные данные'!$E92)*AN85","v":9900},{"$f":"'Исходные данные'!$C92*'Исходные данные'!$D92*(1+'Исходные данные'!$E92)*AO85","v":9900},{"$f":"'Исходные данные'!$C92*'Исходные данные'!$D92*(1+'Исходные данные'!$E92)*AP85","v":9900},{"$f":"'Исходные данные'!$C92*'Исходные данные'!$D92*(1+'Исходные данные'!$E92)*AQ85","v":9900},{"$f":"'Исходные данные'!$C92*'Исходные данные'!$D92*(1+'Исходные данные'!$E92)*AR85","v":9900},{"$f":"'Исходные данные'!$C92*'Исходные данные'!$D92*(1+'Исходные данные'!$E92)*AS85","v":9900},{"$f":"'Исходные данные'!$C92*'Исходные данные'!$D92*(1+'Исходные данные'!$E92)*AT85","v":9900},{"$f":"'Исходные данные'!$C92*'Исходные данные'!$D92*(1+'Исходные данные'!$E92)*AU85","v":9900},{"$f":"'Исходные данные'!$C92*'Исходные данные'!$D92*(1+'Исходные данные'!$E92)*AV85","v":9900},{"$f":"'Исходные данные'!$C92*'Исходные данные'!$D92*(1+'Исходные данные'!$E92)*AW85","v":9900},{"$f":"'Исходные данные'!$C92*'Исходные данные'!$D92*(1+'Исходные данные'!$E92)*AX85","v":9900},{"$f":"'Исходные данные'!$C92*'Исходные данные'!$D92*(1+'Исходные данные'!$E92)*AY85","v":9900},{"$f":"'Исходные данные'!$C92*'Исходные данные'!$D92*(1+'Исходные данные'!$E92)*AZ85","v":9900},{"$f":"'Исходные данные'!$C92*'Исходные данные'!$D92*(1+'Исходные данные'!$E92)*BA85","v":9900},{"$f":"'Исходные данные'!$C92*'Исходные данные'!$D92*(1+'Исходные данные'!$E92)*BB85","v":9900},{"$f":"'Исходные данные'!$C92*'Исходные данные'!$D92*(1+'Исходные данные'!$E92)*BC85","v":9900},{"$f":"'Исходные данные'!$C92*'Исходные данные'!$D92*(1+'Исходные данные'!$E92)*BD85","v":9900},{"$f":"'Исходные данные'!$C92*'Исходные данные'!$D92*(1+'Исходные данные'!$E92)*BE85","v":9900},{"$f":"'Исходные данные'!$C92*'Исходные данные'!$D92*(1+'Исходные данные'!$E92)*BF85","v":9900},{"$f":"'Исходные данные'!$C92*'Исходные данные'!$D92*(1+'Исходные данные'!$E92)*BG85","v":9900},{"$f":"'Исходные данные'!$C92*'Исходные данные'!$D92*(1+'Исходные данные'!$E92)*BH85","v":9900},{"$f":"'Исходные данные'!$C92*'Исходные данные'!$D92*(1+'Исходные данные'!$E92)*BI85","v":9900},{"$f":"'Исходные данные'!$C92*'Исходные данные'!$D92*(1+'Исходные данные'!$E92)*BJ85","v":9900},{"$f":"'Исходные данные'!$C92*'Исходные данные'!$D92*(1+'Исходные данные'!$E92)*BK85","v":9900},{"$f":"'Исходные данные'!$C92*'Исходные данные'!$D92*(1+'Исходные данные'!$E92)*BL85","v":9900}]
[{"$f":"A86","v":0},null,null,null,{"$f":"'Исходные данные'!C115*'Исходные данные'!$D93*(1+'Исходные данные'!$E93)*E86","v":0},{"$f":"'Исходные данные'!D115*'Исходные данные'!$D93*(1+'Исходные данные'!$E93)*F86","v":0},{"$f":"'Исходные данные'!E115*'Исходные данные'!$D93*(1+'Исходные данные'!$E93)*G86","v":0},{"$f":"'Исходные данные'!F115*'Исходные данные'!$D93*(1+'Исходные данные'!$E93)*H86","v":0},{"$f":"'Исходные данные'!G115*'Исходные данные'!$D93*(1+'Исходные данные'!$E93)*I86","v":0},{"$f":"'Исходные данные'!H115*'Исходные данные'!$D93*(1+'Исходные данные'!$E93)*J86","v":0},{"$f":"'Исходные данные'!I115*'Исходные данные'!$D93*(1+'Исходные данные'!$E93)*K86","v":0},{"$f":"'Исходные данные'!J115*'Исходные данные'!$D93*(1+'Исходные данные'!$E93)*L86","v":0},{"$f":"'Исходные данные'!K115*'Исходные данные'!$D93*(1+'Исходные данные'!$E93)*M86","v":0},{"$f":"'Исходные данные'!L115*'Исходные данные'!$D93*(1+'Исходные данные'!$E93)*N86","v":0},{"$f":"'Исходные данные'!M115*'Исходные данные'!$D93*(1+'Исходные данные'!$E93)*O86","v":0},{"$f":"'Исходные данные'!N115*'Исходные данные'!$D93*(1+'Исходные данные'!$E93)*P86","v":0},{"$f":"'Исходные данные'!$C93*'Исходные данные'!$D93*(1+'Исходные данные'!$E93)*Q86","v":0},{"$f":"'Исходные данные'!$C93*'Исходные данные'!$D93*(1+'Исходные данные'!$E93)*R86","v":0},{"$f":"'Исходные данные'!$C93*'Исходные данные'!$D93*(1+'Исходные данные'!$E93)*S86","v":0},{"$f":"'Исходные данные'!$C93*'Исходные данные'!$D93*(1+'Исходные данные'!$E93)*T86","v":0},{"$f":"'Исходные данные'!$C93*'Исходные данные'!$D93*(1+'Исходные данные'!$E93)*U86","v":0},{"$f":"'Исходные данные'!$C93*'Исходные данные'!$D93*(1+'Исходные данные'!$E93)*V86","v":0},{"$f":"'Исходные данные'!$C93*'Исходные данные'!$D93*(1+'Исходные данные'!$E93)*W86","v":0},{"$f":"'Исходные данные'!$C93*'Исходные данные'!$D93*(1+'Исходные данные'!$E93)*X86","v":0},{"$f":"'Исходные данные'!$C93*'Исходные данные'!$D93*(1+'Исходные данные'!$E93)*Y86","v":0},{"$f":"'Исходные данные'!$C93*'Исходные данные'!$D93*(1+'Исходные данные'!$E93)*Z86","v":0},{"$f":"'Исходные данные'!$C93*'Исходные данные'!$D93*(1+'Исходные данные'!$E93)*AA86","v":0},{"$f":"'Исходные данные'!$C93*'Исходные данные'!$D93*(1+'Исходные данные'!$E93)*AB86","v":0},{"$f":"'Исходные данные'!$C93*'Исходные данные'!$D93*(1+'Исходные данные'!$E93)*AC86","v":0},{"$f":"'Исходные данные'!$C93*'Исходные данные'!$D93*(1+'Исходные данные'!$E93)*AD86","v":0},{"$f":"'Исходные данные'!$C93*'Исходные данные'!$D93*(1+'Исходные данные'!$E93)*AE86","v":0},{"$f":"'Исходные данные'!$C93*'Исходные данные'!$D93*(1+'Исходные данные'!$E93)*AF86","v":0},{"$f":"'Исходные данные'!$C93*'Исходные данные'!$D93*(1+'Исходные данные'!$E93)*AG86","v":0},{"$f":"'Исходные данные'!$C93*'Исходные данные'!$D93*(1+'Исходные данные'!$E93)*AH86","v":0},{"$f":"'Исходные данные'!$C93*'Исходные данные'!$D93*(1+'Исходные данные'!$E93)*AI86","v":0},{"$f":"'Исходные данные'!$C93*'Исходные данные'!$D93*(1+'Исходные данные'!$E93)*AJ86","v":0},{"$f":"'Исходные данные'!$C93*'Исходные данные'!$D93*(1+'Исходные данные'!$E93)*AK86","v":0},{"$f":"'Исходные данные'!$C93*'Исходные данные'!$D93*(1+'Исходные данные'!$E93)*AL86","v":0},{"$f":"'Исходные данные'!$C93*'Исходные данные'!$D93*(1+'Исходные данные'!$E93)*AM86","v":0},{"$f":"'Исходные данные'!$C93*'Исходные данные'!$D93*(1+'Исходные данные'!$E93)*AN86","v":0},{"$f":"'Исходные данные'!$C93*'Исходные данные'!$D93*(1+'Исходные данные'!$E93)*AO86","v":0},{"$f":"'Исходные данные'!$C93*'Исходные данные'!$D93*(1+'Исходные данные'!$E93)*AP86","v":0},{"$f":"'Исходные данные'!$C93*'Исходные данные'!$D93*(1+'Исходные данные'!$E93)*AQ86","v":0},{"$f":"'Исходные данные'!$C93*'Исходные данные'!$D93*(1+'Исходные данные'!$E93)*AR86","v":0},{"$f":"'Исходные данные'!$C93*'Исходные данные'!$D93*(1+'Исходные данные'!$E93)*AS86","v":0},{"$f":"'Исходные данные'!$C93*'Исходные данные'!$D93*(1+'Исходные данные'!$E93)*AT86","v":0},{"$f":"'Исходные данные'!$C93*'Исходные данные'!$D93*(1+'Исходные данные'!$E93)*AU86","v":0},{"$f":"'Исходные данные'!$C93*'Исходные данные'!$D93*(1+'Исходные данные'!$E93)*AV86","v":0},{"$f":"'Исходные данные'!$C93*'Исходные данные'!$D93*(1+'Исходные данные'!$E93)*AW86","v":0},{"$f":"'Исходные данные'!$C93*'Исходные данные'!$D93*(1+'Исходные данные'!$E93)*AX86","v":0},{"$f":"'Исходные данные'!$C93*'Исходные данные'!$D93*(1+'Исходные данные'!$E93)*AY86","v":0},{"$f":"'Исходные данные'!$C93*'Исходные данные'!$D93*(1+'Исходные данные'!$E93)*AZ86","v":0},{"$f":"'Исходные данные'!$C93*'Исходные данные'!$D93*(1+'Исходные данные'!$E93)*BA86","v":0},{"$f":"'Исходные данные'!$C93*'Исходные данные'!$D93*(1+'Исходные данные'!$E93)*BB86","v":0},{"$f":"'Исходные данные'!$C93*'Исходные данные'!$D93*(1+'Исходные данные'!$E93)*BC86","v":0},{"$f":"'Исходные данные'!$C93*'Исходные данные'!$D93*(1+'Исходные данные'!$E93)*BD86","v":0},{"$f":"'Исходные данные'!$C93*'Исходные данные'!$D93*(1+'Исходные данные'!$E93)*BE86","v":0},{"$f":"'Исходные данные'!$C93*'Исходные данные'!$D93*(1+'Исходные данные'!$E93)*BF86","v":0},{"$f":"'Исходные данные'!$C93*'Исходные данные'!$D93*(1+'Исходные данные'!$E93)*BG86","v":0},{"$f":"'Исходные данные'!$C93*'Исходные данные'!$D93*(1+'Исходные данные'!$E93)*BH86","v":0},{"$f":"'Исходные данные'!$C93*'Исходные данные'!$D93*(1+'Исходные данные'!$E93)*BI86","v":0},{"$f":"'Исходные данные'!$C93*'Исходные данные'!$D93*(1+'Исходные данные'!$E93)*BJ86","v":0},{"$f":"'Исходные данные'!$C93*'Исходные данные'!$D93*(1+'Исходные данные'!$E93)*BK86","v":0},{"$f":"'Исходные данные'!$C93*'Исходные данные'!$D93*(1+'Исходные данные'!$E93)*BL86","v":0}]
[0,null,null,null,{"$f":"'Исходные данные'!C116*'Исходные данные'!$D94*(1+'Исходные данные'!$E94)*E87","v":0},{"$f":"'Исходные данные'!D116*'Исходные данные'!$D94*(1+'Исходные данные'!$E94)*F87","v":0},{"$f":"'Исходные данные'!E116*'Исходные данные'!$D94*(1+'Исходные данные'!$E94)*G87","v":0},{"$f":"'Исходные данные'!F116*'Исходные данные'!$D94*(1+'Исходные данные'!$E94)*H87","v":0},{"$f":"'Исходные данные'!G116*'Исходные данные'!$D94*(1+'Исходные данные'!$E94)*I87","v":0},{"$f":"'Исходные данные'!H116*'Исходные данные'!$D94*(1+'Исходные данные'!$E94)*J87","v":0},{"$f":"'Исходные данные'!I116*'Исходные данные'!$D94*(1+'Исходные данные'!$E94)*K87","v":0},{"$f":"'Исходные данные'!J116*'Исходные данные'!$D94*(1+'Исходные данные'!$E94)*L87","v":0},{"$f":"'Исходные данные'!K116*'Исходные данные'!$D94*(1+'Исходные данные'!$E94)*M87","v":0},{"$f":"'Исходные данные'!L116*'Исходные данные'!$D94*(1+'Исходные данные'!$E94)*N87","v":0},{"$f":"'Исходные данные'!M116*'Исходные данные'!$D94*(1+'Исходные данные'!$E94)*O87","v":0},{"$f":"'Исходные данные'!N116*'Исходные данные'!$D94*(1+'Исходные данные'!$E94)*P87","v":0},{"$f":"'Исходные данные'!$C94*'Исходные данные'!$D94*(1+'Исходные данные'!$E94)*Q87","v":0},{"$f":"'Исходные данные'!$C94*'Исходные данные'!$D94*(1+'Исходные данные'!$E94)*R87","v":0},{"$f":"'Исходные данные'!$C94*'Исходные данные'!$D94*(1+'Исходные данные'!$E94)*S87","v":0},{"$f":"'Исходные данные'!$C94*'Исходные данные'!$D94*(1+'Исходные данные'!$E94)*T87","v":0},{"$f":"'Исходные данные'!$C94*'Исходные данные'!$D94*(1+'Исходные данные'!$E94)*U87","v":0},{"$f":"'Исходные данные'!$C94*'Исходные данные'!$D94*(1+'Исходные данные'!$E94)*V87","v":0},{"$f":"'Исходные данные'!$C94*'Исходные данные'!$D94*(1+'Исходные данные'!$E94)*W87","v":0},{"$f":"'Исходные данные'!$C94*'Исходные данные'!$D94*(1+'Исходные данные'!$E94)*X87","v":0},{"$f":"'Исходные данные'!$C94*'Исходные данные'!$D94*(1+'Исходные данные'!$E94)*Y87","v":0},{"$f":"'Исходные данные'!$C94*'Исходные данные'!$D94*(1+'Исходные данные'!$E94)*Z87","v":0},{"$f":"'Исходные данные'!$C94*'Исходные данные'!$D94*(1+'Исходные данные'!$E94)*AA87","v":0},{"$f":"'Исходные данные'!$C94*'Исходные данные'!$D94*(1+'Исходные данные'!$E94)*AB87","v":0},{"$f":"'Исходные данные'!$C94*'Исходные данные'!$D94*(1+'Исходные данные'!$E94)*AC87","v":0},{"$f":"'Исходные данные'!$C94*'Исходные данные'!$D94*(1+'Исходные данные'!$E94)*AD87","v":0},{"$f":"'Исходные данные'!$C94*'Исходные данные'!$D94*(1+'Исходные данные'!$E94)*AE87","v":0},{"$f":"'Исходные данные'!$C94*'Исходные данные'!$D94*(1+'Исходные данные'!$E94)*AF87","v":0},{"$f":"'Исходные данные'!$C94*'Исходные данные'!$D94*(1+'Исходные данные'!$E94)*AG87","v":0},{"$f":"'Исходные данные'!$C94*'Исходные данные'!$D94*(1+'Исходные данные'!$E94)*AH87","v":0},{"$f":"'Исходные данные'!$C94*'Исходные данные'!$D94*(1+'Исходные данные'!$E94)*AI87","v":0},{"$f":"'Исходные данные'!$C94*'Исходные данные'!$D94*(1+'Исходные данные'!$E94)*AJ87","v":0},{"$f":"'Исходные данные'!$C94*'Исходные данные'!$D94*(1+'Исходные данные'!$E94)*AK87","v":0},{"$f":"'Исходные данные'!$C94*'Исходные данные'!$D94*(1+'Исходные данные'!$E94)*AL87","v":0},{"$f":"'Исходные данные'!$C94*'Исходные данные'!$D94*(1+'Исходные данные'!$E94)*AM87","v":0},{"$f":"'Исходные данные'!$C94*'Исходные данные'!$D94*(1+'Исходные данные'!$E94)*AN87","v":0},{"$f":"'Исходные данные'!$C94*'Исходные данные'!$D94*(1+'Исходные данные'!$E94)*AO87","v":0},{"$f":"'Исходные данные'!$C94*'Исходные данные'!$D94*(1+'Исходные данные'!$E94)*AP87","v":0},{"$f":"'Исходные данные'!$C94*'Исходные данные'!$D94*(1+'Исходные данные'!$E94)*AQ87","v":0},{"$f":"'Исходные данные'!$C94*'Исходные данные'!$D94*(1+'Исходные данные'!$E94)*AR87","v":0},{"$f":"'Исходные данные'!$C94*'Исходные данные'!$D94*(1+'Исходные данные'!$E94)*AS87","v":0},{"$f":"'Исходные данные'!$C94*'Исходные данные'!$D94*(1+'Исходные данные'!$E94)*AT87","v":0},{"$f":"'Исходные данные'!$C94*'Исходные данные'!$D94*(1+'Исходные данные'!$E94)*AU87","v":0},{"$f":"'Исходные данные'!$C94*'Исходные данные'!$D94*(1+'Исходные данные'!$E94)*AV87","v":0},{"$f":"'Исходные данные'!$C94*'Исходные данные'!$D94*(1+'Исходные данные'!$E94)*AW87","v":0},{"$f":"'Исходные данные'!$C94*'Исходные данные'!$D94*(1+'Исходные данные'!$E94)*AX87","v":0},{"$f":"'Исходные данные'!$C94*'Исходные данные'!$D94*(1+'Исходные данные'!$E94)*AY87","v":0},{"$f":"'Исходные данные'!$C94*'Исходные данные'!$D94*(1+'Исходные данные'!$E94)*AZ87","v":0},{"$f":"'Исходные данные'!$C94*'Исходные данные'!$D94*(1+'Исходные данные'!$E94)*BA87","v":0},{"$f":"'Исходные данные'!$C94*'Исходные данные'!$D94*(1+'Исходные данные'!$E94)*BB87","v":0},{"$f":"'Исходные данные'!$C94*'Исходные данные'!$D94*(1+'Исходные данные'!$E94)*BC87","v":0},{"$f":"'Исходные данные'!$C94*'Исходные данные'!$D94*(1+'Исходные данные'!$E94)*BD87","v":0},{"$f":"'Исходные данные'!$C94*'Исходные данные'!$D94*(1+'Исходные данные'!$E94)*BE87","v":0},{"$f":"'Исходные данные'!$C94*'Исходные данные'!$D94*(1+'Исходные данные'!$E94)*BF87","v":0},{"$f":"'Исходные данные'!$C94*'Исходные данные'!$D94*(1+'Исходные данные'!$E94)*BG87","v":0},{"$f":"'Исходные данные'!$C94*'Исходные данные'!$D94*(1+'Исходные данные'!$E94)*BH87","v":0},{"$f":"'Исходные данные'!$C94*'Исходные данные'!$D94*(1+'Исходные данные'!$E94)*BI87","v":0},{"$f":"'Исходные данные'!$C94*'Исходные данные'!$D94*(1+'Исходные данные'!$E94)*BJ87","v":0},{"$f":"'Исходные данные'!$C94*'Исходные данные'!$D94*(1+'Исходные данные'!$E94)*BK87","v":0},{"$f":"'Исходные данные'!$C94*'Исходные данные'!$D94*(1+'Исходные данные'!$E94)*BL87","v":0}]
[0,null,null,null,{"$f":"'Исходные данные'!C117*'Исходные данные'!$D95*(1+'Исходные данные'!$E95)*E88","v":0},{"$f":"'Исходные данные'!D117*'Исходные данные'!$D95*(1+'Исходные данные'!$E95)*F88","v":0},{"$f":"'Исходные данные'!E117*'Исходные данные'!$D95*(1+'Исходные данные'!$E95)*G88","v":0},{"$f":"'Исходные данные'!F117*'Исходные данные'!$D95*(1+'Исходные данные'!$E95)*H88","v":0},{"$f":"'Исходные данные'!G117*'Исходные данные'!$D95*(1+'Исходные данные'!$E95)*I88","v":0},{"$f":"'Исходные данные'!H117*'Исходные данные'!$D95*(1+'Исходные данные'!$E95)*J88","v":0},{"$f":"'Исходные данные'!I117*'Исходные данные'!$D95*(1+'Исходные данные'!$E95)*K88","v":0},{"$f":"'Исходные данные'!J117*'Исходные данные'!$D95*(1+'Исходные данные'!$E95)*L88","v":0},{"$f":"'Исходные данные'!K117*'Исходные данные'!$D95*(1+'Исходные данные'!$E95)*M88","v":0},{"$f":"'Исходные данные'!L117*'Исходные данные'!$D95*(1+'Исходные данные'!$E95)*N88","v":0},{"$f":"'Исходные данные'!M117*'Исходные данные'!$D95*(1+'Исходные данные'!$E95)*O88","v":0},{"$f":"'Исходные данные'!N117*'Исходные данные'!$D95*(1+'Исходные данные'!$E95)*P88","v":0},{"$f":"'Исходные данные'!$C95*'Исходные данные'!$D95*(1+'Исходные данные'!$E95)*Q88","v":0},{"$f":"'Исходные данные'!$C95*'Исходные данные'!$D95*(1+'Исходные данные'!$E95)*R88","v":0},{"$f":"'Исходные данные'!$C95*'Исходные данные'!$D95*(1+'Исходные данные'!$E95)*S88","v":0},{"$f":"'Исходные данные'!$C95*'Исходные данные'!$D95*(1+'Исходные данные'!$E95)*T88","v":0},{"$f":"'Исходные данные'!$C95*'Исходные данные'!$D95*(1+'Исходные данные'!$E95)*U88","v":0},{"$f":"'Исходные данные'!$C95*'Исходные данные'!$D95*(1+'Исходные данные'!$E95)*V88","v":0},{"$f":"'Исходные данные'!$C95*'Исходные данные'!$D95*(1+'Исходные данные'!$E95)*W88","v":0},{"$f":"'Исходные данные'!$C95*'Исходные данные'!$D95*(1+'Исходные данные'!$E95)*X88","v":0},{"$f":"'Исходные данные'!$C95*'Исходные данные'!$D95*(1+'Исходные данные'!$E95)*Y88","v":0},{"$f":"'Исходные данные'!$C95*'Исходные данные'!$D95*(1+'Исходные данные'!$E95)*Z88","v":0},{"$f":"'Исходные данные'!$C95*'Исходные данные'!$D95*(1+'Исходные данные'!$E95)*AA88","v":0},{"$f":"'Исходные данные'!$C95*'Исходные данные'!$D95*(1+'Исходные данные'!$E95)*AB88","v":0},{"$f":"'Исходные данные'!$C95*'Исходные данные'!$D95*(1+'Исходные данные'!$E95)*AC88","v":0},{"$f":"'Исходные данные'!$C95*'Исходные данные'!$D95*(1+'Исходные данные'!$E95)*AD88","v":0},{"$f":"'Исходные данные'!$C95*'Исходные данные'!$D95*(1+'Исходные данные'!$E95)*AE88","v":0},{"$f":"'Исходные данные'!$C95*'Исходные данные'!$D95*(1+'Исходные данные'!$E95)*AF88","v":0},{"$f":"'Исходные данные'!$C95*'Исходные данные'!$D95*(1+'Исходные данные'!$E95)*AG88","v":0},{"$f":"'Исходные данные'!$C95*'Исходные данные'!$D95*(1+'Исходные данные'!$E95)*AH88","v":0},{"$f":"'Исходные данные'!$C95*'Исходные данные'!$D95*(1+'Исходные данные'!$E95)*AI88","v":0},{"$f":"'Исходные данные'!$C95*'Исходные данные'!$D95*(1+'Исходные данные'!$E95)*AJ88","v":0},{"$f":"'Исходные данные'!$C95*'Исходные данные'!$D95*(1+'Исходные данные'!$E95)*AK88","v":0},{"$f":"'Исходные данные'!$C95*'Исходные данные'!$D95*(1+'Исходные данные'!$E95)*AL88","v":0},{"$f":"'Исходные данные'!$C95*'Исходные данные'!$D95*(1+'Исходные данные'!$E95)*AM88","v":0},{"$f":"'Исходные данные'!$C95*'Исходные данные'!$D95*(1+'Исходные данные'!$E95)*AN88","v":0},{"$f":"'Исходные данные'!$C95*'Исходные данные'!$D95*(1+'Исходные данные'!$E95)*AO88","v":0},{"$f":"'Исходные данные'!$C95*'Исходные данные'!$D95*(1+'Исходные данные'!$E95)*AP88","v":0},{"$f":"'Исходные данные'!$C95*'Исходные данные'!$D95*(1+'Исходные данные'!$E95)*AQ88","v":0},{"$f":"'Исходные данные'!$C95*'Исходные данные'!$D95*(1+'Исходные данные'!$E95)*AR88","v":0},{"$f":"'Исходные данные'!$C95*'Исходные данные'!$D95*(1+'Исходные данные'!$E95)*AS88","v":0},{"$f":"'Исходные данные'!$C95*'Исходные данные'!$D95*(1+'Исходные данные'!$E95)*AT88","v":0},{"$f":"'Исходные данные'!$C95*'Исходные данные'!$D95*(1+'Исходные данные'!$E95)*AU88","v":0},{"$f":"'Исходные данные'!$C95*'Исходные данные'!$D95*(1+'Исходные данные'!$E95)*AV88","v":0},{"$f":"'Исходные данные'!$C95*'Исходные данные'!$D95*(1+'Исходные данные'!$E95)*AW88","v":0},{"$f":"'Исходные данные'!$C95*'Исходные данные'!$D95*(1+'Исходные данные'!$E95)*AX88","v":0},{"$f":"'Исходные данные'!$C95*'Исходные данные'!$D95*(1+'Исходные данные'!$E95)*AY88","v":0},{"$f":"'Исходные данные'!$C95*'Исходные данные'!$D95*(1+'Исходные данные'!$E95)*AZ88","v":0},{"$f":"'Исходные данные'!$C95*'Исходные данные'!$D95*(1+'Исходные данные'!$E95)*BA88","v":0},{"$f":"'Исходные данные'!$C95*'Исходные данные'!$D95*(1+'Исходные данные'!$E95)*BB88","v":0},{"$f":"'Исходные данные'!$C95*'Исходные данные'!$D95*(1+'Исходные данные'!$E95)*BC88","v":0},{"$f":"'Исходные данные'!$C95*'Исходные данные'!$D95*(1+'Исходные данные'!$E95)*BD88","v":0},{"$f":"'Исходные данные'!$C95*'Исходные данные'!$D95*(1+'Исходные данные'!$E95)*BE88","v":0},{"$f":"'Исходные данные'!$C95*'Исходные данные'!$D95*(1+'Исходные данные'!$E95)*BF88","v":0},{"$f":"'Исходные данные'!$C95*'Исходные данные'!$D95*(1+'Исходные данные'!$E95)*BG88","v":0},{"$f":"'Исходные данные'!$C95*'Исходные данные'!$D95*(1+'Исходные данные'!$E95)*BH88","v":0},{"$f":"'Исходные данные'!$C95*'Исходные данные'!$D95*(1+'Исходные данные'!$E95)*BI88","v":0},{"$f":"'Исходные данные'!$C95*'Исходные данные'!$D95*(1+'Исходные данные'!$E95)*BJ88","v":0},{"$f":"'Исходные данные'!$C95*'Исходные данные'!$D95*(1+'Исходные данные'!$E95)*BK88","v":0},{"$f":"'Исходные данные'!$C95*'Исходные данные'!$D95*(1+'Исходные данные'!$E95)*BL88","v":0}]
[0,null,null,null,{"$f":"'Исходные данные'!C118*'Исходные данные'!$D96*(1+'Исходные данные'!$E96)*E89","v":0},{"$f":"'Исходные данные'!D118*'Исходные данные'!$D96*(1+'Исходные данные'!$E96)*F89","v":0},{"$f":"'Исходные данные'!E118*'Исходные данные'!$D96*(1+'Исходные данные'!$E96)*G89","v":0},{"$f":"'Исходные данные'!F118*'Исходные данные'!$D96*(1+'Исходные данные'!$E96)*H89","v":0},{"$f":"'Исходные данные'!G118*'Исходные данные'!$D96*(1+'Исходные данные'!$E96)*I89","v":0},{"$f":"'Исходные данные'!H118*'Исходные данные'!$D96*(1+'Исходные данные'!$E96)*J89","v":0},{"$f":"'Исходные данные'!I118*'Исходные данные'!$D96*(1+'Исходные данные'!$E96)*K89","v":0},{"$f":"'Исходные данные'!J118*'Исходные данные'!$D96*(1+'Исходные данные'!$E96)*L89","v":0},{"$f":"'Исходные данные'!K118*'Исходные данные'!$D96*(1+'Исходные данные'!$E96)*M89","v":0},{"$f":"'Исходные данные'!L118*'Исходные данные'!$D96*(1+'Исходные данные'!$E96)*N89","v":0},{"$f":"'Исходные данные'!M118*'Исходные данные'!$D96*(1+'Исходные данные'!$E96)*O89","v":0},{"$f":"'Исходные данные'!N118*'Исходные данные'!$D96*(1+'Исходные данные'!$E96)*P89","v":0},{"$f":"'Исходные данные'!$C96*'Исходные данные'!$D96*(1+'Исходные данные'!$E96)*Q89","v":0},{"$f":"'Исходные данные'!$C96*'Исходные данные'!$D96*(1+'Исходные данные'!$E96)*R89","v":0},{"$f":"'Исходные данные'!$C96*'Исходные данные'!$D96*(1+'Исходные данные'!$E96)*S89","v":0},{"$f":"'Исходные данные'!$C96*'Исходные данные'!$D96*(1+'Исходные данные'!$E96)*T89","v":0},{"$f":"'Исходные данные'!$C96*'Исходные данные'!$D96*(1+'Исходные данные'!$E96)*U89","v":0},{"$f":"'Исходные данные'!$C96*'Исходные данные'!$D96*(1+'Исходные данные'!$E96)*V89","v":0},{"$f":"'Исходные данные'!$C96*'Исходные данные'!$D96*(1+'Исходные данные'!$E96)*W89","v":0},{"$f":"'Исходные данные'!$C96*'Исходные данные'!$D96*(1+'Исходные данные'!$E96)*X89","v":0},{"$f":"'Исходные данные'!$C96*'Исходные данные'!$D96*(1+'Исходные данные'!$E96)*Y89","v":0},{"$f":"'Исходные данные'!$C96*'Исходные данные'!$D96*(1+'Исходные данные'!$E96)*Z89","v":0},{"$f":"'Исходные данные'!$C96*'Исходные данные'!$D96*(1+'Исходные данные'!$E96)*AA89","v":0},{"$f":"'Исходные данные'!$C96*'Исходные данные'!$D96*(1+'Исходные данные'!$E96)*AB89","v":0},{"$f":"'Исходные данные'!$C96*'Исходные данные'!$D96*(1+'Исходные данные'!$E96)*AC89","v":0},{"$f":"'Исходные данные'!$C96*'Исходные данные'!$D96*(1+'Исходные данные'!$E96)*AD89","v":0},{"$f":"'Исходные данные'!$C96*'Исходные данные'!$D96*(1+'Исходные данные'!$E96)*AE89","v":0},{"$f":"'Исходные данные'!$C96*'Исходные данные'!$D96*(1+'Исходные данные'!$E96)*AF89","v":0},{"$f":"'Исходные данные'!$C96*'Исходные данные'!$D96*(1+'Исходные данные'!$E96)*AG89","v":0},{"$f":"'Исходные данные'!$C96*'Исходные данные'!$D96*(1+'Исходные данные'!$E96)*AH89","v":0},{"$f":"'Исходные данные'!$C96*'Исходные данные'!$D96*(1+'Исходные данные'!$E96)*AI89","v":0},{"$f":"'Исходные данные'!$C96*'Исходные данные'!$D96*(1+'Исходные данные'!$E96)*AJ89","v":0},{"$f":"'Исходные данные'!$C96*'Исходные данные'!$D96*(1+'Исходные данные'!$E96)*AK89","v":0},{"$f":"'Исходные данные'!$C96*'Исходные данные'!$D96*(1+'Исходные данные'!$E96)*AL89","v":0},{"$f":"'Исходные данные'!$C96*'Исходные данные'!$D96*(1+'Исходные данные'!$E96)*AM89","v":0},{"$f":"'Исходные данные'!$C96*'Исходные данные'!$D96*(1+'Исходные данные'!$E96)*AN89","v":0},{"$f":"'Исходные данные'!$C96*'Исходные данные'!$D96*(1+'Исходные данные'!$E96)*AO89","v":0},{"$f":"'Исходные данные'!$C96*'Исходные данные'!$D96*(1+'Исходные данные'!$E96)*AP89","v":0},{"$f":"'Исходные данные'!$C96*'Исходные данные'!$D96*(1+'Исходные данные'!$E96)*AQ89","v":0},{"$f":"'Исходные данные'!$C96*'Исходные данные'!$D96*(1+'Исходные данные'!$E96)*AR89","v":0},{"$f":"'Исходные данные'!$C96*'Исходные данные'!$D96*(1+'Исходные данные'!$E96)*AS89","v":0},{"$f":"'Исходные данные'!$C96*'Исходные данные'!$D96*(1+'Исходные данные'!$E96)*AT89","v":0},{"$f":"'Исходные данные'!$C96*'Исходные данные'!$D96*(1+'Исходные данные'!$E96)*AU89","v":0},{"$f":"'Исходные данные'!$C96*'Исходные данные'!$D96*(1+'Исходные данные'!$E96)*AV89","v":0},{"$f":"'Исходные данные'!$C96*'Исходные данные'!$D96*(1+'Исходные данные'!$E96)*AW89","v":0},{"$f":"'Исходные данные'!$C96*'Исходные данные'!$D96*(1+'Исходные данные'!$E96)*AX89","v":0},{"$f":"'Исходные данные'!$C96*'Исходные данные'!$D96*(1+'Исходные данные'!$E96)*AY89","v":0},{"$f":"'Исходные данные'!$C96*'Исходные данные'!$D96*(1+'Исходные данные'!$E96)*AZ89","v":0},{"$f":"'Исходные данные'!$C96*'Исходные данные'!$D96*(1+'Исходные данные'!$E96)*BA89","v":0},{"$f":"'Исходные данные'!$C96*'Исходные данные'!$D96*(1+'Исходные данные'!$E96)*BB89","v":0},{"$f":"'Исходные данные'!$C96*'Исходные данные'!$D96*(1+'Исходные данные'!$E96)*BC89","v":0},{"$f":"'Исходные данные'!$C96*'Исходные данные'!$D96*(1+'Исходные данные'!$E96)*BD89","v":0},{"$f":"'Исходные данные'!$C96*'Исходные данные'!$D96*(1+'Исходные данные'!$E96)*BE89","v":0},{"$f":"'Исходные данные'!$C96*'Исходные данные'!$D96*(1+'Исходные данные'!$E96)*BF89","v":0},{"$f":"'Исходные данные'!$C96*'Исходные данные'!$D96*(1+'Исходные данные'!$E96)*BG89","v":0},{"$f":"'Исходные данные'!$C96*'Исходные данные'!$D96*(1+'Исходные данные'!$E96)*BH89","v":0},{"$f":"'Исходные данные'!$C96*'Исходные данные'!$D96*(1+'Исходные данные'!$E96)*BI89","v":0},{"$f":"'Исходные данные'!$C96*'Исходные данные'!$D96*(1+'Исходные данные'!$E96)*BJ89","v":0},{"$f":"'Исходные данные'!$C96*'Исходные данные'!$D96*(1+'Исходные данные'!$E96)*BK89","v":0},{"$f":"'Исходные данные'!$C96*'Исходные данные'!$D96*(1+'Исходные данные'!$E96)*BL89","v":0}]
[0,null,null,null,{"$f":"'Исходные данные'!C119*'Исходные данные'!$D97*(1+'Исходные данные'!$E97)*E90","v":0},{"$f":"'Исходные данные'!D119*'Исходные данные'!$D97*(1+'Исходные данные'!$E97)*F90","v":0},{"$f":"'Исходные данные'!E119*'Исходные данные'!$D97*(1+'Исходные данные'!$E97)*G90","v":0},{"$f":"'Исходные данные'!F119*'Исходные данные'!$D97*(1+'Исходные данные'!$E97)*H90","v":0},{"$f":"'Исходные данные'!G119*'Исходные данные'!$D97*(1+'Исходные данные'!$E97)*I90","v":0},{"$f":"'Исходные данные'!H119*'Исходные данные'!$D97*(1+'Исходные данные'!$E97)*J90","v":0},{"$f":"'Исходные данные'!I119*'Исходные данные'!$D97*(1+'Исходные данные'!$E97)*K90","v":0},{"$f":"'Исходные данные'!J119*'Исходные данные'!$D97*(1+'Исходные данные'!$E97)*L90","v":0},{"$f":"'Исходные данные'!K119*'Исходные данные'!$D97*(1+'Исходные данные'!$E97)*M90","v":0},{"$f":"'Исходные данные'!L119*'Исходные данные'!$D97*(1+'Исходные данные'!$E97)*N90","v":0},{"$f":"'Исходные данные'!M119*'Исходные данные'!$D97*(1+'Исходные данные'!$E97)*O90","v":0},{"$f":"'Исходные данные'!N119*'Исходные данные'!$D97*(1+'Исходные данные'!$E97)*P90","v":0},{"$f":"'Исходные данные'!$C97*'Исходные данные'!$D97*(1+'Исходные данные'!$E97)*Q90","v":0},{"$f":"'Исходные данные'!$C97*'Исходные данные'!$D97*(1+'Исходные данные'!$E97)*R90","v":0},{"$f":"'Исходные данные'!$C97*'Исходные данные'!$D97*(1+'Исходные данные'!$E97)*S90","v":0},{"$f":"'Исходные данные'!$C97*'Исходные данные'!$D97*(1+'Исходные данные'!$E97)*T90","v":0},{"$f":"'Исходные данные'!$C97*'Исходные данные'!$D97*(1+'Исходные данные'!$E97)*U90","v":0},{"$f":"'Исходные данные'!$C97*'Исходные данные'!$D97*(1+'Исходные данные'!$E97)*V90","v":0},{"$f":"'Исходные данные'!$C97*'Исходные данные'!$D97*(1+'Исходные данные'!$E97)*W90","v":0},{"$f":"'Исходные данные'!$C97*'Исходные данные'!$D97*(1+'Исходные данные'!$E97)*X90","v":0},{"$f":"'Исходные данные'!$C97*'Исходные данные'!$D97*(1+'Исходные данные'!$E97)*Y90","v":0},{"$f":"'Исходные данные'!$C97*'Исходные данные'!$D97*(1+'Исходные данные'!$E97)*Z90","v":0},{"$f":"'Исходные данные'!$C97*'Исходные данные'!$D97*(1+'Исходные данные'!$E97)*AA90","v":0},{"$f":"'Исходные данные'!$C97*'Исходные данные'!$D97*(1+'Исходные данные'!$E97)*AB90","v":0},{"$f":"'Исходные данные'!$C97*'Исходные данные'!$D97*(1+'Исходные данные'!$E97)*AC90","v":0},{"$f":"'Исходные данные'!$C97*'Исходные данные'!$D97*(1+'Исходные данные'!$E97)*AD90","v":0},{"$f":"'Исходные данные'!$C97*'Исходные данные'!$D97*(1+'Исходные данные'!$E97)*AE90","v":0},{"$f":"'Исходные данные'!$C97*'Исходные данные'!$D97*(1+'Исходные данные'!$E97)*AF90","v":0},{"$f":"'Исходные данные'!$C97*'Исходные данные'!$D97*(1+'Исходные данные'!$E97)*AG90","v":0},{"$f":"'Исходные данные'!$C97*'Исходные данные'!$D97*(1+'Исходные данные'!$E97)*AH90","v":0},{"$f":"'Исходные данные'!$C97*'Исходные данные'!$D97*(1+'Исходные данные'!$E97)*AI90","v":0},{"$f":"'Исходные данные'!$C97*'Исходные данные'!$D97*(1+'Исходные данные'!$E97)*AJ90","v":0},{"$f":"'Исходные данные'!$C97*'Исходные данные'!$D97*(1+'Исходные данные'!$E97)*AK90","v":0},{"$f":"'Исходные данные'!$C97*'Исходные данные'!$D97*(1+'Исходные данные'!$E97)*AL90","v":0},{"$f":"'Исходные данные'!$C97*'Исходные данные'!$D97*(1+'Исходные данные'!$E97)*AM90","v":0},{"$f":"'Исходные данные'!$C97*'Исходные данные'!$D97*(1+'Исходные данные'!$E97)*AN90","v":0},{"$f":"'Исходные данные'!$C97*'Исходные данные'!$D97*(1+'Исходные данные'!$E97)*AO90","v":0},{"$f":"'Исходные данные'!$C97*'Исходные данные'!$D97*(1+'Исходные данные'!$E97)*AP90","v":0},{"$f":"'Исходные данные'!$C97*'Исходные данные'!$D97*(1+'Исходные данные'!$E97)*AQ90","v":0},{"$f":"'Исходные данные'!$C97*'Исходные данные'!$D97*(1+'Исходные данные'!$E97)*AR90","v":0},{"$f":"'Исходные данные'!$C97*'Исходные данные'!$D97*(1+'Исходные данные'!$E97)*AS90","v":0},{"$f":"'Исходные данные'!$C97*'Исходные данные'!$D97*(1+'Исходные данные'!$E97)*AT90","v":0},{"$f":"'Исходные данные'!$C97*'Исходные данные'!$D97*(1+'Исходные данные'!$E97)*AU90","v":0},{"$f":"'Исходные данные'!$C97*'Исходные данные'!$D97*(1+'Исходные данные'!$E97)*AV90","v":0},{"$f":"'Исходные данные'!$C97*'Исходные данные'!$D97*(1+'Исходные данные'!$E97)*AW90","v":0},{"$f":"'Исходные данные'!$C97*'Исходные данные'!$D97*(1+'Исходные данные'!$E97)*AX90","v":0},{"$f":"'Исходные данные'!$C97*'Исходные данные'!$D97*(1+'Исходные данные'!$E97)*AY90","v":0},{"$f":"'Исходные данные'!$C97*'Исходные данные'!$D97*(1+'Исходные данные'!$E97)*AZ90","v":0},{"$f":"'Исходные данные'!$C97*'Исходные данные'!$D97*(1+'Исходные данные'!$E97)*BA90","v":0},{"$f":"'Исходные данные'!$C97*'Исходные данные'!$D97*(1+'Исходные данные'!$E97)*BB90","v":0},{"$f":"'Исходные данные'!$C97*'Исходные данные'!$D97*(1+'Исходные данные'!$E97)*BC90","v":0},{"$f":"'Исходные данные'!$C97*'Исходные данные'!$D97*(1+'Исходные данные'!$E97)*BD90","v":0},{"$f":"'Исходные данные'!$C97*'Исходные данные'!$D97*(1+'Исходные данные'!$E97)*BE90","v":0},{"$f":"'Исходные данные'!$C97*'Исходные данные'!$D97*(1+'Исходные данные'!$E97)*BF90","v":0},{"$f":"'Исходные данные'!$C97*'Исходные данные'!$D97*(1+'Исходные данные'!$E97)*BG90","v":0},{"$f":"'Исходные данные'!$C97*'Исходные данные'!$D97*(1+'Исходные данные'!$E97)*BH90","v":0},{"$f":"'Исходные данные'!$C97*'Исходные данные'!$D97*(1+'Исходные данные'!$E97)*BI90","v":0},{"$f":"'Исходные данные'!$C97*'Исходные данные'!$D97*(1+'Исходные данные'!$E97)*BJ90","v":0},{"$f":"'Исходные данные'!$C97*'Исходные данные'!$D97*(1+'Исходные данные'!$E97)*BK90","v":0},{"$f":"'Исходные данные'!$C97*'Исходные данные'!$D97*(1+'Исходные данные'!$E97)*BL90","v":0}]
[0,null,null,null,{"$f":"'Исходные данные'!C120*'Исходные данные'!$D98*(1+'Исходные данные'!$E98)*E91","v":0},{"$f":"'Исходные данные'!D120*'Исходные данные'!$D98*(1+'Исходные данные'!$E98)*F91","v":0},{"$f":"'Исходные данные'!E120*'Исходные данные'!$D98*(1+'Исходные данные'!$E98)*G91","v":0},{"$f":"'Исходные данные'!F120*'Исходные данные'!$D98*(1+'Исходные данные'!$E98)*H91","v":0},{"$f":"'Исходные данные'!G120*'Исходные данные'!$D98*(1+'Исходные данные'!$E98)*I91","v":0},{"$f":"'Исходные данные'!H120*'Исходные данные'!$D98*(1+'Исходные данные'!$E98)*J91","v":0},{"$f":"'Исходные данные'!I120*'Исходные данные'!$D98*(1+'Исходные данные'!$E98)*K91","v":0},{"$f":"'Исходные данные'!J120*'Исходные данные'!$D98*(1+'Исходные данные'!$E98)*L91","v":0},{"$f":"'Исходные данные'!K120*'Исходные данные'!$D98*(1+'Исходные данные'!$E98)*M91","v":0},{"$f":"'Исходные данные'!L120*'Исходные данные'!$D98*(1+'Исходные данные'!$E98)*N91","v":0},{"$f":"'Исходные данные'!M120*'Исходные данные'!$D98*(1+'Исходные данные'!$E98)*O91","v":0},{"$f":"'Исходные данные'!N120*'Исходные данные'!$D98*(1+'Исходные данные'!$E98)*P91","v":0},{"$f":"'Исходные данные'!$C98*'Исходные данные'!$D98*(1+'Исходные данные'!$E98)*Q91","v":0},{"$f":"'Исходные данные'!$C98*'Исходные данные'!$D98*(1+'Исходные данные'!$E98)*R91","v":0},{"$f":"'Исходные данные'!$C98*'Исходные данные'!$D98*(1+'Исходные данные'!$E98)*S91","v":0},{"$f":"'Исходные данные'!$C98*'Исходные данные'!$D98*(1+'Исходные данные'!$E98)*T91","v":0},{"$f":"'Исходные данные'!$C98*'Исходные данные'!$D98*(1+'Исходные данные'!$E98)*U91","v":0},{"$f":"'Исходные данные'!$C98*'Исходные данные'!$D98*(1+'Исходные данные'!$E98)*V91","v":0},{"$f":"'Исходные данные'!$C98*'Исходные данные'!$D98*(1+'Исходные данные'!$E98)*W91","v":0},{"$f":"'Исходные данные'!$C98*'Исходные данные'!$D98*(1+'Исходные данные'!$E98)*X91","v":0},{"$f":"'Исходные данные'!$C98*'Исходные данные'!$D98*(1+'Исходные данные'!$E98)*Y91","v":0},{"$f":"'Исходные данные'!$C98*'Исходные данные'!$D98*(1+'Исходные данные'!$E98)*Z91","v":0},{"$f":"'Исходные данные'!$C98*'Исходные данные'!$D98*(1+'Исходные данные'!$E98)*AA91","v":0},{"$f":"'Исходные данные'!$C98*'Исходные данные'!$D98*(1+'Исходные данные'!$E98)*AB91","v":0},{"$f":"'Исходные данные'!$C98*'Исходные данные'!$D98*(1+'Исходные данные'!$E98)*AC91","v":0},{"$f":"'Исходные данные'!$C98*'Исходные данные'!$D98*(1+'Исходные данные'!$E98)*AD91","v":0},{"$f":"'Исходные данные'!$C98*'Исходные данные'!$D98*(1+'Исходные данные'!$E98)*AE91","v":0},{"$f":"'Исходные данные'!$C98*'Исходные данные'!$D98*(1+'Исходные данные'!$E98)*AF91","v":0},{"$f":"'Исходные данные'!$C98*'Исходные данные'!$D98*(1+'Исходные данные'!$E98)*AG91","v":0},{"$f":"'Исходные данные'!$C98*'Исходные данные'!$D98*(1+'Исходные данные'!$E98)*AH91","v":0},{"$f":"'Исходные данные'!$C98*'Исходные данные'!$D98*(1+'Исходные данные'!$E98)*AI91","v":0},{"$f":"'Исходные данные'!$C98*'Исходные данные'!$D98*(1+'Исходные данные'!$E98)*AJ91","v":0},{"$f":"'Исходные данные'!$C98*'Исходные данные'!$D98*(1+'Исходные данные'!$E98)*AK91","v":0},{"$f":"'Исходные данные'!$C98*'Исходные данные'!$D98*(1+'Исходные данные'!$E98)*AL91","v":0},{"$f":"'Исходные данные'!$C98*'Исходные данные'!$D98*(1+'Исходные данные'!$E98)*AM91","v":0},{"$f":"'Исходные данные'!$C98*'Исходные данные'!$D98*(1+'Исходные данные'!$E98)*AN91","v":0},{"$f":"'Исходные данные'!$C98*'Исходные данные'!$D98*(1+'Исходные данные'!$E98)*AO91","v":0},{"$f":"'Исходные данные'!$C98*'Исходные данные'!$D98*(1+'Исходные данные'!$E98)*AP91","v":0},{"$f":"'Исходные данные'!$C98*'Исходные данные'!$D98*(1+'Исходные данные'!$E98)*AQ91","v":0},{"$f":"'Исходные данные'!$C98*'Исходные данные'!$D98*(1+'Исходные данные'!$E98)*AR91","v":0},{"$f":"'Исходные данные'!$C98*'Исходные данные'!$D98*(1+'Исходные данные'!$E98)*AS91","v":0},{"$f":"'Исходные данные'!$C98*'Исходные данные'!$D98*(1+'Исходные данные'!$E98)*AT91","v":0},{"$f":"'Исходные данные'!$C98*'Исходные данные'!$D98*(1+'Исходные данные'!$E98)*AU91","v":0},{"$f":"'Исходные данные'!$C98*'Исходные данные'!$D98*(1+'Исходные данные'!$E98)*AV91","v":0},{"$f":"'Исходные данные'!$C98*'Исходные данные'!$D98*(1+'Исходные данные'!$E98)*AW91","v":0},{"$f":"'Исходные данные'!$C98*'Исходные данные'!$D98*(1+'Исходные данные'!$E98)*AX91","v":0},{"$f":"'Исходные данные'!$C98*'Исходные данные'!$D98*(1+'Исходные данные'!$E98)*AY91","v":0},{"$f":"'Исходные данные'!$C98*'Исходные данные'!$D98*(1+'Исходные данные'!$E98)*AZ91","v":0},{"$f":"'Исходные данные'!$C98*'Исходные данные'!$D98*(1+'Исходные данные'!$E98)*BA91","v":0},{"$f":"'Исходные данные'!$C98*'Исходные данные'!$D98*(1+'Исходные данные'!$E98)*BB91","v":0},{"$f":"'Исходные данные'!$C98*'Исходные данные'!$D98*(1+'Исходные данные'!$E98)*BC91","v":0},{"$f":"'Исходные данные'!$C98*'Исходные данные'!$D98*(1+'Исходные данные'!$E98)*BD91","v":0},{"$f":"'Исходные данные'!$C98*'Исходные данные'!$D98*(1+'Исходные данные'!$E98)*BE91","v":0},{"$f":"'Исходные данные'!$C98*'Исходные данные'!$D98*(1+'Исходные данные'!$E98)*BF91","v":0},{"$f":"'Исходные данные'!$C98*'Исходные данные'!$D98*(1+'Исходные данные'!$E98)*BG91","v":0},{"$f":"'Исходные данные'!$C98*'Исходные данные'!$D98*(1+'Исходные данные'!$E98)*BH91","v":0},{"$f":"'Исходные данные'!$C98*'Исходные данные'!$D98*(1+'Исходные данные'!$E98)*BI91","v":0},{"$f":"'Исходные данные'!$C98*'Исходные данные'!$D98*(1+'Исходные данные'!$E98)*BJ91","v":0},{"$f":"'Исходные данные'!$C98*'Исходные данные'!$D98*(1+'Исходные данные'!$E98)*BK91","v":0},{"$f":"'Исходные данные'!$C98*'Исходные данные'!$D98*(1+'Исходные данные'!$E98)*BL91","v":0}]
[0,null,null,null,{"$f":"'Исходные данные'!C121*'Исходные данные'!$D99*(1+'Исходные данные'!$E99)*E92","v":0},{"$f":"'Исходные данные'!D121*'Исходные данные'!$D99*(1+'Исходные данные'!$E99)*F92","v":0},{"$f":"'Исходные данные'!E121*'Исходные данные'!$D99*(1+'Исходные данные'!$E99)*G92","v":0},{"$f":"'Исходные данные'!F121*'Исходные данные'!$D99*(1+'Исходные данные'!$E99)*H92","v":0},{"$f":"'Исходные данные'!G121*'Исходные данные'!$D99*(1+'Исходные данные'!$E99)*I92","v":0},{"$f":"'Исходные данные'!H121*'Исходные данные'!$D99*(1+'Исходные данные'!$E99)*J92","v":0},{"$f":"'Исходные данные'!I121*'Исходные данные'!$D99*(1+'Исходные данные'!$E99)*K92","v":0},{"$f":"'Исходные данные'!J121*'Исходные данные'!$D99*(1+'Исходные данные'!$E99)*L92","v":0},{"$f":"'Исходные данные'!K121*'Исходные данные'!$D99*(1+'Исходные данные'!$E99)*M92","v":0},{"$f":"'Исходные данные'!L121*'Исходные данные'!$D99*(1+'Исходные данные'!$E99)*N92","v":0},{"$f":"'Исходные данные'!M121*'Исходные данные'!$D99*(1+'Исходные данные'!$E99)*O92","v":0},{"$f":"'Исходные данные'!N121*'Исходные данные'!$D99*(1+'Исходные данные'!$E99)*P92","v":0},{"$f":"'Исходные данные'!$C99*'Исходные данные'!$D99*(1+'Исходные данные'!$E99)*Q92","v":0},{"$f":"'Исходные данные'!$C99*'Исходные данные'!$D99*(1+'Исходные данные'!$E99)*R92","v":0},{"$f":"'Исходные данные'!$C99*'Исходные данные'!$D99*(1+'Исходные данные'!$E99)*S92","v":0},{"$f":"'Исходные данные'!$C99*'Исходные данные'!$D99*(1+'Исходные данные'!$E99)*T92","v":0},{"$f":"'Исходные данные'!$C99*'Исходные данные'!$D99*(1+'Исходные данные'!$E99)*U92","v":0},{"$f":"'Исходные данные'!$C99*'Исходные данные'!$D99*(1+'Исходные данные'!$E99)*V92","v":0},{"$f":"'Исходные данные'!$C99*'Исходные данные'!$D99*(1+'Исходные данные'!$E99)*W92","v":0},{"$f":"'Исходные данные'!$C99*'Исходные данные'!$D99*(1+'Исходные данные'!$E99)*X92","v":0},{"$f":"'Исходные данные'!$C99*'Исходные данные'!$D99*(1+'Исходные данные'!$E99)*Y92","v":0},{"$f":"'Исходные данные'!$C99*'Исходные данные'!$D99*(1+'Исходные данные'!$E99)*Z92","v":0},{"$f":"'Исходные данные'!$C99*'Исходные данные'!$D99*(1+'Исходные данные'!$E99)*AA92","v":0},{"$f":"'Исходные данные'!$C99*'Исходные данные'!$D99*(1+'Исходные данные'!$E99)*AB92","v":0},{"$f":"'Исходные данные'!$C99*'Исходные данные'!$D99*(1+'Исходные данные'!$E99)*AC92","v":0},{"$f":"'Исходные данные'!$C99*'Исходные данные'!$D99*(1+'Исходные данные'!$E99)*AD92","v":0},{"$f":"'Исходные данные'!$C99*'Исходные данные'!$D99*(1+'Исходные данные'!$E99)*AE92","v":0},{"$f":"'Исходные данные'!$C99*'Исходные данные'!$D99*(1+'Исходные данные'!$E99)*AF92","v":0},{"$f":"'Исходные данные'!$C99*'Исходные данные'!$D99*(1+'Исходные данные'!$E99)*AG92","v":0},{"$f":"'Исходные данные'!$C99*'Исходные данные'!$D99*(1+'Исходные данные'!$E99)*AH92","v":0},{"$f":"'Исходные данные'!$C99*'Исходные данные'!$D99*(1+'Исходные данные'!$E99)*AI92","v":0},{"$f":"'Исходные данные'!$C99*'Исходные данные'!$D99*(1+'Исходные данные'!$E99)*AJ92","v":0},{"$f":"'Исходные данные'!$C99*'Исходные данные'!$D99*(1+'Исходные данные'!$E99)*AK92","v":0},{"$f":"'Исходные данные'!$C99*'Исходные данные'!$D99*(1+'Исходные данные'!$E99)*AL92","v":0},{"$f":"'Исходные данные'!$C99*'Исходные данные'!$D99*(1+'Исходные данные'!$E99)*AM92","v":0},{"$f":"'Исходные данные'!$C99*'Исходные данные'!$D99*(1+'Исходные данные'!$E99)*AN92","v":0},{"$f":"'Исходные данные'!$C99*'Исходные данные'!$D99*(1+'Исходные данные'!$E99)*AO92","v":0},{"$f":"'Исходные данные'!$C99*'Исходные данные'!$D99*(1+'Исходные данные'!$E99)*AP92","v":0},{"$f":"'Исходные данные'!$C99*'Исходные данные'!$D99*(1+'Исходные данные'!$E99)*AQ92","v":0},{"$f":"'Исходные данные'!$C99*'Исходные данные'!$D99*(1+'Исходные данные'!$E99)*AR92","v":0},{"$f":"'Исходные данные'!$C99*'Исходные данные'!$D99*(1+'Исходные данные'!$E99)*AS92","v":0},{"$f":"'Исходные данные'!$C99*'Исходные данные'!$D99*(1+'Исходные данные'!$E99)*AT92","v":0},{"$f":"'Исходные данные'!$C99*'Исходные данные'!$D99*(1+'Исходные данные'!$E99)*AU92","v":0},{"$f":"'Исходные данные'!$C99*'Исходные данные'!$D99*(1+'Исходные данные'!$E99)*AV92","v":0},{"$f":"'Исходные данные'!$C99*'Исходные данные'!$D99*(1+'Исходные данные'!$E99)*AW92","v":0},{"$f":"'Исходные данные'!$C99*'Исходные данные'!$D99*(1+'Исходные данные'!$E99)*AX92","v":0},{"$f":"'Исходные данные'!$C99*'Исходные данные'!$D99*(1+'Исходные данные'!$E99)*AY92","v":0},{"$f":"'Исходные данные'!$C99*'Исходные данные'!$D99*(1+'Исходные данные'!$E99)*AZ92","v":0},{"$f":"'Исходные данные'!$C99*'Исходные данные'!$D99*(1+'Исходные данные'!$E99)*BA92","v":0},{"$f":"'Исходные данные'!$C99*'Исходные данные'!$D99*(1+'Исходные данные'!$E99)*BB92","v":0},{"$f":"'Исходные данные'!$C99*'Исходные данные'!$D99*(1+'Исходные данные'!$E99)*BC92","v":0},{"$f":"'Исходные данные'!$C99*'Исходные данные'!$D99*(1+'Исходные данные'!$E99)*BD92","v":0},{"$f":"'Исходные данные'!$C99*'Исходные данные'!$D99*(1+'Исходные данные'!$E99)*BE92","v":0},{"$f":"'Исходные данные'!$C99*'Исходные данные'!$D99*(1+'Исходные данные'!$E99)*BF92","v":0},{"$f":"'Исходные данные'!$C99*'Исходные данные'!$D99*(1+'Исходные данные'!$E99)*BG92","v":0},{"$f":"'Исходные данные'!$C99*'Исходные данные'!$D99*(1+'Исходные данные'!$E99)*BH92","v":0},{"$f":"'Исходные данные'!$C99*'Исходные данные'!$D99*(1+'Исходные данные'!$E99)*BI92","v":0},{"$f":"'Исходные данные'!$C99*'Исходные данные'!$D99*(1+'Исходные данные'!$E99)*BJ92","v":0},{"$f":"'Исходные данные'!$C99*'Исходные данные'!$D99*(1+'Исходные данные'!$E99)*BK92","v":0},{"$f":"'Исходные данные'!$C99*'Исходные данные'!$D99*(1+'Исходные данные'!$E99)*BL92","v":0}]
[0,null,null,null,{"$f":"'Исходные данные'!C122*'Исходные данные'!$D100*(1+'Исходные данные'!$E100)*E93","v":0},{"$f":"'Исходные данные'!D122*'Исходные данные'!$D100*(1+'Исходные данные'!$E100)*F93","v":0},{"$f":"'Исходные данные'!E122*'Исходные данные'!$D100*(1+'Исходные данные'!$E100)*G93","v":0},{"$f":"'Исходные данные'!F122*'Исходные данные'!$D100*(1+'Исходные данные'!$E100)*H93","v":0},{"$f":"'Исходные данные'!G122*'Исходные данные'!$D100*(1+'Исходные данные'!$E100)*I93","v":0},{"$f":"'Исходные данные'!H122*'Исходные данные'!$D100*(1+'Исходные данные'!$E100)*J93","v":0},{"$f":"'Исходные данные'!I122*'Исходные данные'!$D100*(1+'Исходные данные'!$E100)*K93","v":0},{"$f":"'Исходные данные'!J122*'Исходные данные'!$D100*(1+'Исходные данные'!$E100)*L93","v":0},{"$f":"'Исходные данные'!K122*'Исходные данные'!$D100*(1+'Исходные данные'!$E100)*M93","v":0},{"$f":"'Исходные данные'!L122*'Исходные данные'!$D100*(1+'Исходные данные'!$E100)*N93","v":0},{"$f":"'Исходные данные'!M122*'Исходные данные'!$D100*(1+'Исходные данные'!$E100)*O93","v":0},{"$f":"'Исходные данные'!N122*'Исходные данные'!$D100*(1+'Исходные данные'!$E100)*P93","v":0},{"$f":"'Исходные данные'!$C100*'Исходные данные'!$D100*(1+'Исходные данные'!$E100)*Q93","v":0},{"$f":"'Исходные данные'!$C100*'Исходные данные'!$D100*(1+'Исходные данные'!$E100)*R93","v":0},{"$f":"'Исходные данные'!$C100*'Исходные данные'!$D100*(1+'Исходные данные'!$E100)*S93","v":0},{"$f":"'Исходные данные'!$C100*'Исходные данные'!$D100*(1+'Исходные данные'!$E100)*T93","v":0},{"$f":"'Исходные данные'!$C100*'Исходные данные'!$D100*(1+'Исходные данные'!$E100)*U93","v":0},{"$f":"'Исходные данные'!$C100*'Исходные данные'!$D100*(1+'Исходные данные'!$E100)*V93","v":0},{"$f":"'Исходные данные'!$C100*'Исходные данные'!$D100*(1+'Исходные данные'!$E100)*W93","v":0},{"$f":"'Исходные данные'!$C100*'Исходные данные'!$D100*(1+'Исходные данные'!$E100)*X93","v":0},{"$f":"'Исходные данные'!$C100*'Исходные данные'!$D100*(1+'Исходные данные'!$E100)*Y93","v":0},{"$f":"'Исходные данные'!$C100*'Исходные данные'!$D100*(1+'Исходные данные'!$E100)*Z93","v":0},{"$f":"'Исходные данные'!$C100*'Исходные данные'!$D100*(1+'Исходные данные'!$E100)*AA93","v":0},{"$f":"'Исходные данные'!$C100*'Исходные данные'!$D100*(1+'Исходные данные'!$E100)*AB93","v":0},{"$f":"'Исходные данные'!$C100*'Исходные данные'!$D100*(1+'Исходные данные'!$E100)*AC93","v":0},{"$f":"'Исходные данные'!$C100*'Исходные данные'!$D100*(1+'Исходные данные'!$E100)*AD93","v":0},{"$f":"'Исходные данные'!$C100*'Исходные данные'!$D100*(1+'Исходные данные'!$E100)*AE93","v":0},{"$f":"'Исходные данные'!$C100*'Исходные данные'!$D100*(1+'Исходные данные'!$E100)*AF93","v":0},{"$f":"'Исходные данные'!$C100*'Исходные данные'!$D100*(1+'Исходные данные'!$E100)*AG93","v":0},{"$f":"'Исходные данные'!$C100*'Исходные данные'!$D100*(1+'Исходные данные'!$E100)*AH93","v":0},{"$f":"'Исходные данные'!$C100*'Исходные данные'!$D100*(1+'Исходные данные'!$E100)*AI93","v":0},{"$f":"'Исходные данные'!$C100*'Исходные данные'!$D100*(1+'Исходные данные'!$E100)*AJ93","v":0},{"$f":"'Исходные данные'!$C100*'Исходные данные'!$D100*(1+'Исходные данные'!$E100)*AK93","v":0},{"$f":"'Исходные данные'!$C100*'Исходные данные'!$D100*(1+'Исходные данные'!$E100)*AL93","v":0},{"$f":"'Исходные данные'!$C100*'Исходные данные'!$D100*(1+'Исходные данные'!$E100)*AM93","v":0},{"$f":"'Исходные данные'!$C100*'Исходные данные'!$D100*(1+'Исходные данные'!$E100)*AN93","v":0},{"$f":"'Исходные данные'!$C100*'Исходные данные'!$D100*(1+'Исходные данные'!$E100)*AO93","v":0},{"$f":"'Исходные данные'!$C100*'Исходные данные'!$D100*(1+'Исходные данные'!$E100)*AP93","v":0},{"$f":"'Исходные данные'!$C100*'Исходные данные'!$D100*(1+'Исходные данные'!$E100)*AQ93","v":0},{"$f":"'Исходные данные'!$C100*'Исходные данные'!$D100*(1+'Исходные данные'!$E100)*AR93","v":0},{"$f":"'Исходные данные'!$C100*'Исходные данные'!$D100*(1+'Исходные данные'!$E100)*AS93","v":0},{"$f":"'Исходные данные'!$C100*'Исходные данные'!$D100*(1+'Исходные данные'!$E100)*AT93","v":0},{"$f":"'Исходные данные'!$C100*'Исходные данные'!$D100*(1+'Исходные данные'!$E100)*AU93","v":0},{"$f":"'Исходные данные'!$C100*'Исходные данные'!$D100*(1+'Исходные данные'!$E100)*AV93","v":0},{"$f":"'Исходные данные'!$C100*'Исходные данные'!$D100*(1+'Исходные данные'!$E100)*AW93","v":0},{"$f":"'Исходные данные'!$C100*'Исходные данные'!$D100*(1+'Исходные данные'!$E100)*AX93","v":0},{"$f":"'Исходные данные'!$C100*'Исходные данные'!$D100*(1+'Исходные данные'!$E100)*AY93","v":0},{"$f":"'Исходные данные'!$C100*'Исходные данные'!$D100*(1+'Исходные данные'!$E100)*AZ93","v":0},{"$f":"'Исходные данные'!$C100*'Исходные данные'!$D100*(1+'Исходные данные'!$E100)*BA93","v":0},{"$f":"'Исходные данные'!$C100*'Исходные данные'!$D100*(1+'Исходные данные'!$E100)*BB93","v":0},{"$f":"'Исходные данные'!$C100*'Исходные данные'!$D100*(1+'Исходные данные'!$E100)*BC93","v":0},{"$f":"'Исходные данные'!$C100*'Исходные данные'!$D100*(1+'Исходные данные'!$E100)*BD93","v":0},{"$f":"'Исходные данные'!$C100*'Исходные данные'!$D100*(1+'Исходные данные'!$E100)*BE93","v":0},{"$f":"'Исходные данные'!$C100*'Исходные данные'!$D100*(1+'Исходные данные'!$E100)*BF93","v":0},{"$f":"'Исходные данные'!$C100*'Исходные данные'!$D100*(1+'Исходные данные'!$E100)*BG93","v":0},{"$f":"'Исходные данные'!$C100*'Исходные данные'!$D100*(1+'Исходные данные'!$E100)*BH93","v":0},{"$f":"'Исходные данные'!$C100*'Исходные данные'!$D100*(1+'Исходные данные'!$E100)*BI93","v":0},{"$f":"'Исходные данные'!$C100*'Исходные данные'!$D100*(1+'Исходные данные'!$E100)*BJ93","v":0},{"$f":"'Исходные данные'!$C100*'Исходные данные'!$D100*(1+'Исходные данные'!$E100)*BK93","v":0},{"$f":"'Исходные данные'!$C100*'Исходные данные'!$D100*(1+'Исходные данные'!$E100)*BL93","v":0}]
[0,null,null,null,{"$f":"'Исходные данные'!C123*'Исходные данные'!$D101*(1+'Исходные данные'!$E101)*E94","v":0},{"$f":"'Исходные данные'!D123*'Исходные данные'!$D101*(1+'Исходные данные'!$E101)*F94","v":0},{"$f":"'Исходные данные'!E123*'Исходные данные'!$D101*(1+'Исходные данные'!$E101)*G94","v":0},{"$f":"'Исходные данные'!F123*'Исходные данные'!$D101*(1+'Исходные данные'!$E101)*H94","v":0},{"$f":"'Исходные данные'!G123*'Исходные данные'!$D101*(1+'Исходные данные'!$E101)*I94","v":0},{"$f":"'Исходные данные'!H123*'Исходные данные'!$D101*(1+'Исходные данные'!$E101)*J94","v":0},{"$f":"'Исходные данные'!I123*'Исходные данные'!$D101*(1+'Исходные данные'!$E101)*K94","v":0},{"$f":"'Исходные данные'!J123*'Исходные данные'!$D101*(1+'Исходные данные'!$E101)*L94","v":0},{"$f":"'Исходные данные'!K123*'Исходные данные'!$D101*(1+'Исходные данные'!$E101)*M94","v":0},{"$f":"'Исходные данные'!L123*'Исходные данные'!$D101*(1+'Исходные данные'!$E101)*N94","v":0},{"$f":"'Исходные данные'!M123*'Исходные данные'!$D101*(1+'Исходные данные'!$E101)*O94","v":0},{"$f":"'Исходные данные'!N123*'Исходные данные'!$D101*(1+'Исходные данные'!$E101)*P94","v":0},{"$f":"'Исходные данные'!$C101*'Исходные данные'!$D101*(1+'Исходные данные'!$E101)*Q94","v":0},{"$f":"'Исходные данные'!$C101*'Исходные данные'!$D101*(1+'Исходные данные'!$E101)*R94","v":0},{"$f":"'Исходные данные'!$C101*'Исходные данные'!$D101*(1+'Исходные данные'!$E101)*S94","v":0},{"$f":"'Исходные данные'!$C101*'Исходные данные'!$D101*(1+'Исходные данные'!$E101)*T94","v":0},{"$f":"'Исходные данные'!$C101*'Исходные данные'!$D101*(1+'Исходные данные'!$E101)*U94","v":0},{"$f":"'Исходные данные'!$C101*'Исходные данные'!$D101*(1+'Исходные данные'!$E101)*V94","v":0},{"$f":"'Исходные данные'!$C101*'Исходные данные'!$D101*(1+'Исходные данные'!$E101)*W94","v":0},{"$f":"'Исходные данные'!$C101*'Исходные данные'!$D101*(1+'Исходные данные'!$E101)*X94","v":0},{"$f":"'Исходные данные'!$C101*'Исходные данные'!$D101*(1+'Исходные данные'!$E101)*Y94","v":0},{"$f":"'Исходные данные'!$C101*'Исходные данные'!$D101*(1+'Исходные данные'!$E101)*Z94","v":0},{"$f":"'Исходные данные'!$C101*'Исходные данные'!$D101*(1+'Исходные данные'!$E101)*AA94","v":0},{"$f":"'Исходные данные'!$C101*'Исходные данные'!$D101*(1+'Исходные данные'!$E101)*AB94","v":0},{"$f":"'Исходные данные'!$C101*'Исходные данные'!$D101*(1+'Исходные данные'!$E101)*AC94","v":0},{"$f":"'Исходные данные'!$C101*'Исходные данные'!$D101*(1+'Исходные данные'!$E101)*AD94","v":0},{"$f":"'Исходные данные'!$C101*'Исходные данные'!$D101*(1+'Исходные данные'!$E101)*AE94","v":0},{"$f":"'Исходные данные'!$C101*'Исходные данные'!$D101*(1+'Исходные данные'!$E101)*AF94","v":0},{"$f":"'Исходные данные'!$C101*'Исходные данные'!$D101*(1+'Исходные данные'!$E101)*AG94","v":0},{"$f":"'Исходные данные'!$C101*'Исходные данные'!$D101*(1+'Исходные данные'!$E101)*AH94","v":0},{"$f":"'Исходные данные'!$C101*'Исходные данные'!$D101*(1+'Исходные данные'!$E101)*AI94","v":0},{"$f":"'Исходные данные'!$C101*'Исходные данные'!$D101*(1+'Исходные данные'!$E101)*AJ94","v":0},{"$f":"'Исходные данные'!$C101*'Исходные данные'!$D101*(1+'Исходные данные'!$E101)*AK94","v":0},{"$f":"'Исходные данные'!$C101*'Исходные данные'!$D101*(1+'Исходные данные'!$E101)*AL94","v":0},{"$f":"'Исходные данные'!$C101*'Исходные данные'!$D101*(1+'Исходные данные'!$E101)*AM94","v":0},{"$f":"'Исходные данные'!$C101*'Исходные данные'!$D101*(1+'Исходные данные'!$E101)*AN94","v":0},{"$f":"'Исходные данные'!$C101*'Исходные данные'!$D101*(1+'Исходные данные'!$E101)*AO94","v":0},{"$f":"'Исходные данные'!$C101*'Исходные данные'!$D101*(1+'Исходные данные'!$E101)*AP94","v":0},{"$f":"'Исходные данные'!$C101*'Исходные данные'!$D101*(1+'Исходные данные'!$E101)*AQ94","v":0},{"$f":"'Исходные данные'!$C101*'Исходные данные'!$D101*(1+'Исходные данные'!$E101)*AR94","v":0},{"$f":"'Исходные данные'!$C101*'Исходные данные'!$D101*(1+'Исходные данные'!$E101)*AS94","v":0},{"$f":"'Исходные данные'!$C101*'Исходные данные'!$D101*(1+'Исходные данные'!$E101)*AT94","v":0},{"$f":"'Исходные данные'!$C101*'Исходные данные'!$D101*(1+'Исходные данные'!$E101)*AU94","v":0},{"$f":"'Исходные данные'!$C101*'Исходные данные'!$D101*(1+'Исходные данные'!$E101)*AV94","v":0},{"$f":"'Исходные данные'!$C101*'Исходные данные'!$D101*(1+'Исходные данные'!$E101)*AW94","v":0},{"$f":"'Исходные данные'!$C101*'Исходные данные'!$D101*(1+'Исходные данные'!$E101)*AX94","v":0},{"$f":"'Исходные данные'!$C101*'Исходные данные'!$D101*(1+'Исходные данные'!$E101)*AY94","v":0},{"$f":"'Исходные данные'!$C101*'Исходные данные'!$D101*(1+'Исходные данные'!$E101)*AZ94","v":0},{"$f":"'Исходные данные'!$C101*'Исходные данные'!$D101*(1+'Исходные данные'!$E101)*BA94","v":0},{"$f":"'Исходные данные'!$C101*'Исходные данные'!$D101*(1+'Исходные данные'!$E101)*BB94","v":0},{"$f":"'Исходные данные'!$C101*'Исходные данные'!$D101*(1+'Исходные данные'!$E101)*BC94","v":0},{"$f":"'Исходные данные'!$C101*'Исходные данные'!$D101*(1+'Исходные данные'!$E101)*BD94","v":0},{"$f":"'Исходные данные'!$C101*'Исходные данные'!$D101*(1+'Исходные данные'!$E101)*BE94","v":0},{"$f":"'Исходные данные'!$C101*'Исходные данные'!$D101*(1+'Исходные данные'!$E101)*BF94","v":0},{"$f":"'Исходные данные'!$C101*'Исходные данные'!$D101*(1+'Исходные данные'!$E101)*BG94","v":0},{"$f":"'Исходные данные'!$C101*'Исходные данные'!$D101*(1+'Исходные данные'!$E101)*BH94","v":0},{"$f":"'Исходные данные'!$C101*'Исходные данные'!$D101*(1+'Исходные данные'!$E101)*BI94","v":0},{"$f":"'Исходные данные'!$C101*'Исходные данные'!$D101*(1+'Исходные данные'!$E101)*BJ94","v":0},{"$f":"'Исходные данные'!$C101*'Исходные данные'!$D101*(1+'Исходные данные'!$E101)*BK94","v":0},{"$f":"'Исходные данные'!$C101*'Исходные данные'!$D101*(1+'Исходные данные'!$E101)*BL94","v":0}]
[0,null,null,null,{"$f":"'Исходные данные'!C124*'Исходные данные'!$D102*(1+'Исходные данные'!$E102)*E95","v":0},{"$f":"'Исходные данные'!D124*'Исходные данные'!$D102*(1+'Исходные данные'!$E102)*F95","v":0},{"$f":"'Исходные данные'!E124*'Исходные данные'!$D102*(1+'Исходные данные'!$E102)*G95","v":0},{"$f":"'Исходные данные'!F124*'Исходные данные'!$D102*(1+'Исходные данные'!$E102)*H95","v":0},{"$f":"'Исходные данные'!G124*'Исходные данные'!$D102*(1+'Исходные данные'!$E102)*I95","v":0},{"$f":"'Исходные данные'!H124*'Исходные данные'!$D102*(1+'Исходные данные'!$E102)*J95","v":0},{"$f":"'Исходные данные'!I124*'Исходные данные'!$D102*(1+'Исходные данные'!$E102)*K95","v":0},{"$f":"'Исходные данные'!J124*'Исходные данные'!$D102*(1+'Исходные данные'!$E102)*L95","v":0},{"$f":"'Исходные данные'!K124*'Исходные данные'!$D102*(1+'Исходные данные'!$E102)*M95","v":0},{"$f":"'Исходные данные'!L124*'Исходные данные'!$D102*(1+'Исходные данные'!$E102)*N95","v":0},{"$f":"'Исходные данные'!M124*'Исходные данные'!$D102*(1+'Исходные данные'!$E102)*O95","v":0},{"$f":"'Исходные данные'!N124*'Исходные данные'!$D102*(1+'Исходные данные'!$E102)*P95","v":0},{"$f":"'Исходные данные'!$C102*'Исходные данные'!$D102*(1+'Исходные данные'!$E102)*Q95","v":0},{"$f":"'Исходные данные'!$C102*'Исходные данные'!$D102*(1+'Исходные данные'!$E102)*R95","v":0},{"$f":"'Исходные данные'!$C102*'Исходные данные'!$D102*(1+'Исходные данные'!$E102)*S95","v":0},{"$f":"'Исходные данные'!$C102*'Исходные данные'!$D102*(1+'Исходные данные'!$E102)*T95","v":0},{"$f":"'Исходные данные'!$C102*'Исходные данные'!$D102*(1+'Исходные данные'!$E102)*U95","v":0},{"$f":"'Исходные данные'!$C102*'Исходные данные'!$D102*(1+'Исходные данные'!$E102)*V95","v":0},{"$f":"'Исходные данные'!$C102*'Исходные данные'!$D102*(1+'Исходные данные'!$E102)*W95","v":0},{"$f":"'Исходные данные'!$C102*'Исходные данные'!$D102*(1+'Исходные данные'!$E102)*X95","v":0},{"$f":"'Исходные данные'!$C102*'Исходные данные'!$D102*(1+'Исходные данные'!$E102)*Y95","v":0},{"$f":"'Исходные данные'!$C102*'Исходные данные'!$D102*(1+'Исходные данные'!$E102)*Z95","v":0},{"$f":"'Исходные данные'!$C102*'Исходные данные'!$D102*(1+'Исходные данные'!$E102)*AA95","v":0},{"$f":"'Исходные данные'!$C102*'Исходные данные'!$D102*(1+'Исходные данные'!$E102)*AB95","v":0},{"$f":"'Исходные данные'!$C102*'Исходные данные'!$D102*(1+'Исходные данные'!$E102)*AC95","v":0},{"$f":"'Исходные данные'!$C102*'Исходные данные'!$D102*(1+'Исходные данные'!$E102)*AD95","v":0},{"$f":"'Исходные данные'!$C102*'Исходные данные'!$D102*(1+'Исходные данные'!$E102)*AE95","v":0},{"$f":"'Исходные данные'!$C102*'Исходные данные'!$D102*(1+'Исходные данные'!$E102)*AF95","v":0},{"$f":"'Исходные данные'!$C102*'Исходные данные'!$D102*(1+'Исходные данные'!$E102)*AG95","v":0},{"$f":"'Исходные данные'!$C102*'Исходные данные'!$D102*(1+'Исходные данные'!$E102)*AH95","v":0},{"$f":"'Исходные данные'!$C102*'Исходные данные'!$D102*(1+'Исходные данные'!$E102)*AI95","v":0},{"$f":"'Исходные данные'!$C102*'Исходные данные'!$D102*(1+'Исходные данные'!$E102)*AJ95","v":0},{"$f":"'Исходные данные'!$C102*'Исходные данные'!$D102*(1+'Исходные данные'!$E102)*AK95","v":0},{"$f":"'Исходные данные'!$C102*'Исходные данные'!$D102*(1+'Исходные данные'!$E102)*AL95","v":0},{"$f":"'Исходные данные'!$C102*'Исходные данные'!$D102*(1+'Исходные данные'!$E102)*AM95","v":0},{"$f":"'Исходные данные'!$C102*'Исходные данные'!$D102*(1+'Исходные данные'!$E102)*AN95","v":0},{"$f":"'Исходные данные'!$C102*'Исходные данные'!$D102*(1+'Исходные данные'!$E102)*AO95","v":0},{"$f":"'Исходные данные'!$C102*'Исходные данные'!$D102*(1+'Исходные данные'!$E102)*AP95","v":0},{"$f":"'Исходные данные'!$C102*'Исходные данные'!$D102*(1+'Исходные данные'!$E102)*AQ95","v":0},{"$f":"'Исходные данные'!$C102*'Исходные данные'!$D102*(1+'Исходные данные'!$E102)*AR95","v":0},{"$f":"'Исходные данные'!$C102*'Исходные данные'!$D102*(1+'Исходные данные'!$E102)*AS95","v":0},{"$f":"'Исходные данные'!$C102*'Исходные данные'!$D102*(1+'Исходные данные'!$E102)*AT95","v":0},{"$f":"'Исходные данные'!$C102*'Исходные данные'!$D102*(1+'Исходные данные'!$E102)*AU95","v":0},{"$f":"'Исходные данные'!$C102*'Исходные данные'!$D102*(1+'Исходные данные'!$E102)*AV95","v":0},{"$f":"'Исходные данные'!$C102*'Исходные данные'!$D102*(1+'Исходные данные'!$E102)*AW95","v":0},{"$f":"'Исходные данные'!$C102*'Исходные данные'!$D102*(1+'Исходные данные'!$E102)*AX95","v":0},{"$f":"'Исходные данные'!$C102*'Исходные данные'!$D102*(1+'Исходные данные'!$E102)*AY95","v":0},{"$f":"'Исходные данные'!$C102*'Исходные данные'!$D102*(1+'Исходные данные'!$E102)*AZ95","v":0},{"$f":"'Исходные данные'!$C102*'Исходные данные'!$D102*(1+'Исходные данные'!$E102)*BA95","v":0},{"$f":"'Исходные данные'!$C102*'Исходные данные'!$D102*(1+'Исходные данные'!$E102)*BB95","v":0},{"$f":"'Исходные данные'!$C102*'Исходные данные'!$D102*(1+'Исходные данные'!$E102)*BC95","v":0},{"$f":"'Исходные данные'!$C102*'Исходные данные'!$D102*(1+'Исходные данные'!$E102)*BD95","v":0},{"$f":"'Исходные данные'!$C102*'Исходные данные'!$D102*(1+'Исходные данные'!$E102)*BE95","v":0},{"$f":"'Исходные данные'!$C102*'Исходные данные'!$D102*(1+'Исходные данные'!$E102)*BF95","v":0},{"$f":"'Исходные данные'!$C102*'Исходные данные'!$D102*(1+'Исходные данные'!$E102)*BG95","v":0},{"$f":"'Исходные данные'!$C102*'Исходные данные'!$D102*(1+'Исходные данные'!$E102)*BH95","v":0},{"$f":"'Исходные данные'!$C102*'Исходные данные'!$D102*(1+'Исходные данные'!$E102)*BI95","v":0},{"$f":"'Исходные данные'!$C102*'Исходные данные'!$D102*(1+'Исходные данные'!$E102)*BJ95","v":0},{"$f":"'Исходные данные'!$C102*'Исходные данные'!$D102*(1+'Исходные данные'!$E102)*BK95","v":0},{"$f":"'Исходные данные'!$C102*'Исходные данные'!$D102*(1+'Исходные данные'!$E102)*BL95","v":0}]
[0,null,null,null,{"$f":"'Исходные данные'!C125*'Исходные данные'!$D103*(1+'Исходные данные'!$E103)*E96","v":0},{"$f":"'Исходные данные'!D125*'Исходные данные'!$D103*(1+'Исходные данные'!$E103)*F96","v":0},{"$f":"'Исходные данные'!E125*'Исходные данные'!$D103*(1+'Исходные данные'!$E103)*G96","v":0},{"$f":"'Исходные данные'!F125*'Исходные данные'!$D103*(1+'Исходные данные'!$E103)*H96","v":0},{"$f":"'Исходные данные'!G125*'Исходные данные'!$D103*(1+'Исходные данные'!$E103)*I96","v":0},{"$f":"'Исходные данные'!H125*'Исходные данные'!$D103*(1+'Исходные данные'!$E103)*J96","v":0},{"$f":"'Исходные данные'!I125*'Исходные данные'!$D103*(1+'Исходные данные'!$E103)*K96","v":0},{"$f":"'Исходные данные'!J125*'Исходные данные'!$D103*(1+'Исходные данные'!$E103)*L96","v":0},{"$f":"'Исходные данные'!K125*'Исходные данные'!$D103*(1+'Исходные данные'!$E103)*M96","v":0},{"$f":"'Исходные данные'!L125*'Исходные данные'!$D103*(1+'Исходные данные'!$E103)*N96","v":0},{"$f":"'Исходные данные'!M125*'Исходные данные'!$D103*(1+'Исходные данные'!$E103)*O96","v":0},{"$f":"'Исходные данные'!N125*'Исходные данные'!$D103*(1+'Исходные данные'!$E103)*P96","v":0},{"$f":"'Исходные данные'!$C103*'Исходные данные'!$D103*(1+'Исходные данные'!$E103)*Q96","v":0},{"$f":"'Исходные данные'!$C103*'Исходные данные'!$D103*(1+'Исходные данные'!$E103)*R96","v":0},{"$f":"'Исходные данные'!$C103*'Исходные данные'!$D103*(1+'Исходные данные'!$E103)*S96","v":0},{"$f":"'Исходные данные'!$C103*'Исходные данные'!$D103*(1+'Исходные данные'!$E103)*T96","v":0},{"$f":"'Исходные данные'!$C103*'Исходные данные'!$D103*(1+'Исходные данные'!$E103)*U96","v":0},{"$f":"'Исходные данные'!$C103*'Исходные данные'!$D103*(1+'Исходные данные'!$E103)*V96","v":0},{"$f":"'Исходные данные'!$C103*'Исходные данные'!$D103*(1+'Исходные данные'!$E103)*W96","v":0},{"$f":"'Исходные данные'!$C103*'Исходные данные'!$D103*(1+'Исходные данные'!$E103)*X96","v":0},{"$f":"'Исходные данные'!$C103*'Исходные данные'!$D103*(1+'Исходные данные'!$E103)*Y96","v":0},{"$f":"'Исходные данные'!$C103*'Исходные данные'!$D103*(1+'Исходные данные'!$E103)*Z96","v":0},{"$f":"'Исходные данные'!$C103*'Исходные данные'!$D103*(1+'Исходные данные'!$E103)*AA96","v":0},{"$f":"'Исходные данные'!$C103*'Исходные данные'!$D103*(1+'Исходные данные'!$E103)*AB96","v":0},{"$f":"'Исходные данные'!$C103*'Исходные данные'!$D103*(1+'Исходные данные'!$E103)*AC96","v":0},{"$f":"'Исходные данные'!$C103*'Исходные данные'!$D103*(1+'Исходные данные'!$E103)*AD96","v":0},{"$f":"'Исходные данные'!$C103*'Исходные данные'!$D103*(1+'Исходные данные'!$E103)*AE96","v":0},{"$f":"'Исходные данные'!$C103*'Исходные данные'!$D103*(1+'Исходные данные'!$E103)*AF96","v":0},{"$f":"'Исходные данные'!$C103*'Исходные данные'!$D103*(1+'Исходные данные'!$E103)*AG96","v":0},{"$f":"'Исходные данные'!$C103*'Исходные данные'!$D103*(1+'Исходные данные'!$E103)*AH96","v":0},{"$f":"'Исходные данные'!$C103*'Исходные данные'!$D103*(1+'Исходные данные'!$E103)*AI96","v":0},{"$f":"'Исходные данные'!$C103*'Исходные данные'!$D103*(1+'Исходные данные'!$E103)*AJ96","v":0},{"$f":"'Исходные данные'!$C103*'Исходные данные'!$D103*(1+'Исходные данные'!$E103)*AK96","v":0},{"$f":"'Исходные данные'!$C103*'Исходные данные'!$D103*(1+'Исходные данные'!$E103)*AL96","v":0},{"$f":"'Исходные данные'!$C103*'Исходные данные'!$D103*(1+'Исходные данные'!$E103)*AM96","v":0},{"$f":"'Исходные данные'!$C103*'Исходные данные'!$D103*(1+'Исходные данные'!$E103)*AN96","v":0},{"$f":"'Исходные данные'!$C103*'Исходные данные'!$D103*(1+'Исходные данные'!$E103)*AO96","v":0},{"$f":"'Исходные данные'!$C103*'Исходные данные'!$D103*(1+'Исходные данные'!$E103)*AP96","v":0},{"$f":"'Исходные данные'!$C103*'Исходные данные'!$D103*(1+'Исходные данные'!$E103)*AQ96","v":0},{"$f":"'Исходные данные'!$C103*'Исходные данные'!$D103*(1+'Исходные данные'!$E103)*AR96","v":0},{"$f":"'Исходные данные'!$C103*'Исходные данные'!$D103*(1+'Исходные данные'!$E103)*AS96","v":0},{"$f":"'Исходные данные'!$C103*'Исходные данные'!$D103*(1+'Исходные данные'!$E103)*AT96","v":0},{"$f":"'Исходные данные'!$C103*'Исходные данные'!$D103*(1+'Исходные данные'!$E103)*AU96","v":0},{"$f":"'Исходные данные'!$C103*'Исходные данные'!$D103*(1+'Исходные данные'!$E103)*AV96","v":0},{"$f":"'Исходные данные'!$C103*'Исходные данные'!$D103*(1+'Исходные данные'!$E103)*AW96","v":0},{"$f":"'Исходные данные'!$C103*'Исходные данные'!$D103*(1+'Исходные данные'!$E103)*AX96","v":0},{"$f":"'Исходные данные'!$C103*'Исходные данные'!$D103*(1+'Исходные данные'!$E103)*AY96","v":0},{"$f":"'Исходные данные'!$C103*'Исходные данные'!$D103*(1+'Исходные данные'!$E103)*AZ96","v":0},{"$f":"'Исходные данные'!$C103*'Исходные данные'!$D103*(1+'Исходные данные'!$E103)*BA96","v":0},{"$f":"'Исходные данные'!$C103*'Исходные данные'!$D103*(1+'Исходные данные'!$E103)*BB96","v":0},{"$f":"'Исходные данные'!$C103*'Исходные данные'!$D103*(1+'Исходные данные'!$E103)*BC96","v":0},{"$f":"'Исходные данные'!$C103*'Исходные данные'!$D103*(1+'Исходные данные'!$E103)*BD96","v":0},{"$f":"'Исходные данные'!$C103*'Исходные данные'!$D103*(1+'Исходные данные'!$E103)*BE96","v":0},{"$f":"'Исходные данные'!$C103*'Исходные данные'!$D103*(1+'Исходные данные'!$E103)*BF96","v":0},{"$f":"'Исходные данные'!$C103*'Исходные данные'!$D103*(1+'Исходные данные'!$E103)*BG96","v":0},{"$f":"'Исходные данные'!$C103*'Исходные данные'!$D103*(1+'Исходные данные'!$E103)*BH96","v":0},{"$f":"'Исходные данные'!$C103*'Исходные данные'!$D103*(1+'Исходные данные'!$E103)*BI96","v":0},{"$f":"'Исходные данные'!$C103*'Исходные данные'!$D103*(1+'Исходные данные'!$E103)*BJ96","v":0},{"$f":"'Исходные данные'!$C103*'Исходные данные'!$D103*(1+'Исходные данные'!$E103)*BK96","v":0},{"$f":"'Исходные данные'!$C103*'Исходные данные'!$D103*(1+'Исходные данные'!$E103)*BL96","v":0}]
[0,null,null,null,{"$f":"'Исходные данные'!C126*'Исходные данные'!$D104*(1+'Исходные данные'!$E104)*E97","v":0},{"$f":"'Исходные данные'!D126*'Исходные данные'!$D104*(1+'Исходные данные'!$E104)*F97","v":0},{"$f":"'Исходные данные'!E126*'Исходные данные'!$D104*(1+'Исходные данные'!$E104)*G97","v":0},{"$f":"'Исходные данные'!F126*'Исходные данные'!$D104*(1+'Исходные данные'!$E104)*H97","v":0},{"$f":"'Исходные данные'!G126*'Исходные данные'!$D104*(1+'Исходные данные'!$E104)*I97","v":0},{"$f":"'Исходные данные'!H126*'Исходные данные'!$D104*(1+'Исходные данные'!$E104)*J97","v":0},{"$f":"'Исходные данные'!I126*'Исходные данные'!$D104*(1+'Исходные данные'!$E104)*K97","v":0},{"$f":"'Исходные данные'!J126*'Исходные данные'!$D104*(1+'Исходные данные'!$E104)*L97","v":0},{"$f":"'Исходные данные'!K126*'Исходные данные'!$D104*(1+'Исходные данные'!$E104)*M97","v":0},{"$f":"'Исходные данные'!L126*'Исходные данные'!$D104*(1+'Исходные данные'!$E104)*N97","v":0},{"$f":"'Исходные данные'!M126*'Исходные данные'!$D104*(1+'Исходные данные'!$E104)*O97","v":0},{"$f":"'Исходные данные'!N126*'Исходные данные'!$D104*(1+'Исходные данные'!$E104)*P97","v":0},{"$f":"'Исходные данные'!$C104*'Исходные данные'!$D104*(1+'Исходные данные'!$E104)*Q97","v":0},{"$f":"'Исходные данные'!$C104*'Исходные данные'!$D104*(1+'Исходные данные'!$E104)*R97","v":0},{"$f":"'Исходные данные'!$C104*'Исходные данные'!$D104*(1+'Исходные данные'!$E104)*S97","v":0},{"$f":"'Исходные данные'!$C104*'Исходные данные'!$D104*(1+'Исходные данные'!$E104)*T97","v":0},{"$f":"'Исходные данные'!$C104*'Исходные данные'!$D104*(1+'Исходные данные'!$E104)*U97","v":0},{"$f":"'Исходные данные'!$C104*'Исходные данные'!$D104*(1+'Исходные данные'!$E104)*V97","v":0},{"$f":"'Исходные данные'!$C104*'Исходные данные'!$D104*(1+'Исходные данные'!$E104)*W97","v":0},{"$f":"'Исходные данные'!$C104*'Исходные данные'!$D104*(1+'Исходные данные'!$E104)*X97","v":0},{"$f":"'Исходные данные'!$C104*'Исходные данные'!$D104*(1+'Исходные данные'!$E104)*Y97","v":0},{"$f":"'Исходные данные'!$C104*'Исходные данные'!$D104*(1+'Исходные данные'!$E104)*Z97","v":0},{"$f":"'Исходные данные'!$C104*'Исходные данные'!$D104*(1+'Исходные данные'!$E104)*AA97","v":0},{"$f":"'Исходные данные'!$C104*'Исходные данные'!$D104*(1+'Исходные данные'!$E104)*AB97","v":0},{"$f":"'Исходные данные'!$C104*'Исходные данные'!$D104*(1+'Исходные данные'!$E104)*AC97","v":0},{"$f":"'Исходные данные'!$C104*'Исходные данные'!$D104*(1+'Исходные данные'!$E104)*AD97","v":0},{"$f":"'Исходные данные'!$C104*'Исходные данные'!$D104*(1+'Исходные данные'!$E104)*AE97","v":0},{"$f":"'Исходные данные'!$C104*'Исходные данные'!$D104*(1+'Исходные данные'!$E104)*AF97","v":0},{"$f":"'Исходные данные'!$C104*'Исходные данные'!$D104*(1+'Исходные данные'!$E104)*AG97","v":0},{"$f":"'Исходные данные'!$C104*'Исходные данные'!$D104*(1+'Исходные данные'!$E104)*AH97","v":0},{"$f":"'Исходные данные'!$C104*'Исходные данные'!$D104*(1+'Исходные данные'!$E104)*AI97","v":0},{"$f":"'Исходные данные'!$C104*'Исходные данные'!$D104*(1+'Исходные данные'!$E104)*AJ97","v":0},{"$f":"'Исходные данные'!$C104*'Исходные данные'!$D104*(1+'Исходные данные'!$E104)*AK97","v":0},{"$f":"'Исходные данные'!$C104*'Исходные данные'!$D104*(1+'Исходные данные'!$E104)*AL97","v":0},{"$f":"'Исходные данные'!$C104*'Исходные данные'!$D104*(1+'Исходные данные'!$E104)*AM97","v":0},{"$f":"'Исходные данные'!$C104*'Исходные данные'!$D104*(1+'Исходные данные'!$E104)*AN97","v":0},{"$f":"'Исходные данные'!$C104*'Исходные данные'!$D104*(1+'Исходные данные'!$E104)*AO97","v":0},{"$f":"'Исходные данные'!$C104*'Исходные данные'!$D104*(1+'Исходные данные'!$E104)*AP97","v":0},{"$f":"'Исходные данные'!$C104*'Исходные данные'!$D104*(1+'Исходные данные'!$E104)*AQ97","v":0},{"$f":"'Исходные данные'!$C104*'Исходные данные'!$D104*(1+'Исходные данные'!$E104)*AR97","v":0},{"$f":"'Исходные данные'!$C104*'Исходные данные'!$D104*(1+'Исходные данные'!$E104)*AS97","v":0},{"$f":"'Исходные данные'!$C104*'Исходные данные'!$D104*(1+'Исходные данные'!$E104)*AT97","v":0},{"$f":"'Исходные данные'!$C104*'Исходные данные'!$D104*(1+'Исходные данные'!$E104)*AU97","v":0},{"$f":"'Исходные данные'!$C104*'Исходные данные'!$D104*(1+'Исходные данные'!$E104)*AV97","v":0},{"$f":"'Исходные данные'!$C104*'Исходные данные'!$D104*(1+'Исходные данные'!$E104)*AW97","v":0},{"$f":"'Исходные данные'!$C104*'Исходные данные'!$D104*(1+'Исходные данные'!$E104)*AX97","v":0},{"$f":"'Исходные данные'!$C104*'Исходные данные'!$D104*(1+'Исходные данные'!$E104)*AY97","v":0},{"$f":"'Исходные данные'!$C104*'Исходные данные'!$D104*(1+'Исходные данные'!$E104)*AZ97","v":0},{"$f":"'Исходные данные'!$C104*'Исходные данные'!$D104*(1+'Исходные данные'!$E104)*BA97","v":0},{"$f":"'Исходные данные'!$C104*'Исходные данные'!$D104*(1+'Исходные данные'!$E104)*BB97","v":0},{"$f":"'Исходные данные'!$C104*'Исходные данные'!$D104*(1+'Исходные данные'!$E104)*BC97","v":0},{"$f":"'Исходные данные'!$C104*'Исходные данные'!$D104*(1+'Исходные данные'!$E104)*BD97","v":0},{"$f":"'Исходные данные'!$C104*'Исходные данные'!$D104*(1+'Исходные данные'!$E104)*BE97","v":0},{"$f":"'Исходные данные'!$C104*'Исходные данные'!$D104*(1+'Исходные данные'!$E104)*BF97","v":0},{"$f":"'Исходные данные'!$C104*'Исходные данные'!$D104*(1+'Исходные данные'!$E104)*BG97","v":0},{"$f":"'Исходные данные'!$C104*'Исходные данные'!$D104*(1+'Исходные данные'!$E104)*BH97","v":0},{"$f":"'Исходные данные'!$C104*'Исходные данные'!$D104*(1+'Исходные данные'!$E104)*BI97","v":0},{"$f":"'Исходные данные'!$C104*'Исходные данные'!$D104*(1+'Исходные данные'!$E104)*BJ97","v":0},{"$f":"'Исходные данные'!$C104*'Исходные данные'!$D104*(1+'Исходные данные'!$E104)*BK97","v":0},{"$f":"'Исходные данные'!$C104*'Исходные данные'!$D104*(1+'Исходные данные'!$E104)*BL97","v":0}]
[0,null,null,null,{"$f":"'Исходные данные'!C127*'Исходные данные'!$D105*(1+'Исходные данные'!$E105)*E98","v":0},{"$f":"'Исходные данные'!D127*'Исходные данные'!$D105*(1+'Исходные данные'!$E105)*F98","v":0},{"$f":"'Исходные данные'!E127*'Исходные данные'!$D105*(1+'Исходные данные'!$E105)*G98","v":0},{"$f":"'Исходные данные'!F127*'Исходные данные'!$D105*(1+'Исходные данные'!$E105)*H98","v":0},{"$f":"'Исходные данные'!G127*'Исходные данные'!$D105*(1+'Исходные данные'!$E105)*I98","v":0},{"$f":"'Исходные данные'!H127*'Исходные данные'!$D105*(1+'Исходные данные'!$E105)*J98","v":0},{"$f":"'Исходные данные'!I127*'Исходные данные'!$D105*(1+'Исходные данные'!$E105)*K98","v":0},{"$f":"'Исходные данные'!J127*'Исходные данные'!$D105*(1+'Исходные данные'!$E105)*L98","v":0},{"$f":"'Исходные данные'!K127*'Исходные данные'!$D105*(1+'Исходные данные'!$E105)*M98","v":0},{"$f":"'Исходные данные'!L127*'Исходные данные'!$D105*(1+'Исходные данные'!$E105)*N98","v":0},{"$f":"'Исходные данные'!M127*'Исходные данные'!$D105*(1+'Исходные данные'!$E105)*O98","v":0},{"$f":"'Исходные данные'!N127*'Исходные данные'!$D105*(1+'Исходные данные'!$E105)*P98","v":0},{"$f":"'Исходные данные'!$C105*'Исходные данные'!$D105*(1+'Исходные данные'!$E105)*Q98","v":0},{"$f":"'Исходные данные'!$C105*'Исходные данные'!$D105*(1+'Исходные данные'!$E105)*R98","v":0},{"$f":"'Исходные данные'!$C105*'Исходные данные'!$D105*(1+'Исходные данные'!$E105)*S98","v":0},{"$f":"'Исходные данные'!$C105*'Исходные данные'!$D105*(1+'Исходные данные'!$E105)*T98","v":0},{"$f":"'Исходные данные'!$C105*'Исходные данные'!$D105*(1+'Исходные данные'!$E105)*U98","v":0},{"$f":"'Исходные данные'!$C105*'Исходные данные'!$D105*(1+'Исходные данные'!$E105)*V98","v":0},{"$f":"'Исходные данные'!$C105*'Исходные данные'!$D105*(1+'Исходные данные'!$E105)*W98","v":0},{"$f":"'Исходные данные'!$C105*'Исходные данные'!$D105*(1+'Исходные данные'!$E105)*X98","v":0},{"$f":"'Исходные данные'!$C105*'Исходные данные'!$D105*(1+'Исходные данные'!$E105)*Y98","v":0},{"$f":"'Исходные данные'!$C105*'Исходные данные'!$D105*(1+'Исходные данные'!$E105)*Z98","v":0},{"$f":"'Исходные данные'!$C105*'Исходные данные'!$D105*(1+'Исходные данные'!$E105)*AA98","v":0},{"$f":"'Исходные данные'!$C105*'Исходные данные'!$D105*(1+'Исходные данные'!$E105)*AB98","v":0},{"$f":"'Исходные данные'!$C105*'Исходные данные'!$D105*(1+'Исходные данные'!$E105)*AC98","v":0},{"$f":"'Исходные данные'!$C105*'Исходные данные'!$D105*(1+'Исходные данные'!$E105)*AD98","v":0},{"$f":"'Исходные данные'!$C105*'Исходные данные'!$D105*(1+'Исходные данные'!$E105)*AE98","v":0},{"$f":"'Исходные данные'!$C105*'Исходные данные'!$D105*(1+'Исходные данные'!$E105)*AF98","v":0},{"$f":"'Исходные данные'!$C105*'Исходные данные'!$D105*(1+'Исходные данные'!$E105)*AG98","v":0},{"$f":"'Исходные данные'!$C105*'Исходные данные'!$D105*(1+'Исходные данные'!$E105)*AH98","v":0},{"$f":"'Исходные данные'!$C105*'Исходные данные'!$D105*(1+'Исходные данные'!$E105)*AI98","v":0},{"$f":"'Исходные данные'!$C105*'Исходные данные'!$D105*(1+'Исходные данные'!$E105)*AJ98","v":0},{"$f":"'Исходные данные'!$C105*'Исходные данные'!$D105*(1+'Исходные данные'!$E105)*AK98","v":0},{"$f":"'Исходные данные'!$C105*'Исходные данные'!$D105*(1+'Исходные данные'!$E105)*AL98","v":0},{"$f":"'Исходные данные'!$C105*'Исходные данные'!$D105*(1+'Исходные данные'!$E105)*AM98","v":0},{"$f":"'Исходные данные'!$C105*'Исходные данные'!$D105*(1+'Исходные данные'!$E105)*AN98","v":0},{"$f":"'Исходные данные'!$C105*'Исходные данные'!$D105*(1+'Исходные данные'!$E105)*AO98","v":0},{"$f":"'Исходные данные'!$C105*'Исходные данные'!$D105*(1+'Исходные данные'!$E105)*AP98","v":0},{"$f":"'Исходные данные'!$C105*'Исходные данные'!$D105*(1+'Исходные данные'!$E105)*AQ98","v":0},{"$f":"'Исходные данные'!$C105*'Исходные данные'!$D105*(1+'Исходные данные'!$E105)*AR98","v":0},{"$f":"'Исходные данные'!$C105*'Исходные данные'!$D105*(1+'Исходные данные'!$E105)*AS98","v":0},{"$f":"'Исходные данные'!$C105*'Исходные данные'!$D105*(1+'Исходные данные'!$E105)*AT98","v":0},{"$f":"'Исходные данные'!$C105*'Исходные данные'!$D105*(1+'Исходные данные'!$E105)*AU98","v":0},{"$f":"'Исходные данные'!$C105*'Исходные данные'!$D105*(1+'Исходные данные'!$E105)*AV98","v":0},{"$f":"'Исходные данные'!$C105*'Исходные данные'!$D105*(1+'Исходные данные'!$E105)*AW98","v":0},{"$f":"'Исходные данные'!$C105*'Исходные данные'!$D105*(1+'Исходные данные'!$E105)*AX98","v":0},{"$f":"'Исходные данные'!$C105*'Исходные данные'!$D105*(1+'Исходные данные'!$E105)*AY98","v":0},{"$f":"'Исходные данные'!$C105*'Исходные данные'!$D105*(1+'Исходные данные'!$E105)*AZ98","v":0},{"$f":"'Исходные данные'!$C105*'Исходные данные'!$D105*(1+'Исходные данные'!$E105)*BA98","v":0},{"$f":"'Исходные данные'!$C105*'Исходные данные'!$D105*(1+'Исходные данные'!$E105)*BB98","v":0},{"$f":"'Исходные данные'!$C105*'Исходные данные'!$D105*(1+'Исходные данные'!$E105)*BC98","v":0},{"$f":"'Исходные данные'!$C105*'Исходные данные'!$D105*(1+'Исходные данные'!$E105)*BD98","v":0},{"$f":"'Исходные данные'!$C105*'Исходные данные'!$D105*(1+'Исходные данные'!$E105)*BE98","v":0},{"$f":"'Исходные данные'!$C105*'Исходные данные'!$D105*(1+'Исходные данные'!$E105)*BF98","v":0},{"$f":"'Исходные данные'!$C105*'Исходные данные'!$D105*(1+'Исходные данные'!$E105)*BG98","v":0},{"$f":"'Исходные данные'!$C105*'Исходные данные'!$D105*(1+'Исходные данные'!$E105)*BH98","v":0},{"$f":"'Исходные данные'!$C105*'Исходные данные'!$D105*(1+'Исходные данные'!$E105)*BI98","v":0},{"$f":"'Исходные данные'!$C105*'Исходные данные'!$D105*(1+'Исходные данные'!$E105)*BJ98","v":0},{"$f":"'Исходные данные'!$C105*'Исходные данные'!$D105*(1+'Исходные данные'!$E105)*BK98","v":0},{"$f":"'Исходные данные'!$C105*'Исходные данные'!$D105*(1+'Исходные данные'!$E105)*BL98","v":0}]
[0,null,null,null,{"$f":"'Исходные данные'!C128*'Исходные данные'!$D106*(1+'Исходные данные'!$E106)*E99","v":0},{"$f":"'Исходные данные'!D128*'Исходные данные'!$D106*(1+'Исходные данные'!$E106)*F99","v":0},{"$f":"'Исходные данные'!E128*'Исходные данные'!$D106*(1+'Исходные данные'!$E106)*G99","v":0},{"$f":"'Исходные данные'!F128*'Исходные данные'!$D106*(1+'Исходные данные'!$E106)*H99","v":0},{"$f":"'Исходные данные'!G128*'Исходные данные'!$D106*(1+'Исходные данные'!$E106)*I99","v":0},{"$f":"'Исходные данные'!H128*'Исходные данные'!$D106*(1+'Исходные данные'!$E106)*J99","v":0},{"$f":"'Исходные данные'!I128*'Исходные данные'!$D106*(1+'Исходные данные'!$E106)*K99","v":0},{"$f":"'Исходные данные'!J128*'Исходные данные'!$D106*(1+'Исходные данные'!$E106)*L99","v":0},{"$f":"'Исходные данные'!K128*'Исходные данные'!$D106*(1+'Исходные данные'!$E106)*M99","v":0},{"$f":"'Исходные данные'!L128*'Исходные данные'!$D106*(1+'Исходные данные'!$E106)*N99","v":0},{"$f":"'Исходные данные'!M128*'Исходные данные'!$D106*(1+'Исходные данные'!$E106)*O99","v":0},{"$f":"'Исходные данные'!N128*'Исходные данные'!$D106*(1+'Исходные данные'!$E106)*P99","v":0},{"$f":"'Исходные данные'!$C106*'Исходные данные'!$D106*(1+'Исходные данные'!$E106)*Q99","v":0},{"$f":"'Исходные данные'!$C106*'Исходные данные'!$D106*(1+'Исходные данные'!$E106)*R99","v":0},{"$f":"'Исходные данные'!$C106*'Исходные данные'!$D106*(1+'Исходные данные'!$E106)*S99","v":0},{"$f":"'Исходные данные'!$C106*'Исходные данные'!$D106*(1+'Исходные данные'!$E106)*T99","v":0},{"$f":"'Исходные данные'!$C106*'Исходные данные'!$D106*(1+'Исходные данные'!$E106)*U99","v":0},{"$f":"'Исходные данные'!$C106*'Исходные данные'!$D106*(1+'Исходные данные'!$E106)*V99","v":0},{"$f":"'Исходные данные'!$C106*'Исходные данные'!$D106*(1+'Исходные данные'!$E106)*W99","v":0},{"$f":"'Исходные данные'!$C106*'Исходные данные'!$D106*(1+'Исходные данные'!$E106)*X99","v":0},{"$f":"'Исходные данные'!$C106*'Исходные данные'!$D106*(1+'Исходные данные'!$E106)*Y99","v":0},{"$f":"'Исходные данные'!$C106*'Исходные данные'!$D106*(1+'Исходные данные'!$E106)*Z99","v":0},{"$f":"'Исходные данные'!$C106*'Исходные данные'!$D106*(1+'Исходные данные'!$E106)*AA99","v":0},{"$f":"'Исходные данные'!$C106*'Исходные данные'!$D106*(1+'Исходные данные'!$E106)*AB99","v":0},{"$f":"'Исходные данные'!$C106*'Исходные данные'!$D106*(1+'Исходные данные'!$E106)*AC99","v":0},{"$f":"'Исходные данные'!$C106*'Исходные данные'!$D106*(1+'Исходные данные'!$E106)*AD99","v":0},{"$f":"'Исходные данные'!$C106*'Исходные данные'!$D106*(1+'Исходные данные'!$E106)*AE99","v":0},{"$f":"'Исходные данные'!$C106*'Исходные данные'!$D106*(1+'Исходные данные'!$E106)*AF99","v":0},{"$f":"'Исходные данные'!$C106*'Исходные данные'!$D106*(1+'Исходные данные'!$E106)*AG99","v":0},{"$f":"'Исходные данные'!$C106*'Исходные данные'!$D106*(1+'Исходные данные'!$E106)*AH99","v":0},{"$f":"'Исходные данные'!$C106*'Исходные данные'!$D106*(1+'Исходные данные'!$E106)*AI99","v":0},{"$f":"'Исходные данные'!$C106*'Исходные данные'!$D106*(1+'Исходные данные'!$E106)*AJ99","v":0},{"$f":"'Исходные данные'!$C106*'Исходные данные'!$D106*(1+'Исходные данные'!$E106)*AK99","v":0},{"$f":"'Исходные данные'!$C106*'Исходные данные'!$D106*(1+'Исходные данные'!$E106)*AL99","v":0},{"$f":"'Исходные данные'!$C106*'Исходные данные'!$D106*(1+'Исходные данные'!$E106)*AM99","v":0},{"$f":"'Исходные данные'!$C106*'Исходные данные'!$D106*(1+'Исходные данные'!$E106)*AN99","v":0},{"$f":"'Исходные данные'!$C106*'Исходные данные'!$D106*(1+'Исходные данные'!$E106)*AO99","v":0},{"$f":"'Исходные данные'!$C106*'Исходные данные'!$D106*(1+'Исходные данные'!$E106)*AP99","v":0},{"$f":"'Исходные данные'!$C106*'Исходные данные'!$D106*(1+'Исходные данные'!$E106)*AQ99","v":0},{"$f":"'Исходные данные'!$C106*'Исходные данные'!$D106*(1+'Исходные данные'!$E106)*AR99","v":0},{"$f":"'Исходные данные'!$C106*'Исходные данные'!$D106*(1+'Исходные данные'!$E106)*AS99","v":0},{"$f":"'Исходные данные'!$C106*'Исходные данные'!$D106*(1+'Исходные данные'!$E106)*AT99","v":0},{"$f":"'Исходные данные'!$C106*'Исходные данные'!$D106*(1+'Исходные данные'!$E106)*AU99","v":0},{"$f":"'Исходные данные'!$C106*'Исходные данные'!$D106*(1+'Исходные данные'!$E106)*AV99","v":0},{"$f":"'Исходные данные'!$C106*'Исходные данные'!$D106*(1+'Исходные данные'!$E106)*AW99","v":0},{"$f":"'Исходные данные'!$C106*'Исходные данные'!$D106*(1+'Исходные данные'!$E106)*AX99","v":0},{"$f":"'Исходные данные'!$C106*'Исходные данные'!$D106*(1+'Исходные данные'!$E106)*AY99","v":0},{"$f":"'Исходные данные'!$C106*'Исходные данные'!$D106*(1+'Исходные данные'!$E106)*AZ99","v":0},{"$f":"'Исходные данные'!$C106*'Исходные данные'!$D106*(1+'Исходные данные'!$E106)*BA99","v":0},{"$f":"'Исходные данные'!$C106*'Исходные данные'!$D106*(1+'Исходные данные'!$E106)*BB99","v":0},{"$f":"'Исходные данные'!$C106*'Исходные данные'!$D106*(1+'Исходные данные'!$E106)*BC99","v":0},{"$f":"'Исходные данные'!$C106*'Исходные данные'!$D106*(1+'Исходные данные'!$E106)*BD99","v":0},{"$f":"'Исходные данные'!$C106*'Исходные данные'!$D106*(1+'Исходные данные'!$E106)*BE99","v":0},{"$f":"'Исходные данные'!$C106*'Исходные данные'!$D106*(1+'Исходные данные'!$E106)*BF99","v":0},{"$f":"'Исходные данные'!$C106*'Исходные данные'!$D106*(1+'Исходные данные'!$E106)*BG99","v":0},{"$f":"'Исходные данные'!$C106*'Исходные данные'!$D106*(1+'Исходные данные'!$E106)*BH99","v":0},{"$f":"'Исходные данные'!$C106*'Исходные данные'!$D106*(1+'Исходные данные'!$E106)*BI99","v":0},{"$f":"'Исходные данные'!$C106*'Исходные данные'!$D106*(1+'Исходные данные'!$E106)*BJ99","v":0},{"$f":"'Исходные данные'!$C106*'Исходные данные'!$D106*(1+'Исходные данные'!$E106)*BK99","v":0},{"$f":"'Исходные данные'!$C106*'Исходные данные'!$D106*(1+'Исходные данные'!$E106)*BL99","v":0}]
["Страховые взносы в ПФР (сделка)",null,null,null,{"$f":"SUM(E117:E131)","v":5567.32},{"$f":"SUM(F117:F131)","v":6520.36},{"$f":"SUM(G117:G131)","v":7336.78},{"$f":"SUM(H117:H131)","v":7336.78},{"$f":"SUM(I117:I131)","v":7953.22},{"$f":"SUM(J117:J131)","v":8250.2199999999993},{"$f":"SUM(K117:K131)","v":12255.54},{"$f":"SUM(L117:L131)","v":22156.86},{"$f":"SUM(M117:M131)","v":10771.64},{"$f":"SUM(N117:N131)","v":8626.42},{"$f":"SUM(O117:O131)","v":8131.42},{"$f":"SUM(P117:P131)","v":8250.2199999999993},{"$f":"SUM(Q117:Q131)","v":7953.22},{"$f":"SUM(R117:R131)","v":8151.22},{"$f":"SUM(S117:S131)","v":8151.22},{"$f":"SUM(T117:T131)","v":8151.22},{"$f":"SUM(U117:U131)","v":7953.22},{"$f":"SUM(V117:V131)","v":8250.2199999999993},{"$f":"SUM(W117:W131)","v":12255.54},{"$f":"SUM(X117:X131)","v":22156.86},{"$f":"SUM(Y117:Y131)","v":10771.64},{"$f":"SUM(Z117:Z131)","v":8626.42},{"$f":"SUM(AA117:AA131)","v":8131.42},{"$f":"SUM(AB117:AB131)","v":8250.2199999999993},{"$f":"SUM(AC117:AC131)","v":7953.22},{"$f":"SUM(AD117:AD131)","v":8151.22},{"$f":"SUM(AE117:AE131)","v":8151.22},{"$f":"SUM(AF117:AF131)","v":8151.22},{"$f":"SUM(AG117:AG131)","v":7953.22},{"$f":"SUM(AH117:AH131)","v":8250.2199999999993},{"$f":"SUM(AI117:AI131)","v":12255.54},{"$f":"SUM(AJ117:AJ131)","v":22156.86},{"$f":"SUM(AK117:AK131)","v":10771.64},{"$f":"SUM(AL117:AL131)","v":8626.42},{"$f":"SUM(AM117:AM131)","v":8131.42},{"$f":"SUM(AN117:AN131)","v":8250.2199999999993},{"$f":"SUM(AO117:AO131)","v":7953.22},{"$f":"SUM(AP117:AP131)","v":8151.22},{"$f":"SUM(AQ117:AQ131)","v":8151.22},{"$f":"SUM(AR117:AR131)","v":8151.22},{"$f":"SUM(AS117:AS131)","v":7953.22},{"$f":"SUM(AT117:AT131)","v":8250.2199999999993},{"$f":"SUM(AU117:AU131)","v":12255.54},{"$f":"SUM(AV117:AV131)","v":22156.86},{"$f":"SUM(AW117:AW131)","v":10771.64},{"$f":"SUM(AX117:AX131)","v":8626.42},{"$f":"SUM(AY117:AY131)","v":8131.42},{"$f":"SUM(AZ117:AZ131)","v":8250.2199999999993},{"$f":"SUM(BA117:BA131)","v":7953.22},{"$f":"SUM(BB117:BB131)","v":8151.22},{"$f":"SUM(BC117:BC131)","v":8151.22},{"$f":"SUM(BD117:BD131)","v":8151.22},{"$f":"SUM(BE117:BE131)","v":7953.22},{"$f":"SUM(BF117:BF131)","v":8250.2199999999993},{"$f":"SUM(BG117:BG131)","v":12255.54},{"$f":"SUM(BH117:BH131)","v":22156.86},{"$f":"SUM(BI117:BI131)","v":10771.64},{"$f":"SUM(BJ117:BJ131)","v":8626.42},{"$f":"SUM(BK117:BK131)","v":8131.42},{"$f":"SUM(BL117:BL131)","v":8250.2199999999993}]
[{"$f":"A101","v":"Продавей"},null,null,null,{"$f":"IF('Исходные данные'!$H92=0,0,'Исходные данные'!$F92*'План продаж'!D$32*E85)","v":5567.32},{"$f":"IF('Исходные данные'!$H92=0,0,'Исходные данные'!$F92*'План продаж'!E$32*F85)","v":6520.36},{"$f":"IF('Исходные данные'!$H92=0,0,'Исходные данные'!$F92*'План продаж'!F$32*G85)","v":7336.78},{"$f":"IF('Исходные данные'!$H92=0,0,'Исходные данные'!$F92*'План продаж'!G$32*H85)","v":7336.78},{"$f":"IF('Исходные данные'!$H92=0,0,'Исходные данные'!$F92*'План продаж'!H$32*I85)","v":7953.22},{"$f":"IF('Исходные данные'!$H92=0,0,'Исходные данные'!$F92*'План продаж'!I$32*J85)","v":8250.2199999999993},{"$f":"IF('Исходные данные'!$H92=0,0,'Исходные данные'!$F92*'План продаж'!J$32*K85)","v":12255.54},{"$f":"IF('Исходные данные'!$H92=0,0,'Исходные данные'!$F92*'План продаж'!K$32*L85)","v":22156.86},{"$f":"IF('Исходные данные'!$H92=0,0,'Исходные данные'!$F92*'План продаж'!L$32*M85)","v":10771.64},{"$f":"IF('Исходные данные'!$H92=0,0,'Исходные данные'!$F92*'План продаж'!M$32*N85)","v":8626.42},{"$f":"IF('Исходные данные'!$H92=0,0,'Исходные данные'!$F92*'План продаж'!N$32*O85)","v":8131.42},{"$f":"IF('Исходные данные'!$H92=0,0,'Исходные данные'!$F92*'План продаж'!O$32*P85)","v":8250.2199999999993},{"$f":"IF('Исходные данные'!$H92=0,0,'Исходные данные'!$F92*'План продаж'!P$32*Q85)","v":7953.22},{"$f":"IF('Исходные данные'!$H92=0,0,'Исходные данные'!$F92*'План продаж'!Q$32*R85)","v":8151.22},{"$f":"IF('Исходные данные'!$H92=0,0,'Исходные данные'!$F92*'План продаж'!R$32*S85)","v":8151.22},{"$f":"IF('Исходные данные'!$H92=0,0,'Исходные данные'!$F92*'План продаж'!S$32*T85)","v":8151.22},{"$f":"IF('Исходные данные'!$H92=0,0,'Исходные данные'!$F92*'План продаж'!T$32*U85)","v":7953.22},{"$f":"IF('Исходные данные'!$H92=0,0,'Исходные данные'!$F92*'План продаж'!U$32*V85)","v":8250.2199999999993},{"$f":"IF('Исходные данные'!$H92=0,0,'Исходные данные'!$F92*'План продаж'!V$32*W85)","v":12255.54},{"$f":"IF('Исходные данные'!$H92=0,0,'Исходные данные'!$F92*'План продаж'!W$32*X85)","v":22156.86},{"$f":"IF('Исходные данные'!$H92=0,0,'Исходные данные'!$F92*'План продаж'!X$32*Y85)","v":10771.64},{"$f":"IF('Исходные данные'!$H92=0,0,'Исходные данные'!$F92*'План продаж'!Y$32*Z85)","v":8626.42},{"$f":"IF('Исходные данные'!$H92=0,0,'Исходные данные'!$F92*'План продаж'!Z$32*AA85)","v":8131.42},{"$f":"IF('Исходные данные'!$H92=0,0,'Исходные данные'!$F92*'План продаж'!AA$32*AB85)","v":8250.2199999999993},{"$f":"IF('Исходные данные'!$H92=0,0,'Исходные данные'!$F92*'План продаж'!AB$32*AC85)","v":7953.22},{"$f":"IF('Исходные данные'!$H92=0,0,'Исходные данные'!$F92*'План продаж'!AC$32*AD85)","v":8151.22},{"$f":"IF('Исходные данные'!$H92=0,0,'Исходные данные'!$F92*'План продаж'!AD$32*AE85)","v":8151.22},{"$f":"IF('Исходные данные'!$H92=0,0,'Исходные данные'!$F92*'План продаж'!AE$32*AF85)","v":8151.22},{"$f":"IF('Исходные данные'!$H92=0,0,'Исходные данные'!$F92*'План продаж'!AF$32*AG85)","v":7953.22},{"$f":"IF('Исходные данные'!$H92=0,0,'Исходные данные'!$F92*'План продаж'!AG$32*AH85)","v":8250.2199999999993},{"$f":"IF('Исходные данные'!$H92=0,0,'Исходные данные'!$F92*'План продаж'!AH$32*AI85)","v":12255.54},{"$f":"IF('Исходные данные'!$H92=0,0,'Исходные данные'!$F92*'План продаж'!AI$32*AJ85)","v":22156.86},{"$f":"IF('Исходные данные'!$H92=0,0,'Исходные данные'!$F92*'План продаж'!AJ$32*AK85)","v":10771.64},{"$f":"IF('Исходные данные'!$H92=0,0,'Исходные данные'!$F92*'План продаж'!AK$32*AL85)","v":8626.42},{"$f":"IF('Исходные данные'!$H92=0,0,'Исходные данные'!$F92*'План продаж'!AL$32*AM85)","v":8131.42},{"$f":"IF('Исходные данные'!$H92=0,0,'Исходные данные'!$F92*'План продаж'!AM$32*AN85)","v":8250.2199999999993},{"$f":"IF('Исходные данные'!$H92=0,0,'Исходные данные'!$F92*'План продаж'!AN$32*AO85)","v":7953.22},{"$f":"IF('Исходные данные'!$H92=0,0,'Исходные данные'!$F92*'План продаж'!AO$32*AP85)","v":8151.22},{"$f":"IF('Исходные данные'!$H92=0,0,'Исходные данные'!$F92*'План продаж'!AP$32*AQ85)","v":8151.22},{"$f":"IF('Исходные данные'!$H92=0,0,'Исходные данные'!$F92*'План продаж'!AQ$32*AR85)","v":8151.22},{"$f":"IF('Исходные данные'!$H92=0,0,'Исходные данные'!$F92*'План продаж'!AR$32*AS85)","v":7953.22},{"$f":"IF('Исходные данные'!$H92=0,0,'Исходные данные'!$F92*'План продаж'!AS$32*AT85)","v":8250.2199999999993},{"$f":"IF('Исходные данные'!$H92=0,0,'Исходные данные'!$F92*'План продаж'!AT$32*AU85)","v":12255.54},{"$f":"IF('Исходные данные'!$H92=0,0,'Исходные данные'!$F92*'План продаж'!AU$32*AV85)","v":22156.86},{"$f":"IF('Исходные данные'!$H92=0,0,'Исходные данные'!$F92*'План продаж'!AV$32*AW85)","v":10771.64},{"$f":"IF('Исходные данные'!$H92=0,0,'Исходные данные'!$F92*'План продаж'!AW$32*AX85)","v":8626.42},{"$f":"IF('Исходные данные'!$H92=0,0,'Исходные данные'!$F92*'План продаж'!AX$32*AY85)","v":8131.42},{"$f":"IF('Исходные данные'!$H92=0,0,'Исходные данные'!$F92*'План продаж'!AY$32*AZ85)","v":8250.2199999999993},{"$f":"IF('Исходные данные'!$H92=0,0,'Исходные данные'!$F92*'План продаж'!AZ$32*BA85)","v":7953.22},{"$f":"IF('Исходные данные'!$H92=0,0,'Исходные данные'!$F92*'План продаж'!BA$32*BB85)","v":8151.22},{"$f":"IF('Исходные данные'!$H92=0,0,'Исходные данные'!$F92*'План продаж'!BB$32*BC85)","v":8151.22},{"$f":"IF('Исходные данные'!$H92=0,0,'Исходные данные'!$F92*'План продаж'!BC$32*BD85)","v":8151.22},{"$f":"IF('Исходные данные'!$H92=0,0,'Исходные данные'!$F92*'План продаж'!BD$32*BE85)","v":7953.22},{"$f":"IF('Исходные данные'!$H92=0,0,'Исходные данные'!$F92*'План продаж'!BE$32*BF85)","v":8250.2199999999993},{"$f":"IF('Исходные данные'!$H92=0,0,'Исходные данные'!$F92*'План продаж'!BF$32*BG85)","v":12255.54},{"$f":"IF('Исходные данные'!$H92=0,0,'Исходные данные'!$F92*'План продаж'!BG$32*BH85)","v":22156.86},{"$f":"IF('Исходные данные'!$H92=0,0,'Исходные данные'!$F92*'План продаж'!BH$32*BI85)","v":10771.64},{"$f":"IF('Исходные данные'!$H92=0,0,'Исходные данные'!$F92*'План продаж'!BI$32*BJ85)","v":8626.42},{"$f":"IF('Исходные данные'!$H92=0,0,'Исходные данные'!$F92*'План продаж'!BJ$32*BK85)","v":8131.42},{"$f":"IF('Исходные данные'!$H92=0,0,'Исходные данные'!$F92*'План продаж'!BK$32*BL85)","v":8250.2199999999993}]
[{"$f":"A102","v":0},null,null,null,{"$f":"IF('Исходные данные'!$H93=0,0,'Исходные данные'!$F93*'План продаж'!D$32*E86)","v":0},{"$f":"IF('Исходные данные'!$H93=0,0,'Исходные данные'!$F93*'План продаж'!E$32*F86)","v":0},{"$f":"IF('Исходные данные'!$H93=0,0,'Исходные данные'!$F93*'План продаж'!F$32*G86)","v":0},{"$f":"IF('Исходные данные'!$H93=0,0,'Исходные данные'!$F93*'План продаж'!G$32*H86)","v":0},{"$f":"IF('Исходные данные'!$H93=0,0,'Исходные данные'!$F93*'План продаж'!H$32*I86)","v":0},{"$f":"IF('Исходные данные'!$H93=0,0,'Исходные данные'!$F93*'План продаж'!I$32*J86)","v":0},{"$f":"IF('Исходные данные'!$H93=0,0,'Исходные данные'!$F93*'План продаж'!J$32*K86)","v":0},{"$f":"IF('Исходные данные'!$H93=0,0,'Исходные данные'!$F93*'План продаж'!K$32*L86)","v":0},{"$f":"IF('Исходные данные'!$H93=0,0,'Исходные данные'!$F93*'План продаж'!L$32*M86)","v":0},{"$f":"IF('Исходные данные'!$H93=0,0,'Исходные данные'!$F93*'План продаж'!M$32*N86)","v":0},{"$f":"IF('Исходные данные'!$H93=0,0,'Исходные данные'!$F93*'План продаж'!N$32*O86)","v":0},{"$f":"IF('Исходные данные'!$H93=0,0,'Исходные данные'!$F93*'План продаж'!O$32*P86)","v":0},{"$f":"IF('Исходные данные'!$H93=0,0,'Исходные данные'!$F93*'План продаж'!P$32*Q86)","v":0},{"$f":"IF('Исходные данные'!$H93=0,0,'Исходные данные'!$F93*'План продаж'!Q$32*R86)","v":0},{"$f":"IF('Исходные данные'!$H93=0,0,'Исходные данные'!$F93*'План продаж'!R$32*S86)","v":0},{"$f":"IF('Исходные данные'!$H93=0,0,'Исходные данные'!$F93*'План продаж'!S$32*T86)","v":0},{"$f":"IF('Исходные данные'!$H93=0,0,'Исходные данные'!$F93*'План продаж'!T$32*U86)","v":0},{"$f":"IF('Исходные данные'!$H93=0,0,'Исходные данные'!$F93*'План продаж'!U$32*V86)","v":0},{"$f":"IF('Исходные данные'!$H93=0,0,'Исходные данные'!$F93*'План продаж'!V$32*W86)","v":0},{"$f":"IF('Исходные данные'!$H93=0,0,'Исходные данные'!$F93*'План продаж'!W$32*X86)","v":0},{"$f":"IF('Исходные данные'!$H93=0,0,'Исходные данные'!$F93*'План продаж'!X$32*Y86)","v":0},{"$f":"IF('Исходные данные'!$H93=0,0,'Исходные данные'!$F93*'План продаж'!Y$32*Z86)","v":0},{"$f":"IF('Исходные данные'!$H93=0,0,'Исходные данные'!$F93*'План продаж'!Z$32*AA86)","v":0},{"$f":"IF('Исходные данные'!$H93=0,0,'Исходные данные'!$F93*'План продаж'!AA$32*AB86)","v":0},{"$f":"IF('Исходные данные'!$H93=0,0,'Исходные данные'!$F93*'План продаж'!AB$32*AC86)","v":0},{"$f":"IF('Исходные данные'!$H93=0,0,'Исходные данные'!$F93*'План продаж'!AC$32*AD86)","v":0},{"$f":"IF('Исходные данные'!$H93=0,0,'Исходные данные'!$F93*'План продаж'!AD$32*AE86)","v":0},{"$f":"IF('Исходные данные'!$H93=0,0,'Исходные данные'!$F93*'План продаж'!AE$32*AF86)","v":0},{"$f":"IF('Исходные данные'!$H93=0,0,'Исходные данные'!$F93*'План продаж'!AF$32*AG86)","v":0},{"$f":"IF('Исходные данные'!$H93=0,0,'Исходные данные'!$F93*'План продаж'!AG$32*AH86)","v":0},{"$f":"IF('Исходные данные'!$H93=0,0,'Исходные данные'!$F93*'План продаж'!AH$32*AI86)","v":0},{"$f":"IF('Исходные данные'!$H93=0,0,'Исходные данные'!$F93*'План продаж'!AI$32*AJ86)","v":0},{"$f":"IF('Исходные данные'!$H93=0,0,'Исходные данные'!$F93*'План продаж'!AJ$32*AK86)","v":0},{"$f":"IF('Исходные данные'!$H93=0,0,'Исходные данные'!$F93*'План продаж'!AK$32*AL86)","v":0},{"$f":"IF('Исходные данные'!$H93=0,0,'Исходные данные'!$F93*'План продаж'!AL$32*AM86)","v":0},{"$f":"IF('Исходные данные'!$H93=0,0,'Исходные данные'!$F93*'План продаж'!AM$32*AN86)","v":0},{"$f":"IF('Исходные данные'!$H93=0,0,'Исходные данные'!$F93*'План продаж'!AN$32*AO86)","v":0},{"$f":"IF('Исходные данные'!$H93=0,0,'Исходные данные'!$F93*'План продаж'!AO$32*AP86)","v":0},{"$f":"IF('Исходные данные'!$H93=0,0,'Исходные данные'!$F93*'План продаж'!AP$32*AQ86)","v":0},{"$f":"IF('Исходные данные'!$H93=0,0,'Исходные данные'!$F93*'План продаж'!AQ$32*AR86)","v":0},{"$f":"IF('Исходные данные'!$H93=0,0,'Исходные данные'!$F93*'План продаж'!AR$32*AS86)","v":0},{"$f":"IF('Исходные данные'!$H93=0,0,'Исходные данные'!$F93*'План продаж'!AS$32*AT86)","v":0},{"$f":"IF('Исходные данные'!$H93=0,0,'Исходные данные'!$F93*'План продаж'!AT$32*AU86)","v":0},{"$f":"IF('Исходные данные'!$H93=0,0,'Исходные данные'!$F93*'План продаж'!AU$32*AV86)","v":0},{"$f":"IF('Исходные данные'!$H93=0,0,'Исходные данные'!$F93*'План продаж'!AV$32*AW86)","v":0},{"$f":"IF('Исходные данные'!$H93=0,0,'Исходные данные'!$F93*'План продаж'!AW$32*AX86)","v":0},{"$f":"IF('Исходные данные'!$H93=0,0,'Исходные данные'!$F93*'План продаж'!AX$32*AY86)","v":0},{"$f":"IF('Исходные данные'!$H93=0,0,'Исходные данные'!$F93*'План продаж'!AY$32*AZ86)","v":0},{"$f":"IF('Исходные данные'!$H93=0,0,'Исходные данные'!$F93*'План продаж'!AZ$32*BA86)","v":0},{"$f":"IF('Исходные данные'!$H93=0,0,'Исходные данные'!$F93*'План продаж'!BA$32*BB86)","v":0},{"$f":"IF('Исходные данные'!$H93=0,0,'Исходные данные'!$F93*'План продаж'!BB$32*BC86)","v":0},{"$f":"IF('Исходные данные'!$H93=0,0,'Исходные данные'!$F93*'План продаж'!BC$32*BD86)","v":0},{"$f":"IF('Исходные данные'!$H93=0,0,'Исходные данные'!$F93*'План продаж'!BD$32*BE86)","v":0},{"$f":"IF('Исходные данные'!$H93=0,0,'Исходные данные'!$F93*'План продаж'!BE$32*BF86)","v":0},{"$f":"IF('Исходные данные'!$H93=0,0,'Исходные данные'!$F93*'План продаж'!BF$32*BG86)","v":0},{"$f":"IF('Исходные данные'!$H93=0,0,'Исходные данные'!$F93*'План продаж'!BG$32*BH86)","v":0},{"$f":"IF('Исходные данные'!$H93=0,0,'Исходные данные'!$F93*'План продаж'!BH$32*BI86)","v":0},{"$f":"IF('Исходные данные'!$H93=0,0,'Исходные данные'!$F93*'План продаж'!BI$32*BJ86)","v":0},{"$f":"IF('Исходные данные'!$H93=0,0,'Исходные данные'!$F93*'План продаж'!BJ$32*BK86)","v":0},{"$f":"IF('Исходные данные'!$H93=0,0,'Исходные данные'!$F93*'План продаж'!BK$32*BL86)","v":0}]
[0,null,null,null,{"$f":"IF('Исходные данные'!$H94=0,0,'Исходные данные'!$F94*'План продаж'!D$32*E87)","v":0},{"$f":"IF('Исходные данные'!$H94=0,0,'Исходные данные'!$F94*'План продаж'!E$32*F87)","v":0},{"$f":"IF('Исходные данные'!$H94=0,0,'Исходные данные'!$F94*'План продаж'!F$32*G87)","v":0},{"$f":"IF('Исходные данные'!$H94=0,0,'Исходные данные'!$F94*'План продаж'!G$32*H87)","v":0},{"$f":"IF('Исходные данные'!$H94=0,0,'Исходные данные'!$F94*'План продаж'!H$32*I87)","v":0},{"$f":"IF('Исходные данные'!$H94=0,0,'Исходные данные'!$F94*'План продаж'!I$32*J87)","v":0},{"$f":"IF('Исходные данные'!$H94=0,0,'Исходные данные'!$F94*'План продаж'!J$32*K87)","v":0},{"$f":"IF('Исходные данные'!$H94=0,0,'Исходные данные'!$F94*'План продаж'!K$32*L87)","v":0},{"$f":"IF('Исходные данные'!$H94=0,0,'Исходные данные'!$F94*'План продаж'!L$32*M87)","v":0},{"$f":"IF('Исходные данные'!$H94=0,0,'Исходные данные'!$F94*'План продаж'!M$32*N87)","v":0},{"$f":"IF('Исходные данные'!$H94=0,0,'Исходные данные'!$F94*'План продаж'!N$32*O87)","v":0},{"$f":"IF('Исходные данные'!$H94=0,0,'Исходные данные'!$F94*'План продаж'!O$32*P87)","v":0},{"$f":"IF('Исходные данные'!$H94=0,0,'Исходные данные'!$F94*'План продаж'!P$32*Q87)","v":0},{"$f":"IF('Исходные данные'!$H94=0,0,'Исходные данные'!$F94*'План продаж'!Q$32*R87)","v":0},{"$f":"IF('Исходные данные'!$H94=0,0,'Исходные данные'!$F94*'План продаж'!R$32*S87)","v":0},{"$f":"IF('Исходные данные'!$H94=0,0,'Исходные данные'!$F94*'План продаж'!S$32*T87)","v":0},{"$f":"IF('Исходные данные'!$H94=0,0,'Исходные данные'!$F94*'План продаж'!T$32*U87)","v":0},{"$f":"IF('Исходные данные'!$H94=0,0,'Исходные данные'!$F94*'План продаж'!U$32*V87)","v":0},{"$f":"IF('Исходные данные'!$H94=0,0,'Исходные данные'!$F94*'План продаж'!V$32*W87)","v":0},{"$f":"IF('Исходные данные'!$H94=0,0,'Исходные данные'!$F94*'План продаж'!W$32*X87)","v":0},{"$f":"IF('Исходные данные'!$H94=0,0,'Исходные данные'!$F94*'План продаж'!X$32*Y87)","v":0},{"$f":"IF('Исходные данные'!$H94=0,0,'Исходные данные'!$F94*'План продаж'!Y$32*Z87)","v":0},{"$f":"IF('Исходные данные'!$H94=0,0,'Исходные данные'!$F94*'План продаж'!Z$32*AA87)","v":0},{"$f":"IF('Исходные данные'!$H94=0,0,'Исходные данные'!$F94*'План продаж'!AA$32*AB87)","v":0},{"$f":"IF('Исходные данные'!$H94=0,0,'Исходные данные'!$F94*'План продаж'!AB$32*AC87)","v":0},{"$f":"IF('Исходные данные'!$H94=0,0,'Исходные данные'!$F94*'План продаж'!AC$32*AD87)","v":0},{"$f":"IF('Исходные данные'!$H94=0,0,'Исходные данные'!$F94*'План продаж'!AD$32*AE87)","v":0},{"$f":"IF('Исходные данные'!$H94=0,0,'Исходные данные'!$F94*'План продаж'!AE$32*AF87)","v":0},{"$f":"IF('Исходные данные'!$H94=0,0,'Исходные данные'!$F94*'План продаж'!AF$32*AG87)","v":0},{"$f":"IF('Исходные данные'!$H94=0,0,'Исходные данные'!$F94*'План продаж'!AG$32*AH87)","v":0},{"$f":"IF('Исходные данные'!$H94=0,0,'Исходные данные'!$F94*'План продаж'!AH$32*AI87)","v":0},{"$f":"IF('Исходные данные'!$H94=0,0,'Исходные данные'!$F94*'План продаж'!AI$32*AJ87)","v":0},{"$f":"IF('Исходные данные'!$H94=0,0,'Исходные данные'!$F94*'План продаж'!AJ$32*AK87)","v":0},{"$f":"IF('Исходные данные'!$H94=0,0,'Исходные данные'!$F94*'План продаж'!AK$32*AL87)","v":0},{"$f":"IF('Исходные данные'!$H94=0,0,'Исходные данные'!$F94*'План продаж'!AL$32*AM87)","v":0},{"$f":"IF('Исходные данные'!$H94=0,0,'Исходные данные'!$F94*'План продаж'!AM$32*AN87)","v":0},{"$f":"IF('Исходные данные'!$H94=0,0,'Исходные данные'!$F94*'План продаж'!AN$32*AO87)","v":0},{"$f":"IF('Исходные данные'!$H94=0,0,'Исходные данные'!$F94*'План продаж'!AO$32*AP87)","v":0},{"$f":"IF('Исходные данные'!$H94=0,0,'Исходные данные'!$F94*'План продаж'!AP$32*AQ87)","v":0},{"$f":"IF('Исходные данные'!$H94=0,0,'Исходные данные'!$F94*'План продаж'!AQ$32*AR87)","v":0},{"$f":"IF('Исходные данные'!$H94=0,0,'Исходные данные'!$F94*'План продаж'!AR$32*AS87)","v":0},{"$f":"IF('Исходные данные'!$H94=0,0,'Исходные данные'!$F94*'План продаж'!AS$32*AT87)","v":0},{"$f":"IF('Исходные данные'!$H94=0,0,'Исходные данные'!$F94*'План продаж'!AT$32*AU87)","v":0},{"$f":"IF('Исходные данные'!$H94=0,0,'Исходные данные'!$F94*'План продаж'!AU$32*AV87)","v":0},{"$f":"IF('Исходные данные'!$H94=0,0,'Исходные данные'!$F94*'План продаж'!AV$32*AW87)","v":0},{"$f":"IF('Исходные данные'!$H94=0,0,'Исходные данные'!$F94*'План продаж'!AW$32*AX87)","v":0},{"$f":"IF('Исходные данные'!$H94=0,0,'Исходные данные'!$F94*'План продаж'!AX$32*AY87)","v":0},{"$f":"IF('Исходные данные'!$H94=0,0,'Исходные данные'!$F94*'План продаж'!AY$32*AZ87)","v":0},{"$f":"IF('Исходные данные'!$H94=0,0,'Исходные данные'!$F94*'План продаж'!AZ$32*BA87)","v":0},{"$f":"IF('Исходные данные'!$H94=0,0,'Исходные данные'!$F94*'План продаж'!BA$32*BB87)","v":0},{"$f":"IF('Исходные данные'!$H94=0,0,'Исходные данные'!$F94*'План продаж'!BB$32*BC87)","v":0},{"$f":"IF('Исходные данные'!$H94=0,0,'Исходные данные'!$F94*'План продаж'!BC$32*BD87)","v":0},{"$f":"IF('Исходные данные'!$H94=0,0,'Исходные данные'!$F94*'План продаж'!BD$32*BE87)","v":0},{"$f":"IF('Исходные данные'!$H94=0,0,'Исходные данные'!$F94*'План продаж'!BE$32*BF87)","v":0},{"$f":"IF('Исходные данные'!$H94=0,0,'Исходные данные'!$F94*'План продаж'!BF$32*BG87)","v":0},{"$f":"IF('Исходные данные'!$H94=0,0,'Исходные данные'!$F94*'План продаж'!BG$32*BH87)","v":0},{"$f":"IF('Исходные данные'!$H94=0,0,'Исходные данные'!$F94*'План продаж'!BH$32*BI87)","v":0},{"$f":"IF('Исходные данные'!$H94=0,0,'Исходные данные'!$F94*'План продаж'!BI$32*BJ87)","v":0},{"$f":"IF('Исходные данные'!$H94=0,0,'Исходные данные'!$F94*'План продаж'!BJ$32*BK87)","v":0},{"$f":"IF('Исходные данные'!$H94=0,0,'Исходные данные'!$F94*'План продаж'!BK$32*BL87)","v":0}]
[0,null,null,null,{"$f":"IF('Исходные данные'!$H95=0,0,'Исходные данные'!$F95*'План продаж'!D$32*E88)","v":0},{"$f":"IF('Исходные данные'!$H95=0,0,'Исходные данные'!$F95*'План продаж'!E$32*F88)","v":0},{"$f":"IF('Исходные данные'!$H95=0,0,'Исходные данные'!$F95*'План продаж'!F$32*G88)","v":0},{"$f":"IF('Исходные данные'!$H95=0,0,'Исходные данные'!$F95*'План продаж'!G$32*H88)","v":0},{"$f":"IF('Исходные данные'!$H95=0,0,'Исходные данные'!$F95*'План продаж'!H$32*I88)","v":0},{"$f":"IF('Исходные данные'!$H95=0,0,'Исходные данные'!$F95*'План продаж'!I$32*J88)","v":0},{"$f":"IF('Исходные данные'!$H95=0,0,'Исходные данные'!$F95*'План продаж'!J$32*K88)","v":0},{"$f":"IF('Исходные данные'!$H95=0,0,'Исходные данные'!$F95*'План продаж'!K$32*L88)","v":0},{"$f":"IF('Исходные данные'!$H95=0,0,'Исходные данные'!$F95*'План продаж'!L$32*M88)","v":0},{"$f":"IF('Исходные данные'!$H95=0,0,'Исходные данные'!$F95*'План продаж'!M$32*N88)","v":0},{"$f":"IF('Исходные данные'!$H95=0,0,'Исходные данные'!$F95*'План продаж'!N$32*O88)","v":0},{"$f":"IF('Исходные данные'!$H95=0,0,'Исходные данные'!$F95*'План продаж'!O$32*P88)","v":0},{"$f":"IF('Исходные данные'!$H95=0,0,'Исходные данные'!$F95*'План продаж'!P$32*Q88)","v":0},{"$f":"IF('Исходные данные'!$H95=0,0,'Исходные данные'!$F95*'План продаж'!Q$32*R88)","v":0},{"$f":"IF('Исходные данные'!$H95=0,0,'Исходные данные'!$F95*'План продаж'!R$32*S88)","v":0},{"$f":"IF('Исходные данные'!$H95=0,0,'Исходные данные'!$F95*'План продаж'!S$32*T88)","v":0},{"$f":"IF('Исходные данные'!$H95=0,0,'Исходные данные'!$F95*'План продаж'!T$32*U88)","v":0},{"$f":"IF('Исходные данные'!$H95=0,0,'Исходные данные'!$F95*'План продаж'!U$32*V88)","v":0},{"$f":"IF('Исходные данные'!$H95=0,0,'Исходные данные'!$F95*'План продаж'!V$32*W88)","v":0},{"$f":"IF('Исходные данные'!$H95=0,0,'Исходные данные'!$F95*'План продаж'!W$32*X88)","v":0},{"$f":"IF('Исходные данные'!$H95=0,0,'Исходные данные'!$F95*'План продаж'!X$32*Y88)","v":0},{"$f":"IF('Исходные данные'!$H95=0,0,'Исходные данные'!$F95*'План продаж'!Y$32*Z88)","v":0},{"$f":"IF('Исходные данные'!$H95=0,0,'Исходные данные'!$F95*'План продаж'!Z$32*AA88)","v":0},{"$f":"IF('Исходные данные'!$H95=0,0,'Исходные данные'!$F95*'План продаж'!AA$32*AB88)","v":0},{"$f":"IF('Исходные данные'!$H95=0,0,'Исходные данные'!$F95*'План продаж'!AB$32*AC88)","v":0},{"$f":"IF('Исходные данные'!$H95=0,0,'Исходные данные'!$F95*'План продаж'!AC$32*AD88)","v":0},{"$f":"IF('Исходные данные'!$H95=0,0,'Исходные данные'!$F95*'План продаж'!AD$32*AE88)","v":0},{"$f":"IF('Исходные данные'!$H95=0,0,'Исходные данные'!$F95*'План продаж'!AE$32*AF88)","v":0},{"$f":"IF('Исходные данные'!$H95=0,0,'Исходные данные'!$F95*'План продаж'!AF$32*AG88)","v":0},{"$f":"IF('Исходные данные'!$H95=0,0,'Исходные данные'!$F95*'План продаж'!AG$32*AH88)","v":0},{"$f":"IF('Исходные данные'!$H95=0,0,'Исходные данные'!$F95*'План продаж'!AH$32*AI88)","v":0},{"$f":"IF('Исходные данные'!$H95=0,0,'Исходные данные'!$F95*'План продаж'!AI$32*AJ88)","v":0},{"$f":"IF('Исходные данные'!$H95=0,0,'Исходные данные'!$F95*'План продаж'!AJ$32*AK88)","v":0},{"$f":"IF('Исходные данные'!$H95=0,0,'Исходные данные'!$F95*'План продаж'!AK$32*AL88)","v":0},{"$f":"IF('Исходные данные'!$H95=0,0,'Исходные данные'!$F95*'План продаж'!AL$32*AM88)","v":0},{"$f":"IF('Исходные данные'!$H95=0,0,'Исходные данные'!$F95*'План продаж'!AM$32*AN88)","v":0},{"$f":"IF('Исходные данные'!$H95=0,0,'Исходные данные'!$F95*'План продаж'!AN$32*AO88)","v":0},{"$f":"IF('Исходные данные'!$H95=0,0,'Исходные данные'!$F95*'План продаж'!AO$32*AP88)","v":0},{"$f":"IF('Исходные данные'!$H95=0,0,'Исходные данные'!$F95*'План продаж'!AP$32*AQ88)","v":0},{"$f":"IF('Исходные данные'!$H95=0,0,'Исходные данные'!$F95*'План продаж'!AQ$32*AR88)","v":0},{"$f":"IF('Исходные данные'!$H95=0,0,'Исходные данные'!$F95*'План продаж'!AR$32*AS88)","v":0},{"$f":"IF('Исходные данные'!$H95=0,0,'Исходные данные'!$F95*'План продаж'!AS$32*AT88)","v":0},{"$f":"IF('Исходные данные'!$H95=0,0,'Исходные данные'!$F95*'План продаж'!AT$32*AU88)","v":0},{"$f":"IF('Исходные данные'!$H95=0,0,'Исходные данные'!$F95*'План продаж'!AU$32*AV88)","v":0},{"$f":"IF('Исходные данные'!$H95=0,0,'Исходные данные'!$F95*'План продаж'!AV$32*AW88)","v":0},{"$f":"IF('Исходные данные'!$H95=0,0,'Исходные данные'!$F95*'План продаж'!AW$32*AX88)","v":0},{"$f":"IF('Исходные данные'!$H95=0,0,'Исходные данные'!$F95*'План продаж'!AX$32*AY88)","v":0},{"$f":"IF('Исходные данные'!$H95=0,0,'Исходные данные'!$F95*'План продаж'!AY$32*AZ88)","v":0},{"$f":"IF('Исходные данные'!$H95=0,0,'Исходные данные'!$F95*'План продаж'!AZ$32*BA88)","v":0},{"$f":"IF('Исходные данные'!$H95=0,0,'Исходные данные'!$F95*'План продаж'!BA$32*BB88)","v":0},{"$f":"IF('Исходные данные'!$H95=0,0,'Исходные данные'!$F95*'План продаж'!BB$32*BC88)","v":0},{"$f":"IF('Исходные данные'!$H95=0,0,'Исходные данные'!$F95*'План продаж'!BC$32*BD88)","v":0},{"$f":"IF('Исходные данные'!$H95=0,0,'Исходные данные'!$F95*'План продаж'!BD$32*BE88)","v":0},{"$f":"IF('Исходные данные'!$H95=0,0,'Исходные данные'!$F95*'План продаж'!BE$32*BF88)","v":0},{"$f":"IF('Исходные данные'!$H95=0,0,'Исходные данные'!$F95*'План продаж'!BF$32*BG88)","v":0},{"$f":"IF('Исходные данные'!$H95=0,0,'Исходные данные'!$F95*'План продаж'!BG$32*BH88)","v":0},{"$f":"IF('Исходные данные'!$H95=0,0,'Исходные данные'!$F95*'План продаж'!BH$32*BI88)","v":0},{"$f":"IF('Исходные данные'!$H95=0,0,'Исходные данные'!$F95*'План продаж'!BI$32*BJ88)","v":0},{"$f":"IF('Исходные данные'!$H95=0,0,'Исходные данные'!$F95*'План продаж'!BJ$32*BK88)","v":0},{"$f":"IF('Исходные данные'!$H95=0,0,'Исходные данные'!$F95*'План продаж'!BK$32*BL88)","v":0}]
[0,null,null,null,{"$f":"IF('Исходные данные'!$H96=0,0,'Исходные данные'!$F96*'План продаж'!D$32*E89)","v":0},{"$f":"IF('Исходные данные'!$H96=0,0,'Исходные данные'!$F96*'План продаж'!E$32*F89)","v":0},{"$f":"IF('Исходные данные'!$H96=0,0,'Исходные данные'!$F96*'План продаж'!F$32*G89)","v":0},{"$f":"IF('Исходные данные'!$H96=0,0,'Исходные данные'!$F96*'План продаж'!G$32*H89)","v":0},{"$f":"IF('Исходные данные'!$H96=0,0,'Исходные данные'!$F96*'План продаж'!H$32*I89)","v":0},{"$f":"IF('Исходные данные'!$H96=0,0,'Исходные данные'!$F96*'План продаж'!I$32*J89)","v":0},{"$f":"IF('Исходные данные'!$H96=0,0,'Исходные данные'!$F96*'План продаж'!J$32*K89)","v":0},{"$f":"IF('Исходные данные'!$H96=0,0,'Исходные данные'!$F96*'План продаж'!K$32*L89)","v":0},{"$f":"IF('Исходные данные'!$H96=0,0,'Исходные данные'!$F96*'План продаж'!L$32*M89)","v":0},{"$f":"IF('Исходные данные'!$H96=0,0,'Исходные данные'!$F96*'План продаж'!M$32*N89)","v":0},{"$f":"IF('Исходные данные'!$H96=0,0,'Исходные данные'!$F96*'План продаж'!N$32*O89)","v":0},{"$f":"IF('Исходные данные'!$H96=0,0,'Исходные данные'!$F96*'План продаж'!O$32*P89)","v":0},{"$f":"IF('Исходные данные'!$H96=0,0,'Исходные данные'!$F96*'План продаж'!P$32*Q89)","v":0},{"$f":"IF('Исходные данные'!$H96=0,0,'Исходные данные'!$F96*'План продаж'!Q$32*R89)","v":0},{"$f":"IF('Исходные данные'!$H96=0,0,'Исходные данные'!$F96*'План продаж'!R$32*S89)","v":0},{"$f":"IF('Исходные данные'!$H96=0,0,'Исходные данные'!$F96*'План продаж'!S$32*T89)","v":0},{"$f":"IF('Исходные данные'!$H96=0,0,'Исходные данные'!$F96*'План продаж'!T$32*U89)","v":0},{"$f":"IF('Исходные данные'!$H96=0,0,'Исходные данные'!$F96*'План продаж'!U$32*V89)","v":0},{"$f":"IF('Исходные данные'!$H96=0,0,'Исходные данные'!$F96*'План продаж'!V$32*W89)","v":0},{"$f":"IF('Исходные данные'!$H96=0,0,'Исходные данные'!$F96*'План продаж'!W$32*X89)","v":0},{"$f":"IF('Исходные данные'!$H96=0,0,'Исходные данные'!$F96*'План продаж'!X$32*Y89)","v":0},{"$f":"IF('Исходные данные'!$H96=0,0,'Исходные данные'!$F96*'План продаж'!Y$32*Z89)","v":0},{"$f":"IF('Исходные данные'!$H96=0,0,'Исходные данные'!$F96*'План продаж'!Z$32*AA89)","v":0},{"$f":"IF('Исходные данные'!$H96=0,0,'Исходные данные'!$F96*'План продаж'!AA$32*AB89)","v":0},{"$f":"IF('Исходные данные'!$H96=0,0,'Исходные данные'!$F96*'План продаж'!AB$32*AC89)","v":0},{"$f":"IF('Исходные данные'!$H96=0,0,'Исходные данные'!$F96*'План продаж'!AC$32*AD89)","v":0},{"$f":"IF('Исходные данные'!$H96=0,0,'Исходные данные'!$F96*'План продаж'!AD$32*AE89)","v":0},{"$f":"IF('Исходные данные'!$H96=0,0,'Исходные данные'!$F96*'План продаж'!AE$32*AF89)","v":0},{"$f":"IF('Исходные данные'!$H96=0,0,'Исходные данные'!$F96*'План продаж'!AF$32*AG89)","v":0},{"$f":"IF('Исходные данные'!$H96=0,0,'Исходные данные'!$F96*'План продаж'!AG$32*AH89)","v":0},{"$f":"IF('Исходные данные'!$H96=0,0,'Исходные данные'!$F96*'План продаж'!AH$32*AI89)","v":0},{"$f":"IF('Исходные данные'!$H96=0,0,'Исходные данные'!$F96*'План продаж'!AI$32*AJ89)","v":0},{"$f":"IF('Исходные данные'!$H96=0,0,'Исходные данные'!$F96*'План продаж'!AJ$32*AK89)","v":0},{"$f":"IF('Исходные данные'!$H96=0,0,'Исходные данные'!$F96*'План продаж'!AK$32*AL89)","v":0},{"$f":"IF('Исходные данные'!$H96=0,0,'Исходные данные'!$F96*'План продаж'!AL$32*AM89)","v":0},{"$f":"IF('Исходные данные'!$H96=0,0,'Исходные данные'!$F96*'План продаж'!AM$32*AN89)","v":0},{"$f":"IF('Исходные данные'!$H96=0,0,'Исходные данные'!$F96*'План продаж'!AN$32*AO89)","v":0},{"$f":"IF('Исходные данные'!$H96=0,0,'Исходные данные'!$F96*'План продаж'!AO$32*AP89)","v":0},{"$f":"IF('Исходные данные'!$H96=0,0,'Исходные данные'!$F96*'План продаж'!AP$32*AQ89)","v":0},{"$f":"IF('Исходные данные'!$H96=0,0,'Исходные данные'!$F96*'План продаж'!AQ$32*AR89)","v":0},{"$f":"IF('Исходные данные'!$H96=0,0,'Исходные данные'!$F96*'План продаж'!AR$32*AS89)","v":0},{"$f":"IF('Исходные данные'!$H96=0,0,'Исходные данные'!$F96*'План продаж'!AS$32*AT89)","v":0},{"$f":"IF('Исходные данные'!$H96=0,0,'Исходные данные'!$F96*'План продаж'!AT$32*AU89)","v":0},{"$f":"IF('Исходные данные'!$H96=0,0,'Исходные данные'!$F96*'План продаж'!AU$32*AV89)","v":0},{"$f":"IF('Исходные данные'!$H96=0,0,'Исходные данные'!$F96*'План продаж'!AV$32*AW89)","v":0},{"$f":"IF('Исходные данные'!$H96=0,0,'Исходные данные'!$F96*'План продаж'!AW$32*AX89)","v":0},{"$f":"IF('Исходные данные'!$H96=0,0,'Исходные данные'!$F96*'План продаж'!AX$32*AY89)","v":0},{"$f":"IF('Исходные данные'!$H96=0,0,'Исходные данные'!$F96*'План продаж'!AY$32*AZ89)","v":0},{"$f":"IF('Исходные данные'!$H96=0,0,'Исходные данные'!$F96*'План продаж'!AZ$32*BA89)","v":0},{"$f":"IF('Исходные данные'!$H96=0,0,'Исходные данные'!$F96*'План продаж'!BA$32*BB89)","v":0},{"$f":"IF('Исходные данные'!$H96=0,0,'Исходные данные'!$F96*'План продаж'!BB$32*BC89)","v":0},{"$f":"IF('Исходные данные'!$H96=0,0,'Исходные данные'!$F96*'План продаж'!BC$32*BD89)","v":0},{"$f":"IF('Исходные данные'!$H96=0,0,'Исходные данные'!$F96*'План продаж'!BD$32*BE89)","v":0},{"$f":"IF('Исходные данные'!$H96=0,0,'Исходные данные'!$F96*'План продаж'!BE$32*BF89)","v":0},{"$f":"IF('Исходные данные'!$H96=0,0,'Исходные данные'!$F96*'План продаж'!BF$32*BG89)","v":0},{"$f":"IF('Исходные данные'!$H96=0,0,'Исходные данные'!$F96*'План продаж'!BG$32*BH89)","v":0},{"$f":"IF('Исходные данные'!$H96=0,0,'Исходные данные'!$F96*'План продаж'!BH$32*BI89)","v":0},{"$f":"IF('Исходные данные'!$H96=0,0,'Исходные данные'!$F96*'План продаж'!BI$32*BJ89)","v":0},{"$f":"IF('Исходные данные'!$H96=0,0,'Исходные данные'!$F96*'План продаж'!BJ$32*BK89)","v":0},{"$f":"IF('Исходные данные'!$H96=0,0,'Исходные данные'!$F96*'План продаж'!BK$32*BL89)","v":0}]
[0,null,null,null,{"$f":"IF('Исходные данные'!$H97=0,0,'Исходные данные'!$F97*'План продаж'!D$32*E90)","v":0},{"$f":"IF('Исходные данные'!$H97=0,0,'Исходные данные'!$F97*'План продаж'!E$32*F90)","v":0},{"$f":"IF('Исходные данные'!$H97=0,0,'Исходные данные'!$F97*'План продаж'!F$32*G90)","v":0},{"$f":"IF('Исходные данные'!$H97=0,0,'Исходные данные'!$F97*'План продаж'!G$32*H90)","v":0},{"$f":"IF('Исходные данные'!$H97=0,0,'Исходные данные'!$F97*'План продаж'!H$32*I90)","v":0},{"$f":"IF('Исходные данные'!$H97=0,0,'Исходные данные'!$F97*'План продаж'!I$32*J90)","v":0},{"$f":"IF('Исходные данные'!$H97=0,0,'Исходные данные'!$F97*'План продаж'!J$32*K90)","v":0},{"$f":"IF('Исходные данные'!$H97=0,0,'Исходные данные'!$F97*'План продаж'!K$32*L90)","v":0},{"$f":"IF('Исходные данные'!$H97=0,0,'Исходные данные'!$F97*'План продаж'!L$32*M90)","v":0},{"$f":"IF('Исходные данные'!$H97=0,0,'Исходные данные'!$F97*'План продаж'!M$32*N90)","v":0},{"$f":"IF('Исходные данные'!$H97=0,0,'Исходные данные'!$F97*'План продаж'!N$32*O90)","v":0},{"$f":"IF('Исходные данные'!$H97=0,0,'Исходные данные'!$F97*'План продаж'!O$32*P90)","v":0},{"$f":"IF('Исходные данные'!$H97=0,0,'Исходные данные'!$F97*'План продаж'!P$32*Q90)","v":0},{"$f":"IF('Исходные данные'!$H97=0,0,'Исходные данные'!$F97*'План продаж'!Q$32*R90)","v":0},{"$f":"IF('Исходные данные'!$H97=0,0,'Исходные данные'!$F97*'План продаж'!R$32*S90)","v":0},{"$f":"IF('Исходные данные'!$H97=0,0,'Исходные данные'!$F97*'План продаж'!S$32*T90)","v":0},{"$f":"IF('Исходные данные'!$H97=0,0,'Исходные данные'!$F97*'План продаж'!T$32*U90)","v":0},{"$f":"IF('Исходные данные'!$H97=0,0,'Исходные данные'!$F97*'План продаж'!U$32*V90)","v":0},{"$f":"IF('Исходные данные'!$H97=0,0,'Исходные данные'!$F97*'План продаж'!V$32*W90)","v":0},{"$f":"IF('Исходные данные'!$H97=0,0,'Исходные данные'!$F97*'План продаж'!W$32*X90)","v":0},{"$f":"IF('Исходные данные'!$H97=0,0,'Исходные данные'!$F97*'План продаж'!X$32*Y90)","v":0},{"$f":"IF('Исходные данные'!$H97=0,0,'Исходные данные'!$F97*'План продаж'!Y$32*Z90)","v":0},{"$f":"IF('Исходные данные'!$H97=0,0,'Исходные данные'!$F97*'План продаж'!Z$32*AA90)","v":0},{"$f":"IF('Исходные данные'!$H97=0,0,'Исходные данные'!$F97*'План продаж'!AA$32*AB90)","v":0},{"$f":"IF('Исходные данные'!$H97=0,0,'Исходные данные'!$F97*'План продаж'!AB$32*AC90)","v":0},{"$f":"IF('Исходные данные'!$H97=0,0,'Исходные данные'!$F97*'План продаж'!AC$32*AD90)","v":0},{"$f":"IF('Исходные данные'!$H97=0,0,'Исходные данные'!$F97*'План продаж'!AD$32*AE90)","v":0},{"$f":"IF('Исходные данные'!$H97=0,0,'Исходные данные'!$F97*'План продаж'!AE$32*AF90)","v":0},{"$f":"IF('Исходные данные'!$H97=0,0,'Исходные данные'!$F97*'План продаж'!AF$32*AG90)","v":0},{"$f":"IF('Исходные данные'!$H97=0,0,'Исходные данные'!$F97*'План продаж'!AG$32*AH90)","v":0},{"$f":"IF('Исходные данные'!$H97=0,0,'Исходные данные'!$F97*'План продаж'!AH$32*AI90)","v":0},{"$f":"IF('Исходные данные'!$H97=0,0,'Исходные данные'!$F97*'План продаж'!AI$32*AJ90)","v":0},{"$f":"IF('Исходные данные'!$H97=0,0,'Исходные данные'!$F97*'План продаж'!AJ$32*AK90)","v":0},{"$f":"IF('Исходные данные'!$H97=0,0,'Исходные данные'!$F97*'План продаж'!AK$32*AL90)","v":0},{"$f":"IF('Исходные данные'!$H97=0,0,'Исходные данные'!$F97*'План продаж'!AL$32*AM90)","v":0},{"$f":"IF('Исходные данные'!$H97=0,0,'Исходные данные'!$F97*'План продаж'!AM$32*AN90)","v":0},{"$f":"IF('Исходные данные'!$H97=0,0,'Исходные данные'!$F97*'План продаж'!AN$32*AO90)","v":0},{"$f":"IF('Исходные данные'!$H97=0,0,'Исходные данные'!$F97*'План продаж'!AO$32*AP90)","v":0},{"$f":"IF('Исходные данные'!$H97=0,0,'Исходные данные'!$F97*'План продаж'!AP$32*AQ90)","v":0},{"$f":"IF('Исходные данные'!$H97=0,0,'Исходные данные'!$F97*'План продаж'!AQ$32*AR90)","v":0},{"$f":"IF('Исходные данные'!$H97=0,0,'Исходные данные'!$F97*'План продаж'!AR$32*AS90)","v":0},{"$f":"IF('Исходные данные'!$H97=0,0,'Исходные данные'!$F97*'План продаж'!AS$32*AT90)","v":0},{"$f":"IF('Исходные данные'!$H97=0,0,'Исходные данные'!$F97*'План продаж'!AT$32*AU90)","v":0},{"$f":"IF('Исходные данные'!$H97=0,0,'Исходные данные'!$F97*'План продаж'!AU$32*AV90)","v":0},{"$f":"IF('Исходные данные'!$H97=0,0,'Исходные данные'!$F97*'План продаж'!AV$32*AW90)","v":0},{"$f":"IF('Исходные данные'!$H97=0,0,'Исходные данные'!$F97*'План продаж'!AW$32*AX90)","v":0},{"$f":"IF('Исходные данные'!$H97=0,0,'Исходные данные'!$F97*'План продаж'!AX$32*AY90)","v":0},{"$f":"IF('Исходные данные'!$H97=0,0,'Исходные данные'!$F97*'План продаж'!AY$32*AZ90)","v":0},{"$f":"IF('Исходные данные'!$H97=0,0,'Исходные данные'!$F97*'План продаж'!AZ$32*BA90)","v":0},{"$f":"IF('Исходные данные'!$H97=0,0,'Исходные данные'!$F97*'План продаж'!BA$32*BB90)","v":0},{"$f":"IF('Исходные данные'!$H97=0,0,'Исходные данные'!$F97*'План продаж'!BB$32*BC90)","v":0},{"$f":"IF('Исходные данные'!$H97=0,0,'Исходные данные'!$F97*'План продаж'!BC$32*BD90)","v":0},{"$f":"IF('Исходные данные'!$H97=0,0,'Исходные данные'!$F97*'План продаж'!BD$32*BE90)","v":0},{"$f":"IF('Исходные данные'!$H97=0,0,'Исходные данные'!$F97*'План продаж'!BE$32*BF90)","v":0},{"$f":"IF('Исходные данные'!$H97=0,0,'Исходные данные'!$F97*'План продаж'!BF$32*BG90)","v":0},{"$f":"IF('Исходные данные'!$H97=0,0,'Исходные данные'!$F97*'План продаж'!BG$32*BH90)","v":0},{"$f":"IF('Исходные данные'!$H97=0,0,'Исходные данные'!$F97*'План продаж'!BH$32*BI90)","v":0},{"$f":"IF('Исходные данные'!$H97=0,0,'Исходные данные'!$F97*'План продаж'!BI$32*BJ90)","v":0},{"$f":"IF('Исходные данные'!$H97=0,0,'Исходные данные'!$F97*'План продаж'!BJ$32*BK90)","v":0},{"$f":"IF('Исходные данные'!$H97=0,0,'Исходные данные'!$F97*'План продаж'!BK$32*BL90)","v":0}]
[0,null,null,null,{"$f":"IF('Исходные данные'!$H98=0,0,'Исходные данные'!$F98*'План продаж'!D$32*E91)","v":0},{"$f":"IF('Исходные данные'!$H98=0,0,'Исходные данные'!$F98*'План продаж'!E$32*F91)","v":0},{"$f":"IF('Исходные данные'!$H98=0,0,'Исходные данные'!$F98*'План продаж'!F$32*G91)","v":0},{"$f":"IF('Исходные данные'!$H98=0,0,'Исходные данные'!$F98*'План продаж'!G$32*H91)","v":0},{"$f":"IF('Исходные данные'!$H98=0,0,'Исходные данные'!$F98*'План продаж'!H$32*I91)","v":0},{"$f":"IF('Исходные данные'!$H98=0,0,'Исходные данные'!$F98*'План продаж'!I$32*J91)","v":0},{"$f":"IF('Исходные данные'!$H98=0,0,'Исходные данные'!$F98*'План продаж'!J$32*K91)","v":0},{"$f":"IF('Исходные данные'!$H98=0,0,'Исходные данные'!$F98*'План продаж'!K$32*L91)","v":0},{"$f":"IF('Исходные данные'!$H98=0,0,'Исходные данные'!$F98*'План продаж'!L$32*M91)","v":0},{"$f":"IF('Исходные данные'!$H98=0,0,'Исходные данные'!$F98*'План продаж'!M$32*N91)","v":0},{"$f":"IF('Исходные данные'!$H98=0,0,'Исходные данные'!$F98*'План продаж'!N$32*O91)","v":0},{"$f":"IF('Исходные данные'!$H98=0,0,'Исходные данные'!$F98*'План продаж'!O$32*P91)","v":0},{"$f":"IF('Исходные данные'!$H98=0,0,'Исходные данные'!$F98*'План продаж'!P$32*Q91)","v":0},{"$f":"IF('Исходные данные'!$H98=0,0,'Исходные данные'!$F98*'План продаж'!Q$32*R91)","v":0},{"$f":"IF('Исходные данные'!$H98=0,0,'Исходные данные'!$F98*'План продаж'!R$32*S91)","v":0},{"$f":"IF('Исходные данные'!$H98=0,0,'Исходные данные'!$F98*'План продаж'!S$32*T91)","v":0},{"$f":"IF('Исходные данные'!$H98=0,0,'Исходные данные'!$F98*'План продаж'!T$32*U91)","v":0},{"$f":"IF('Исходные данные'!$H98=0,0,'Исходные данные'!$F98*'План продаж'!U$32*V91)","v":0},{"$f":"IF('Исходные данные'!$H98=0,0,'Исходные данные'!$F98*'План продаж'!V$32*W91)","v":0},{"$f":"IF('Исходные данные'!$H98=0,0,'Исходные данные'!$F98*'План продаж'!W$32*X91)","v":0},{"$f":"IF('Исходные данные'!$H98=0,0,'Исходные данные'!$F98*'План продаж'!X$32*Y91)","v":0},{"$f":"IF('Исходные данные'!$H98=0,0,'Исходные данные'!$F98*'План продаж'!Y$32*Z91)","v":0},{"$f":"IF('Исходные данные'!$H98=0,0,'Исходные данные'!$F98*'План продаж'!Z$32*AA91)","v":0},{"$f":"IF('Исходные данные'!$H98=0,0,'Исходные данные'!$F98*'План продаж'!AA$32*AB91)","v":0},{"$f":"IF('Исходные данные'!$H98=0,0,'Исходные данные'!$F98*'План продаж'!AB$32*AC91)","v":0},{"$f":"IF('Исходные данные'!$H98=0,0,'Исходные данные'!$F98*'План продаж'!AC$32*AD91)","v":0},{"$f":"IF('Исходные данные'!$H98=0,0,'Исходные данные'!$F98*'План продаж'!AD$32*AE91)","v":0},{"$f":"IF('Исходные данные'!$H98=0,0,'Исходные данные'!$F98*'План продаж'!AE$32*AF91)","v":0},{"$f":"IF('Исходные данные'!$H98=0,0,'Исходные данные'!$F98*'План продаж'!AF$32*AG91)","v":0},{"$f":"IF('Исходные данные'!$H98=0,0,'Исходные данные'!$F98*'План продаж'!AG$32*AH91)","v":0},{"$f":"IF('Исходные данные'!$H98=0,0,'Исходные данные'!$F98*'План продаж'!AH$32*AI91)","v":0},{"$f":"IF('Исходные данные'!$H98=0,0,'Исходные данные'!$F98*'План продаж'!AI$32*AJ91)","v":0},{"$f":"IF('Исходные данные'!$H98=0,0,'Исходные данные'!$F98*'План продаж'!AJ$32*AK91)","v":0},{"$f":"IF('Исходные данные'!$H98=0,0,'Исходные данные'!$F98*'План продаж'!AK$32*AL91)","v":0},{"$f":"IF('Исходные данные'!$H98=0,0,'Исходные данные'!$F98*'План продаж'!AL$32*AM91)","v":0},{"$f":"IF('Исходные данные'!$H98=0,0,'Исходные данные'!$F98*'План продаж'!AM$32*AN91)","v":0},{"$f":"IF('Исходные данные'!$H98=0,0,'Исходные данные'!$F98*'План продаж'!AN$32*AO91)","v":0},{"$f":"IF('Исходные данные'!$H98=0,0,'Исходные данные'!$F98*'План продаж'!AO$32*AP91)","v":0},{"$f":"IF('Исходные данные'!$H98=0,0,'Исходные данные'!$F98*'План продаж'!AP$32*AQ91)","v":0},{"$f":"IF('Исходные данные'!$H98=0,0,'Исходные данные'!$F98*'План продаж'!AQ$32*AR91)","v":0},{"$f":"IF('Исходные данные'!$H98=0,0,'Исходные данные'!$F98*'План продаж'!AR$32*AS91)","v":0},{"$f":"IF('Исходные данные'!$H98=0,0,'Исходные данные'!$F98*'План продаж'!AS$32*AT91)","v":0},{"$f":"IF('Исходные данные'!$H98=0,0,'Исходные данные'!$F98*'План продаж'!AT$32*AU91)","v":0},{"$f":"IF('Исходные данные'!$H98=0,0,'Исходные данные'!$F98*'План продаж'!AU$32*AV91)","v":0},{"$f":"IF('Исходные данные'!$H98=0,0,'Исходные данные'!$F98*'План продаж'!AV$32*AW91)","v":0},{"$f":"IF('Исходные данные'!$H98=0,0,'Исходные данные'!$F98*'План продаж'!AW$32*AX91)","v":0},{"$f":"IF('Исходные данные'!$H98=0,0,'Исходные данные'!$F98*'План продаж'!AX$32*AY91)","v":0},{"$f":"IF('Исходные данные'!$H98=0,0,'Исходные данные'!$F98*'План продаж'!AY$32*AZ91)","v":0},{"$f":"IF('Исходные данные'!$H98=0,0,'Исходные данные'!$F98*'План продаж'!AZ$32*BA91)","v":0},{"$f":"IF('Исходные данные'!$H98=0,0,'Исходные данные'!$F98*'План продаж'!BA$32*BB91)","v":0},{"$f":"IF('Исходные данные'!$H98=0,0,'Исходные данные'!$F98*'План продаж'!BB$32*BC91)","v":0},{"$f":"IF('Исходные данные'!$H98=0,0,'Исходные данные'!$F98*'План продаж'!BC$32*BD91)","v":0},{"$f":"IF('Исходные данные'!$H98=0,0,'Исходные данные'!$F98*'План продаж'!BD$32*BE91)","v":0},{"$f":"IF('Исходные данные'!$H98=0,0,'Исходные данные'!$F98*'План продаж'!BE$32*BF91)","v":0},{"$f":"IF('Исходные данные'!$H98=0,0,'Исходные данные'!$F98*'План продаж'!BF$32*BG91)","v":0},{"$f":"IF('Исходные данные'!$H98=0,0,'Исходные данные'!$F98*'План продаж'!BG$32*BH91)","v":0},{"$f":"IF('Исходные данные'!$H98=0,0,'Исходные данные'!$F98*'План продаж'!BH$32*BI91)","v":0},{"$f":"IF('Исходные данные'!$H98=0,0,'Исходные данные'!$F98*'План продаж'!BI$32*BJ91)","v":0},{"$f":"IF('Исходные данные'!$H98=0,0,'Исходные данные'!$F98*'План продаж'!BJ$32*BK91)","v":0},{"$f":"IF('Исходные данные'!$H98=0,0,'Исходные данные'!$F98*'План продаж'!BK$32*BL91)","v":0}]
[0,null,null,null,{"$f":"IF('Исходные данные'!$H99=0,0,'Исходные данные'!$F99*'План продаж'!D$32*E92)","v":0},{"$f":"IF('Исходные данные'!$H99=0,0,'Исходные данные'!$F99*'План продаж'!E$32*F92)","v":0},{"$f":"IF('Исходные данные'!$H99=0,0,'Исходные данные'!$F99*'План продаж'!F$32*G92)","v":0},{"$f":"IF('Исходные данные'!$H99=0,0,'Исходные данные'!$F99*'План продаж'!G$32*H92)","v":0},{"$f":"IF('Исходные данные'!$H99=0,0,'Исходные данные'!$F99*'План продаж'!H$32*I92)","v":0},{"$f":"IF('Исходные данные'!$H99=0,0,'Исходные данные'!$F99*'План продаж'!I$32*J92)","v":0},{"$f":"IF('Исходные данные'!$H99=0,0,'Исходные данные'!$F99*'План продаж'!J$32*K92)","v":0},{"$f":"IF('Исходные данные'!$H99=0,0,'Исходные данные'!$F99*'План продаж'!K$32*L92)","v":0},{"$f":"IF('Исходные данные'!$H99=0,0,'Исходные данные'!$F99*'План продаж'!L$32*M92)","v":0},{"$f":"IF('Исходные данные'!$H99=0,0,'Исходные данные'!$F99*'План продаж'!M$32*N92)","v":0},{"$f":"IF('Исходные данные'!$H99=0,0,'Исходные данные'!$F99*'План продаж'!N$32*O92)","v":0},{"$f":"IF('Исходные данные'!$H99=0,0,'Исходные данные'!$F99*'План продаж'!O$32*P92)","v":0},{"$f":"IF('Исходные данные'!$H99=0,0,'Исходные данные'!$F99*'План продаж'!P$32*Q92)","v":0},{"$f":"IF('Исходные данные'!$H99=0,0,'Исходные данные'!$F99*'План продаж'!Q$32*R92)","v":0},{"$f":"IF('Исходные данные'!$H99=0,0,'Исходные данные'!$F99*'План продаж'!R$32*S92)","v":0},{"$f":"IF('Исходные данные'!$H99=0,0,'Исходные данные'!$F99*'План продаж'!S$32*T92)","v":0},{"$f":"IF('Исходные данные'!$H99=0,0,'Исходные данные'!$F99*'План продаж'!T$32*U92)","v":0},{"$f":"IF('Исходные данные'!$H99=0,0,'Исходные данные'!$F99*'План продаж'!U$32*V92)","v":0},{"$f":"IF('Исходные данные'!$H99=0,0,'Исходные данные'!$F99*'План продаж'!V$32*W92)","v":0},{"$f":"IF('Исходные данные'!$H99=0,0,'Исходные данные'!$F99*'План продаж'!W$32*X92)","v":0},{"$f":"IF('Исходные данные'!$H99=0,0,'Исходные данные'!$F99*'План продаж'!X$32*Y92)","v":0},{"$f":"IF('Исходные данные'!$H99=0,0,'Исходные данные'!$F99*'План продаж'!Y$32*Z92)","v":0},{"$f":"IF('Исходные данные'!$H99=0,0,'Исходные данные'!$F99*'План продаж'!Z$32*AA92)","v":0},{"$f":"IF('Исходные данные'!$H99=0,0,'Исходные данные'!$F99*'План продаж'!AA$32*AB92)","v":0},{"$f":"IF('Исходные данные'!$H99=0,0,'Исходные данные'!$F99*'План продаж'!AB$32*AC92)","v":0},{"$f":"IF('Исходные данные'!$H99=0,0,'Исходные данные'!$F99*'План продаж'!AC$32*AD92)","v":0},{"$f":"IF('Исходные данные'!$H99=0,0,'Исходные данные'!$F99*'План продаж'!AD$32*AE92)","v":0},{"$f":"IF('Исходные данные'!$H99=0,0,'Исходные данные'!$F99*'План продаж'!AE$32*AF92)","v":0},{"$f":"IF('Исходные данные'!$H99=0,0,'Исходные данные'!$F99*'План продаж'!AF$32*AG92)","v":0},{"$f":"IF('Исходные данные'!$H99=0,0,'Исходные данные'!$F99*'План продаж'!AG$32*AH92)","v":0},{"$f":"IF('Исходные данные'!$H99=0,0,'Исходные данные'!$F99*'План продаж'!AH$32*AI92)","v":0},{"$f":"IF('Исходные данные'!$H99=0,0,'Исходные данные'!$F99*'План продаж'!AI$32*AJ92)","v":0},{"$f":"IF('Исходные данные'!$H99=0,0,'Исходные данные'!$F99*'План продаж'!AJ$32*AK92)","v":0},{"$f":"IF('Исходные данные'!$H99=0,0,'Исходные данные'!$F99*'План продаж'!AK$32*AL92)","v":0},{"$f":"IF('Исходные данные'!$H99=0,0,'Исходные данные'!$F99*'План продаж'!AL$32*AM92)","v":0},{"$f":"IF('Исходные данные'!$H99=0,0,'Исходные данные'!$F99*'План продаж'!AM$32*AN92)","v":0},{"$f":"IF('Исходные данные'!$H99=0,0,'Исходные данные'!$F99*'План продаж'!AN$32*AO92)","v":0},{"$f":"IF('Исходные данные'!$H99=0,0,'Исходные данные'!$F99*'План продаж'!AO$32*AP92)","v":0},{"$f":"IF('Исходные данные'!$H99=0,0,'Исходные данные'!$F99*'План продаж'!AP$32*AQ92)","v":0},{"$f":"IF('Исходные данные'!$H99=0,0,'Исходные данные'!$F99*'План продаж'!AQ$32*AR92)","v":0},{"$f":"IF('Исходные данные'!$H99=0,0,'Исходные данные'!$F99*'План продаж'!AR$32*AS92)","v":0},{"$f":"IF('Исходные данные'!$H99=0,0,'Исходные данные'!$F99*'План продаж'!AS$32*AT92)","v":0},{"$f":"IF('Исходные данные'!$H99=0,0,'Исходные данные'!$F99*'План продаж'!AT$32*AU92)","v":0},{"$f":"IF('Исходные данные'!$H99=0,0,'Исходные данные'!$F99*'План продаж'!AU$32*AV92)","v":0},{"$f":"IF('Исходные данные'!$H99=0,0,'Исходные данные'!$F99*'План продаж'!AV$32*AW92)","v":0},{"$f":"IF('Исходные данные'!$H99=0,0,'Исходные данные'!$F99*'План продаж'!AW$32*AX92)","v":0},{"$f":"IF('Исходные данные'!$H99=0,0,'Исходные данные'!$F99*'План продаж'!AX$32*AY92)","v":0},{"$f":"IF('Исходные данные'!$H99=0,0,'Исходные данные'!$F99*'План продаж'!AY$32*AZ92)","v":0},{"$f":"IF('Исходные данные'!$H99=0,0,'Исходные данные'!$F99*'План продаж'!AZ$32*BA92)","v":0},{"$f":"IF('Исходные данные'!$H99=0,0,'Исходные данные'!$F99*'План продаж'!BA$32*BB92)","v":0},{"$f":"IF('Исходные данные'!$H99=0,0,'Исходные данные'!$F99*'План продаж'!BB$32*BC92)","v":0},{"$f":"IF('Исходные данные'!$H99=0,0,'Исходные данные'!$F99*'План продаж'!BC$32*BD92)","v":0},{"$f":"IF('Исходные данные'!$H99=0,0,'Исходные данные'!$F99*'План продаж'!BD$32*BE92)","v":0},{"$f":"IF('Исходные данные'!$H99=0,0,'Исходные данные'!$F99*'План продаж'!BE$32*BF92)","v":0},{"$f":"IF('Исходные данные'!$H99=0,0,'Исходные данные'!$F99*'План продаж'!BF$32*BG92)","v":0},{"$f":"IF('Исходные данные'!$H99=0,0,'Исходные данные'!$F99*'План продаж'!BG$32*BH92)","v":0},{"$f":"IF('Исходные данные'!$H99=0,0,'Исходные данные'!$F99*'План продаж'!BH$32*BI92)","v":0},{"$f":"IF('Исходные данные'!$H99=0,0,'Исходные данные'!$F99*'План продаж'!BI$32*BJ92)","v":0},{"$f":"IF('Исходные данные'!$H99=0,0,'Исходные данные'!$F99*'План продаж'!BJ$32*BK92)","v":0},{"$f":"IF('Исходные данные'!$H99=0,0,'Исходные данные'!$F99*'План продаж'!BK$32*BL92)","v":0}]
[0,null,null,null,{"$f":"IF('Исходные данные'!$H100=0,0,'Исходные данные'!$F100*'План продаж'!D$32*E93)","v":0},{"$f":"IF('Исходные данные'!$H100=0,0,'Исходные данные'!$F100*'План продаж'!E$32*F93)","v":0},{"$f":"IF('Исходные данные'!$H100=0,0,'Исходные данные'!$F100*'План продаж'!F$32*G93)","v":0},{"$f":"IF('Исходные данные'!$H100=0,0,'Исходные данные'!$F100*'План продаж'!G$32*H93)","v":0},{"$f":"IF('Исходные данные'!$H100=0,0,'Исходные данные'!$F100*'План продаж'!H$32*I93)","v":0},{"$f":"IF('Исходные данные'!$H100=0,0,'Исходные данные'!$F100*'План продаж'!I$32*J93)","v":0},{"$f":"IF('Исходные данные'!$H100=0,0,'Исходные данные'!$F100*'План продаж'!J$32*K93)","v":0},{"$f":"IF('Исходные данные'!$H100=0,0,'Исходные данные'!$F100*'План продаж'!K$32*L93)","v":0},{"$f":"IF('Исходные данные'!$H100=0,0,'Исходные данные'!$F100*'План продаж'!L$32*M93)","v":0},{"$f":"IF('Исходные данные'!$H100=0,0,'Исходные данные'!$F100*'План продаж'!M$32*N93)","v":0},{"$f":"IF('Исходные данные'!$H100=0,0,'Исходные данные'!$F100*'План продаж'!N$32*O93)","v":0},{"$f":"IF('Исходные данные'!$H100=0,0,'Исходные данные'!$F100*'План продаж'!O$32*P93)","v":0},{"$f":"IF('Исходные данные'!$H100=0,0,'Исходные данные'!$F100*'План продаж'!P$32*Q93)","v":0},{"$f":"IF('Исходные данные'!$H100=0,0,'Исходные данные'!$F100*'План продаж'!Q$32*R93)","v":0},{"$f":"IF('Исходные данные'!$H100=0,0,'Исходные данные'!$F100*'План продаж'!R$32*S93)","v":0},{"$f":"IF('Исходные данные'!$H100=0,0,'Исходные данные'!$F100*'План продаж'!S$32*T93)","v":0},{"$f":"IF('Исходные данные'!$H100=0,0,'Исходные данные'!$F100*'План продаж'!T$32*U93)","v":0},{"$f":"IF('Исходные данные'!$H100=0,0,'Исходные данные'!$F100*'План продаж'!U$32*V93)","v":0},{"$f":"IF('Исходные данные'!$H100=0,0,'Исходные данные'!$F100*'План продаж'!V$32*W93)","v":0},{"$f":"IF('Исходные данные'!$H100=0,0,'Исходные данные'!$F100*'План продаж'!W$32*X93)","v":0},{"$f":"IF('Исходные данные'!$H100=0,0,'Исходные данные'!$F100*'План продаж'!X$32*Y93)","v":0},{"$f":"IF('Исходные данные'!$H100=0,0,'Исходные данные'!$F100*'План продаж'!Y$32*Z93)","v":0},{"$f":"IF('Исходные данные'!$H100=0,0,'Исходные данные'!$F100*'План продаж'!Z$32*AA93)","v":0},{"$f":"IF('Исходные данные'!$H100=0,0,'Исходные данные'!$F100*'План продаж'!AA$32*AB93)","v":0},{"$f":"IF('Исходные данные'!$H100=0,0,'Исходные данные'!$F100*'План продаж'!AB$32*AC93)","v":0},{"$f":"IF('Исходные данные'!$H100=0,0,'Исходные данные'!$F100*'План продаж'!AC$32*AD93)","v":0},{"$f":"IF('Исходные данные'!$H100=0,0,'Исходные данные'!$F100*'План продаж'!AD$32*AE93)","v":0},{"$f":"IF('Исходные данные'!$H100=0,0,'Исходные данные'!$F100*'План продаж'!AE$32*AF93)","v":0},{"$f":"IF('Исходные данные'!$H100=0,0,'Исходные данные'!$F100*'План продаж'!AF$32*AG93)","v":0},{"$f":"IF('Исходные данные'!$H100=0,0,'Исходные данные'!$F100*'План продаж'!AG$32*AH93)","v":0},{"$f":"IF('Исходные данные'!$H100=0,0,'Исходные данные'!$F100*'План продаж'!AH$32*AI93)","v":0},{"$f":"IF('Исходные данные'!$H100=0,0,'Исходные данные'!$F100*'План продаж'!AI$32*AJ93)","v":0},{"$f":"IF('Исходные данные'!$H100=0,0,'Исходные данные'!$F100*'План продаж'!AJ$32*AK93)","v":0},{"$f":"IF('Исходные данные'!$H100=0,0,'Исходные данные'!$F100*'План продаж'!AK$32*AL93)","v":0},{"$f":"IF('Исходные данные'!$H100=0,0,'Исходные данные'!$F100*'План продаж'!AL$32*AM93)","v":0},{"$f":"IF('Исходные данные'!$H100=0,0,'Исходные данные'!$F100*'План продаж'!AM$32*AN93)","v":0},{"$f":"IF('Исходные данные'!$H100=0,0,'Исходные данные'!$F100*'План продаж'!AN$32*AO93)","v":0},{"$f":"IF('Исходные данные'!$H100=0,0,'Исходные данные'!$F100*'План продаж'!AO$32*AP93)","v":0},{"$f":"IF('Исходные данные'!$H100=0,0,'Исходные данные'!$F100*'План продаж'!AP$32*AQ93)","v":0},{"$f":"IF('Исходные данные'!$H100=0,0,'Исходные данные'!$F100*'План продаж'!AQ$32*AR93)","v":0},{"$f":"IF('Исходные данные'!$H100=0,0,'Исходные данные'!$F100*'План продаж'!AR$32*AS93)","v":0},{"$f":"IF('Исходные данные'!$H100=0,0,'Исходные данные'!$F100*'План продаж'!AS$32*AT93)","v":0},{"$f":"IF('Исходные данные'!$H100=0,0,'Исходные данные'!$F100*'План продаж'!AT$32*AU93)","v":0},{"$f":"IF('Исходные данные'!$H100=0,0,'Исходные данные'!$F100*'План продаж'!AU$32*AV93)","v":0},{"$f":"IF('Исходные данные'!$H100=0,0,'Исходные данные'!$F100*'План продаж'!AV$32*AW93)","v":0},{"$f":"IF('Исходные данные'!$H100=0,0,'Исходные данные'!$F100*'План продаж'!AW$32*AX93)","v":0},{"$f":"IF('Исходные данные'!$H100=0,0,'Исходные данные'!$F100*'План продаж'!AX$32*AY93)","v":0},{"$f":"IF('Исходные данные'!$H100=0,0,'Исходные данные'!$F100*'План продаж'!AY$32*AZ93)","v":0},{"$f":"IF('Исходные данные'!$H100=0,0,'Исходные данные'!$F100*'План продаж'!AZ$32*BA93)","v":0},{"$f":"IF('Исходные данные'!$H100=0,0,'Исходные данные'!$F100*'План продаж'!BA$32*BB93)","v":0},{"$f":"IF('Исходные данные'!$H100=0,0,'Исходные данные'!$F100*'План продаж'!BB$32*BC93)","v":0},{"$f":"IF('Исходные данные'!$H100=0,0,'Исходные данные'!$F100*'План продаж'!BC$32*BD93)","v":0},{"$f":"IF('Исходные данные'!$H100=0,0,'Исходные данные'!$F100*'План продаж'!BD$32*BE93)","v":0},{"$f":"IF('Исходные данные'!$H100=0,0,'Исходные данные'!$F100*'План продаж'!BE$32*BF93)","v":0},{"$f":"IF('Исходные данные'!$H100=0,0,'Исходные данные'!$F100*'План продаж'!BF$32*BG93)","v":0},{"$f":"IF('Исходные данные'!$H100=0,0,'Исходные данные'!$F100*'План продаж'!BG$32*BH93)","v":0},{"$f":"IF('Исходные данные'!$H100=0,0,'Исходные данные'!$F100*'План продаж'!BH$32*BI93)","v":0},{"$f":"IF('Исходные данные'!$H100=0,0,'Исходные данные'!$F100*'План продаж'!BI$32*BJ93)","v":0},{"$f":"IF('Исходные данные'!$H100=0,0,'Исходные данные'!$F100*'План продаж'!BJ$32*BK93)","v":0},{"$f":"IF('Исходные данные'!$H100=0,0,'Исходные данные'!$F100*'План продаж'!BK$32*BL93)","v":0}]
[0,null,null,null,{"$f":"IF('Исходные данные'!$H101=0,0,'Исходные данные'!$F101*'План продаж'!D$32*E94)","v":0},{"$f":"IF('Исходные данные'!$H101=0,0,'Исходные данные'!$F101*'План продаж'!E$32*F94)","v":0},{"$f":"IF('Исходные данные'!$H101=0,0,'Исходные данные'!$F101*'План продаж'!F$32*G94)","v":0},{"$f":"IF('Исходные данные'!$H101=0,0,'Исходные данные'!$F101*'План продаж'!G$32*H94)","v":0},{"$f":"IF('Исходные данные'!$H101=0,0,'Исходные данные'!$F101*'План продаж'!H$32*I94)","v":0},{"$f":"IF('Исходные данные'!$H101=0,0,'Исходные данные'!$F101*'План продаж'!I$32*J94)","v":0},{"$f":"IF('Исходные данные'!$H101=0,0,'Исходные данные'!$F101*'План продаж'!J$32*K94)","v":0},{"$f":"IF('Исходные данные'!$H101=0,0,'Исходные данные'!$F101*'План продаж'!K$32*L94)","v":0},{"$f":"IF('Исходные данные'!$H101=0,0,'Исходные данные'!$F101*'План продаж'!L$32*M94)","v":0},{"$f":"IF('Исходные данные'!$H101=0,0,'Исходные данные'!$F101*'План продаж'!M$32*N94)","v":0},{"$f":"IF('Исходные данные'!$H101=0,0,'Исходные данные'!$F101*'План продаж'!N$32*O94)","v":0},{"$f":"IF('Исходные данные'!$H101=0,0,'Исходные данные'!$F101*'План продаж'!O$32*P94)","v":0},{"$f":"IF('Исходные данные'!$H101=0,0,'Исходные данные'!$F101*'План продаж'!P$32*Q94)","v":0},{"$f":"IF('Исходные данные'!$H101=0,0,'Исходные данные'!$F101*'План продаж'!Q$32*R94)","v":0},{"$f":"IF('Исходные данные'!$H101=0,0,'Исходные данные'!$F101*'План продаж'!R$32*S94)","v":0},{"$f":"IF('Исходные данные'!$H101=0,0,'Исходные данные'!$F101*'План продаж'!S$32*T94)","v":0},{"$f":"IF('Исходные данные'!$H101=0,0,'Исходные данные'!$F101*'План продаж'!T$32*U94)","v":0},{"$f":"IF('Исходные данные'!$H101=0,0,'Исходные данные'!$F101*'План продаж'!U$32*V94)","v":0},{"$f":"IF('Исходные данные'!$H101=0,0,'Исходные данные'!$F101*'План продаж'!V$32*W94)","v":0},{"$f":"IF('Исходные данные'!$H101=0,0,'Исходные данные'!$F101*'План продаж'!W$32*X94)","v":0},{"$f":"IF('Исходные данные'!$H101=0,0,'Исходные данные'!$F101*'План продаж'!X$32*Y94)","v":0},{"$f":"IF('Исходные данные'!$H101=0,0,'Исходные данные'!$F101*'План продаж'!Y$32*Z94)","v":0},{"$f":"IF('Исходные данные'!$H101=0,0,'Исходные данные'!$F101*'План продаж'!Z$32*AA94)","v":0},{"$f":"IF('Исходные данные'!$H101=0,0,'Исходные данные'!$F101*'План продаж'!AA$32*AB94)","v":0},{"$f":"IF('Исходные данные'!$H101=0,0,'Исходные данные'!$F101*'План продаж'!AB$32*AC94)","v":0},{"$f":"IF('Исходные данные'!$H101=0,0,'Исходные данные'!$F101*'План продаж'!AC$32*AD94)","v":0},{"$f":"IF('Исходные данные'!$H101=0,0,'Исходные данные'!$F101*'План продаж'!AD$32*AE94)","v":0},{"$f":"IF('Исходные данные'!$H101=0,0,'Исходные данные'!$F101*'План продаж'!AE$32*AF94)","v":0},{"$f":"IF('Исходные данные'!$H101=0,0,'Исходные данные'!$F101*'План продаж'!AF$32*AG94)","v":0},{"$f":"IF('Исходные данные'!$H101=0,0,'Исходные данные'!$F101*'План продаж'!AG$32*AH94)","v":0},{"$f":"IF('Исходные данные'!$H101=0,0,'Исходные данные'!$F101*'План продаж'!AH$32*AI94)","v":0},{"$f":"IF('Исходные данные'!$H101=0,0,'Исходные данные'!$F101*'План продаж'!AI$32*AJ94)","v":0},{"$f":"IF('Исходные данные'!$H101=0,0,'Исходные данные'!$F101*'План продаж'!AJ$32*AK94)","v":0},{"$f":"IF('Исходные данные'!$H101=0,0,'Исходные данные'!$F101*'План продаж'!AK$32*AL94)","v":0},{"$f":"IF('Исходные данные'!$H101=0,0,'Исходные данные'!$F101*'План продаж'!AL$32*AM94)","v":0},{"$f":"IF('Исходные данные'!$H101=0,0,'Исходные данные'!$F101*'План продаж'!AM$32*AN94)","v":0},{"$f":"IF('Исходные данные'!$H101=0,0,'Исходные данные'!$F101*'План продаж'!AN$32*AO94)","v":0},{"$f":"IF('Исходные данные'!$H101=0,0,'Исходные данные'!$F101*'План продаж'!AO$32*AP94)","v":0},{"$f":"IF('Исходные данные'!$H101=0,0,'Исходные данные'!$F101*'План продаж'!AP$32*AQ94)","v":0},{"$f":"IF('Исходные данные'!$H101=0,0,'Исходные данные'!$F101*'План продаж'!AQ$32*AR94)","v":0},{"$f":"IF('Исходные данные'!$H101=0,0,'Исходные данные'!$F101*'План продаж'!AR$32*AS94)","v":0},{"$f":"IF('Исходные данные'!$H101=0,0,'Исходные данные'!$F101*'План продаж'!AS$32*AT94)","v":0},{"$f":"IF('Исходные данные'!$H101=0,0,'Исходные данные'!$F101*'План продаж'!AT$32*AU94)","v":0},{"$f":"IF('Исходные данные'!$H101=0,0,'Исходные данные'!$F101*'План продаж'!AU$32*AV94)","v":0},{"$f":"IF('Исходные данные'!$H101=0,0,'Исходные данные'!$F101*'План продаж'!AV$32*AW94)","v":0},{"$f":"IF('Исходные данные'!$H101=0,0,'Исходные данные'!$F101*'План продаж'!AW$32*AX94)","v":0},{"$f":"IF('Исходные данные'!$H101=0,0,'Исходные данные'!$F101*'План продаж'!AX$32*AY94)","v":0},{"$f":"IF('Исходные данные'!$H101=0,0,'Исходные данные'!$F101*'План продаж'!AY$32*AZ94)","v":0},{"$f":"IF('Исходные данные'!$H101=0,0,'Исходные данные'!$F101*'План продаж'!AZ$32*BA94)","v":0},{"$f":"IF('Исходные данные'!$H101=0,0,'Исходные данные'!$F101*'План продаж'!BA$32*BB94)","v":0},{"$f":"IF('Исходные данные'!$H101=0,0,'Исходные данные'!$F101*'План продаж'!BB$32*BC94)","v":0},{"$f":"IF('Исходные данные'!$H101=0,0,'Исходные данные'!$F101*'План продаж'!BC$32*BD94)","v":0},{"$f":"IF('Исходные данные'!$H101=0,0,'Исходные данные'!$F101*'План продаж'!BD$32*BE94)","v":0},{"$f":"IF('Исходные данные'!$H101=0,0,'Исходные данные'!$F101*'План продаж'!BE$32*BF94)","v":0},{"$f":"IF('Исходные данные'!$H101=0,0,'Исходные данные'!$F101*'План продаж'!BF$32*BG94)","v":0},{"$f":"IF('Исходные данные'!$H101=0,0,'Исходные данные'!$F101*'План продаж'!BG$32*BH94)","v":0},{"$f":"IF('Исходные данные'!$H101=0,0,'Исходные данные'!$F101*'План продаж'!BH$32*BI94)","v":0},{"$f":"IF('Исходные данные'!$H101=0,0,'Исходные данные'!$F101*'План продаж'!BI$32*BJ94)","v":0},{"$f":"IF('Исходные данные'!$H101=0,0,'Исходные данные'!$F101*'План продаж'!BJ$32*BK94)","v":0},{"$f":"IF('Исходные данные'!$H101=0,0,'Исходные данные'!$F101*'План продаж'!BK$32*BL94)","v":0}]
[0,null,null,null,{"$f":"IF('Исходные данные'!$H102=0,0,'Исходные данные'!$F102*'План продаж'!D$32*E95)","v":0},{"$f":"IF('Исходные данные'!$H102=0,0,'Исходные данные'!$F102*'План продаж'!E$32*F95)","v":0},{"$f":"IF('Исходные данные'!$H102=0,0,'Исходные данные'!$F102*'План продаж'!F$32*G95)","v":0},{"$f":"IF('Исходные данные'!$H102=0,0,'Исходные данные'!$F102*'План продаж'!G$32*H95)","v":0},{"$f":"IF('Исходные данные'!$H102=0,0,'Исходные данные'!$F102*'План продаж'!H$32*I95)","v":0},{"$f":"IF('Исходные данные'!$H102=0,0,'Исходные данные'!$F102*'План продаж'!I$32*J95)","v":0},{"$f":"IF('Исходные данные'!$H102=0,0,'Исходные данные'!$F102*'План продаж'!J$32*K95)","v":0},{"$f":"IF('Исходные данные'!$H102=0,0,'Исходные данные'!$F102*'План продаж'!K$32*L95)","v":0},{"$f":"IF('Исходные данные'!$H102=0,0,'Исходные данные'!$F102*'План продаж'!L$32*M95)","v":0},{"$f":"IF('Исходные данные'!$H102=0,0,'Исходные данные'!$F102*'План продаж'!M$32*N95)","v":0},{"$f":"IF('Исходные данные'!$H102=0,0,'Исходные данные'!$F102*'План продаж'!N$32*O95)","v":0},{"$f":"IF('Исходные данные'!$H102=0,0,'Исходные данные'!$F102*'План продаж'!O$32*P95)","v":0},{"$f":"IF('Исходные данные'!$H102=0,0,'Исходные данные'!$F102*'План продаж'!P$32*Q95)","v":0},{"$f":"IF('Исходные данные'!$H102=0,0,'Исходные данные'!$F102*'План продаж'!Q$32*R95)","v":0},{"$f":"IF('Исходные данные'!$H102=0,0,'Исходные данные'!$F102*'План продаж'!R$32*S95)","v":0},{"$f":"IF('Исходные данные'!$H102=0,0,'Исходные данные'!$F102*'План продаж'!S$32*T95)","v":0},{"$f":"IF('Исходные данные'!$H102=0,0,'Исходные данные'!$F102*'План продаж'!T$32*U95)","v":0},{"$f":"IF('Исходные данные'!$H102=0,0,'Исходные данные'!$F102*'План продаж'!U$32*V95)","v":0},{"$f":"IF('Исходные данные'!$H102=0,0,'Исходные данные'!$F102*'План продаж'!V$32*W95)","v":0},{"$f":"IF('Исходные данные'!$H102=0,0,'Исходные данные'!$F102*'План продаж'!W$32*X95)","v":0},{"$f":"IF('Исходные данные'!$H102=0,0,'Исходные данные'!$F102*'План продаж'!X$32*Y95)","v":0},{"$f":"IF('Исходные данные'!$H102=0,0,'Исходные данные'!$F102*'План продаж'!Y$32*Z95)","v":0},{"$f":"IF('Исходные данные'!$H102=0,0,'Исходные данные'!$F102*'План продаж'!Z$32*AA95)","v":0},{"$f":"IF('Исходные данные'!$H102=0,0,'Исходные данные'!$F102*'План продаж'!AA$32*AB95)","v":0},{"$f":"IF('Исходные данные'!$H102=0,0,'Исходные данные'!$F102*'План продаж'!AB$32*AC95)","v":0},{"$f":"IF('Исходные данные'!$H102=0,0,'Исходные данные'!$F102*'План продаж'!AC$32*AD95)","v":0},{"$f":"IF('Исходные данные'!$H102=0,0,'Исходные данные'!$F102*'План продаж'!AD$32*AE95)","v":0},{"$f":"IF('Исходные данные'!$H102=0,0,'Исходные данные'!$F102*'План продаж'!AE$32*AF95)","v":0},{"$f":"IF('Исходные данные'!$H102=0,0,'Исходные данные'!$F102*'План продаж'!AF$32*AG95)","v":0},{"$f":"IF('Исходные данные'!$H102=0,0,'Исходные данные'!$F102*'План продаж'!AG$32*AH95)","v":0},{"$f":"IF('Исходные данные'!$H102=0,0,'Исходные данные'!$F102*'План продаж'!AH$32*AI95)","v":0},{"$f":"IF('Исходные данные'!$H102=0,0,'Исходные данные'!$F102*'План продаж'!AI$32*AJ95)","v":0},{"$f":"IF('Исходные данные'!$H102=0,0,'Исходные данные'!$F102*'План продаж'!AJ$32*AK95)","v":0},{"$f":"IF('Исходные данные'!$H102=0,0,'Исходные данные'!$F102*'План продаж'!AK$32*AL95)","v":0},{"$f":"IF('Исходные данные'!$H102=0,0,'Исходные данные'!$F102*'План продаж'!AL$32*AM95)","v":0},{"$f":"IF('Исходные данные'!$H102=0,0,'Исходные данные'!$F102*'План продаж'!AM$32*AN95)","v":0},{"$f":"IF('Исходные данные'!$H102=0,0,'Исходные данные'!$F102*'План продаж'!AN$32*AO95)","v":0},{"$f":"IF('Исходные данные'!$H102=0,0,'Исходные данные'!$F102*'План продаж'!AO$32*AP95)","v":0},{"$f":"IF('Исходные данные'!$H102=0,0,'Исходные данные'!$F102*'План продаж'!AP$32*AQ95)","v":0},{"$f":"IF('Исходные данные'!$H102=0,0,'Исходные данные'!$F102*'План продаж'!AQ$32*AR95)","v":0},{"$f":"IF('Исходные данные'!$H102=0,0,'Исходные данные'!$F102*'План продаж'!AR$32*AS95)","v":0},{"$f":"IF('Исходные данные'!$H102=0,0,'Исходные данные'!$F102*'План продаж'!AS$32*AT95)","v":0},{"$f":"IF('Исходные данные'!$H102=0,0,'Исходные данные'!$F102*'План продаж'!AT$32*AU95)","v":0},{"$f":"IF('Исходные данные'!$H102=0,0,'Исходные данные'!$F102*'План продаж'!AU$32*AV95)","v":0},{"$f":"IF('Исходные данные'!$H102=0,0,'Исходные данные'!$F102*'План продаж'!AV$32*AW95)","v":0},{"$f":"IF('Исходные данные'!$H102=0,0,'Исходные данные'!$F102*'План продаж'!AW$32*AX95)","v":0},{"$f":"IF('Исходные данные'!$H102=0,0,'Исходные данные'!$F102*'План продаж'!AX$32*AY95)","v":0},{"$f":"IF('Исходные данные'!$H102=0,0,'Исходные данные'!$F102*'План продаж'!AY$32*AZ95)","v":0},{"$f":"IF('Исходные данные'!$H102=0,0,'Исходные данные'!$F102*'План продаж'!AZ$32*BA95)","v":0},{"$f":"IF('Исходные данные'!$H102=0,0,'Исходные данные'!$F102*'План продаж'!BA$32*BB95)","v":0},{"$f":"IF('Исходные данные'!$H102=0,0,'Исходные данные'!$F102*'План продаж'!BB$32*BC95)","v":0},{"$f":"IF('Исходные данные'!$H102=0,0,'Исходные данные'!$F102*'План продаж'!BC$32*BD95)","v":0},{"$f":"IF('Исходные данные'!$H102=0,0,'Исходные данные'!$F102*'План продаж'!BD$32*BE95)","v":0},{"$f":"IF('Исходные данные'!$H102=0,0,'Исходные данные'!$F102*'План продаж'!BE$32*BF95)","v":0},{"$f":"IF('Исходные данные'!$H102=0,0,'Исходные данные'!$F102*'План продаж'!BF$32*BG95)","v":0},{"$f":"IF('Исходные данные'!$H102=0,0,'Исходные данные'!$F102*'План продаж'!BG$32*BH95)","v":0},{"$f":"IF('Исходные данные'!$H102=0,0,'Исходные данные'!$F102*'План продаж'!BH$32*BI95)","v":0},{"$f":"IF('Исходные данные'!$H102=0,0,'Исходные данные'!$F102*'План продаж'!BI$32*BJ95)","v":0},{"$f":"IF('Исходные данные'!$H102=0,0,'Исходные данные'!$F102*'План продаж'!BJ$32*BK95)","v":0},{"$f":"IF('Исходные данные'!$H102=0,0,'Исходные данные'!$F102*'План продаж'!BK$32*BL95)","v":0}]
[0,null,null,null,{"$f":"IF('Исходные данные'!$H103=0,0,'Исходные данные'!$F103*'План продаж'!D$32*E96)","v":0},{"$f":"IF('Исходные данные'!$H103=0,0,'Исходные данные'!$F103*'План продаж'!E$32*F96)","v":0},{"$f":"IF('Исходные данные'!$H103=0,0,'Исходные данные'!$F103*'План продаж'!F$32*G96)","v":0},{"$f":"IF('Исходные данные'!$H103=0,0,'Исходные данные'!$F103*'План продаж'!G$32*H96)","v":0},{"$f":"IF('Исходные данные'!$H103=0,0,'Исходные данные'!$F103*'План продаж'!H$32*I96)","v":0},{"$f":"IF('Исходные данные'!$H103=0,0,'Исходные данные'!$F103*'План продаж'!I$32*J96)","v":0},{"$f":"IF('Исходные данные'!$H103=0,0,'Исходные данные'!$F103*'План продаж'!J$32*K96)","v":0},{"$f":"IF('Исходные данные'!$H103=0,0,'Исходные данные'!$F103*'План продаж'!K$32*L96)","v":0},{"$f":"IF('Исходные данные'!$H103=0,0,'Исходные данные'!$F103*'План продаж'!L$32*M96)","v":0},{"$f":"IF('Исходные данные'!$H103=0,0,'Исходные данные'!$F103*'План продаж'!M$32*N96)","v":0},{"$f":"IF('Исходные данные'!$H103=0,0,'Исходные данные'!$F103*'План продаж'!N$32*O96)","v":0},{"$f":"IF('Исходные данные'!$H103=0,0,'Исходные данные'!$F103*'План продаж'!O$32*P96)","v":0},{"$f":"IF('Исходные данные'!$H103=0,0,'Исходные данные'!$F103*'План продаж'!P$32*Q96)","v":0},{"$f":"IF('Исходные данные'!$H103=0,0,'Исходные данные'!$F103*'План продаж'!Q$32*R96)","v":0},{"$f":"IF('Исходные данные'!$H103=0,0,'Исходные данные'!$F103*'План продаж'!R$32*S96)","v":0},{"$f":"IF('Исходные данные'!$H103=0,0,'Исходные данные'!$F103*'План продаж'!S$32*T96)","v":0},{"$f":"IF('Исходные данные'!$H103=0,0,'Исходные данные'!$F103*'План продаж'!T$32*U96)","v":0},{"$f":"IF('Исходные данные'!$H103=0,0,'Исходные данные'!$F103*'План продаж'!U$32*V96)","v":0},{"$f":"IF('Исходные данные'!$H103=0,0,'Исходные данные'!$F103*'План продаж'!V$32*W96)","v":0},{"$f":"IF('Исходные данные'!$H103=0,0,'Исходные данные'!$F103*'План продаж'!W$32*X96)","v":0},{"$f":"IF('Исходные данные'!$H103=0,0,'Исходные данные'!$F103*'План продаж'!X$32*Y96)","v":0},{"$f":"IF('Исходные данные'!$H103=0,0,'Исходные данные'!$F103*'План продаж'!Y$32*Z96)","v":0},{"$f":"IF('Исходные данные'!$H103=0,0,'Исходные данные'!$F103*'План продаж'!Z$32*AA96)","v":0},{"$f":"IF('Исходные данные'!$H103=0,0,'Исходные данные'!$F103*'План продаж'!AA$32*AB96)","v":0},{"$f":"IF('Исходные данные'!$H103=0,0,'Исходные данные'!$F103*'План продаж'!AB$32*AC96)","v":0},{"$f":"IF('Исходные данные'!$H103=0,0,'Исходные данные'!$F103*'План продаж'!AC$32*AD96)","v":0},{"$f":"IF('Исходные данные'!$H103=0,0,'Исходные данные'!$F103*'План продаж'!AD$32*AE96)","v":0},{"$f":"IF('Исходные данные'!$H103=0,0,'Исходные данные'!$F103*'План продаж'!AE$32*AF96)","v":0},{"$f":"IF('Исходные данные'!$H103=0,0,'Исходные данные'!$F103*'План продаж'!AF$32*AG96)","v":0},{"$f":"IF('Исходные данные'!$H103=0,0,'Исходные данные'!$F103*'План продаж'!AG$32*AH96)","v":0},{"$f":"IF('Исходные данные'!$H103=0,0,'Исходные данные'!$F103*'План продаж'!AH$32*AI96)","v":0},{"$f":"IF('Исходные данные'!$H103=0,0,'Исходные данные'!$F103*'План продаж'!AI$32*AJ96)","v":0},{"$f":"IF('Исходные данные'!$H103=0,0,'Исходные данные'!$F103*'План продаж'!AJ$32*AK96)","v":0},{"$f":"IF('Исходные данные'!$H103=0,0,'Исходные данные'!$F103*'План продаж'!AK$32*AL96)","v":0},{"$f":"IF('Исходные данные'!$H103=0,0,'Исходные данные'!$F103*'План продаж'!AL$32*AM96)","v":0},{"$f":"IF('Исходные данные'!$H103=0,0,'Исходные данные'!$F103*'План продаж'!AM$32*AN96)","v":0},{"$f":"IF('Исходные данные'!$H103=0,0,'Исходные данные'!$F103*'План продаж'!AN$32*AO96)","v":0},{"$f":"IF('Исходные данные'!$H103=0,0,'Исходные данные'!$F103*'План продаж'!AO$32*AP96)","v":0},{"$f":"IF('Исходные данные'!$H103=0,0,'Исходные данные'!$F103*'План продаж'!AP$32*AQ96)","v":0},{"$f":"IF('Исходные данные'!$H103=0,0,'Исходные данные'!$F103*'План продаж'!AQ$32*AR96)","v":0},{"$f":"IF('Исходные данные'!$H103=0,0,'Исходные данные'!$F103*'План продаж'!AR$32*AS96)","v":0},{"$f":"IF('Исходные данные'!$H103=0,0,'Исходные данные'!$F103*'План продаж'!AS$32*AT96)","v":0},{"$f":"IF('Исходные данные'!$H103=0,0,'Исходные данные'!$F103*'План продаж'!AT$32*AU96)","v":0},{"$f":"IF('Исходные данные'!$H103=0,0,'Исходные данные'!$F103*'План продаж'!AU$32*AV96)","v":0},{"$f":"IF('Исходные данные'!$H103=0,0,'Исходные данные'!$F103*'План продаж'!AV$32*AW96)","v":0},{"$f":"IF('Исходные данные'!$H103=0,0,'Исходные данные'!$F103*'План продаж'!AW$32*AX96)","v":0},{"$f":"IF('Исходные данные'!$H103=0,0,'Исходные данные'!$F103*'План продаж'!AX$32*AY96)","v":0},{"$f":"IF('Исходные данные'!$H103=0,0,'Исходные данные'!$F103*'План продаж'!AY$32*AZ96)","v":0},{"$f":"IF('Исходные данные'!$H103=0,0,'Исходные данные'!$F103*'План продаж'!AZ$32*BA96)","v":0},{"$f":"IF('Исходные данные'!$H103=0,0,'Исходные данные'!$F103*'План продаж'!BA$32*BB96)","v":0},{"$f":"IF('Исходные данные'!$H103=0,0,'Исходные данные'!$F103*'План продаж'!BB$32*BC96)","v":0},{"$f":"IF('Исходные данные'!$H103=0,0,'Исходные данные'!$F103*'План продаж'!BC$32*BD96)","v":0},{"$f":"IF('Исходные данные'!$H103=0,0,'Исходные данные'!$F103*'План продаж'!BD$32*BE96)","v":0},{"$f":"IF('Исходные данные'!$H103=0,0,'Исходные данные'!$F103*'План продаж'!BE$32*BF96)","v":0},{"$f":"IF('Исходные данные'!$H103=0,0,'Исходные данные'!$F103*'План продаж'!BF$32*BG96)","v":0},{"$f":"IF('Исходные данные'!$H103=0,0,'Исходные данные'!$F103*'План продаж'!BG$32*BH96)","v":0},{"$f":"IF('Исходные данные'!$H103=0,0,'Исходные данные'!$F103*'План продаж'!BH$32*BI96)","v":0},{"$f":"IF('Исходные данные'!$H103=0,0,'Исходные данные'!$F103*'План продаж'!BI$32*BJ96)","v":0},{"$f":"IF('Исходные данные'!$H103=0,0,'Исходные данные'!$F103*'План продаж'!BJ$32*BK96)","v":0},{"$f":"IF('Исходные данные'!$H103=0,0,'Исходные данные'!$F103*'План продаж'!BK$32*BL96)","v":0}]
[0,null,null,null,{"$f":"IF('Исходные данные'!$H104=0,0,'Исходные данные'!$F104*'План продаж'!D$32*E97)","v":0},{"$f":"IF('Исходные данные'!$H104=0,0,'Исходные данные'!$F104*'План продаж'!E$32*F97)","v":0},{"$f":"IF('Исходные данные'!$H104=0,0,'Исходные данные'!$F104*'План продаж'!F$32*G97)","v":0},{"$f":"IF('Исходные данные'!$H104=0,0,'Исходные данные'!$F104*'План продаж'!G$32*H97)","v":0},{"$f":"IF('Исходные данные'!$H104=0,0,'Исходные данные'!$F104*'План продаж'!H$32*I97)","v":0},{"$f":"IF('Исходные данные'!$H104=0,0,'Исходные данные'!$F104*'План продаж'!I$32*J97)","v":0},{"$f":"IF('Исходные данные'!$H104=0,0,'Исходные данные'!$F104*'План продаж'!J$32*K97)","v":0},{"$f":"IF('Исходные данные'!$H104=0,0,'Исходные данные'!$F104*'План продаж'!K$32*L97)","v":0},{"$f":"IF('Исходные данные'!$H104=0,0,'Исходные данные'!$F104*'План продаж'!L$32*M97)","v":0},{"$f":"IF('Исходные данные'!$H104=0,0,'Исходные данные'!$F104*'План продаж'!M$32*N97)","v":0},{"$f":"IF('Исходные данные'!$H104=0,0,'Исходные данные'!$F104*'План продаж'!N$32*O97)","v":0},{"$f":"IF('Исходные данные'!$H104=0,0,'Исходные данные'!$F104*'План продаж'!O$32*P97)","v":0},{"$f":"IF('Исходные данные'!$H104=0,0,'Исходные данные'!$F104*'План продаж'!P$32*Q97)","v":0},{"$f":"IF('Исходные данные'!$H104=0,0,'Исходные данные'!$F104*'План продаж'!Q$32*R97)","v":0},{"$f":"IF('Исходные данные'!$H104=0,0,'Исходные данные'!$F104*'План продаж'!R$32*S97)","v":0},{"$f":"IF('Исходные данные'!$H104=0,0,'Исходные данные'!$F104*'План продаж'!S$32*T97)","v":0},{"$f":"IF('Исходные данные'!$H104=0,0,'Исходные данные'!$F104*'План продаж'!T$32*U97)","v":0},{"$f":"IF('Исходные данные'!$H104=0,0,'Исходные данные'!$F104*'План продаж'!U$32*V97)","v":0},{"$f":"IF('Исходные данные'!$H104=0,0,'Исходные данные'!$F104*'План продаж'!V$32*W97)","v":0},{"$f":"IF('Исходные данные'!$H104=0,0,'Исходные данные'!$F104*'План продаж'!W$32*X97)","v":0},{"$f":"IF('Исходные данные'!$H104=0,0,'Исходные данные'!$F104*'План продаж'!X$32*Y97)","v":0},{"$f":"IF('Исходные данные'!$H104=0,0,'Исходные данные'!$F104*'План продаж'!Y$32*Z97)","v":0},{"$f":"IF('Исходные данные'!$H104=0,0,'Исходные данные'!$F104*'План продаж'!Z$32*AA97)","v":0},{"$f":"IF('Исходные данные'!$H104=0,0,'Исходные данные'!$F104*'План продаж'!AA$32*AB97)","v":0},{"$f":"IF('Исходные данные'!$H104=0,0,'Исходные данные'!$F104*'План продаж'!AB$32*AC97)","v":0},{"$f":"IF('Исходные данные'!$H104=0,0,'Исходные данные'!$F104*'План продаж'!AC$32*AD97)","v":0},{"$f":"IF('Исходные данные'!$H104=0,0,'Исходные данные'!$F104*'План продаж'!AD$32*AE97)","v":0},{"$f":"IF('Исходные данные'!$H104=0,0,'Исходные данные'!$F104*'План продаж'!AE$32*AF97)","v":0},{"$f":"IF('Исходные данные'!$H104=0,0,'Исходные данные'!$F104*'План продаж'!AF$32*AG97)","v":0},{"$f":"IF('Исходные данные'!$H104=0,0,'Исходные данные'!$F104*'План продаж'!AG$32*AH97)","v":0},{"$f":"IF('Исходные данные'!$H104=0,0,'Исходные данные'!$F104*'План продаж'!AH$32*AI97)","v":0},{"$f":"IF('Исходные данные'!$H104=0,0,'Исходные данные'!$F104*'План продаж'!AI$32*AJ97)","v":0},{"$f":"IF('Исходные данные'!$H104=0,0,'Исходные данные'!$F104*'План продаж'!AJ$32*AK97)","v":0},{"$f":"IF('Исходные данные'!$H104=0,0,'Исходные данные'!$F104*'План продаж'!AK$32*AL97)","v":0},{"$f":"IF('Исходные данные'!$H104=0,0,'Исходные данные'!$F104*'План продаж'!AL$32*AM97)","v":0},{"$f":"IF('Исходные данные'!$H104=0,0,'Исходные данные'!$F104*'План продаж'!AM$32*AN97)","v":0},{"$f":"IF('Исходные данные'!$H104=0,0,'Исходные данные'!$F104*'План продаж'!AN$32*AO97)","v":0},{"$f":"IF('Исходные данные'!$H104=0,0,'Исходные данные'!$F104*'План продаж'!AO$32*AP97)","v":0},{"$f":"IF('Исходные данные'!$H104=0,0,'Исходные данные'!$F104*'План продаж'!AP$32*AQ97)","v":0},{"$f":"IF('Исходные данные'!$H104=0,0,'Исходные данные'!$F104*'План продаж'!AQ$32*AR97)","v":0},{"$f":"IF('Исходные данные'!$H104=0,0,'Исходные данные'!$F104*'План продаж'!AR$32*AS97)","v":0},{"$f":"IF('Исходные данные'!$H104=0,0,'Исходные данные'!$F104*'План продаж'!AS$32*AT97)","v":0},{"$f":"IF('Исходные данные'!$H104=0,0,'Исходные данные'!$F104*'План продаж'!AT$32*AU97)","v":0},{"$f":"IF('Исходные данные'!$H104=0,0,'Исходные данные'!$F104*'План продаж'!AU$32*AV97)","v":0},{"$f":"IF('Исходные данные'!$H104=0,0,'Исходные данные'!$F104*'План продаж'!AV$32*AW97)","v":0},{"$f":"IF('Исходные данные'!$H104=0,0,'Исходные данные'!$F104*'План продаж'!AW$32*AX97)","v":0},{"$f":"IF('Исходные данные'!$H104=0,0,'Исходные данные'!$F104*'План продаж'!AX$32*AY97)","v":0},{"$f":"IF('Исходные данные'!$H104=0,0,'Исходные данные'!$F104*'План продаж'!AY$32*AZ97)","v":0},{"$f":"IF('Исходные данные'!$H104=0,0,'Исходные данные'!$F104*'План продаж'!AZ$32*BA97)","v":0},{"$f":"IF('Исходные данные'!$H104=0,0,'Исходные данные'!$F104*'План продаж'!BA$32*BB97)","v":0},{"$f":"IF('Исходные данные'!$H104=0,0,'Исходные данные'!$F104*'План продаж'!BB$32*BC97)","v":0},{"$f":"IF('Исходные данные'!$H104=0,0,'Исходные данные'!$F104*'План продаж'!BC$32*BD97)","v":0},{"$f":"IF('Исходные данные'!$H104=0,0,'Исходные данные'!$F104*'План продаж'!BD$32*BE97)","v":0},{"$f":"IF('Исходные данные'!$H104=0,0,'Исходные данные'!$F104*'План продаж'!BE$32*BF97)","v":0},{"$f":"IF('Исходные данные'!$H104=0,0,'Исходные данные'!$F104*'План продаж'!BF$32*BG97)","v":0},{"$f":"IF('Исходные данные'!$H104=0,0,'Исходные данные'!$F104*'План продаж'!BG$32*BH97)","v":0},{"$f":"IF('Исходные данные'!$H104=0,0,'Исходные данные'!$F104*'План продаж'!BH$32*BI97)","v":0},{"$f":"IF('Исходные данные'!$H104=0,0,'Исходные данные'!$F104*'План продаж'!BI$32*BJ97)","v":0},{"$f":"IF('Исходные данные'!$H104=0,0,'Исходные данные'!$F104*'План продаж'!BJ$32*BK97)","v":0},{"$f":"IF('Исходные данные'!$H104=0,0,'Исходные данные'!$F104*'План продаж'!BK$32*BL97)","v":0}]
[0,null,null,null,{"$f":"IF('Исходные данные'!$H105=0,0,'Исходные данные'!$F105*'План продаж'!D$32*E98)","v":0},{"$f":"IF('Исходные данные'!$H105=0,0,'Исходные данные'!$F105*'План продаж'!E$32*F98)","v":0},{"$f":"IF('Исходные данные'!$H105=0,0,'Исходные данные'!$F105*'План продаж'!F$32*G98)","v":0},{"$f":"IF('Исходные данные'!$H105=0,0,'Исходные данные'!$F105*'План продаж'!G$32*H98)","v":0},{"$f":"IF('Исходные данные'!$H105=0,0,'Исходные данные'!$F105*'План продаж'!H$32*I98)","v":0},{"$f":"IF('Исходные данные'!$H105=0,0,'Исходные данные'!$F105*'План продаж'!I$32*J98)","v":0},{"$f":"IF('Исходные данные'!$H105=0,0,'Исходные данные'!$F105*'План продаж'!J$32*K98)","v":0},{"$f":"IF('Исходные данные'!$H105=0,0,'Исходные данные'!$F105*'План продаж'!K$32*L98)","v":0},{"$f":"IF('Исходные данные'!$H105=0,0,'Исходные данные'!$F105*'План продаж'!L$32*M98)","v":0},{"$f":"IF('Исходные данные'!$H105=0,0,'Исходные данные'!$F105*'План продаж'!M$32*N98)","v":0},{"$f":"IF('Исходные данные'!$H105=0,0,'Исходные данные'!$F105*'План продаж'!N$32*O98)","v":0},{"$f":"IF('Исходные данные'!$H105=0,0,'Исходные данные'!$F105*'План продаж'!O$32*P98)","v":0},{"$f":"IF('Исходные данные'!$H105=0,0,'Исходные данные'!$F105*'План продаж'!P$32*Q98)","v":0},{"$f":"IF('Исходные данные'!$H105=0,0,'Исходные данные'!$F105*'План продаж'!Q$32*R98)","v":0},{"$f":"IF('Исходные данные'!$H105=0,0,'Исходные данные'!$F105*'План продаж'!R$32*S98)","v":0},{"$f":"IF('Исходные данные'!$H105=0,0,'Исходные данные'!$F105*'План продаж'!S$32*T98)","v":0},{"$f":"IF('Исходные данные'!$H105=0,0,'Исходные данные'!$F105*'План продаж'!T$32*U98)","v":0},{"$f":"IF('Исходные данные'!$H105=0,0,'Исходные данные'!$F105*'План продаж'!U$32*V98)","v":0},{"$f":"IF('Исходные данные'!$H105=0,0,'Исходные данные'!$F105*'План продаж'!V$32*W98)","v":0},{"$f":"IF('Исходные данные'!$H105=0,0,'Исходные данные'!$F105*'План продаж'!W$32*X98)","v":0},{"$f":"IF('Исходные данные'!$H105=0,0,'Исходные данные'!$F105*'План продаж'!X$32*Y98)","v":0},{"$f":"IF('Исходные данные'!$H105=0,0,'Исходные данные'!$F105*'План продаж'!Y$32*Z98)","v":0},{"$f":"IF('Исходные данные'!$H105=0,0,'Исходные данные'!$F105*'План продаж'!Z$32*AA98)","v":0},{"$f":"IF('Исходные данные'!$H105=0,0,'Исходные данные'!$F105*'План продаж'!AA$32*AB98)","v":0},{"$f":"IF('Исходные данные'!$H105=0,0,'Исходные данные'!$F105*'План продаж'!AB$32*AC98)","v":0},{"$f":"IF('Исходные данные'!$H105=0,0,'Исходные данные'!$F105*'План продаж'!AC$32*AD98)","v":0},{"$f":"IF('Исходные данные'!$H105=0,0,'Исходные данные'!$F105*'План продаж'!AD$32*AE98)","v":0},{"$f":"IF('Исходные данные'!$H105=0,0,'Исходные данные'!$F105*'План продаж'!AE$32*AF98)","v":0},{"$f":"IF('Исходные данные'!$H105=0,0,'Исходные данные'!$F105*'План продаж'!AF$32*AG98)","v":0},{"$f":"IF('Исходные данные'!$H105=0,0,'Исходные данные'!$F105*'План продаж'!AG$32*AH98)","v":0},{"$f":"IF('Исходные данные'!$H105=0,0,'Исходные данные'!$F105*'План продаж'!AH$32*AI98)","v":0},{"$f":"IF('Исходные данные'!$H105=0,0,'Исходные данные'!$F105*'План продаж'!AI$32*AJ98)","v":0},{"$f":"IF('Исходные данные'!$H105=0,0,'Исходные данные'!$F105*'План продаж'!AJ$32*AK98)","v":0},{"$f":"IF('Исходные данные'!$H105=0,0,'Исходные данные'!$F105*'План продаж'!AK$32*AL98)","v":0},{"$f":"IF('Исходные данные'!$H105=0,0,'Исходные данные'!$F105*'План продаж'!AL$32*AM98)","v":0},{"$f":"IF('Исходные данные'!$H105=0,0,'Исходные данные'!$F105*'План продаж'!AM$32*AN98)","v":0},{"$f":"IF('Исходные данные'!$H105=0,0,'Исходные данные'!$F105*'План продаж'!AN$32*AO98)","v":0},{"$f":"IF('Исходные данные'!$H105=0,0,'Исходные данные'!$F105*'План продаж'!AO$32*AP98)","v":0},{"$f":"IF('Исходные данные'!$H105=0,0,'Исходные данные'!$F105*'План продаж'!AP$32*AQ98)","v":0},{"$f":"IF('Исходные данные'!$H105=0,0,'Исходные данные'!$F105*'План продаж'!AQ$32*AR98)","v":0},{"$f":"IF('Исходные данные'!$H105=0,0,'Исходные данные'!$F105*'План продаж'!AR$32*AS98)","v":0},{"$f":"IF('Исходные данные'!$H105=0,0,'Исходные данные'!$F105*'План продаж'!AS$32*AT98)","v":0},{"$f":"IF('Исходные данные'!$H105=0,0,'Исходные данные'!$F105*'План продаж'!AT$32*AU98)","v":0},{"$f":"IF('Исходные данные'!$H105=0,0,'Исходные данные'!$F105*'План продаж'!AU$32*AV98)","v":0},{"$f":"IF('Исходные данные'!$H105=0,0,'Исходные данные'!$F105*'План продаж'!AV$32*AW98)","v":0},{"$f":"IF('Исходные данные'!$H105=0,0,'Исходные данные'!$F105*'План продаж'!AW$32*AX98)","v":0},{"$f":"IF('Исходные данные'!$H105=0,0,'Исходные данные'!$F105*'План продаж'!AX$32*AY98)","v":0},{"$f":"IF('Исходные данные'!$H105=0,0,'Исходные данные'!$F105*'План продаж'!AY$32*AZ98)","v":0},{"$f":"IF('Исходные данные'!$H105=0,0,'Исходные данные'!$F105*'План продаж'!AZ$32*BA98)","v":0},{"$f":"IF('Исходные данные'!$H105=0,0,'Исходные данные'!$F105*'План продаж'!BA$32*BB98)","v":0},{"$f":"IF('Исходные данные'!$H105=0,0,'Исходные данные'!$F105*'План продаж'!BB$32*BC98)","v":0},{"$f":"IF('Исходные данные'!$H105=0,0,'Исходные данные'!$F105*'План продаж'!BC$32*BD98)","v":0},{"$f":"IF('Исходные данные'!$H105=0,0,'Исходные данные'!$F105*'План продаж'!BD$32*BE98)","v":0},{"$f":"IF('Исходные данные'!$H105=0,0,'Исходные данные'!$F105*'План продаж'!BE$32*BF98)","v":0},{"$f":"IF('Исходные данные'!$H105=0,0,'Исходные данные'!$F105*'План продаж'!BF$32*BG98)","v":0},{"$f":"IF('Исходные данные'!$H105=0,0,'Исходные данные'!$F105*'План продаж'!BG$32*BH98)","v":0},{"$f":"IF('Исходные данные'!$H105=0,0,'Исходные данные'!$F105*'План продаж'!BH$32*BI98)","v":0},{"$f":"IF('Исходные данные'!$H105=0,0,'Исходные данные'!$F105*'План продаж'!BI$32*BJ98)","v":0},{"$f":"IF('Исходные данные'!$H105=0,0,'Исходные данные'!$F105*'План продаж'!BJ$32*BK98)","v":0},{"$f":"IF('Исходные данные'!$H105=0,0,'Исходные данные'!$F105*'План продаж'!BK$32*BL98)","v":0}]
[0,null,null,null,{"$f":"IF('Исходные данные'!$H106=0,0,'Исходные данные'!$F106*'План продаж'!D$32*E99)","v":0},{"$f":"IF('Исходные данные'!$H106=0,0,'Исходные данные'!$F106*'План продаж'!E$32*F99)","v":0},{"$f":"IF('Исходные данные'!$H106=0,0,'Исходные данные'!$F106*'План продаж'!F$32*G99)","v":0},{"$f":"IF('Исходные данные'!$H106=0,0,'Исходные данные'!$F106*'План продаж'!G$32*H99)","v":0},{"$f":"IF('Исходные данные'!$H106=0,0,'Исходные данные'!$F106*'План продаж'!H$32*I99)","v":0},{"$f":"IF('Исходные данные'!$H106=0,0,'Исходные данные'!$F106*'План продаж'!I$32*J99)","v":0},{"$f":"IF('Исходные данные'!$H106=0,0,'Исходные данные'!$F106*'План продаж'!J$32*K99)","v":0},{"$f":"IF('Исходные данные'!$H106=0,0,'Исходные данные'!$F106*'План продаж'!K$32*L99)","v":0},{"$f":"IF('Исходные данные'!$H106=0,0,'Исходные данные'!$F106*'План продаж'!L$32*M99)","v":0},{"$f":"IF('Исходные данные'!$H106=0,0,'Исходные данные'!$F106*'План продаж'!M$32*N99)","v":0},{"$f":"IF('Исходные данные'!$H106=0,0,'Исходные данные'!$F106*'План продаж'!N$32*O99)","v":0},{"$f":"IF('Исходные данные'!$H106=0,0,'Исходные данные'!$F106*'План продаж'!O$32*P99)","v":0},{"$f":"IF('Исходные данные'!$H106=0,0,'Исходные данные'!$F106*'План продаж'!P$32*Q99)","v":0},{"$f":"IF('Исходные данные'!$H106=0,0,'Исходные данные'!$F106*'План продаж'!Q$32*R99)","v":0},{"$f":"IF('Исходные данные'!$H106=0,0,'Исходные данные'!$F106*'План продаж'!R$32*S99)","v":0},{"$f":"IF('Исходные данные'!$H106=0,0,'Исходные данные'!$F106*'План продаж'!S$32*T99)","v":0},{"$f":"IF('Исходные данные'!$H106=0,0,'Исходные данные'!$F106*'План продаж'!T$32*U99)","v":0},{"$f":"IF('Исходные данные'!$H106=0,0,'Исходные данные'!$F106*'План продаж'!U$32*V99)","v":0},{"$f":"IF('Исходные данные'!$H106=0,0,'Исходные данные'!$F106*'План продаж'!V$32*W99)","v":0},{"$f":"IF('Исходные данные'!$H106=0,0,'Исходные данные'!$F106*'План продаж'!W$32*X99)","v":0},{"$f":"IF('Исходные данные'!$H106=0,0,'Исходные данные'!$F106*'План продаж'!X$32*Y99)","v":0},{"$f":"IF('Исходные данные'!$H106=0,0,'Исходные данные'!$F106*'План продаж'!Y$32*Z99)","v":0},{"$f":"IF('Исходные данные'!$H106=0,0,'Исходные данные'!$F106*'План продаж'!Z$32*AA99)","v":0},{"$f":"IF('Исходные данные'!$H106=0,0,'Исходные данные'!$F106*'План продаж'!AA$32*AB99)","v":0},{"$f":"IF('Исходные данные'!$H106=0,0,'Исходные данные'!$F106*'План продаж'!AB$32*AC99)","v":0},{"$f":"IF('Исходные данные'!$H106=0,0,'Исходные данные'!$F106*'План продаж'!AC$32*AD99)","v":0},{"$f":"IF('Исходные данные'!$H106=0,0,'Исходные данные'!$F106*'План продаж'!AD$32*AE99)","v":0},{"$f":"IF('Исходные данные'!$H106=0,0,'Исходные данные'!$F106*'План продаж'!AE$32*AF99)","v":0},{"$f":"IF('Исходные данные'!$H106=0,0,'Исходные данные'!$F106*'План продаж'!AF$32*AG99)","v":0},{"$f":"IF('Исходные данные'!$H106=0,0,'Исходные данные'!$F106*'План продаж'!AG$32*AH99)","v":0},{"$f":"IF('Исходные данные'!$H106=0,0,'Исходные данные'!$F106*'План продаж'!AH$32*AI99)","v":0},{"$f":"IF('Исходные данные'!$H106=0,0,'Исходные данные'!$F106*'План продаж'!AI$32*AJ99)","v":0},{"$f":"IF('Исходные данные'!$H106=0,0,'Исходные данные'!$F106*'План продаж'!AJ$32*AK99)","v":0},{"$f":"IF('Исходные данные'!$H106=0,0,'Исходные данные'!$F106*'План продаж'!AK$32*AL99)","v":0},{"$f":"IF('Исходные данные'!$H106=0,0,'Исходные данные'!$F106*'План продаж'!AL$32*AM99)","v":0},{"$f":"IF('Исходные данные'!$H106=0,0,'Исходные данные'!$F106*'План продаж'!AM$32*AN99)","v":0},{"$f":"IF('Исходные данные'!$H106=0,0,'Исходные данные'!$F106*'План продаж'!AN$32*AO99)","v":0},{"$f":"IF('Исходные данные'!$H106=0,0,'Исходные данные'!$F106*'План продаж'!AO$32*AP99)","v":0},{"$f":"IF('Исходные данные'!$H106=0,0,'Исходные данные'!$F106*'План продаж'!AP$32*AQ99)","v":0},{"$f":"IF('Исходные данные'!$H106=0,0,'Исходные данные'!$F106*'План продаж'!AQ$32*AR99)","v":0},{"$f":"IF('Исходные данные'!$H106=0,0,'Исходные данные'!$F106*'План продаж'!AR$32*AS99)","v":0},{"$f":"IF('Исходные данные'!$H106=0,0,'Исходные данные'!$F106*'План продаж'!AS$32*AT99)","v":0},{"$f":"IF('Исходные данные'!$H106=0,0,'Исходные данные'!$F106*'План продаж'!AT$32*AU99)","v":0},{"$f":"IF('Исходные данные'!$H106=0,0,'Исходные данные'!$F106*'План продаж'!AU$32*AV99)","v":0},{"$f":"IF('Исходные данные'!$H106=0,0,'Исходные данные'!$F106*'План продаж'!AV$32*AW99)","v":0},{"$f":"IF('Исходные данные'!$H106=0,0,'Исходные данные'!$F106*'План продаж'!AW$32*AX99)","v":0},{"$f":"IF('Исходные данные'!$H106=0,0,'Исходные данные'!$F106*'План продаж'!AX$32*AY99)","v":0},{"$f":"IF('Исходные данные'!$H106=0,0,'Исходные данные'!$F106*'План продаж'!AY$32*AZ99)","v":0},{"$f":"IF('Исходные данные'!$H106=0,0,'Исходные данные'!$F106*'План продаж'!AZ$32*BA99)","v":0},{"$f":"IF('Исходные данные'!$H106=0,0,'Исходные данные'!$F106*'План продаж'!BA$32*BB99)","v":0},{"$f":"IF('Исходные данные'!$H106=0,0,'Исходные данные'!$F106*'План продаж'!BB$32*BC99)","v":0},{"$f":"IF('Исходные данные'!$H106=0,0,'Исходные данные'!$F106*'План продаж'!BC$32*BD99)","v":0},{"$f":"IF('Исходные данные'!$H106=0,0,'Исходные данные'!$F106*'План продаж'!BD$32*BE99)","v":0},{"$f":"IF('Исходные данные'!$H106=0,0,'Исходные данные'!$F106*'План продаж'!BE$32*BF99)","v":0},{"$f":"IF('Исходные данные'!$H106=0,0,'Исходные данные'!$F106*'План продаж'!BF$32*BG99)","v":0},{"$f":"IF('Исходные данные'!$H106=0,0,'Исходные данные'!$F106*'План продаж'!BG$32*BH99)","v":0},{"$f":"IF('Исходные данные'!$H106=0,0,'Исходные данные'!$F106*'План продаж'!BH$32*BI99)","v":0},{"$f":"IF('Исходные данные'!$H106=0,0,'Исходные данные'!$F106*'План продаж'!BI$32*BJ99)","v":0},{"$f":"IF('Исходные данные'!$H106=0,0,'Исходные данные'!$F106*'План продаж'!BJ$32*BK99)","v":0},{"$f":"IF('Исходные данные'!$H106=0,0,'Исходные данные'!$F106*'План продаж'!BK$32*BL99)","v":0}]
["Процент взноса в ФСС"]
[{"$f":"A101","v":"Продавей"},null,null,null,{"$f":"IF((E69-'Исходные данные'!$C$295)<0,'Исходные данные'!$C$294,0)","v":2.9000000000000001E-2},{"$f":"IF((F69-'Исходные данные'!$C$295)<0,'Исходные данные'!$C$294,0)","v":2.9000000000000001E-2},{"$f":"IF((G69-'Исходные данные'!$C$295)<0,'Исходные данные'!$C$294,0)","v":2.9000000000000001E-2},{"$f":"IF((H69-'Исходные данные'!$C$295)<0,'Исходные данные'!$C$294,0)","v":2.9000000000000001E-2},{"$f":"IF((I69-'Исходные данные'!$C$295)<0,'Исходные данные'!$C$294,0)","v":2.9000000000000001E-2},{"$f":"IF((J69-'Исходные данные'!$C$295)<0,'Исходные данные'!$C$294,0)","v":2.9000000000000001E-2},{"$f":"IF((K69-'Исходные данные'!$C$295)<0,'Исходные данные'!$C$294,0)","v":2.9000000000000001E-2},{"$f":"IF((L69-'Исходные данные'!$C$295)<0,'Исходные данные'!$C$294,0)","v":2.9000000000000001E-2},{"$f":"IF((M69-'Исходные данные'!$C$295)<0,'Исходные данные'!$C$294,0)","v":2.9000000000000001E-2},{"$f":"IF((N69-'Исходные данные'!$C$295)<0,'Исходные данные'!$C$294,0)","v":2.9000000000000001E-2},{"$f":"IF((O69-'Исходные данные'!$C$295)<0,'Исходные данные'!$C$294,0)","v":2.9000000000000001E-2},{"$f":"IF((P69-'Исходные данные'!$C$295)<0,'Исходные данные'!$C$294,0)","v":2.9000000000000001E-2},{"$f":"IF((Q69-'Исходные данные'!$C$295)<0,'Исходные данные'!$C$294,0)","v":2.9000000000000001E-2},{"$f":"IF((R69-'Исходные данные'!$C$295)<0,'Исходные данные'!$C$294,0)","v":2.9000000000000001E-2},{"$f":"IF((S69-'Исходные данные'!$C$295)<0,'Исходные данные'!$C$294,0)","v":2.9000000000000001E-2},{"$f":"IF((T69-'Исходные данные'!$C$295)<0,'Исходные данные'!$C$294,0)","v":2.9000000000000001E-2},{"$f":"IF((U69-'Исходные данные'!$C$295)<0,'Исходные данные'!$C$294,0)","v":2.9000000000000001E-2},{"$f":"IF((V69-'Исходные данные'!$C$295)<0,'Исходные данные'!$C$294,0)","v":2.9000000000000001E-2},{"$f":"IF((W69-'Исходные данные'!$C$295)<0,'Исходные данные'!$C$294,0)","v":2.9000000000000001E-2},{"$f":"IF((X69-'Исходные данные'!$C$295)<0,'Исходные данные'!$C$294,0)","v":2.9000000000000001E-2},{"$f":"IF((Y69-'Исходные данные'!$C$295)<0,'Исходные данные'!$C$294,0)","v":2.9000000000000001E-2},{"$f":"IF((Z69-'Исходные данные'!$C$295)<0,'Исходные данные'!$C$294,0)","v":2.9000000000000001E-2},{"$f":"IF((AA69-'Исходные данные'!$C$295)<0,'Исходные данные'!$C$294,0)","v":2.9000000000000001E-2},{"$f":"IF((AB69-'Исходные данные'!$C$295)<0,'Исходные данные'!$C$294,0)","v":2.9000000000000001E-2},{"$f":"IF((AC69-'Исходные данные'!$C$295)<0,'Исходные данные'!$C$294,0)","v":2.9000000000000001E-2},{"$f":"IF((AD69-'Исходные данные'!$C$295)<0,'Исходные данные'!$C$294,0)","v":2.9000000000000001E-2},{"$f":"IF((AE69-'Исходные данные'!$C$295)<0,'Исходные данные'!$C$294,0)","v":2.9000000000000001E-2},{"$f":"IF((AF69-'Исходные данные'!$C$295)<0,'Исходные данные'!$C$294,0)","v":2.9000000000000001E-2},{"$f":"IF((AG69-'Исходные данные'!$C$295)<0,'Исходные данные'!$C$294,0)","v":2.9000000000000001E-2},{"$f":"IF((AH69-'Исходные данные'!$C$295)<0,'Исходные данные'!$C$294,0)","v":2.9000000000000001E-2},{"$f":"IF((AI69-'Исходные данные'!$C$295)<0,'Исходные данные'!$C$294,0)","v":2.9000000000000001E-2},{"$f":"IF((AJ69-'Исходные данные'!$C$295)<0,'Исходные данные'!$C$294,0)","v":2.9000000000000001E-2},{"$f":"IF((AK69-'Исходные данные'!$C$295)<0,'Исходные данные'!$C$294,0)","v":2.9000000000000001E-2},{"$f":"IF((AL69-'Исходные данные'!$C$295)<0,'Исходные данные'!$C$294,0)","v":2.9000000000000001E-2},{"$f":"IF((AM69-'Исходные данные'!$C$295)<0,'Исходные данные'!$C$294,0)","v":2.9000000000000001E-2},{"$f":"IF((AN69-'Исходные данные'!$C$295)<0,'Исходные данные'!$C$294,0)","v":2.9000000000000001E-2},{"$f":"IF((AO69-'Исходные данные'!$C$295)<0,'Исходные данные'!$C$294,0)","v":2.9000000000000001E-2},{"$f":"IF((AP69-'Исходные данные'!$C$295)<0,'Исходные данные'!$C$294,0)","v":2.9000000000000001E-2},{"$f":"IF((AQ69-'Исходные данные'!$C$295)<0,'Исходные данные'!$C$294,0)","v":2.9000000000000001E-2},{"$f":"IF((AR69-'Исходные данные'!$C$295)<0,'Исходные данные'!$C$294,0)","v":2.9000000000000001E-2},{"$f":"IF((AS69-'Исходные данные'!$C$295)<0,'Исходные данные'!$C$294,0)","v":2.9000000000000001E-2},{"$f":"IF((AT69-'Исходные данные'!$C$295)<0,'Исходные данные'!$C$294,0)","v":2.9000000000000001E-2},{"$f":"IF((AU69-'Исходные данные'!$C$295)<0,'Исходные данные'!$C$294,0)","v":2.9000000000000001E-2},{"$f":"IF((AV69-'Исходные данные'!$C$295)<0,'Исходные данные'!$C$294,0)","v":2.9000000000000001E-2},{"$f":"IF((AW69-'Исходные данные'!$C$295)<0,'Исходные данные'!$C$294,0)","v":2.9000000000000001E-2},{"$f":"IF((AX69-'Исходные данные'!$C$295)<0,'Исходные данные'!$C$294,0)","v":2.9000000000000001E-2},{"$f":"IF((AY69-'Исходные данные'!$C$295)<0,'Исходные данные'!$C$294,0)","v":2.9000000000000001E-2},{"$f":"IF((AZ69-'Исходные данные'!$C$295)<0,'Исходные данные'!$C$294,0)","v":2.9000000000000001E-2},{"$f":"IF((BA69-'Исходные данные'!$C$295)<0,'Исходные данные'!$C$294,0)","v":2.9000000000000001E-2},{"$f":"IF((BB69-'Исходные данные'!$C$295)<0,'Исходные данные'!$C$294,0)","v":2.9000000000000001E-2},{"$f":"IF((BC69-'Исходные данные'!$C$295)<0,'Исходные данные'!$C$294,0)","v":2.9000000000000001E-2},{"$f":"IF((BD69-'Исходные данные'!$C$295)<0,'Исходные данные'!$C$294,0)","v":2.9000000000000001E-2},{"$f":"IF((BE69-'Исходные данные'!$C$295)<0,'Исходные данные'!$C$294,0)","v":2.9000000000000001E-2},{"$f":"IF((BF69-'Исходные данные'!$C$295)<0,'Исходные данные'!$C$294,0)","v":2.9000000000000001E-2},{"$f":"IF((BG69-'Исходные данные'!$C$295)<0,'Исходные данные'!$C$294,0)","v":2.9000000000000001E-2},{"$f":"IF((BH69-'Исходные данные'!$C$295)<0,'Исходные данные'!$C$294,0)","v":2.9000000000000001E-2},{"$f":"IF((BI69-'Исходные данные'!$C$295)<0,'Исходные данные'!$C$294,0)","v":2.9000000000000001E-2},{"$f":"IF((BJ69-'Исходные данные'!$C$295)<0,'Исходные данные'!$C$294,0)","v":2.9000000000000001E-2},{"$f":"IF((BK69-'Исходные данные'!$C$295)<0,'Исходные данные'!$C$294,0)","v":2.9000000000000001E-2},{"$f":"IF((BL69-'Исходные данные'!$C$295)<0,'Исходные данные'!$C$294,0)","v":2.9000000000000001E-2}]
[{"$f":"A102","v":0},null,null,null,{"$f":"IF((E70-'Исходные данные'!$C$295)<0,'Исходные данные'!$C$294,0)","v":2.9000000000000001E-2},{"$f":"IF((F70-'Исходные данные'!$C$295)<0,'Исходные данные'!$C$294,0)","v":2.9000000000000001E-2},{"$f":"IF((G70-'Исходные данные'!$C$295)<0,'Исходные данные'!$C$294,0)","v":2.9000000000000001E-2},{"$f":"IF((H70-'Исходные данные'!$C$295)<0,'Исходные данные'!$C$294,0)","v":2.9000000000000001E-2},{"$f":"IF((I70-'Исходные данные'!$C$295)<0,'Исходные данные'!$C$294,0)","v":2.9000000000000001E-2},{"$f":"IF((J70-'Исходные данные'!$C$295)<0,'Исходные данные'!$C$294,0)","v":2.9000000000000001E-2},{"$f":"IF((K70-'Исходные данные'!$C$295)<0,'Исходные данные'!$C$294,0)","v":2.9000000000000001E-2},{"$f":"IF((L70-'Исходные данные'!$C$295)<0,'Исходные данные'!$C$294,0)","v":2.9000000000000001E-2},{"$f":"IF((M70-'Исходные данные'!$C$295)<0,'Исходные данные'!$C$294,0)","v":2.9000000000000001E-2},{"$f":"IF((N70-'Исходные данные'!$C$295)<0,'Исходные данные'!$C$294,0)","v":2.9000000000000001E-2},{"$f":"IF((O70-'Исходные данные'!$C$295)<0,'Исходные данные'!$C$294,0)","v":2.9000000000000001E-2},{"$f":"IF((P70-'Исходные данные'!$C$295)<0,'Исходные данные'!$C$294,0)","v":2.9000000000000001E-2},{"$f":"IF((Q70-'Исходные данные'!$C$295)<0,'Исходные данные'!$C$294,0)","v":2.9000000000000001E-2},{"$f":"IF((R70-'Исходные данные'!$C$295)<0,'Исходные данные'!$C$294,0)","v":2.9000000000000001E-2},{"$f":"IF((S70-'Исходные данные'!$C$295)<0,'Исходные данные'!$C$294,0)","v":2.9000000000000001E-2},{"$f":"IF((T70-'Исходные данные'!$C$295)<0,'Исходные данные'!$C$294,0)","v":2.9000000000000001E-2},{"$f":"IF((U70-'Исходные данные'!$C$295)<0,'Исходные данные'!$C$294,0)","v":2.9000000000000001E-2},{"$f":"IF((V70-'Исходные данные'!$C$295)<0,'Исходные данные'!$C$294,0)","v":2.9000000000000001E-2},{"$f":"IF((W70-'Исходные данные'!$C$295)<0,'Исходные данные'!$C$294,0)","v":2.9000000000000001E-2},{"$f":"IF((X70-'Исходные данные'!$C$295)<0,'Исходные данные'!$C$294,0)","v":2.9000000000000001E-2},{"$f":"IF((Y70-'Исходные данные'!$C$295)<0,'Исходные данные'!$C$294,0)","v":2.9000000000000001E-2},{"$f":"IF((Z70-'Исходные данные'!$C$295)<0,'Исходные данные'!$C$294,0)","v":2.9000000000000001E-2},{"$f":"IF((AA70-'Исходные данные'!$C$295)<0,'Исходные данные'!$C$294,0)","v":2.9000000000000001E-2},{"$f":"IF((AB70-'Исходные данные'!$C$295)<0,'Исходные данные'!$C$294,0)","v":2.9000000000000001E-2},{"$f":"IF((AC70-'Исходные данные'!$C$295)<0,'Исходные данные'!$C$294,0)","v":2.9000000000000001E-2},{"$f":"IF((AD70-'Исходные данные'!$C$295)<0,'Исходные данные'!$C$294,0)","v":2.9000000000000001E-2},{"$f":"IF((AE70-'Исходные данные'!$C$295)<0,'Исходные данные'!$C$294,0)","v":2.9000000000000001E-2},{"$f":"IF((AF70-'Исходные данные'!$C$295)<0,'Исходные данные'!$C$294,0)","v":2.9000000000000001E-2},{"$f":"IF((AG70-'Исходные данные'!$C$295)<0,'Исходные данные'!$C$294,0)","v":2.9000000000000001E-2},{"$f":"IF((AH70-'Исходные данные'!$C$295)<0,'Исходные данные'!$C$294,0)","v":2.9000000000000001E-2},{"$f":"IF((AI70-'Исходные данные'!$C$295)<0,'Исходные данные'!$C$294,0)","v":2.9000000000000001E-2},{"$f":"IF((AJ70-'Исходные данные'!$C$295)<0,'Исходные данные'!$C$294,0)","v":2.9000000000000001E-2},{"$f":"IF((AK70-'Исходные данные'!$C$295)<0,'Исходные данные'!$C$294,0)","v":2.9000000000000001E-2},{"$f":"IF((AL70-'Исходные данные'!$C$295)<0,'Исходные данные'!$C$294,0)","v":2.9000000000000001E-2},{"$f":"IF((AM70-'Исходные данные'!$C$295)<0,'Исходные данные'!$C$294,0)","v":2.9000000000000001E-2},{"$f":"IF((AN70-'Исходные данные'!$C$295)<0,'Исходные данные'!$C$294,0)","v":2.9000000000000001E-2},{"$f":"IF((AO70-'Исходные данные'!$C$295)<0,'Исходные данные'!$C$294,0)","v":2.9000000000000001E-2},{"$f":"IF((AP70-'Исходные данные'!$C$295)<0,'Исходные данные'!$C$294,0)","v":2.9000000000000001E-2},{"$f":"IF((AQ70-'Исходные данные'!$C$295)<0,'Исходные данные'!$C$294,0)","v":2.9000000000000001E-2},{"$f":"IF((AR70-'Исходные данные'!$C$295)<0,'Исходные данные'!$C$294,0)","v":2.9000000000000001E-2},{"$f":"IF((AS70-'Исходные данные'!$C$295)<0,'Исходные данные'!$C$294,0)","v":2.9000000000000001E-2},{"$f":"IF((AT70-'Исходные данные'!$C$295)<0,'Исходные данные'!$C$294,0)","v":2.9000000000000001E-2},{"$f":"IF((AU70-'Исходные данные'!$C$295)<0,'Исходные данные'!$C$294,0)","v":2.9000000000000001E-2},{"$f":"IF((AV70-'Исходные данные'!$C$295)<0,'Исходные данные'!$C$294,0)","v":2.9000000000000001E-2},{"$f":"IF((AW70-'Исходные данные'!$C$295)<0,'Исходные данные'!$C$294,0)","v":2.9000000000000001E-2},{"$f":"IF((AX70-'Исходные данные'!$C$295)<0,'Исходные данные'!$C$294,0)","v":2.9000000000000001E-2},{"$f":"IF((AY70-'Исходные данные'!$C$295)<0,'Исходные данные'!$C$294,0)","v":2.9000000000000001E-2},{"$f":"IF((AZ70-'Исходные данные'!$C$295)<0,'Исходные данные'!$C$294,0)","v":2.9000000000000001E-2},{"$f":"IF((BA70-'Исходные данные'!$C$295)<0,'Исходные данные'!$C$294,0)","v":2.9000000000000001E-2},{"$f":"IF((BB70-'Исходные данные'!$C$295)<0,'Исходные данные'!$C$294,0)","v":2.9000000000000001E-2},{"$f":"IF((BC70-'Исходные данные'!$C$295)<0,'Исходные данные'!$C$294,0)","v":2.9000000000000001E-2},{"$f":"IF((BD70-'Исходные данные'!$C$295)<0,'Исходные данные'!$C$294,0)","v":2.9000000000000001E-2},{"$f":"IF((BE70-'Исходные данные'!$C$295)<0,'Исходные данные'!$C$294,0)","v":2.9000000000000001E-2},{"$f":"IF((BF70-'Исходные данные'!$C$295)<0,'Исходные данные'!$C$294,0)","v":2.9000000000000001E-2},{"$f":"IF((BG70-'Исходные данные'!$C$295)<0,'Исходные данные'!$C$294,0)","v":2.9000000000000001E-2},{"$f":"IF((BH70-'Исходные данные'!$C$295)<0,'Исходные данные'!$C$294,0)","v":2.9000000000000001E-2},{"$f":"IF((BI70-'Исходные данные'!$C$295)<0,'Исходные данные'!$C$294,0)","v":2.9000000000000001E-2},{"$f":"IF((BJ70-'Исходные данные'!$C$295)<0,'Исходные данные'!$C$294,0)","v":2.9000000000000001E-2},{"$f":"IF((BK70-'Исходные данные'!$C$295)<0,'Исходные данные'!$C$294,0)","v":2.9000000000000001E-2},{"$f":"IF((BL70-'Исходные данные'!$C$295)<0,'Исходные данные'!$C$294,0)","v":2.9000000000000001E-2}]
[0,null,null,null,{"$f":"IF((E71-'Исходные данные'!$C$295)<0,'Исходные данные'!$C$294,0)","v":2.9000000000000001E-2},{"$f":"IF((F71-'Исходные данные'!$C$295)<0,'Исходные данные'!$C$294,0)","v":2.9000000000000001E-2},{"$f":"IF((G71-'Исходные данные'!$C$295)<0,'Исходные данные'!$C$294,0)","v":2.9000000000000001E-2},{"$f":"IF((H71-'Исходные данные'!$C$295)<0,'Исходные данные'!$C$294,0)","v":2.9000000000000001E-2},{"$f":"IF((I71-'Исходные данные'!$C$295)<0,'Исходные данные'!$C$294,0)","v":2.9000000000000001E-2},{"$f":"IF((J71-'Исходные данные'!$C$295)<0,'Исходные данные'!$C$294,0)","v":2.9000000000000001E-2},{"$f":"IF((K71-'Исходные данные'!$C$295)<0,'Исходные данные'!$C$294,0)","v":2.9000000000000001E-2},{"$f":"IF((L71-'Исходные данные'!$C$295)<0,'Исходные данные'!$C$294,0)","v":2.9000000000000001E-2},{"$f":"IF((M71-'Исходные данные'!$C$295)<0,'Исходные данные'!$C$294,0)","v":2.9000000000000001E-2},{"$f":"IF((N71-'Исходные данные'!$C$295)<0,'Исходные данные'!$C$294,0)","v":2.9000000000000001E-2},{"$f":"IF((O71-'Исходные данные'!$C$295)<0,'Исходные данные'!$C$294,0)","v":2.9000000000000001E-2},{"$f":"IF((P71-'Исходные данные'!$C$295)<0,'Исходные данные'!$C$294,0)","v":2.9000000000000001E-2},{"$f":"IF((Q71-'Исходные данные'!$C$295)<0,'Исходные данные'!$C$294,0)","v":2.9000000000000001E-2},{"$f":"IF((R71-'Исходные данные'!$C$295)<0,'Исходные данные'!$C$294,0)","v":2.9000000000000001E-2},{"$f":"IF((S71-'Исходные данные'!$C$295)<0,'Исходные данные'!$C$294,0)","v":2.9000000000000001E-2},{"$f":"IF((T71-'Исходные данные'!$C$295)<0,'Исходные данные'!$C$294,0)","v":2.9000000000000001E-2},{"$f":"IF((U71-'Исходные данные'!$C$295)<0,'Исходные данные'!$C$294,0)","v":2.9000000000000001E-2},{"$f":"IF((V71-'Исходные данные'!$C$295)<0,'Исходные данные'!$C$294,0)","v":2.9000000000000001E-2},{"$f":"IF((W71-'Исходные данные'!$C$295)<0,'Исходные данные'!$C$294,0)","v":2.9000000000000001E-2},{"$f":"IF((X71-'Исходные данные'!$C$295)<0,'Исходные данные'!$C$294,0)","v":2.9000000000000001E-2},{"$f":"IF((Y71-'Исходные данные'!$C$295)<0,'Исходные данные'!$C$294,0)","v":2.9000000000000001E-2},{"$f":"IF((Z71-'Исходные данные'!$C$295)<0,'Исходные данные'!$C$294,0)","v":2.9000000000000001E-2},{"$f":"IF((AA71-'Исходные данные'!$C$295)<0,'Исходные данные'!$C$294,0)","v":2.9000000000000001E-2},{"$f":"IF((AB71-'Исходные данные'!$C$295)<0,'Исходные данные'!$C$294,0)","v":2.9000000000000001E-2},{"$f":"IF((AC71-'Исходные данные'!$C$295)<0,'Исходные данные'!$C$294,0)","v":2.9000000000000001E-2},{"$f":"IF((AD71-'Исходные данные'!$C$295)<0,'Исходные данные'!$C$294,0)","v":2.9000000000000001E-2},{"$f":"IF((AE71-'Исходные данные'!$C$295)<0,'Исходные данные'!$C$294,0)","v":2.9000000000000001E-2},{"$f":"IF((AF71-'Исходные данные'!$C$295)<0,'Исходные данные'!$C$294,0)","v":2.9000000000000001E-2},{"$f":"IF((AG71-'Исходные данные'!$C$295)<0,'Исходные данные'!$C$294,0)","v":2.9000000000000001E-2},{"$f":"IF((AH71-'Исходные данные'!$C$295)<0,'Исходные данные'!$C$294,0)","v":2.9000000000000001E-2},{"$f":"IF((AI71-'Исходные данные'!$C$295)<0,'Исходные данные'!$C$294,0)","v":2.9000000000000001E-2},{"$f":"IF((AJ71-'Исходные данные'!$C$295)<0,'Исходные данные'!$C$294,0)","v":2.9000000000000001E-2},{"$f":"IF((AK71-'Исходные данные'!$C$295)<0,'Исходные данные'!$C$294,0)","v":2.9000000000000001E-2},{"$f":"IF((AL71-'Исходные данные'!$C$295)<0,'Исходные данные'!$C$294,0)","v":2.9000000000000001E-2},{"$f":"IF((AM71-'Исходные данные'!$C$295)<0,'Исходные данные'!$C$294,0)","v":2.9000000000000001E-2},{"$f":"IF((AN71-'Исходные данные'!$C$295)<0,'Исходные данные'!$C$294,0)","v":2.9000000000000001E-2},{"$f":"IF((AO71-'Исходные данные'!$C$295)<0,'Исходные данные'!$C$294,0)","v":2.9000000000000001E-2},{"$f":"IF((AP71-'Исходные данные'!$C$295)<0,'Исходные данные'!$C$294,0)","v":2.9000000000000001E-2},{"$f":"IF((AQ71-'Исходные данные'!$C$295)<0,'Исходные данные'!$C$294,0)","v":2.9000000000000001E-2},{"$f":"IF((AR71-'Исходные данные'!$C$295)<0,'Исходные данные'!$C$294,0)","v":2.9000000000000001E-2},{"$f":"IF((AS71-'Исходные данные'!$C$295)<0,'Исходные данные'!$C$294,0)","v":2.9000000000000001E-2},{"$f":"IF((AT71-'Исходные данные'!$C$295)<0,'Исходные данные'!$C$294,0)","v":2.9000000000000001E-2},{"$f":"IF((AU71-'Исходные данные'!$C$295)<0,'Исходные данные'!$C$294,0)","v":2.9000000000000001E-2},{"$f":"IF((AV71-'Исходные данные'!$C$295)<0,'Исходные данные'!$C$294,0)","v":2.9000000000000001E-2},{"$f":"IF((AW71-'Исходные данные'!$C$295)<0,'Исходные данные'!$C$294,0)","v":2.9000000000000001E-2},{"$f":"IF((AX71-'Исходные данные'!$C$295)<0,'Исходные данные'!$C$294,0)","v":2.9000000000000001E-2},{"$f":"IF((AY71-'Исходные данные'!$C$295)<0,'Исходные данные'!$C$294,0)","v":2.9000000000000001E-2},{"$f":"IF((AZ71-'Исходные данные'!$C$295)<0,'Исходные данные'!$C$294,0)","v":2.9000000000000001E-2},{"$f":"IF((BA71-'Исходные данные'!$C$295)<0,'Исходные данные'!$C$294,0)","v":2.9000000000000001E-2},{"$f":"IF((BB71-'Исходные данные'!$C$295)<0,'Исходные данные'!$C$294,0)","v":2.9000000000000001E-2},{"$f":"IF((BC71-'Исходные данные'!$C$295)<0,'Исходные данные'!$C$294,0)","v":2.9000000000000001E-2},{"$f":"IF((BD71-'Исходные данные'!$C$295)<0,'Исходные данные'!$C$294,0)","v":2.9000000000000001E-2},{"$f":"IF((BE71-'Исходные данные'!$C$295)<0,'Исходные данные'!$C$294,0)","v":2.9000000000000001E-2},{"$f":"IF((BF71-'Исходные данные'!$C$295)<0,'Исходные данные'!$C$294,0)","v":2.9000000000000001E-2},{"$f":"IF((BG71-'Исходные данные'!$C$295)<0,'Исходные данные'!$C$294,0)","v":2.9000000000000001E-2},{"$f":"IF((BH71-'Исходные данные'!$C$295)<0,'Исходные данные'!$C$294,0)","v":2.9000000000000001E-2},{"$f":"IF((BI71-'Исходные данные'!$C$295)<0,'Исходные данные'!$C$294,0)","v":2.9000000000000001E-2},{"$f":"IF((BJ71-'Исходные данные'!$C$295)<0,'Исходные данные'!$C$294,0)","v":2.9000000000000001E-2},{"$f":"IF((BK71-'Исходные данные'!$C$295)<0,'Исходные данные'!$C$294,0)","v":2.9000000000000001E-2},{"$f":"IF((BL71-'Исходные данные'!$C$295)<0,'Исходные данные'!$C$294,0)","v":2.9000000000000001E-2}]
[0,null,null,null,{"$f":"IF((E72-'Исходные данные'!$C$295)<0,'Исходные данные'!$C$294,0)","v":2.9000000000000001E-2},{"$f":"IF((F72-'Исходные данные'!$C$295)<0,'Исходные данные'!$C$294,0)","v":2.9000000000000001E-2},{"$f":"IF((G72-'Исходные данные'!$C$295)<0,'Исходные данные'!$C$294,0)","v":2.9000000000000001E-2},{"$f":"IF((H72-'Исходные данные'!$C$295)<0,'Исходные данные'!$C$294,0)","v":2.9000000000000001E-2},{"$f":"IF((I72-'Исходные данные'!$C$295)<0,'Исходные данные'!$C$294,0)","v":2.9000000000000001E-2},{"$f":"IF((J72-'Исходные данные'!$C$295)<0,'Исходные данные'!$C$294,0)","v":2.9000000000000001E-2},{"$f":"IF((K72-'Исходные данные'!$C$295)<0,'Исходные данные'!$C$294,0)","v":2.9000000000000001E-2},{"$f":"IF((L72-'Исходные данные'!$C$295)<0,'Исходные данные'!$C$294,0)","v":2.9000000000000001E-2},{"$f":"IF((M72-'Исходные данные'!$C$295)<0,'Исходные данные'!$C$294,0)","v":2.9000000000000001E-2},{"$f":"IF((N72-'Исходные данные'!$C$295)<0,'Исходные данные'!$C$294,0)","v":2.9000000000000001E-2},{"$f":"IF((O72-'Исходные данные'!$C$295)<0,'Исходные данные'!$C$294,0)","v":2.9000000000000001E-2},{"$f":"IF((P72-'Исходные данные'!$C$295)<0,'Исходные данные'!$C$294,0)","v":2.9000000000000001E-2},{"$f":"IF((Q72-'Исходные данные'!$C$295)<0,'Исходные данные'!$C$294,0)","v":2.9000000000000001E-2},{"$f":"IF((R72-'Исходные данные'!$C$295)<0,'Исходные данные'!$C$294,0)","v":2.9000000000000001E-2},{"$f":"IF((S72-'Исходные данные'!$C$295)<0,'Исходные данные'!$C$294,0)","v":2.9000000000000001E-2},{"$f":"IF((T72-'Исходные данные'!$C$295)<0,'Исходные данные'!$C$294,0)","v":2.9000000000000001E-2},{"$f":"IF((U72-'Исходные данные'!$C$295)<0,'Исходные данные'!$C$294,0)","v":2.9000000000000001E-2},{"$f":"IF((V72-'Исходные данные'!$C$295)<0,'Исходные данные'!$C$294,0)","v":2.9000000000000001E-2},{"$f":"IF((W72-'Исходные данные'!$C$295)<0,'Исходные данные'!$C$294,0)","v":2.9000000000000001E-2},{"$f":"IF((X72-'Исходные данные'!$C$295)<0,'Исходные данные'!$C$294,0)","v":2.9000000000000001E-2},{"$f":"IF((Y72-'Исходные данные'!$C$295)<0,'Исходные данные'!$C$294,0)","v":2.9000000000000001E-2},{"$f":"IF((Z72-'Исходные данные'!$C$295)<0,'Исходные данные'!$C$294,0)","v":2.9000000000000001E-2},{"$f":"IF((AA72-'Исходные данные'!$C$295)<0,'Исходные данные'!$C$294,0)","v":2.9000000000000001E-2},{"$f":"IF((AB72-'Исходные данные'!$C$295)<0,'Исходные данные'!$C$294,0)","v":2.9000000000000001E-2},{"$f":"IF((AC72-'Исходные данные'!$C$295)<0,'Исходные данные'!$C$294,0)","v":2.9000000000000001E-2},{"$f":"IF((AD72-'Исходные данные'!$C$295)<0,'Исходные данные'!$C$294,0)","v":2.9000000000000001E-2},{"$f":"IF((AE72-'Исходные данные'!$C$295)<0,'Исходные данные'!$C$294,0)","v":2.9000000000000001E-2},{"$f":"IF((AF72-'Исходные данные'!$C$295)<0,'Исходные данные'!$C$294,0)","v":2.9000000000000001E-2},{"$f":"IF((AG72-'Исходные данные'!$C$295)<0,'Исходные данные'!$C$294,0)","v":2.9000000000000001E-2},{"$f":"IF((AH72-'Исходные данные'!$C$295)<0,'Исходные данные'!$C$294,0)","v":2.9000000000000001E-2},{"$f":"IF((AI72-'Исходные данные'!$C$295)<0,'Исходные данные'!$C$294,0)","v":2.9000000000000001E-2},{"$f":"IF((AJ72-'Исходные данные'!$C$295)<0,'Исходные данные'!$C$294,0)","v":2.9000000000000001E-2},{"$f":"IF((AK72-'Исходные данные'!$C$295)<0,'Исходные данные'!$C$294,0)","v":2.9000000000000001E-2},{"$f":"IF((AL72-'Исходные данные'!$C$295)<0,'Исходные данные'!$C$294,0)","v":2.9000000000000001E-2},{"$f":"IF((AM72-'Исходные данные'!$C$295)<0,'Исходные данные'!$C$294,0)","v":2.9000000000000001E-2},{"$f":"IF((AN72-'Исходные данные'!$C$295)<0,'Исходные данные'!$C$294,0)","v":2.9000000000000001E-2},{"$f":"IF((AO72-'Исходные данные'!$C$295)<0,'Исходные данные'!$C$294,0)","v":2.9000000000000001E-2},{"$f":"IF((AP72-'Исходные данные'!$C$295)<0,'Исходные данные'!$C$294,0)","v":2.9000000000000001E-2},{"$f":"IF((AQ72-'Исходные данные'!$C$295)<0,'Исходные данные'!$C$294,0)","v":2.9000000000000001E-2},{"$f":"IF((AR72-'Исходные данные'!$C$295)<0,'Исходные данные'!$C$294,0)","v":2.9000000000000001E-2},{"$f":"IF((AS72-'Исходные данные'!$C$295)<0,'Исходные данные'!$C$294,0)","v":2.9000000000000001E-2},{"$f":"IF((AT72-'Исходные данные'!$C$295)<0,'Исходные данные'!$C$294,0)","v":2.9000000000000001E-2},{"$f":"IF((AU72-'Исходные данные'!$C$295)<0,'Исходные данные'!$C$294,0)","v":2.9000000000000001E-2},{"$f":"IF((AV72-'Исходные данные'!$C$295)<0,'Исходные данные'!$C$294,0)","v":2.9000000000000001E-2},{"$f":"IF((AW72-'Исходные данные'!$C$295)<0,'Исходные данные'!$C$294,0)","v":2.9000000000000001E-2},{"$f":"IF((AX72-'Исходные данные'!$C$295)<0,'Исходные данные'!$C$294,0)","v":2.9000000000000001E-2},{"$f":"IF((AY72-'Исходные данные'!$C$295)<0,'Исходные данные'!$C$294,0)","v":2.9000000000000001E-2},{"$f":"IF((AZ72-'Исходные данные'!$C$295)<0,'Исходные данные'!$C$294,0)","v":2.9000000000000001E-2},{"$f":"IF((BA72-'Исходные данные'!$C$295)<0,'Исходные данные'!$C$294,0)","v":2.9000000000000001E-2},{"$f":"IF((BB72-'Исходные данные'!$C$295)<0,'Исходные данные'!$C$294,0)","v":2.9000000000000001E-2},{"$f":"IF((BC72-'Исходные данные'!$C$295)<0,'Исходные данные'!$C$294,0)","v":2.9000000000000001E-2},{"$f":"IF((BD72-'Исходные данные'!$C$295)<0,'Исходные данные'!$C$294,0)","v":2.9000000000000001E-2},{"$f":"IF((BE72-'Исходные данные'!$C$295)<0,'Исходные данные'!$C$294,0)","v":2.9000000000000001E-2},{"$f":"IF((BF72-'Исходные данные'!$C$295)<0,'Исходные данные'!$C$294,0)","v":2.9000000000000001E-2},{"$f":"IF((BG72-'Исходные данные'!$C$295)<0,'Исходные данные'!$C$294,0)","v":2.9000000000000001E-2},{"$f":"IF((BH72-'Исходные данные'!$C$295)<0,'Исходные данные'!$C$294,0)","v":2.9000000000000001E-2},{"$f":"IF((BI72-'Исходные данные'!$C$295)<0,'Исходные данные'!$C$294,0)","v":2.9000000000000001E-2},{"$f":"IF((BJ72-'Исходные данные'!$C$295)<0,'Исходные данные'!$C$294,0)","v":2.9000000000000001E-2},{"$f":"IF((BK72-'Исходные данные'!$C$295)<0,'Исходные данные'!$C$294,0)","v":2.9000000000000001E-2},{"$f":"IF((BL72-'Исходные данные'!$C$295)<0,'Исходные данные'!$C$294,0)","v":2.9000000000000001E-2}]
[0,null,null,null,{"$f":"IF((E73-'Исходные данные'!$C$295)<0,'Исходные данные'!$C$294,0)","v":2.9000000000000001E-2},{"$f":"IF((F73-'Исходные данные'!$C$295)<0,'Исходные данные'!$C$294,0)","v":2.9000000000000001E-2},{"$f":"IF((G73-'Исходные данные'!$C$295)<0,'Исходные данные'!$C$294,0)","v":2.9000000000000001E-2},{"$f":"IF((H73-'Исходные данные'!$C$295)<0,'Исходные данные'!$C$294,0)","v":2.9000000000000001E-2},{"$f":"IF((I73-'Исходные данные'!$C$295)<0,'Исходные данные'!$C$294,0)","v":2.9000000000000001E-2},{"$f":"IF((J73-'Исходные данные'!$C$295)<0,'Исходные данные'!$C$294,0)","v":2.9000000000000001E-2},{"$f":"IF((K73-'Исходные данные'!$C$295)<0,'Исходные данные'!$C$294,0)","v":2.9000000000000001E-2},{"$f":"IF((L73-'Исходные данные'!$C$295)<0,'Исходные данные'!$C$294,0)","v":2.9000000000000001E-2},{"$f":"IF((M73-'Исходные данные'!$C$295)<0,'Исходные данные'!$C$294,0)","v":2.9000000000000001E-2},{"$f":"IF((N73-'Исходные данные'!$C$295)<0,'Исходные данные'!$C$294,0)","v":2.9000000000000001E-2},{"$f":"IF((O73-'Исходные данные'!$C$295)<0,'Исходные данные'!$C$294,0)","v":2.9000000000000001E-2},{"$f":"IF((P73-'Исходные данные'!$C$295)<0,'Исходные данные'!$C$294,0)","v":2.9000000000000001E-2},{"$f":"IF((Q73-'Исходные данные'!$C$295)<0,'Исходные данные'!$C$294,0)","v":2.9000000000000001E-2},{"$f":"IF((R73-'Исходные данные'!$C$295)<0,'Исходные данные'!$C$294,0)","v":2.9000000000000001E-2},{"$f":"IF((S73-'Исходные данные'!$C$295)<0,'Исходные данные'!$C$294,0)","v":2.9000000000000001E-2},{"$f":"IF((T73-'Исходные данные'!$C$295)<0,'Исходные данные'!$C$294,0)","v":2.9000000000000001E-2},{"$f":"IF((U73-'Исходные данные'!$C$295)<0,'Исходные данные'!$C$294,0)","v":2.9000000000000001E-2},{"$f":"IF((V73-'Исходные данные'!$C$295)<0,'Исходные данные'!$C$294,0)","v":2.9000000000000001E-2},{"$f":"IF((W73-'Исходные данные'!$C$295)<0,'Исходные данные'!$C$294,0)","v":2.9000000000000001E-2},{"$f":"IF((X73-'Исходные данные'!$C$295)<0,'Исходные данные'!$C$294,0)","v":2.9000000000000001E-2},{"$f":"IF((Y73-'Исходные данные'!$C$295)<0,'Исходные данные'!$C$294,0)","v":2.9000000000000001E-2},{"$f":"IF((Z73-'Исходные данные'!$C$295)<0,'Исходные данные'!$C$294,0)","v":2.9000000000000001E-2},{"$f":"IF((AA73-'Исходные данные'!$C$295)<0,'Исходные данные'!$C$294,0)","v":2.9000000000000001E-2},{"$f":"IF((AB73-'Исходные данные'!$C$295)<0,'Исходные данные'!$C$294,0)","v":2.9000000000000001E-2},{"$f":"IF((AC73-'Исходные данные'!$C$295)<0,'Исходные данные'!$C$294,0)","v":2.9000000000000001E-2},{"$f":"IF((AD73-'Исходные данные'!$C$295)<0,'Исходные данные'!$C$294,0)","v":2.9000000000000001E-2},{"$f":"IF((AE73-'Исходные данные'!$C$295)<0,'Исходные данные'!$C$294,0)","v":2.9000000000000001E-2},{"$f":"IF((AF73-'Исходные данные'!$C$295)<0,'Исходные данные'!$C$294,0)","v":2.9000000000000001E-2},{"$f":"IF((AG73-'Исходные данные'!$C$295)<0,'Исходные данные'!$C$294,0)","v":2.9000000000000001E-2},{"$f":"IF((AH73-'Исходные данные'!$C$295)<0,'Исходные данные'!$C$294,0)","v":2.9000000000000001E-2},{"$f":"IF((AI73-'Исходные данные'!$C$295)<0,'Исходные данные'!$C$294,0)","v":2.9000000000000001E-2},{"$f":"IF((AJ73-'Исходные данные'!$C$295)<0,'Исходные данные'!$C$294,0)","v":2.9000000000000001E-2},{"$f":"IF((AK73-'Исходные данные'!$C$295)<0,'Исходные данные'!$C$294,0)","v":2.9000000000000001E-2},{"$f":"IF((AL73-'Исходные данные'!$C$295)<0,'Исходные данные'!$C$294,0)","v":2.9000000000000001E-2},{"$f":"IF((AM73-'Исходные данные'!$C$295)<0,'Исходные данные'!$C$294,0)","v":2.9000000000000001E-2},{"$f":"IF((AN73-'Исходные данные'!$C$295)<0,'Исходные данные'!$C$294,0)","v":2.9000000000000001E-2},{"$f":"IF((AO73-'Исходные данные'!$C$295)<0,'Исходные данные'!$C$294,0)","v":2.9000000000000001E-2},{"$f":"IF((AP73-'Исходные данные'!$C$295)<0,'Исходные данные'!$C$294,0)","v":2.9000000000000001E-2},{"$f":"IF((AQ73-'Исходные данные'!$C$295)<0,'Исходные данные'!$C$294,0)","v":2.9000000000000001E-2},{"$f":"IF((AR73-'Исходные данные'!$C$295)<0,'Исходные данные'!$C$294,0)","v":2.9000000000000001E-2},{"$f":"IF((AS73-'Исходные данные'!$C$295)<0,'Исходные данные'!$C$294,0)","v":2.9000000000000001E-2},{"$f":"IF((AT73-'Исходные данные'!$C$295)<0,'Исходные данные'!$C$294,0)","v":2.9000000000000001E-2},{"$f":"IF((AU73-'Исходные данные'!$C$295)<0,'Исходные данные'!$C$294,0)","v":2.9000000000000001E-2},{"$f":"IF((AV73-'Исходные данные'!$C$295)<0,'Исходные данные'!$C$294,0)","v":2.9000000000000001E-2},{"$f":"IF((AW73-'Исходные данные'!$C$295)<0,'Исходные данные'!$C$294,0)","v":2.9000000000000001E-2},{"$f":"IF((AX73-'Исходные данные'!$C$295)<0,'Исходные данные'!$C$294,0)","v":2.9000000000000001E-2},{"$f":"IF((AY73-'Исходные данные'!$C$295)<0,'Исходные данные'!$C$294,0)","v":2.9000000000000001E-2},{"$f":"IF((AZ73-'Исходные данные'!$C$295)<0,'Исходные данные'!$C$294,0)","v":2.9000000000000001E-2},{"$f":"IF((BA73-'Исходные данные'!$C$295)<0,'Исходные данные'!$C$294,0)","v":2.9000000000000001E-2},{"$f":"IF((BB73-'Исходные данные'!$C$295)<0,'Исходные данные'!$C$294,0)","v":2.9000000000000001E-2},{"$f":"IF((BC73-'Исходные данные'!$C$295)<0,'Исходные данные'!$C$294,0)","v":2.9000000000000001E-2},{"$f":"IF((BD73-'Исходные данные'!$C$295)<0,'Исходные данные'!$C$294,0)","v":2.9000000000000001E-2},{"$f":"IF((BE73-'Исходные данные'!$C$295)<0,'Исходные данные'!$C$294,0)","v":2.9000000000000001E-2},{"$f":"IF((BF73-'Исходные данные'!$C$295)<0,'Исходные данные'!$C$294,0)","v":2.9000000000000001E-2},{"$f":"IF((BG73-'Исходные данные'!$C$295)<0,'Исходные данные'!$C$294,0)","v":2.9000000000000001E-2},{"$f":"IF((BH73-'Исходные данные'!$C$295)<0,'Исходные данные'!$C$294,0)","v":2.9000000000000001E-2},{"$f":"IF((BI73-'Исходные данные'!$C$295)<0,'Исходные данные'!$C$294,0)","v":2.9000000000000001E-2},{"$f":"IF((BJ73-'Исходные данные'!$C$295)<0,'Исходные данные'!$C$294,0)","v":2.9000000000000001E-2},{"$f":"IF((BK73-'Исходные данные'!$C$295)<0,'Исходные данные'!$C$294,0)","v":2.9000000000000001E-2},{"$f":"IF((BL73-'Исходные данные'!$C$295)<0,'Исходные данные'!$C$294,0)","v":2.9000000000000001E-2}]
[0,null,null,null,{"$f":"IF((E74-'Исходные данные'!$C$295)<0,'Исходные данные'!$C$294,0)","v":2.9000000000000001E-2},{"$f":"IF((F74-'Исходные данные'!$C$295)<0,'Исходные данные'!$C$294,0)","v":2.9000000000000001E-2},{"$f":"IF((G74-'Исходные данные'!$C$295)<0,'Исходные данные'!$C$294,0)","v":2.9000000000000001E-2},{"$f":"IF((H74-'Исходные данные'!$C$295)<0,'Исходные данные'!$C$294,0)","v":2.9000000000000001E-2},{"$f":"IF((I74-'Исходные данные'!$C$295)<0,'Исходные данные'!$C$294,0)","v":2.9000000000000001E-2},{"$f":"IF((J74-'Исходные данные'!$C$295)<0,'Исходные данные'!$C$294,0)","v":2.9000000000000001E-2},{"$f":"IF((K74-'Исходные данные'!$C$295)<0,'Исходные данные'!$C$294,0)","v":2.9000000000000001E-2},{"$f":"IF((L74-'Исходные данные'!$C$295)<0,'Исходные данные'!$C$294,0)","v":2.9000000000000001E-2},{"$f":"IF((M74-'Исходные данные'!$C$295)<0,'Исходные данные'!$C$294,0)","v":2.9000000000000001E-2},{"$f":"IF((N74-'Исходные данные'!$C$295)<0,'Исходные данные'!$C$294,0)","v":2.9000000000000001E-2},{"$f":"IF((O74-'Исходные данные'!$C$295)<0,'Исходные данные'!$C$294,0)","v":2.9000000000000001E-2},{"$f":"IF((P74-'Исходные данные'!$C$295)<0,'Исходные данные'!$C$294,0)","v":2.9000000000000001E-2},{"$f":"IF((Q74-'Исходные данные'!$C$295)<0,'Исходные данные'!$C$294,0)","v":2.9000000000000001E-2},{"$f":"IF((R74-'Исходные данные'!$C$295)<0,'Исходные данные'!$C$294,0)","v":2.9000000000000001E-2},{"$f":"IF((S74-'Исходные данные'!$C$295)<0,'Исходные данные'!$C$294,0)","v":2.9000000000000001E-2},{"$f":"IF((T74-'Исходные данные'!$C$295)<0,'Исходные данные'!$C$294,0)","v":2.9000000000000001E-2},{"$f":"IF((U74-'Исходные данные'!$C$295)<0,'Исходные данные'!$C$294,0)","v":2.9000000000000001E-2},{"$f":"IF((V74-'Исходные данные'!$C$295)<0,'Исходные данные'!$C$294,0)","v":2.9000000000000001E-2},{"$f":"IF((W74-'Исходные данные'!$C$295)<0,'Исходные данные'!$C$294,0)","v":2.9000000000000001E-2},{"$f":"IF((X74-'Исходные данные'!$C$295)<0,'Исходные данные'!$C$294,0)","v":2.9000000000000001E-2},{"$f":"IF((Y74-'Исходные данные'!$C$295)<0,'Исходные данные'!$C$294,0)","v":2.9000000000000001E-2},{"$f":"IF((Z74-'Исходные данные'!$C$295)<0,'Исходные данные'!$C$294,0)","v":2.9000000000000001E-2},{"$f":"IF((AA74-'Исходные данные'!$C$295)<0,'Исходные данные'!$C$294,0)","v":2.9000000000000001E-2},{"$f":"IF((AB74-'Исходные данные'!$C$295)<0,'Исходные данные'!$C$294,0)","v":2.9000000000000001E-2},{"$f":"IF((AC74-'Исходные данные'!$C$295)<0,'Исходные данные'!$C$294,0)","v":2.9000000000000001E-2},{"$f":"IF((AD74-'Исходные данные'!$C$295)<0,'Исходные данные'!$C$294,0)","v":2.9000000000000001E-2},{"$f":"IF((AE74-'Исходные данные'!$C$295)<0,'Исходные данные'!$C$294,0)","v":2.9000000000000001E-2},{"$f":"IF((AF74-'Исходные данные'!$C$295)<0,'Исходные данные'!$C$294,0)","v":2.9000000000000001E-2},{"$f":"IF((AG74-'Исходные данные'!$C$295)<0,'Исходные данные'!$C$294,0)","v":2.9000000000000001E-2},{"$f":"IF((AH74-'Исходные данные'!$C$295)<0,'Исходные данные'!$C$294,0)","v":2.9000000000000001E-2},{"$f":"IF((AI74-'Исходные данные'!$C$295)<0,'Исходные данные'!$C$294,0)","v":2.9000000000000001E-2},{"$f":"IF((AJ74-'Исходные данные'!$C$295)<0,'Исходные данные'!$C$294,0)","v":2.9000000000000001E-2},{"$f":"IF((AK74-'Исходные данные'!$C$295)<0,'Исходные данные'!$C$294,0)","v":2.9000000000000001E-2},{"$f":"IF((AL74-'Исходные данные'!$C$295)<0,'Исходные данные'!$C$294,0)","v":2.9000000000000001E-2},{"$f":"IF((AM74-'Исходные данные'!$C$295)<0,'Исходные данные'!$C$294,0)","v":2.9000000000000001E-2},{"$f":"IF((AN74-'Исходные данные'!$C$295)<0,'Исходные данные'!$C$294,0)","v":2.9000000000000001E-2},{"$f":"IF((AO74-'Исходные данные'!$C$295)<0,'Исходные данные'!$C$294,0)","v":2.9000000000000001E-2},{"$f":"IF((AP74-'Исходные данные'!$C$295)<0,'Исходные данные'!$C$294,0)","v":2.9000000000000001E-2},{"$f":"IF((AQ74-'Исходные данные'!$C$295)<0,'Исходные данные'!$C$294,0)","v":2.9000000000000001E-2},{"$f":"IF((AR74-'Исходные данные'!$C$295)<0,'Исходные данные'!$C$294,0)","v":2.9000000000000001E-2},{"$f":"IF((AS74-'Исходные данные'!$C$295)<0,'Исходные данные'!$C$294,0)","v":2.9000000000000001E-2},{"$f":"IF((AT74-'Исходные данные'!$C$295)<0,'Исходные данные'!$C$294,0)","v":2.9000000000000001E-2},{"$f":"IF((AU74-'Исходные данные'!$C$295)<0,'Исходные данные'!$C$294,0)","v":2.9000000000000001E-2},{"$f":"IF((AV74-'Исходные данные'!$C$295)<0,'Исходные данные'!$C$294,0)","v":2.9000000000000001E-2},{"$f":"IF((AW74-'Исходные данные'!$C$295)<0,'Исходные данные'!$C$294,0)","v":2.9000000000000001E-2},{"$f":"IF((AX74-'Исходные данные'!$C$295)<0,'Исходные данные'!$C$294,0)","v":2.9000000000000001E-2},{"$f":"IF((AY74-'Исходные данные'!$C$295)<0,'Исходные данные'!$C$294,0)","v":2.9000000000000001E-2},{"$f":"IF((AZ74-'Исходные данные'!$C$295)<0,'Исходные данные'!$C$294,0)","v":2.9000000000000001E-2},{"$f":"IF((BA74-'Исходные данные'!$C$295)<0,'Исходные данные'!$C$294,0)","v":2.9000000000000001E-2},{"$f":"IF((BB74-'Исходные данные'!$C$295)<0,'Исходные данные'!$C$294,0)","v":2.9000000000000001E-2},{"$f":"IF((BC74-'Исходные данные'!$C$295)<0,'Исходные данные'!$C$294,0)","v":2.9000000000000001E-2},{"$f":"IF((BD74-'Исходные данные'!$C$295)<0,'Исходные данные'!$C$294,0)","v":2.9000000000000001E-2},{"$f":"IF((BE74-'Исходные данные'!$C$295)<0,'Исходные данные'!$C$294,0)","v":2.9000000000000001E-2},{"$f":"IF((BF74-'Исходные данные'!$C$295)<0,'Исходные данные'!$C$294,0)","v":2.9000000000000001E-2},{"$f":"IF((BG74-'Исходные данные'!$C$295)<0,'Исходные данные'!$C$294,0)","v":2.9000000000000001E-2},{"$f":"IF((BH74-'Исходные данные'!$C$295)<0,'Исходные данные'!$C$294,0)","v":2.9000000000000001E-2},{"$f":"IF((BI74-'Исходные данные'!$C$295)<0,'Исходные данные'!$C$294,0)","v":2.9000000000000001E-2},{"$f":"IF((BJ74-'Исходные данные'!$C$295)<0,'Исходные данные'!$C$294,0)","v":2.9000000000000001E-2},{"$f":"IF((BK74-'Исходные данные'!$C$295)<0,'Исходные данные'!$C$294,0)","v":2.9000000000000001E-2},{"$f":"IF((BL74-'Исходные данные'!$C$295)<0,'Исходные данные'!$C$294,0)","v":2.9000000000000001E-2}]
[0,null,null,null,{"$f":"IF((E75-'Исходные данные'!$C$295)<0,'Исходные данные'!$C$294,0)","v":2.9000000000000001E-2},{"$f":"IF((F75-'Исходные данные'!$C$295)<0,'Исходные данные'!$C$294,0)","v":2.9000000000000001E-2},{"$f":"IF((G75-'Исходные данные'!$C$295)<0,'Исходные данные'!$C$294,0)","v":2.9000000000000001E-2},{"$f":"IF((H75-'Исходные данные'!$C$295)<0,'Исходные данные'!$C$294,0)","v":2.9000000000000001E-2},{"$f":"IF((I75-'Исходные данные'!$C$295)<0,'Исходные данные'!$C$294,0)","v":2.9000000000000001E-2},{"$f":"IF((J75-'Исходные данные'!$C$295)<0,'Исходные данные'!$C$294,0)","v":2.9000000000000001E-2},{"$f":"IF((K75-'Исходные данные'!$C$295)<0,'Исходные данные'!$C$294,0)","v":2.9000000000000001E-2},{"$f":"IF((L75-'Исходные данные'!$C$295)<0,'Исходные данные'!$C$294,0)","v":2.9000000000000001E-2},{"$f":"IF((M75-'Исходные данные'!$C$295)<0,'Исходные данные'!$C$294,0)","v":2.9000000000000001E-2},{"$f":"IF((N75-'Исходные данные'!$C$295)<0,'Исходные данные'!$C$294,0)","v":2.9000000000000001E-2},{"$f":"IF((O75-'Исходные данные'!$C$295)<0,'Исходные данные'!$C$294,0)","v":2.9000000000000001E-2},{"$f":"IF((P75-'Исходные данные'!$C$295)<0,'Исходные данные'!$C$294,0)","v":2.9000000000000001E-2},{"$f":"IF((Q75-'Исходные данные'!$C$295)<0,'Исходные данные'!$C$294,0)","v":2.9000000000000001E-2},{"$f":"IF((R75-'Исходные данные'!$C$295)<0,'Исходные данные'!$C$294,0)","v":2.9000000000000001E-2},{"$f":"IF((S75-'Исходные данные'!$C$295)<0,'Исходные данные'!$C$294,0)","v":2.9000000000000001E-2},{"$f":"IF((T75-'Исходные данные'!$C$295)<0,'Исходные данные'!$C$294,0)","v":2.9000000000000001E-2},{"$f":"IF((U75-'Исходные данные'!$C$295)<0,'Исходные данные'!$C$294,0)","v":2.9000000000000001E-2},{"$f":"IF((V75-'Исходные данные'!$C$295)<0,'Исходные данные'!$C$294,0)","v":2.9000000000000001E-2},{"$f":"IF((W75-'Исходные данные'!$C$295)<0,'Исходные данные'!$C$294,0)","v":2.9000000000000001E-2},{"$f":"IF((X75-'Исходные данные'!$C$295)<0,'Исходные данные'!$C$294,0)","v":2.9000000000000001E-2},{"$f":"IF((Y75-'Исходные данные'!$C$295)<0,'Исходные данные'!$C$294,0)","v":2.9000000000000001E-2},{"$f":"IF((Z75-'Исходные данные'!$C$295)<0,'Исходные данные'!$C$294,0)","v":2.9000000000000001E-2},{"$f":"IF((AA75-'Исходные данные'!$C$295)<0,'Исходные данные'!$C$294,0)","v":2.9000000000000001E-2},{"$f":"IF((AB75-'Исходные данные'!$C$295)<0,'Исходные данные'!$C$294,0)","v":2.9000000000000001E-2},{"$f":"IF((AC75-'Исходные данные'!$C$295)<0,'Исходные данные'!$C$294,0)","v":2.9000000000000001E-2},{"$f":"IF((AD75-'Исходные данные'!$C$295)<0,'Исходные данные'!$C$294,0)","v":2.9000000000000001E-2},{"$f":"IF((AE75-'Исходные данные'!$C$295)<0,'Исходные данные'!$C$294,0)","v":2.9000000000000001E-2},{"$f":"IF((AF75-'Исходные данные'!$C$295)<0,'Исходные данные'!$C$294,0)","v":2.9000000000000001E-2},{"$f":"IF((AG75-'Исходные данные'!$C$295)<0,'Исходные данные'!$C$294,0)","v":2.9000000000000001E-2},{"$f":"IF((AH75-'Исходные данные'!$C$295)<0,'Исходные данные'!$C$294,0)","v":2.9000000000000001E-2},{"$f":"IF((AI75-'Исходные данные'!$C$295)<0,'Исходные данные'!$C$294,0)","v":2.9000000000000001E-2},{"$f":"IF((AJ75-'Исходные данные'!$C$295)<0,'Исходные данные'!$C$294,0)","v":2.9000000000000001E-2},{"$f":"IF((AK75-'Исходные данные'!$C$295)<0,'Исходные данные'!$C$294,0)","v":2.9000000000000001E-2},{"$f":"IF((AL75-'Исходные данные'!$C$295)<0,'Исходные данные'!$C$294,0)","v":2.9000000000000001E-2},{"$f":"IF((AM75-'Исходные данные'!$C$295)<0,'Исходные данные'!$C$294,0)","v":2.9000000000000001E-2},{"$f":"IF((AN75-'Исходные данные'!$C$295)<0,'Исходные данные'!$C$294,0)","v":2.9000000000000001E-2},{"$f":"IF((AO75-'Исходные данные'!$C$295)<0,'Исходные данные'!$C$294,0)","v":2.9000000000000001E-2},{"$f":"IF((AP75-'Исходные данные'!$C$295)<0,'Исходные данные'!$C$294,0)","v":2.9000000000000001E-2},{"$f":"IF((AQ75-'Исходные данные'!$C$295)<0,'Исходные данные'!$C$294,0)","v":2.9000000000000001E-2},{"$f":"IF((AR75-'Исходные данные'!$C$295)<0,'Исходные данные'!$C$294,0)","v":2.9000000000000001E-2},{"$f":"IF((AS75-'Исходные данные'!$C$295)<0,'Исходные данные'!$C$294,0)","v":2.9000000000000001E-2},{"$f":"IF((AT75-'Исходные данные'!$C$295)<0,'Исходные данные'!$C$294,0)","v":2.9000000000000001E-2},{"$f":"IF((AU75-'Исходные данные'!$C$295)<0,'Исходные данные'!$C$294,0)","v":2.9000000000000001E-2},{"$f":"IF((AV75-'Исходные данные'!$C$295)<0,'Исходные данные'!$C$294,0)","v":2.9000000000000001E-2},{"$f":"IF((AW75-'Исходные данные'!$C$295)<0,'Исходные данные'!$C$294,0)","v":2.9000000000000001E-2},{"$f":"IF((AX75-'Исходные данные'!$C$295)<0,'Исходные данные'!$C$294,0)","v":2.9000000000000001E-2},{"$f":"IF((AY75-'Исходные данные'!$C$295)<0,'Исходные данные'!$C$294,0)","v":2.9000000000000001E-2},{"$f":"IF((AZ75-'Исходные данные'!$C$295)<0,'Исходные данные'!$C$294,0)","v":2.9000000000000001E-2},{"$f":"IF((BA75-'Исходные данные'!$C$295)<0,'Исходные данные'!$C$294,0)","v":2.9000000000000001E-2},{"$f":"IF((BB75-'Исходные данные'!$C$295)<0,'Исходные данные'!$C$294,0)","v":2.9000000000000001E-2},{"$f":"IF((BC75-'Исходные данные'!$C$295)<0,'Исходные данные'!$C$294,0)","v":2.9000000000000001E-2},{"$f":"IF((BD75-'Исходные данные'!$C$295)<0,'Исходные данные'!$C$294,0)","v":2.9000000000000001E-2},{"$f":"IF((BE75-'Исходные данные'!$C$295)<0,'Исходные данные'!$C$294,0)","v":2.9000000000000001E-2},{"$f":"IF((BF75-'Исходные данные'!$C$295)<0,'Исходные данные'!$C$294,0)","v":2.9000000000000001E-2},{"$f":"IF((BG75-'Исходные данные'!$C$295)<0,'Исходные данные'!$C$294,0)","v":2.9000000000000001E-2},{"$f":"IF((BH75-'Исходные данные'!$C$295)<0,'Исходные данные'!$C$294,0)","v":2.9000000000000001E-2},{"$f":"IF((BI75-'Исходные данные'!$C$295)<0,'Исходные данные'!$C$294,0)","v":2.9000000000000001E-2},{"$f":"IF((BJ75-'Исходные данные'!$C$295)<0,'Исходные данные'!$C$294,0)","v":2.9000000000000001E-2},{"$f":"IF((BK75-'Исходные данные'!$C$295)<0,'Исходные данные'!$C$294,0)","v":2.9000000000000001E-2},{"$f":"IF((BL75-'Исходные данные'!$C$295)<0,'Исходные данные'!$C$294,0)","v":2.9000000000000001E-2}]
[0,null,null,null,{"$f":"IF((E76-'Исходные данные'!$C$295)<0,'Исходные данные'!$C$294,0)","v":2.9000000000000001E-2},{"$f":"IF((F76-'Исходные данные'!$C$295)<0,'Исходные данные'!$C$294,0)","v":2.9000000000000001E-2},{"$f":"IF((G76-'Исходные данные'!$C$295)<0,'Исходные данные'!$C$294,0)","v":2.9000000000000001E-2},{"$f":"IF((H76-'Исходные данные'!$C$295)<0,'Исходные данные'!$C$294,0)","v":2.9000000000000001E-2},{"$f":"IF((I76-'Исходные данные'!$C$295)<0,'Исходные данные'!$C$294,0)","v":2.9000000000000001E-2},{"$f":"IF((J76-'Исходные данные'!$C$295)<0,'Исходные данные'!$C$294,0)","v":2.9000000000000001E-2},{"$f":"IF((K76-'Исходные данные'!$C$295)<0,'Исходные данные'!$C$294,0)","v":2.9000000000000001E-2},{"$f":"IF((L76-'Исходные данные'!$C$295)<0,'Исходные данные'!$C$294,0)","v":2.9000000000000001E-2},{"$f":"IF((M76-'Исходные данные'!$C$295)<0,'Исходные данные'!$C$294,0)","v":2.9000000000000001E-2},{"$f":"IF((N76-'Исходные данные'!$C$295)<0,'Исходные данные'!$C$294,0)","v":2.9000000000000001E-2},{"$f":"IF((O76-'Исходные данные'!$C$295)<0,'Исходные данные'!$C$294,0)","v":2.9000000000000001E-2},{"$f":"IF((P76-'Исходные данные'!$C$295)<0,'Исходные данные'!$C$294,0)","v":2.9000000000000001E-2},{"$f":"IF((Q76-'Исходные данные'!$C$295)<0,'Исходные данные'!$C$294,0)","v":2.9000000000000001E-2},{"$f":"IF((R76-'Исходные данные'!$C$295)<0,'Исходные данные'!$C$294,0)","v":2.9000000000000001E-2},{"$f":"IF((S76-'Исходные данные'!$C$295)<0,'Исходные данные'!$C$294,0)","v":2.9000000000000001E-2},{"$f":"IF((T76-'Исходные данные'!$C$295)<0,'Исходные данные'!$C$294,0)","v":2.9000000000000001E-2},{"$f":"IF((U76-'Исходные данные'!$C$295)<0,'Исходные данные'!$C$294,0)","v":2.9000000000000001E-2},{"$f":"IF((V76-'Исходные данные'!$C$295)<0,'Исходные данные'!$C$294,0)","v":2.9000000000000001E-2},{"$f":"IF((W76-'Исходные данные'!$C$295)<0,'Исходные данные'!$C$294,0)","v":2.9000000000000001E-2},{"$f":"IF((X76-'Исходные данные'!$C$295)<0,'Исходные данные'!$C$294,0)","v":2.9000000000000001E-2},{"$f":"IF((Y76-'Исходные данные'!$C$295)<0,'Исходные данные'!$C$294,0)","v":2.9000000000000001E-2},{"$f":"IF((Z76-'Исходные данные'!$C$295)<0,'Исходные данные'!$C$294,0)","v":2.9000000000000001E-2},{"$f":"IF((AA76-'Исходные данные'!$C$295)<0,'Исходные данные'!$C$294,0)","v":2.9000000000000001E-2},{"$f":"IF((AB76-'Исходные данные'!$C$295)<0,'Исходные данные'!$C$294,0)","v":2.9000000000000001E-2},{"$f":"IF((AC76-'Исходные данные'!$C$295)<0,'Исходные данные'!$C$294,0)","v":2.9000000000000001E-2},{"$f":"IF((AD76-'Исходные данные'!$C$295)<0,'Исходные данные'!$C$294,0)","v":2.9000000000000001E-2},{"$f":"IF((AE76-'Исходные данные'!$C$295)<0,'Исходные данные'!$C$294,0)","v":2.9000000000000001E-2},{"$f":"IF((AF76-'Исходные данные'!$C$295)<0,'Исходные данные'!$C$294,0)","v":2.9000000000000001E-2},{"$f":"IF((AG76-'Исходные данные'!$C$295)<0,'Исходные данные'!$C$294,0)","v":2.9000000000000001E-2},{"$f":"IF((AH76-'Исходные данные'!$C$295)<0,'Исходные данные'!$C$294,0)","v":2.9000000000000001E-2},{"$f":"IF((AI76-'Исходные данные'!$C$295)<0,'Исходные данные'!$C$294,0)","v":2.9000000000000001E-2},{"$f":"IF((AJ76-'Исходные данные'!$C$295)<0,'Исходные данные'!$C$294,0)","v":2.9000000000000001E-2},{"$f":"IF((AK76-'Исходные данные'!$C$295)<0,'Исходные данные'!$C$294,0)","v":2.9000000000000001E-2},{"$f":"IF((AL76-'Исходные данные'!$C$295)<0,'Исходные данные'!$C$294,0)","v":2.9000000000000001E-2},{"$f":"IF((AM76-'Исходные данные'!$C$295)<0,'Исходные данные'!$C$294,0)","v":2.9000000000000001E-2},{"$f":"IF((AN76-'Исходные данные'!$C$295)<0,'Исходные данные'!$C$294,0)","v":2.9000000000000001E-2},{"$f":"IF((AO76-'Исходные данные'!$C$295)<0,'Исходные данные'!$C$294,0)","v":2.9000000000000001E-2},{"$f":"IF((AP76-'Исходные данные'!$C$295)<0,'Исходные данные'!$C$294,0)","v":2.9000000000000001E-2},{"$f":"IF((AQ76-'Исходные данные'!$C$295)<0,'Исходные данные'!$C$294,0)","v":2.9000000000000001E-2},{"$f":"IF((AR76-'Исходные данные'!$C$295)<0,'Исходные данные'!$C$294,0)","v":2.9000000000000001E-2},{"$f":"IF((AS76-'Исходные данные'!$C$295)<0,'Исходные данные'!$C$294,0)","v":2.9000000000000001E-2},{"$f":"IF((AT76-'Исходные данные'!$C$295)<0,'Исходные данные'!$C$294,0)","v":2.9000000000000001E-2},{"$f":"IF((AU76-'Исходные данные'!$C$295)<0,'Исходные данные'!$C$294,0)","v":2.9000000000000001E-2},{"$f":"IF((AV76-'Исходные данные'!$C$295)<0,'Исходные данные'!$C$294,0)","v":2.9000000000000001E-2},{"$f":"IF((AW76-'Исходные данные'!$C$295)<0,'Исходные данные'!$C$294,0)","v":2.9000000000000001E-2},{"$f":"IF((AX76-'Исходные данные'!$C$295)<0,'Исходные данные'!$C$294,0)","v":2.9000000000000001E-2},{"$f":"IF((AY76-'Исходные данные'!$C$295)<0,'Исходные данные'!$C$294,0)","v":2.9000000000000001E-2},{"$f":"IF((AZ76-'Исходные данные'!$C$295)<0,'Исходные данные'!$C$294,0)","v":2.9000000000000001E-2},{"$f":"IF((BA76-'Исходные данные'!$C$295)<0,'Исходные данные'!$C$294,0)","v":2.9000000000000001E-2},{"$f":"IF((BB76-'Исходные данные'!$C$295)<0,'Исходные данные'!$C$294,0)","v":2.9000000000000001E-2},{"$f":"IF((BC76-'Исходные данные'!$C$295)<0,'Исходные данные'!$C$294,0)","v":2.9000000000000001E-2},{"$f":"IF((BD76-'Исходные данные'!$C$295)<0,'Исходные данные'!$C$294,0)","v":2.9000000000000001E-2},{"$f":"IF((BE76-'Исходные данные'!$C$295)<0,'Исходные данные'!$C$294,0)","v":2.9000000000000001E-2},{"$f":"IF((BF76-'Исходные данные'!$C$295)<0,'Исходные данные'!$C$294,0)","v":2.9000000000000001E-2},{"$f":"IF((BG76-'Исходные данные'!$C$295)<0,'Исходные данные'!$C$294,0)","v":2.9000000000000001E-2},{"$f":"IF((BH76-'Исходные данные'!$C$295)<0,'Исходные данные'!$C$294,0)","v":2.9000000000000001E-2},{"$f":"IF((BI76-'Исходные данные'!$C$295)<0,'Исходные данные'!$C$294,0)","v":2.9000000000000001E-2},{"$f":"IF((BJ76-'Исходные данные'!$C$295)<0,'Исходные данные'!$C$294,0)","v":2.9000000000000001E-2},{"$f":"IF((BK76-'Исходные данные'!$C$295)<0,'Исходные данные'!$C$294,0)","v":2.9000000000000001E-2},{"$f":"IF((BL76-'Исходные данные'!$C$295)<0,'Исходные данные'!$C$294,0)","v":2.9000000000000001E-2}]
[0,null,null,null,{"$f":"IF((E77-'Исходные данные'!$C$295)<0,'Исходные данные'!$C$294,0)","v":2.9000000000000001E-2},{"$f":"IF((F77-'Исходные данные'!$C$295)<0,'Исходные данные'!$C$294,0)","v":2.9000000000000001E-2},{"$f":"IF((G77-'Исходные данные'!$C$295)<0,'Исходные данные'!$C$294,0)","v":2.9000000000000001E-2},{"$f":"IF((H77-'Исходные данные'!$C$295)<0,'Исходные данные'!$C$294,0)","v":2.9000000000000001E-2},{"$f":"IF((I77-'Исходные данные'!$C$295)<0,'Исходные данные'!$C$294,0)","v":2.9000000000000001E-2},{"$f":"IF((J77-'Исходные данные'!$C$295)<0,'Исходные данные'!$C$294,0)","v":2.9000000000000001E-2},{"$f":"IF((K77-'Исходные данные'!$C$295)<0,'Исходные данные'!$C$294,0)","v":2.9000000000000001E-2},{"$f":"IF((L77-'Исходные данные'!$C$295)<0,'Исходные данные'!$C$294,0)","v":2.9000000000000001E-2},{"$f":"IF((M77-'Исходные данные'!$C$295)<0,'Исходные данные'!$C$294,0)","v":2.9000000000000001E-2},{"$f":"IF((N77-'Исходные данные'!$C$295)<0,'Исходные данные'!$C$294,0)","v":2.9000000000000001E-2},{"$f":"IF((O77-'Исходные данные'!$C$295)<0,'Исходные данные'!$C$294,0)","v":2.9000000000000001E-2},{"$f":"IF((P77-'Исходные данные'!$C$295)<0,'Исходные данные'!$C$294,0)","v":2.9000000000000001E-2},{"$f":"IF((Q77-'Исходные данные'!$C$295)<0,'Исходные данные'!$C$294,0)","v":2.9000000000000001E-2},{"$f":"IF((R77-'Исходные данные'!$C$295)<0,'Исходные данные'!$C$294,0)","v":2.9000000000000001E-2},{"$f":"IF((S77-'Исходные данные'!$C$295)<0,'Исходные данные'!$C$294,0)","v":2.9000000000000001E-2},{"$f":"IF((T77-'Исходные данные'!$C$295)<0,'Исходные данные'!$C$294,0)","v":2.9000000000000001E-2},{"$f":"IF((U77-'Исходные данные'!$C$295)<0,'Исходные данные'!$C$294,0)","v":2.9000000000000001E-2},{"$f":"IF((V77-'Исходные данные'!$C$295)<0,'Исходные данные'!$C$294,0)","v":2.9000000000000001E-2},{"$f":"IF((W77-'Исходные данные'!$C$295)<0,'Исходные данные'!$C$294,0)","v":2.9000000000000001E-2},{"$f":"IF((X77-'Исходные данные'!$C$295)<0,'Исходные данные'!$C$294,0)","v":2.9000000000000001E-2},{"$f":"IF((Y77-'Исходные данные'!$C$295)<0,'Исходные данные'!$C$294,0)","v":2.9000000000000001E-2},{"$f":"IF((Z77-'Исходные данные'!$C$295)<0,'Исходные данные'!$C$294,0)","v":2.9000000000000001E-2},{"$f":"IF((AA77-'Исходные данные'!$C$295)<0,'Исходные данные'!$C$294,0)","v":2.9000000000000001E-2},{"$f":"IF((AB77-'Исходные данные'!$C$295)<0,'Исходные данные'!$C$294,0)","v":2.9000000000000001E-2},{"$f":"IF((AC77-'Исходные данные'!$C$295)<0,'Исходные данные'!$C$294,0)","v":2.9000000000000001E-2},{"$f":"IF((AD77-'Исходные данные'!$C$295)<0,'Исходные данные'!$C$294,0)","v":2.9000000000000001E-2},{"$f":"IF((AE77-'Исходные данные'!$C$295)<0,'Исходные данные'!$C$294,0)","v":2.9000000000000001E-2},{"$f":"IF((AF77-'Исходные данные'!$C$295)<0,'Исходные данные'!$C$294,0)","v":2.9000000000000001E-2},{"$f":"IF((AG77-'Исходные данные'!$C$295)<0,'Исходные данные'!$C$294,0)","v":2.9000000000000001E-2},{"$f":"IF((AH77-'Исходные данные'!$C$295)<0,'Исходные данные'!$C$294,0)","v":2.9000000000000001E-2},{"$f":"IF((AI77-'Исходные данные'!$C$295)<0,'Исходные данные'!$C$294,0)","v":2.9000000000000001E-2},{"$f":"IF((AJ77-'Исходные данные'!$C$295)<0,'Исходные данные'!$C$294,0)","v":2.9000000000000001E-2},{"$f":"IF((AK77-'Исходные данные'!$C$295)<0,'Исходные данные'!$C$294,0)","v":2.9000000000000001E-2},{"$f":"IF((AL77-'Исходные данные'!$C$295)<0,'Исходные данные'!$C$294,0)","v":2.9000000000000001E-2},{"$f":"IF((AM77-'Исходные данные'!$C$295)<0,'Исходные данные'!$C$294,0)","v":2.9000000000000001E-2},{"$f":"IF((AN77-'Исходные данные'!$C$295)<0,'Исходные данные'!$C$294,0)","v":2.9000000000000001E-2},{"$f":"IF((AO77-'Исходные данные'!$C$295)<0,'Исходные данные'!$C$294,0)","v":2.9000000000000001E-2},{"$f":"IF((AP77-'Исходные данные'!$C$295)<0,'Исходные данные'!$C$294,0)","v":2.9000000000000001E-2},{"$f":"IF((AQ77-'Исходные данные'!$C$295)<0,'Исходные данные'!$C$294,0)","v":2.9000000000000001E-2},{"$f":"IF((AR77-'Исходные данные'!$C$295)<0,'Исходные данные'!$C$294,0)","v":2.9000000000000001E-2},{"$f":"IF((AS77-'Исходные данные'!$C$295)<0,'Исходные данные'!$C$294,0)","v":2.9000000000000001E-2},{"$f":"IF((AT77-'Исходные данные'!$C$295)<0,'Исходные данные'!$C$294,0)","v":2.9000000000000001E-2},{"$f":"IF((AU77-'Исходные данные'!$C$295)<0,'Исходные данные'!$C$294,0)","v":2.9000000000000001E-2},{"$f":"IF((AV77-'Исходные данные'!$C$295)<0,'Исходные данные'!$C$294,0)","v":2.9000000000000001E-2},{"$f":"IF((AW77-'Исходные данные'!$C$295)<0,'Исходные данные'!$C$294,0)","v":2.9000000000000001E-2},{"$f":"IF((AX77-'Исходные данные'!$C$295)<0,'Исходные данные'!$C$294,0)","v":2.9000000000000001E-2},{"$f":"IF((AY77-'Исходные данные'!$C$295)<0,'Исходные данные'!$C$294,0)","v":2.9000000000000001E-2},{"$f":"IF((AZ77-'Исходные данные'!$C$295)<0,'Исходные данные'!$C$294,0)","v":2.9000000000000001E-2},{"$f":"IF((BA77-'Исходные данные'!$C$295)<0,'Исходные данные'!$C$294,0)","v":2.9000000000000001E-2},{"$f":"IF((BB77-'Исходные данные'!$C$295)<0,'Исходные данные'!$C$294,0)","v":2.9000000000000001E-2},{"$f":"IF((BC77-'Исходные данные'!$C$295)<0,'Исходные данные'!$C$294,0)","v":2.9000000000000001E-2},{"$f":"IF((BD77-'Исходные данные'!$C$295)<0,'Исходные данные'!$C$294,0)","v":2.9000000000000001E-2},{"$f":"IF((BE77-'Исходные данные'!$C$295)<0,'Исходные данные'!$C$294,0)","v":2.9000000000000001E-2},{"$f":"IF((BF77-'Исходные данные'!$C$295)<0,'Исходные данные'!$C$294,0)","v":2.9000000000000001E-2},{"$f":"IF((BG77-'Исходные данные'!$C$295)<0,'Исходные данные'!$C$294,0)","v":2.9000000000000001E-2},{"$f":"IF((BH77-'Исходные данные'!$C$295)<0,'Исходные данные'!$C$294,0)","v":2.9000000000000001E-2},{"$f":"IF((BI77-'Исходные данные'!$C$295)<0,'Исходные данные'!$C$294,0)","v":2.9000000000000001E-2},{"$f":"IF((BJ77-'Исходные данные'!$C$295)<0,'Исходные данные'!$C$294,0)","v":2.9000000000000001E-2},{"$f":"IF((BK77-'Исходные данные'!$C$295)<0,'Исходные данные'!$C$294,0)","v":2.9000000000000001E-2},{"$f":"IF((BL77-'Исходные данные'!$C$295)<0,'Исходные данные'!$C$294,0)","v":2.9000000000000001E-2}]
[0,null,null,null,{"$f":"IF((E78-'Исходные данные'!$C$295)<0,'Исходные данные'!$C$294,0)","v":2.9000000000000001E-2},{"$f":"IF((F78-'Исходные данные'!$C$295)<0,'Исходные данные'!$C$294,0)","v":2.9000000000000001E-2},{"$f":"IF((G78-'Исходные данные'!$C$295)<0,'Исходные данные'!$C$294,0)","v":2.9000000000000001E-2},{"$f":"IF((H78-'Исходные данные'!$C$295)<0,'Исходные данные'!$C$294,0)","v":2.9000000000000001E-2},{"$f":"IF((I78-'Исходные данные'!$C$295)<0,'Исходные данные'!$C$294,0)","v":2.9000000000000001E-2},{"$f":"IF((J78-'Исходные данные'!$C$295)<0,'Исходные данные'!$C$294,0)","v":2.9000000000000001E-2},{"$f":"IF((K78-'Исходные данные'!$C$295)<0,'Исходные данные'!$C$294,0)","v":2.9000000000000001E-2},{"$f":"IF((L78-'Исходные данные'!$C$295)<0,'Исходные данные'!$C$294,0)","v":2.9000000000000001E-2},{"$f":"IF((M78-'Исходные данные'!$C$295)<0,'Исходные данные'!$C$294,0)","v":2.9000000000000001E-2},{"$f":"IF((N78-'Исходные данные'!$C$295)<0,'Исходные данные'!$C$294,0)","v":2.9000000000000001E-2},{"$f":"IF((O78-'Исходные данные'!$C$295)<0,'Исходные данные'!$C$294,0)","v":2.9000000000000001E-2},{"$f":"IF((P78-'Исходные данные'!$C$295)<0,'Исходные данные'!$C$294,0)","v":2.9000000000000001E-2},{"$f":"IF((Q78-'Исходные данные'!$C$295)<0,'Исходные данные'!$C$294,0)","v":2.9000000000000001E-2},{"$f":"IF((R78-'Исходные данные'!$C$295)<0,'Исходные данные'!$C$294,0)","v":2.9000000000000001E-2},{"$f":"IF((S78-'Исходные данные'!$C$295)<0,'Исходные данные'!$C$294,0)","v":2.9000000000000001E-2},{"$f":"IF((T78-'Исходные данные'!$C$295)<0,'Исходные данные'!$C$294,0)","v":2.9000000000000001E-2},{"$f":"IF((U78-'Исходные данные'!$C$295)<0,'Исходные данные'!$C$294,0)","v":2.9000000000000001E-2},{"$f":"IF((V78-'Исходные данные'!$C$295)<0,'Исходные данные'!$C$294,0)","v":2.9000000000000001E-2},{"$f":"IF((W78-'Исходные данные'!$C$295)<0,'Исходные данные'!$C$294,0)","v":2.9000000000000001E-2},{"$f":"IF((X78-'Исходные данные'!$C$295)<0,'Исходные данные'!$C$294,0)","v":2.9000000000000001E-2},{"$f":"IF((Y78-'Исходные данные'!$C$295)<0,'Исходные данные'!$C$294,0)","v":2.9000000000000001E-2},{"$f":"IF((Z78-'Исходные данные'!$C$295)<0,'Исходные данные'!$C$294,0)","v":2.9000000000000001E-2},{"$f":"IF((AA78-'Исходные данные'!$C$295)<0,'Исходные данные'!$C$294,0)","v":2.9000000000000001E-2},{"$f":"IF((AB78-'Исходные данные'!$C$295)<0,'Исходные данные'!$C$294,0)","v":2.9000000000000001E-2},{"$f":"IF((AC78-'Исходные данные'!$C$295)<0,'Исходные данные'!$C$294,0)","v":2.9000000000000001E-2},{"$f":"IF((AD78-'Исходные данные'!$C$295)<0,'Исходные данные'!$C$294,0)","v":2.9000000000000001E-2},{"$f":"IF((AE78-'Исходные данные'!$C$295)<0,'Исходные данные'!$C$294,0)","v":2.9000000000000001E-2},{"$f":"IF((AF78-'Исходные данные'!$C$295)<0,'Исходные данные'!$C$294,0)","v":2.9000000000000001E-2},{"$f":"IF((AG78-'Исходные данные'!$C$295)<0,'Исходные данные'!$C$294,0)","v":2.9000000000000001E-2},{"$f":"IF((AH78-'Исходные данные'!$C$295)<0,'Исходные данные'!$C$294,0)","v":2.9000000000000001E-2},{"$f":"IF((AI78-'Исходные данные'!$C$295)<0,'Исходные данные'!$C$294,0)","v":2.9000000000000001E-2},{"$f":"IF((AJ78-'Исходные данные'!$C$295)<0,'Исходные данные'!$C$294,0)","v":2.9000000000000001E-2},{"$f":"IF((AK78-'Исходные данные'!$C$295)<0,'Исходные данные'!$C$294,0)","v":2.9000000000000001E-2},{"$f":"IF((AL78-'Исходные данные'!$C$295)<0,'Исходные данные'!$C$294,0)","v":2.9000000000000001E-2},{"$f":"IF((AM78-'Исходные данные'!$C$295)<0,'Исходные данные'!$C$294,0)","v":2.9000000000000001E-2},{"$f":"IF((AN78-'Исходные данные'!$C$295)<0,'Исходные данные'!$C$294,0)","v":2.9000000000000001E-2},{"$f":"IF((AO78-'Исходные данные'!$C$295)<0,'Исходные данные'!$C$294,0)","v":2.9000000000000001E-2},{"$f":"IF((AP78-'Исходные данные'!$C$295)<0,'Исходные данные'!$C$294,0)","v":2.9000000000000001E-2},{"$f":"IF((AQ78-'Исходные данные'!$C$295)<0,'Исходные данные'!$C$294,0)","v":2.9000000000000001E-2},{"$f":"IF((AR78-'Исходные данные'!$C$295)<0,'Исходные данные'!$C$294,0)","v":2.9000000000000001E-2},{"$f":"IF((AS78-'Исходные данные'!$C$295)<0,'Исходные данные'!$C$294,0)","v":2.9000000000000001E-2},{"$f":"IF((AT78-'Исходные данные'!$C$295)<0,'Исходные данные'!$C$294,0)","v":2.9000000000000001E-2},{"$f":"IF((AU78-'Исходные данные'!$C$295)<0,'Исходные данные'!$C$294,0)","v":2.9000000000000001E-2},{"$f":"IF((AV78-'Исходные данные'!$C$295)<0,'Исходные данные'!$C$294,0)","v":2.9000000000000001E-2},{"$f":"IF((AW78-'Исходные данные'!$C$295)<0,'Исходные данные'!$C$294,0)","v":2.9000000000000001E-2},{"$f":"IF((AX78-'Исходные данные'!$C$295)<0,'Исходные данные'!$C$294,0)","v":2.9000000000000001E-2},{"$f":"IF((AY78-'Исходные данные'!$C$295)<0,'Исходные данные'!$C$294,0)","v":2.9000000000000001E-2},{"$f":"IF((AZ78-'Исходные данные'!$C$295)<0,'Исходные данные'!$C$294,0)","v":2.9000000000000001E-2},{"$f":"IF((BA78-'Исходные данные'!$C$295)<0,'Исходные данные'!$C$294,0)","v":2.9000000000000001E-2},{"$f":"IF((BB78-'Исходные данные'!$C$295)<0,'Исходные данные'!$C$294,0)","v":2.9000000000000001E-2},{"$f":"IF((BC78-'Исходные данные'!$C$295)<0,'Исходные данные'!$C$294,0)","v":2.9000000000000001E-2},{"$f":"IF((BD78-'Исходные данные'!$C$295)<0,'Исходные данные'!$C$294,0)","v":2.9000000000000001E-2},{"$f":"IF((BE78-'Исходные данные'!$C$295)<0,'Исходные данные'!$C$294,0)","v":2.9000000000000001E-2},{"$f":"IF((BF78-'Исходные данные'!$C$295)<0,'Исходные данные'!$C$294,0)","v":2.9000000000000001E-2},{"$f":"IF((BG78-'Исходные данные'!$C$295)<0,'Исходные данные'!$C$294,0)","v":2.9000000000000001E-2},{"$f":"IF((BH78-'Исходные данные'!$C$295)<0,'Исходные данные'!$C$294,0)","v":2.9000000000000001E-2},{"$f":"IF((BI78-'Исходные данные'!$C$295)<0,'Исходные данные'!$C$294,0)","v":2.9000000000000001E-2},{"$f":"IF((BJ78-'Исходные данные'!$C$295)<0,'Исходные данные'!$C$294,0)","v":2.9000000000000001E-2},{"$f":"IF((BK78-'Исходные данные'!$C$295)<0,'Исходные данные'!$C$294,0)","v":2.9000000000000001E-2},{"$f":"IF((BL78-'Исходные данные'!$C$295)<0,'Исходные данные'!$C$294,0)","v":2.9000000000000001E-2}]
[0,null,null,null,{"$f":"IF((E79-'Исходные данные'!$C$295)<0,'Исходные данные'!$C$294,0)","v":2.9000000000000001E-2},{"$f":"IF((F79-'Исходные данные'!$C$295)<0,'Исходные данные'!$C$294,0)","v":2.9000000000000001E-2},{"$f":"IF((G79-'Исходные данные'!$C$295)<0,'Исходные данные'!$C$294,0)","v":2.9000000000000001E-2},{"$f":"IF((H79-'Исходные данные'!$C$295)<0,'Исходные данные'!$C$294,0)","v":2.9000000000000001E-2},{"$f":"IF((I79-'Исходные данные'!$C$295)<0,'Исходные данные'!$C$294,0)","v":2.9000000000000001E-2},{"$f":"IF((J79-'Исходные данные'!$C$295)<0,'Исходные данные'!$C$294,0)","v":2.9000000000000001E-2},{"$f":"IF((K79-'Исходные данные'!$C$295)<0,'Исходные данные'!$C$294,0)","v":2.9000000000000001E-2},{"$f":"IF((L79-'Исходные данные'!$C$295)<0,'Исходные данные'!$C$294,0)","v":2.9000000000000001E-2},{"$f":"IF((M79-'Исходные данные'!$C$295)<0,'Исходные данные'!$C$294,0)","v":2.9000000000000001E-2},{"$f":"IF((N79-'Исходные данные'!$C$295)<0,'Исходные данные'!$C$294,0)","v":2.9000000000000001E-2},{"$f":"IF((O79-'Исходные данные'!$C$295)<0,'Исходные данные'!$C$294,0)","v":2.9000000000000001E-2},{"$f":"IF((P79-'Исходные данные'!$C$295)<0,'Исходные данные'!$C$294,0)","v":2.9000000000000001E-2},{"$f":"IF((Q79-'Исходные данные'!$C$295)<0,'Исходные данные'!$C$294,0)","v":2.9000000000000001E-2},{"$f":"IF((R79-'Исходные данные'!$C$295)<0,'Исходные данные'!$C$294,0)","v":2.9000000000000001E-2},{"$f":"IF((S79-'Исходные данные'!$C$295)<0,'Исходные данные'!$C$294,0)","v":2.9000000000000001E-2},{"$f":"IF((T79-'Исходные данные'!$C$295)<0,'Исходные данные'!$C$294,0)","v":2.9000000000000001E-2},{"$f":"IF((U79-'Исходные данные'!$C$295)<0,'Исходные данные'!$C$294,0)","v":2.9000000000000001E-2},{"$f":"IF((V79-'Исходные данные'!$C$295)<0,'Исходные данные'!$C$294,0)","v":2.9000000000000001E-2},{"$f":"IF((W79-'Исходные данные'!$C$295)<0,'Исходные данные'!$C$294,0)","v":2.9000000000000001E-2},{"$f":"IF((X79-'Исходные данные'!$C$295)<0,'Исходные данные'!$C$294,0)","v":2.9000000000000001E-2},{"$f":"IF((Y79-'Исходные данные'!$C$295)<0,'Исходные данные'!$C$294,0)","v":2.9000000000000001E-2},{"$f":"IF((Z79-'Исходные данные'!$C$295)<0,'Исходные данные'!$C$294,0)","v":2.9000000000000001E-2},{"$f":"IF((AA79-'Исходные данные'!$C$295)<0,'Исходные данные'!$C$294,0)","v":2.9000000000000001E-2},{"$f":"IF((AB79-'Исходные данные'!$C$295)<0,'Исходные данные'!$C$294,0)","v":2.9000000000000001E-2},{"$f":"IF((AC79-'Исходные данные'!$C$295)<0,'Исходные данные'!$C$294,0)","v":2.9000000000000001E-2},{"$f":"IF((AD79-'Исходные данные'!$C$295)<0,'Исходные данные'!$C$294,0)","v":2.9000000000000001E-2},{"$f":"IF((AE79-'Исходные данные'!$C$295)<0,'Исходные данные'!$C$294,0)","v":2.9000000000000001E-2},{"$f":"IF((AF79-'Исходные данные'!$C$295)<0,'Исходные данные'!$C$294,0)","v":2.9000000000000001E-2},{"$f":"IF((AG79-'Исходные данные'!$C$295)<0,'Исходные данные'!$C$294,0)","v":2.9000000000000001E-2},{"$f":"IF((AH79-'Исходные данные'!$C$295)<0,'Исходные данные'!$C$294,0)","v":2.9000000000000001E-2},{"$f":"IF((AI79-'Исходные данные'!$C$295)<0,'Исходные данные'!$C$294,0)","v":2.9000000000000001E-2},{"$f":"IF((AJ79-'Исходные данные'!$C$295)<0,'Исходные данные'!$C$294,0)","v":2.9000000000000001E-2},{"$f":"IF((AK79-'Исходные данные'!$C$295)<0,'Исходные данные'!$C$294,0)","v":2.9000000000000001E-2},{"$f":"IF((AL79-'Исходные данные'!$C$295)<0,'Исходные данные'!$C$294,0)","v":2.9000000000000001E-2},{"$f":"IF((AM79-'Исходные данные'!$C$295)<0,'Исходные данные'!$C$294,0)","v":2.9000000000000001E-2},{"$f":"IF((AN79-'Исходные данные'!$C$295)<0,'Исходные данные'!$C$294,0)","v":2.9000000000000001E-2},{"$f":"IF((AO79-'Исходные данные'!$C$295)<0,'Исходные данные'!$C$294,0)","v":2.9000000000000001E-2},{"$f":"IF((AP79-'Исходные данные'!$C$295)<0,'Исходные данные'!$C$294,0)","v":2.9000000000000001E-2},{"$f":"IF((AQ79-'Исходные данные'!$C$295)<0,'Исходные данные'!$C$294,0)","v":2.9000000000000001E-2},{"$f":"IF((AR79-'Исходные данные'!$C$295)<0,'Исходные данные'!$C$294,0)","v":2.9000000000000001E-2},{"$f":"IF((AS79-'Исходные данные'!$C$295)<0,'Исходные данные'!$C$294,0)","v":2.9000000000000001E-2},{"$f":"IF((AT79-'Исходные данные'!$C$295)<0,'Исходные данные'!$C$294,0)","v":2.9000000000000001E-2},{"$f":"IF((AU79-'Исходные данные'!$C$295)<0,'Исходные данные'!$C$294,0)","v":2.9000000000000001E-2},{"$f":"IF((AV79-'Исходные данные'!$C$295)<0,'Исходные данные'!$C$294,0)","v":2.9000000000000001E-2},{"$f":"IF((AW79-'Исходные данные'!$C$295)<0,'Исходные данные'!$C$294,0)","v":2.9000000000000001E-2},{"$f":"IF((AX79-'Исходные данные'!$C$295)<0,'Исходные данные'!$C$294,0)","v":2.9000000000000001E-2},{"$f":"IF((AY79-'Исходные данные'!$C$295)<0,'Исходные данные'!$C$294,0)","v":2.9000000000000001E-2},{"$f":"IF((AZ79-'Исходные данные'!$C$295)<0,'Исходные данные'!$C$294,0)","v":2.9000000000000001E-2},{"$f":"IF((BA79-'Исходные данные'!$C$295)<0,'Исходные данные'!$C$294,0)","v":2.9000000000000001E-2},{"$f":"IF((BB79-'Исходные данные'!$C$295)<0,'Исходные данные'!$C$294,0)","v":2.9000000000000001E-2},{"$f":"IF((BC79-'Исходные данные'!$C$295)<0,'Исходные данные'!$C$294,0)","v":2.9000000000000001E-2},{"$f":"IF((BD79-'Исходные данные'!$C$295)<0,'Исходные данные'!$C$294,0)","v":2.9000000000000001E-2},{"$f":"IF((BE79-'Исходные данные'!$C$295)<0,'Исходные данные'!$C$294,0)","v":2.9000000000000001E-2},{"$f":"IF((BF79-'Исходные данные'!$C$295)<0,'Исходные данные'!$C$294,0)","v":2.9000000000000001E-2},{"$f":"IF((BG79-'Исходные данные'!$C$295)<0,'Исходные данные'!$C$294,0)","v":2.9000000000000001E-2},{"$f":"IF((BH79-'Исходные данные'!$C$295)<0,'Исходные данные'!$C$294,0)","v":2.9000000000000001E-2},{"$f":"IF((BI79-'Исходные данные'!$C$295)<0,'Исходные данные'!$C$294,0)","v":2.9000000000000001E-2},{"$f":"IF((BJ79-'Исходные данные'!$C$295)<0,'Исходные данные'!$C$294,0)","v":2.9000000000000001E-2},{"$f":"IF((BK79-'Исходные данные'!$C$295)<0,'Исходные данные'!$C$294,0)","v":2.9000000000000001E-2},{"$f":"IF((BL79-'Исходные данные'!$C$295)<0,'Исходные данные'!$C$294,0)","v":2.9000000000000001E-2}]
[0,null,null,null,{"$f":"IF((E80-'Исходные данные'!$C$295)<0,'Исходные данные'!$C$294,0)","v":2.9000000000000001E-2},{"$f":"IF((F80-'Исходные данные'!$C$295)<0,'Исходные данные'!$C$294,0)","v":2.9000000000000001E-2},{"$f":"IF((G80-'Исходные данные'!$C$295)<0,'Исходные данные'!$C$294,0)","v":2.9000000000000001E-2},{"$f":"IF((H80-'Исходные данные'!$C$295)<0,'Исходные данные'!$C$294,0)","v":2.9000000000000001E-2},{"$f":"IF((I80-'Исходные данные'!$C$295)<0,'Исходные данные'!$C$294,0)","v":2.9000000000000001E-2},{"$f":"IF((J80-'Исходные данные'!$C$295)<0,'Исходные данные'!$C$294,0)","v":2.9000000000000001E-2},{"$f":"IF((K80-'Исходные данные'!$C$295)<0,'Исходные данные'!$C$294,0)","v":2.9000000000000001E-2},{"$f":"IF((L80-'Исходные данные'!$C$295)<0,'Исходные данные'!$C$294,0)","v":2.9000000000000001E-2},{"$f":"IF((M80-'Исходные данные'!$C$295)<0,'Исходные данные'!$C$294,0)","v":2.9000000000000001E-2},{"$f":"IF((N80-'Исходные данные'!$C$295)<0,'Исходные данные'!$C$294,0)","v":2.9000000000000001E-2},{"$f":"IF((O80-'Исходные данные'!$C$295)<0,'Исходные данные'!$C$294,0)","v":2.9000000000000001E-2},{"$f":"IF((P80-'Исходные данные'!$C$295)<0,'Исходные данные'!$C$294,0)","v":2.9000000000000001E-2},{"$f":"IF((Q80-'Исходные данные'!$C$295)<0,'Исходные данные'!$C$294,0)","v":2.9000000000000001E-2},{"$f":"IF((R80-'Исходные данные'!$C$295)<0,'Исходные данные'!$C$294,0)","v":2.9000000000000001E-2},{"$f":"IF((S80-'Исходные данные'!$C$295)<0,'Исходные данные'!$C$294,0)","v":2.9000000000000001E-2},{"$f":"IF((T80-'Исходные данные'!$C$295)<0,'Исходные данные'!$C$294,0)","v":2.9000000000000001E-2},{"$f":"IF((U80-'Исходные данные'!$C$295)<0,'Исходные данные'!$C$294,0)","v":2.9000000000000001E-2},{"$f":"IF((V80-'Исходные данные'!$C$295)<0,'Исходные данные'!$C$294,0)","v":2.9000000000000001E-2},{"$f":"IF((W80-'Исходные данные'!$C$295)<0,'Исходные данные'!$C$294,0)","v":2.9000000000000001E-2},{"$f":"IF((X80-'Исходные данные'!$C$295)<0,'Исходные данные'!$C$294,0)","v":2.9000000000000001E-2},{"$f":"IF((Y80-'Исходные данные'!$C$295)<0,'Исходные данные'!$C$294,0)","v":2.9000000000000001E-2},{"$f":"IF((Z80-'Исходные данные'!$C$295)<0,'Исходные данные'!$C$294,0)","v":2.9000000000000001E-2},{"$f":"IF((AA80-'Исходные данные'!$C$295)<0,'Исходные данные'!$C$294,0)","v":2.9000000000000001E-2},{"$f":"IF((AB80-'Исходные данные'!$C$295)<0,'Исходные данные'!$C$294,0)","v":2.9000000000000001E-2},{"$f":"IF((AC80-'Исходные данные'!$C$295)<0,'Исходные данные'!$C$294,0)","v":2.9000000000000001E-2},{"$f":"IF((AD80-'Исходные данные'!$C$295)<0,'Исходные данные'!$C$294,0)","v":2.9000000000000001E-2},{"$f":"IF((AE80-'Исходные данные'!$C$295)<0,'Исходные данные'!$C$294,0)","v":2.9000000000000001E-2},{"$f":"IF((AF80-'Исходные данные'!$C$295)<0,'Исходные данные'!$C$294,0)","v":2.9000000000000001E-2},{"$f":"IF((AG80-'Исходные данные'!$C$295)<0,'Исходные данные'!$C$294,0)","v":2.9000000000000001E-2},{"$f":"IF((AH80-'Исходные данные'!$C$295)<0,'Исходные данные'!$C$294,0)","v":2.9000000000000001E-2},{"$f":"IF((AI80-'Исходные данные'!$C$295)<0,'Исходные данные'!$C$294,0)","v":2.9000000000000001E-2},{"$f":"IF((AJ80-'Исходные данные'!$C$295)<0,'Исходные данные'!$C$294,0)","v":2.9000000000000001E-2},{"$f":"IF((AK80-'Исходные данные'!$C$295)<0,'Исходные данные'!$C$294,0)","v":2.9000000000000001E-2},{"$f":"IF((AL80-'Исходные данные'!$C$295)<0,'Исходные данные'!$C$294,0)","v":2.9000000000000001E-2},{"$f":"IF((AM80-'Исходные данные'!$C$295)<0,'Исходные данные'!$C$294,0)","v":2.9000000000000001E-2},{"$f":"IF((AN80-'Исходные данные'!$C$295)<0,'Исходные данные'!$C$294,0)","v":2.9000000000000001E-2},{"$f":"IF((AO80-'Исходные данные'!$C$295)<0,'Исходные данные'!$C$294,0)","v":2.9000000000000001E-2},{"$f":"IF((AP80-'Исходные данные'!$C$295)<0,'Исходные данные'!$C$294,0)","v":2.9000000000000001E-2},{"$f":"IF((AQ80-'Исходные данные'!$C$295)<0,'Исходные данные'!$C$294,0)","v":2.9000000000000001E-2},{"$f":"IF((AR80-'Исходные данные'!$C$295)<0,'Исходные данные'!$C$294,0)","v":2.9000000000000001E-2},{"$f":"IF((AS80-'Исходные данные'!$C$295)<0,'Исходные данные'!$C$294,0)","v":2.9000000000000001E-2},{"$f":"IF((AT80-'Исходные данные'!$C$295)<0,'Исходные данные'!$C$294,0)","v":2.9000000000000001E-2},{"$f":"IF((AU80-'Исходные данные'!$C$295)<0,'Исходные данные'!$C$294,0)","v":2.9000000000000001E-2},{"$f":"IF((AV80-'Исходные данные'!$C$295)<0,'Исходные данные'!$C$294,0)","v":2.9000000000000001E-2},{"$f":"IF((AW80-'Исходные данные'!$C$295)<0,'Исходные данные'!$C$294,0)","v":2.9000000000000001E-2},{"$f":"IF((AX80-'Исходные данные'!$C$295)<0,'Исходные данные'!$C$294,0)","v":2.9000000000000001E-2},{"$f":"IF((AY80-'Исходные данные'!$C$295)<0,'Исходные данные'!$C$294,0)","v":2.9000000000000001E-2},{"$f":"IF((AZ80-'Исходные данные'!$C$295)<0,'Исходные данные'!$C$294,0)","v":2.9000000000000001E-2},{"$f":"IF((BA80-'Исходные данные'!$C$295)<0,'Исходные данные'!$C$294,0)","v":2.9000000000000001E-2},{"$f":"IF((BB80-'Исходные данные'!$C$295)<0,'Исходные данные'!$C$294,0)","v":2.9000000000000001E-2},{"$f":"IF((BC80-'Исходные данные'!$C$295)<0,'Исходные данные'!$C$294,0)","v":2.9000000000000001E-2},{"$f":"IF((BD80-'Исходные данные'!$C$295)<0,'Исходные данные'!$C$294,0)","v":2.9000000000000001E-2},{"$f":"IF((BE80-'Исходные данные'!$C$295)<0,'Исходные данные'!$C$294,0)","v":2.9000000000000001E-2},{"$f":"IF((BF80-'Исходные данные'!$C$295)<0,'Исходные данные'!$C$294,0)","v":2.9000000000000001E-2},{"$f":"IF((BG80-'Исходные данные'!$C$295)<0,'Исходные данные'!$C$294,0)","v":2.9000000000000001E-2},{"$f":"IF((BH80-'Исходные данные'!$C$295)<0,'Исходные данные'!$C$294,0)","v":2.9000000000000001E-2},{"$f":"IF((BI80-'Исходные данные'!$C$295)<0,'Исходные данные'!$C$294,0)","v":2.9000000000000001E-2},{"$f":"IF((BJ80-'Исходные данные'!$C$295)<0,'Исходные данные'!$C$294,0)","v":2.9000000000000001E-2},{"$f":"IF((BK80-'Исходные данные'!$C$295)<0,'Исходные данные'!$C$294,0)","v":2.9000000000000001E-2},{"$f":"IF((BL80-'Исходные данные'!$C$295)<0,'Исходные данные'!$C$294,0)","v":2.9000000000000001E-2}]
[0,null,null,null,{"$f":"IF((E81-'Исходные данные'!$C$295)<0,'Исходные данные'!$C$294,0)","v":2.9000000000000001E-2},{"$f":"IF((F81-'Исходные данные'!$C$295)<0,'Исходные данные'!$C$294,0)","v":2.9000000000000001E-2},{"$f":"IF((G81-'Исходные данные'!$C$295)<0,'Исходные данные'!$C$294,0)","v":2.9000000000000001E-2},{"$f":"IF((H81-'Исходные данные'!$C$295)<0,'Исходные данные'!$C$294,0)","v":2.9000000000000001E-2},{"$f":"IF((I81-'Исходные данные'!$C$295)<0,'Исходные данные'!$C$294,0)","v":2.9000000000000001E-2},{"$f":"IF((J81-'Исходные данные'!$C$295)<0,'Исходные данные'!$C$294,0)","v":2.9000000000000001E-2},{"$f":"IF((K81-'Исходные данные'!$C$295)<0,'Исходные данные'!$C$294,0)","v":2.9000000000000001E-2},{"$f":"IF((L81-'Исходные данные'!$C$295)<0,'Исходные данные'!$C$294,0)","v":2.9000000000000001E-2},{"$f":"IF((M81-'Исходные данные'!$C$295)<0,'Исходные данные'!$C$294,0)","v":2.9000000000000001E-2},{"$f":"IF((N81-'Исходные данные'!$C$295)<0,'Исходные данные'!$C$294,0)","v":2.9000000000000001E-2},{"$f":"IF((O81-'Исходные данные'!$C$295)<0,'Исходные данные'!$C$294,0)","v":2.9000000000000001E-2},{"$f":"IF((P81-'Исходные данные'!$C$295)<0,'Исходные данные'!$C$294,0)","v":2.9000000000000001E-2},{"$f":"IF((Q81-'Исходные данные'!$C$295)<0,'Исходные данные'!$C$294,0)","v":2.9000000000000001E-2},{"$f":"IF((R81-'Исходные данные'!$C$295)<0,'Исходные данные'!$C$294,0)","v":2.9000000000000001E-2},{"$f":"IF((S81-'Исходные данные'!$C$295)<0,'Исходные данные'!$C$294,0)","v":2.9000000000000001E-2},{"$f":"IF((T81-'Исходные данные'!$C$295)<0,'Исходные данные'!$C$294,0)","v":2.9000000000000001E-2},{"$f":"IF((U81-'Исходные данные'!$C$295)<0,'Исходные данные'!$C$294,0)","v":2.9000000000000001E-2},{"$f":"IF((V81-'Исходные данные'!$C$295)<0,'Исходные данные'!$C$294,0)","v":2.9000000000000001E-2},{"$f":"IF((W81-'Исходные данные'!$C$295)<0,'Исходные данные'!$C$294,0)","v":2.9000000000000001E-2},{"$f":"IF((X81-'Исходные данные'!$C$295)<0,'Исходные данные'!$C$294,0)","v":2.9000000000000001E-2},{"$f":"IF((Y81-'Исходные данные'!$C$295)<0,'Исходные данные'!$C$294,0)","v":2.9000000000000001E-2},{"$f":"IF((Z81-'Исходные данные'!$C$295)<0,'Исходные данные'!$C$294,0)","v":2.9000000000000001E-2},{"$f":"IF((AA81-'Исходные данные'!$C$295)<0,'Исходные данные'!$C$294,0)","v":2.9000000000000001E-2},{"$f":"IF((AB81-'Исходные данные'!$C$295)<0,'Исходные данные'!$C$294,0)","v":2.9000000000000001E-2},{"$f":"IF((AC81-'Исходные данные'!$C$295)<0,'Исходные данные'!$C$294,0)","v":2.9000000000000001E-2},{"$f":"IF((AD81-'Исходные данные'!$C$295)<0,'Исходные данные'!$C$294,0)","v":2.9000000000000001E-2},{"$f":"IF((AE81-'Исходные данные'!$C$295)<0,'Исходные данные'!$C$294,0)","v":2.9000000000000001E-2},{"$f":"IF((AF81-'Исходные данные'!$C$295)<0,'Исходные данные'!$C$294,0)","v":2.9000000000000001E-2},{"$f":"IF((AG81-'Исходные данные'!$C$295)<0,'Исходные данные'!$C$294,0)","v":2.9000000000000001E-2},{"$f":"IF((AH81-'Исходные данные'!$C$295)<0,'Исходные данные'!$C$294,0)","v":2.9000000000000001E-2},{"$f":"IF((AI81-'Исходные данные'!$C$295)<0,'Исходные данные'!$C$294,0)","v":2.9000000000000001E-2},{"$f":"IF((AJ81-'Исходные данные'!$C$295)<0,'Исходные данные'!$C$294,0)","v":2.9000000000000001E-2},{"$f":"IF((AK81-'Исходные данные'!$C$295)<0,'Исходные данные'!$C$294,0)","v":2.9000000000000001E-2},{"$f":"IF((AL81-'Исходные данные'!$C$295)<0,'Исходные данные'!$C$294,0)","v":2.9000000000000001E-2},{"$f":"IF((AM81-'Исходные данные'!$C$295)<0,'Исходные данные'!$C$294,0)","v":2.9000000000000001E-2},{"$f":"IF((AN81-'Исходные данные'!$C$295)<0,'Исходные данные'!$C$294,0)","v":2.9000000000000001E-2},{"$f":"IF((AO81-'Исходные данные'!$C$295)<0,'Исходные данные'!$C$294,0)","v":2.9000000000000001E-2},{"$f":"IF((AP81-'Исходные данные'!$C$295)<0,'Исходные данные'!$C$294,0)","v":2.9000000000000001E-2},{"$f":"IF((AQ81-'Исходные данные'!$C$295)<0,'Исходные данные'!$C$294,0)","v":2.9000000000000001E-2},{"$f":"IF((AR81-'Исходные данные'!$C$295)<0,'Исходные данные'!$C$294,0)","v":2.9000000000000001E-2},{"$f":"IF((AS81-'Исходные данные'!$C$295)<0,'Исходные данные'!$C$294,0)","v":2.9000000000000001E-2},{"$f":"IF((AT81-'Исходные данные'!$C$295)<0,'Исходные данные'!$C$294,0)","v":2.9000000000000001E-2},{"$f":"IF((AU81-'Исходные данные'!$C$295)<0,'Исходные данные'!$C$294,0)","v":2.9000000000000001E-2},{"$f":"IF((AV81-'Исходные данные'!$C$295)<0,'Исходные данные'!$C$294,0)","v":2.9000000000000001E-2},{"$f":"IF((AW81-'Исходные данные'!$C$295)<0,'Исходные данные'!$C$294,0)","v":2.9000000000000001E-2},{"$f":"IF((AX81-'Исходные данные'!$C$295)<0,'Исходные данные'!$C$294,0)","v":2.9000000000000001E-2},{"$f":"IF((AY81-'Исходные данные'!$C$295)<0,'Исходные данные'!$C$294,0)","v":2.9000000000000001E-2},{"$f":"IF((AZ81-'Исходные данные'!$C$295)<0,'Исходные данные'!$C$294,0)","v":2.9000000000000001E-2},{"$f":"IF((BA81-'Исходные данные'!$C$295)<0,'Исходные данные'!$C$294,0)","v":2.9000000000000001E-2},{"$f":"IF((BB81-'Исходные данные'!$C$295)<0,'Исходные данные'!$C$294,0)","v":2.9000000000000001E-2},{"$f":"IF((BC81-'Исходные данные'!$C$295)<0,'Исходные данные'!$C$294,0)","v":2.9000000000000001E-2},{"$f":"IF((BD81-'Исходные данные'!$C$295)<0,'Исходные данные'!$C$294,0)","v":2.9000000000000001E-2},{"$f":"IF((BE81-'Исходные данные'!$C$295)<0,'Исходные данные'!$C$294,0)","v":2.9000000000000001E-2},{"$f":"IF((BF81-'Исходные данные'!$C$295)<0,'Исходные данные'!$C$294,0)","v":2.9000000000000001E-2},{"$f":"IF((BG81-'Исходные данные'!$C$295)<0,'Исходные данные'!$C$294,0)","v":2.9000000000000001E-2},{"$f":"IF((BH81-'Исходные данные'!$C$295)<0,'Исходные данные'!$C$294,0)","v":2.9000000000000001E-2},{"$f":"IF((BI81-'Исходные данные'!$C$295)<0,'Исходные данные'!$C$294,0)","v":2.9000000000000001E-2},{"$f":"IF((BJ81-'Исходные данные'!$C$295)<0,'Исходные данные'!$C$294,0)","v":2.9000000000000001E-2},{"$f":"IF((BK81-'Исходные данные'!$C$295)<0,'Исходные данные'!$C$294,0)","v":2.9000000000000001E-2},{"$f":"IF((BL81-'Исходные данные'!$C$295)<0,'Исходные данные'!$C$294,0)","v":2.9000000000000001E-2}]
[0,null,null,null,{"$f":"IF((E82-'Исходные данные'!$C$295)<0,'Исходные данные'!$C$294,0)","v":2.9000000000000001E-2},{"$f":"IF((F82-'Исходные данные'!$C$295)<0,'Исходные данные'!$C$294,0)","v":2.9000000000000001E-2},{"$f":"IF((G82-'Исходные данные'!$C$295)<0,'Исходные данные'!$C$294,0)","v":2.9000000000000001E-2},{"$f":"IF((H82-'Исходные данные'!$C$295)<0,'Исходные данные'!$C$294,0)","v":2.9000000000000001E-2},{"$f":"IF((I82-'Исходные данные'!$C$295)<0,'Исходные данные'!$C$294,0)","v":2.9000000000000001E-2},{"$f":"IF((J82-'Исходные данные'!$C$295)<0,'Исходные данные'!$C$294,0)","v":2.9000000000000001E-2},{"$f":"IF((K82-'Исходные данные'!$C$295)<0,'Исходные данные'!$C$294,0)","v":2.9000000000000001E-2},{"$f":"IF((L82-'Исходные данные'!$C$295)<0,'Исходные данные'!$C$294,0)","v":2.9000000000000001E-2},{"$f":"IF((M82-'Исходные данные'!$C$295)<0,'Исходные данные'!$C$294,0)","v":2.9000000000000001E-2},{"$f":"IF((N82-'Исходные данные'!$C$295)<0,'Исходные данные'!$C$294,0)","v":2.9000000000000001E-2},{"$f":"IF((O82-'Исходные данные'!$C$295)<0,'Исходные данные'!$C$294,0)","v":2.9000000000000001E-2},{"$f":"IF((P82-'Исходные данные'!$C$295)<0,'Исходные данные'!$C$294,0)","v":2.9000000000000001E-2},{"$f":"IF((Q82-'Исходные данные'!$C$295)<0,'Исходные данные'!$C$294,0)","v":2.9000000000000001E-2},{"$f":"IF((R82-'Исходные данные'!$C$295)<0,'Исходные данные'!$C$294,0)","v":2.9000000000000001E-2},{"$f":"IF((S82-'Исходные данные'!$C$295)<0,'Исходные данные'!$C$294,0)","v":2.9000000000000001E-2},{"$f":"IF((T82-'Исходные данные'!$C$295)<0,'Исходные данные'!$C$294,0)","v":2.9000000000000001E-2},{"$f":"IF((U82-'Исходные данные'!$C$295)<0,'Исходные данные'!$C$294,0)","v":2.9000000000000001E-2},{"$f":"IF((V82-'Исходные данные'!$C$295)<0,'Исходные данные'!$C$294,0)","v":2.9000000000000001E-2},{"$f":"IF((W82-'Исходные данные'!$C$295)<0,'Исходные данные'!$C$294,0)","v":2.9000000000000001E-2},{"$f":"IF((X82-'Исходные данные'!$C$295)<0,'Исходные данные'!$C$294,0)","v":2.9000000000000001E-2},{"$f":"IF((Y82-'Исходные данные'!$C$295)<0,'Исходные данные'!$C$294,0)","v":2.9000000000000001E-2},{"$f":"IF((Z82-'Исходные данные'!$C$295)<0,'Исходные данные'!$C$294,0)","v":2.9000000000000001E-2},{"$f":"IF((AA82-'Исходные данные'!$C$295)<0,'Исходные данные'!$C$294,0)","v":2.9000000000000001E-2},{"$f":"IF((AB82-'Исходные данные'!$C$295)<0,'Исходные данные'!$C$294,0)","v":2.9000000000000001E-2},{"$f":"IF((AC82-'Исходные данные'!$C$295)<0,'Исходные данные'!$C$294,0)","v":2.9000000000000001E-2},{"$f":"IF((AD82-'Исходные данные'!$C$295)<0,'Исходные данные'!$C$294,0)","v":2.9000000000000001E-2},{"$f":"IF((AE82-'Исходные данные'!$C$295)<0,'Исходные данные'!$C$294,0)","v":2.9000000000000001E-2},{"$f":"IF((AF82-'Исходные данные'!$C$295)<0,'Исходные данные'!$C$294,0)","v":2.9000000000000001E-2},{"$f":"IF((AG82-'Исходные данные'!$C$295)<0,'Исходные данные'!$C$294,0)","v":2.9000000000000001E-2},{"$f":"IF((AH82-'Исходные данные'!$C$295)<0,'Исходные данные'!$C$294,0)","v":2.9000000000000001E-2},{"$f":"IF((AI82-'Исходные данные'!$C$295)<0,'Исходные данные'!$C$294,0)","v":2.9000000000000001E-2},{"$f":"IF((AJ82-'Исходные данные'!$C$295)<0,'Исходные данные'!$C$294,0)","v":2.9000000000000001E-2},{"$f":"IF((AK82-'Исходные данные'!$C$295)<0,'Исходные данные'!$C$294,0)","v":2.9000000000000001E-2},{"$f":"IF((AL82-'Исходные данные'!$C$295)<0,'Исходные данные'!$C$294,0)","v":2.9000000000000001E-2},{"$f":"IF((AM82-'Исходные данные'!$C$295)<0,'Исходные данные'!$C$294,0)","v":2.9000000000000001E-2},{"$f":"IF((AN82-'Исходные данные'!$C$295)<0,'Исходные данные'!$C$294,0)","v":2.9000000000000001E-2},{"$f":"IF((AO82-'Исходные данные'!$C$295)<0,'Исходные данные'!$C$294,0)","v":2.9000000000000001E-2},{"$f":"IF((AP82-'Исходные данные'!$C$295)<0,'Исходные данные'!$C$294,0)","v":2.9000000000000001E-2},{"$f":"IF((AQ82-'Исходные данные'!$C$295)<0,'Исходные данные'!$C$294,0)","v":2.9000000000000001E-2},{"$f":"IF((AR82-'Исходные данные'!$C$295)<0,'Исходные данные'!$C$294,0)","v":2.9000000000000001E-2},{"$f":"IF((AS82-'Исходные данные'!$C$295)<0,'Исходные данные'!$C$294,0)","v":2.9000000000000001E-2},{"$f":"IF((AT82-'Исходные данные'!$C$295)<0,'Исходные данные'!$C$294,0)","v":2.9000000000000001E-2},{"$f":"IF((AU82-'Исходные данные'!$C$295)<0,'Исходные данные'!$C$294,0)","v":2.9000000000000001E-2},{"$f":"IF((AV82-'Исходные данные'!$C$295)<0,'Исходные данные'!$C$294,0)","v":2.9000000000000001E-2},{"$f":"IF((AW82-'Исходные данные'!$C$295)<0,'Исходные данные'!$C$294,0)","v":2.9000000000000001E-2},{"$f":"IF((AX82-'Исходные данные'!$C$295)<0,'Исходные данные'!$C$294,0)","v":2.9000000000000001E-2},{"$f":"IF((AY82-'Исходные данные'!$C$295)<0,'Исходные данные'!$C$294,0)","v":2.9000000000000001E-2},{"$f":"IF((AZ82-'Исходные данные'!$C$295)<0,'Исходные данные'!$C$294,0)","v":2.9000000000000001E-2},{"$f":"IF((BA82-'Исходные данные'!$C$295)<0,'Исходные данные'!$C$294,0)","v":2.9000000000000001E-2},{"$f":"IF((BB82-'Исходные данные'!$C$295)<0,'Исходные данные'!$C$294,0)","v":2.9000000000000001E-2},{"$f":"IF((BC82-'Исходные данные'!$C$295)<0,'Исходные данные'!$C$294,0)","v":2.9000000000000001E-2},{"$f":"IF((BD82-'Исходные данные'!$C$295)<0,'Исходные данные'!$C$294,0)","v":2.9000000000000001E-2},{"$f":"IF((BE82-'Исходные данные'!$C$295)<0,'Исходные данные'!$C$294,0)","v":2.9000000000000001E-2},{"$f":"IF((BF82-'Исходные данные'!$C$295)<0,'Исходные данные'!$C$294,0)","v":2.9000000000000001E-2},{"$f":"IF((BG82-'Исходные данные'!$C$295)<0,'Исходные данные'!$C$294,0)","v":2.9000000000000001E-2},{"$f":"IF((BH82-'Исходные данные'!$C$295)<0,'Исходные данные'!$C$294,0)","v":2.9000000000000001E-2},{"$f":"IF((BI82-'Исходные данные'!$C$295)<0,'Исходные данные'!$C$294,0)","v":2.9000000000000001E-2},{"$f":"IF((BJ82-'Исходные данные'!$C$295)<0,'Исходные данные'!$C$294,0)","v":2.9000000000000001E-2},{"$f":"IF((BK82-'Исходные данные'!$C$295)<0,'Исходные данные'!$C$294,0)","v":2.9000000000000001E-2},{"$f":"IF((BL82-'Исходные данные'!$C$295)<0,'Исходные данные'!$C$294,0)","v":2.9000000000000001E-2}]
[0,null,null,null,{"$f":"IF((E83-'Исходные данные'!$C$295)<0,'Исходные данные'!$C$294,0)","v":2.9000000000000001E-2},{"$f":"IF((F83-'Исходные данные'!$C$295)<0,'Исходные данные'!$C$294,0)","v":2.9000000000000001E-2},{"$f":"IF((G83-'Исходные данные'!$C$295)<0,'Исходные данные'!$C$294,0)","v":2.9000000000000001E-2},{"$f":"IF((H83-'Исходные данные'!$C$295)<0,'Исходные данные'!$C$294,0)","v":2.9000000000000001E-2},{"$f":"IF((I83-'Исходные данные'!$C$295)<0,'Исходные данные'!$C$294,0)","v":2.9000000000000001E-2},{"$f":"IF((J83-'Исходные данные'!$C$295)<0,'Исходные данные'!$C$294,0)","v":2.9000000000000001E-2},{"$f":"IF((K83-'Исходные данные'!$C$295)<0,'Исходные данные'!$C$294,0)","v":2.9000000000000001E-2},{"$f":"IF((L83-'Исходные данные'!$C$295)<0,'Исходные данные'!$C$294,0)","v":2.9000000000000001E-2},{"$f":"IF((M83-'Исходные данные'!$C$295)<0,'Исходные данные'!$C$294,0)","v":2.9000000000000001E-2},{"$f":"IF((N83-'Исходные данные'!$C$295)<0,'Исходные данные'!$C$294,0)","v":2.9000000000000001E-2},{"$f":"IF((O83-'Исходные данные'!$C$295)<0,'Исходные данные'!$C$294,0)","v":2.9000000000000001E-2},{"$f":"IF((P83-'Исходные данные'!$C$295)<0,'Исходные данные'!$C$294,0)","v":2.9000000000000001E-2},{"$f":"IF((Q83-'Исходные данные'!$C$295)<0,'Исходные данные'!$C$294,0)","v":2.9000000000000001E-2},{"$f":"IF((R83-'Исходные данные'!$C$295)<0,'Исходные данные'!$C$294,0)","v":2.9000000000000001E-2},{"$f":"IF((S83-'Исходные данные'!$C$295)<0,'Исходные данные'!$C$294,0)","v":2.9000000000000001E-2},{"$f":"IF((T83-'Исходные данные'!$C$295)<0,'Исходные данные'!$C$294,0)","v":2.9000000000000001E-2},{"$f":"IF((U83-'Исходные данные'!$C$295)<0,'Исходные данные'!$C$294,0)","v":2.9000000000000001E-2},{"$f":"IF((V83-'Исходные данные'!$C$295)<0,'Исходные данные'!$C$294,0)","v":2.9000000000000001E-2},{"$f":"IF((W83-'Исходные данные'!$C$295)<0,'Исходные данные'!$C$294,0)","v":2.9000000000000001E-2},{"$f":"IF((X83-'Исходные данные'!$C$295)<0,'Исходные данные'!$C$294,0)","v":2.9000000000000001E-2},{"$f":"IF((Y83-'Исходные данные'!$C$295)<0,'Исходные данные'!$C$294,0)","v":2.9000000000000001E-2},{"$f":"IF((Z83-'Исходные данные'!$C$295)<0,'Исходные данные'!$C$294,0)","v":2.9000000000000001E-2},{"$f":"IF((AA83-'Исходные данные'!$C$295)<0,'Исходные данные'!$C$294,0)","v":2.9000000000000001E-2},{"$f":"IF((AB83-'Исходные данные'!$C$295)<0,'Исходные данные'!$C$294,0)","v":2.9000000000000001E-2},{"$f":"IF((AC83-'Исходные данные'!$C$295)<0,'Исходные данные'!$C$294,0)","v":2.9000000000000001E-2},{"$f":"IF((AD83-'Исходные данные'!$C$295)<0,'Исходные данные'!$C$294,0)","v":2.9000000000000001E-2},{"$f":"IF((AE83-'Исходные данные'!$C$295)<0,'Исходные данные'!$C$294,0)","v":2.9000000000000001E-2},{"$f":"IF((AF83-'Исходные данные'!$C$295)<0,'Исходные данные'!$C$294,0)","v":2.9000000000000001E-2},{"$f":"IF((AG83-'Исходные данные'!$C$295)<0,'Исходные данные'!$C$294,0)","v":2.9000000000000001E-2},{"$f":"IF((AH83-'Исходные данные'!$C$295)<0,'Исходные данные'!$C$294,0)","v":2.9000000000000001E-2},{"$f":"IF((AI83-'Исходные данные'!$C$295)<0,'Исходные данные'!$C$294,0)","v":2.9000000000000001E-2},{"$f":"IF((AJ83-'Исходные данные'!$C$295)<0,'Исходные данные'!$C$294,0)","v":2.9000000000000001E-2},{"$f":"IF((AK83-'Исходные данные'!$C$295)<0,'Исходные данные'!$C$294,0)","v":2.9000000000000001E-2},{"$f":"IF((AL83-'Исходные данные'!$C$295)<0,'Исходные данные'!$C$294,0)","v":2.9000000000000001E-2},{"$f":"IF((AM83-'Исходные данные'!$C$295)<0,'Исходные данные'!$C$294,0)","v":2.9000000000000001E-2},{"$f":"IF((AN83-'Исходные данные'!$C$295)<0,'Исходные данные'!$C$294,0)","v":2.9000000000000001E-2},{"$f":"IF((AO83-'Исходные данные'!$C$295)<0,'Исходные данные'!$C$294,0)","v":2.9000000000000001E-2},{"$f":"IF((AP83-'Исходные данные'!$C$295)<0,'Исходные данные'!$C$294,0)","v":2.9000000000000001E-2},{"$f":"IF((AQ83-'Исходные данные'!$C$295)<0,'Исходные данные'!$C$294,0)","v":2.9000000000000001E-2},{"$f":"IF((AR83-'Исходные данные'!$C$295)<0,'Исходные данные'!$C$294,0)","v":2.9000000000000001E-2},{"$f":"IF((AS83-'Исходные данные'!$C$295)<0,'Исходные данные'!$C$294,0)","v":2.9000000000000001E-2},{"$f":"IF((AT83-'Исходные данные'!$C$295)<0,'Исходные данные'!$C$294,0)","v":2.9000000000000001E-2},{"$f":"IF((AU83-'Исходные данные'!$C$295)<0,'Исходные данные'!$C$294,0)","v":2.9000000000000001E-2},{"$f":"IF((AV83-'Исходные данные'!$C$295)<0,'Исходные данные'!$C$294,0)","v":2.9000000000000001E-2},{"$f":"IF((AW83-'Исходные данные'!$C$295)<0,'Исходные данные'!$C$294,0)","v":2.9000000000000001E-2},{"$f":"IF((AX83-'Исходные данные'!$C$295)<0,'Исходные данные'!$C$294,0)","v":2.9000000000000001E-2},{"$f":"IF((AY83-'Исходные данные'!$C$295)<0,'Исходные данные'!$C$294,0)","v":2.9000000000000001E-2},{"$f":"IF((AZ83-'Исходные данные'!$C$295)<0,'Исходные данные'!$C$294,0)","v":2.9000000000000001E-2},{"$f":"IF((BA83-'Исходные данные'!$C$295)<0,'Исходные данные'!$C$294,0)","v":2.9000000000000001E-2},{"$f":"IF((BB83-'Исходные данные'!$C$295)<0,'Исходные данные'!$C$294,0)","v":2.9000000000000001E-2},{"$f":"IF((BC83-'Исходные данные'!$C$295)<0,'Исходные данные'!$C$294,0)","v":2.9000000000000001E-2},{"$f":"IF((BD83-'Исходные данные'!$C$295)<0,'Исходные данные'!$C$294,0)","v":2.9000000000000001E-2},{"$f":"IF((BE83-'Исходные данные'!$C$295)<0,'Исходные данные'!$C$294,0)","v":2.9000000000000001E-2},{"$f":"IF((BF83-'Исходные данные'!$C$295)<0,'Исходные данные'!$C$294,0)","v":2.9000000000000001E-2},{"$f":"IF((BG83-'Исходные данные'!$C$295)<0,'Исходные данные'!$C$294,0)","v":2.9000000000000001E-2},{"$f":"IF((BH83-'Исходные данные'!$C$295)<0,'Исходные данные'!$C$294,0)","v":2.9000000000000001E-2},{"$f":"IF((BI83-'Исходные данные'!$C$295)<0,'Исходные данные'!$C$294,0)","v":2.9000000000000001E-2},{"$f":"IF((BJ83-'Исходные данные'!$C$295)<0,'Исходные данные'!$C$294,0)","v":2.9000000000000001E-2},{"$f":"IF((BK83-'Исходные данные'!$C$295)<0,'Исходные данные'!$C$294,0)","v":2.9000000000000001E-2},{"$f":"IF((BL83-'Исходные данные'!$C$295)<0,'Исходные данные'!$C$294,0)","v":2.9000000000000001E-2}]
["Страховые взносы в ФСС (постоянная часть)",null,null,null,{"$f":"SUM(E149:E163)","v":652.5},{"$f":"SUM(F149:F163)","v":652.5},{"$f":"SUM(G149:G163)","v":1305},{"$f":"SUM(H149:H163)","v":1305},{"$f":"SUM(I149:I163)","v":1305},{"$f":"SUM(J149:J163)","v":1305},{"$f":"SUM(K149:K163)","v":1305},{"$f":"SUM(L149:L163)","v":1305},{"$f":"SUM(M149:M163)","v":1305},{"$f":"SUM(N149:N163)","v":1305},{"$f":"SUM(O149:O163)","v":1305},{"$f":"SUM(P149:P163)","v":1305},{"$f":"SUM(Q149:Q163)","v":1305},{"$f":"SUM(R149:R163)","v":1305},{"$f":"SUM(S149:S163)","v":1305},{"$f":"SUM(T149:T163)","v":1305},{"$f":"SUM(U149:U163)","v":1305},{"$f":"SUM(V149:V163)","v":1305},{"$f":"SUM(W149:W163)","v":1305},{"$f":"SUM(X149:X163)","v":1305},{"$f":"SUM(Y149:Y163)","v":1305},{"$f":"SUM(Z149:Z163)","v":1305},{"$f":"SUM(AA149:AA163)","v":1305},{"$f":"SUM(AB149:AB163)","v":1305},{"$f":"SUM(AC149:AC163)","v":1305},{"$f":"SUM(AD149:AD163)","v":1305},{"$f":"SUM(AE149:AE163)","v":1305},{"$f":"SUM(AF149:AF163)","v":1305},{"$f":"SUM(AG149:AG163)","v":1305},{"$f":"SUM(AH149:AH163)","v":1305},{"$f":"SUM(AI149:AI163)","v":1305},{"$f":"SUM(AJ149:AJ163)","v":1305},{"$f":"SUM(AK149:AK163)","v":1305},{"$f":"SUM(AL149:AL163)","v":1305},{"$f":"SUM(AM149:AM163)","v":1305},{"$f":"SUM(AN149:AN163)","v":1305},{"$f":"SUM(AO149:AO163)","v":1305},{"$f":"SUM(AP149:AP163)","v":1305},{"$f":"SUM(AQ149:AQ163)","v":1305},{"$f":"SUM(AR149:AR163)","v":1305},{"$f":"SUM(AS149:AS163)","v":1305},{"$f":"SUM(AT149:AT163)","v":1305},{"$f":"SUM(AU149:AU163)","v":1305},{"$f":"SUM(AV149:AV163)","v":1305},{"$f":"SUM(AW149:AW163)","v":1305},{"$f":"SUM(AX149:AX163)","v":1305},{"$f":"SUM(AY149:AY163)","v":1305},{"$f":"SUM(AZ149:AZ163)","v":1305},{"$f":"SUM(BA149:BA163)","v":1305},{"$f":"SUM(BB149:BB163)","v":1305},{"$f":"SUM(BC149:BC163)","v":1305},{"$f":"SUM(BD149:BD163)","v":1305},{"$f":"SUM(BE149:BE163)","v":1305},{"$f":"SUM(BF149:BF163)","v":1305},{"$f":"SUM(BG149:BG163)","v":1305},{"$f":"SUM(BH149:BH163)","v":1305},{"$f":"SUM(BI149:BI163)","v":1305},{"$f":"SUM(BJ149:BJ163)","v":1305},{"$f":"SUM(BK149:BK163)","v":1305},{"$f":"SUM(BL149:BL163)","v":1305}]
[{"$f":"A133","v":"Продавей"},null,null,null,{"$f":"'Исходные данные'!C114*'Исходные данные'!$D92*(1+'Исходные данные'!$E92)*E133","v":652.5},{"$f":"'Исходные данные'!D114*'Исходные данные'!$D92*(1+'Исходные данные'!$E92)*F133","v":652.5},{"$f":"'Исходные данные'!E114*'Исходные данные'!$D92*(1+'Исходные данные'!$E92)*G133","v":1305},{"$f":"'Исходные данные'!F114*'Исходные данные'!$D92*(1+'Исходные данные'!$E92)*H133","v":1305},{"$f":"'Исходные данные'!G114*'Исходные данные'!$D92*(1+'Исходные данные'!$E92)*I133","v":1305},{"$f":"'Исходные данные'!H114*'Исходные данные'!$D92*(1+'Исходные данные'!$E92)*J133","v":1305},{"$f":"'Исходные данные'!I114*'Исходные данные'!$D92*(1+'Исходные данные'!$E92)*K133","v":1305},{"$f":"'Исходные данные'!J114*'Исходные данные'!$D92*(1+'Исходные данные'!$E92)*L133","v":1305},{"$f":"'Исходные данные'!K114*'Исходные данные'!$D92*(1+'Исходные данные'!$E92)*M133","v":1305},{"$f":"'Исходные данные'!L114*'Исходные данные'!$D92*(1+'Исходные данные'!$E92)*N133","v":1305},{"$f":"'Исходные данные'!M114*'Исходные данные'!$D92*(1+'Исходные данные'!$E92)*O133","v":1305},{"$f":"'Исходные данные'!N114*'Исходные данные'!$D92*(1+'Исходные данные'!$E92)*P133","v":1305},{"$f":"'Исходные данные'!$C92*'Исходные данные'!$D92*(1+'Исходные данные'!$E92)*Q133","v":1305},{"$f":"'Исходные данные'!$C92*'Исходные данные'!$D92*(1+'Исходные данные'!$E92)*R133","v":1305},{"$f":"'Исходные данные'!$C92*'Исходные данные'!$D92*(1+'Исходные данные'!$E92)*S133","v":1305},{"$f":"'Исходные данные'!$C92*'Исходные данные'!$D92*(1+'Исходные данные'!$E92)*T133","v":1305},{"$f":"'Исходные данные'!$C92*'Исходные данные'!$D92*(1+'Исходные данные'!$E92)*U133","v":1305},{"$f":"'Исходные данные'!$C92*'Исходные данные'!$D92*(1+'Исходные данные'!$E92)*V133","v":1305},{"$f":"'Исходные данные'!$C92*'Исходные данные'!$D92*(1+'Исходные данные'!$E92)*W133","v":1305},{"$f":"'Исходные данные'!$C92*'Исходные данные'!$D92*(1+'Исходные данные'!$E92)*X133","v":1305},{"$f":"'Исходные данные'!$C92*'Исходные данные'!$D92*(1+'Исходные данные'!$E92)*Y133","v":1305},{"$f":"'Исходные данные'!$C92*'Исходные данные'!$D92*(1+'Исходные данные'!$E92)*Z133","v":1305},{"$f":"'Исходные данные'!$C92*'Исходные данные'!$D92*(1+'Исходные данные'!$E92)*AA133","v":1305},{"$f":"'Исходные данные'!$C92*'Исходные данные'!$D92*(1+'Исходные данные'!$E92)*AB133","v":1305},{"$f":"'Исходные данные'!$C92*'Исходные данные'!$D92*(1+'Исходные данные'!$E92)*AC133","v":1305},{"$f":"'Исходные данные'!$C92*'Исходные данные'!$D92*(1+'Исходные данные'!$E92)*AD133","v":1305},{"$f":"'Исходные данные'!$C92*'Исходные данные'!$D92*(1+'Исходные данные'!$E92)*AE133","v":1305},{"$f":"'Исходные данные'!$C92*'Исходные данные'!$D92*(1+'Исходные данные'!$E92)*AF133","v":1305},{"$f":"'Исходные данные'!$C92*'Исходные данные'!$D92*(1+'Исходные данные'!$E92)*AG133","v":1305},{"$f":"'Исходные данные'!$C92*'Исходные данные'!$D92*(1+'Исходные данные'!$E92)*AH133","v":1305},{"$f":"'Исходные данные'!$C92*'Исходные данные'!$D92*(1+'Исходные данные'!$E92)*AI133","v":1305},{"$f":"'Исходные данные'!$C92*'Исходные данные'!$D92*(1+'Исходные данные'!$E92)*AJ133","v":1305},{"$f":"'Исходные данные'!$C92*'Исходные данные'!$D92*(1+'Исходные данные'!$E92)*AK133","v":1305},{"$f":"'Исходные данные'!$C92*'Исходные данные'!$D92*(1+'Исходные данные'!$E92)*AL133","v":1305},{"$f":"'Исходные данные'!$C92*'Исходные данные'!$D92*(1+'Исходные данные'!$E92)*AM133","v":1305},{"$f":"'Исходные данные'!$C92*'Исходные данные'!$D92*(1+'Исходные данные'!$E92)*AN133","v":1305},{"$f":"'Исходные данные'!$C92*'Исходные данные'!$D92*(1+'Исходные данные'!$E92)*AO133","v":1305},{"$f":"'Исходные данные'!$C92*'Исходные данные'!$D92*(1+'Исходные данные'!$E92)*AP133","v":1305},{"$f":"'Исходные данные'!$C92*'Исходные данные'!$D92*(1+'Исходные данные'!$E92)*AQ133","v":1305},{"$f":"'Исходные данные'!$C92*'Исходные данные'!$D92*(1+'Исходные данные'!$E92)*AR133","v":1305},{"$f":"'Исходные данные'!$C92*'Исходные данные'!$D92*(1+'Исходные данные'!$E92)*AS133","v":1305},{"$f":"'Исходные данные'!$C92*'Исходные данные'!$D92*(1+'Исходные данные'!$E92)*AT133","v":1305},{"$f":"'Исходные данные'!$C92*'Исходные данные'!$D92*(1+'Исходные данные'!$E92)*AU133","v":1305},{"$f":"'Исходные данные'!$C92*'Исходные данные'!$D92*(1+'Исходные данные'!$E92)*AV133","v":1305},{"$f":"'Исходные данные'!$C92*'Исходные данные'!$D92*(1+'Исходные данные'!$E92)*AW133","v":1305},{"$f":"'Исходные данные'!$C92*'Исходные данные'!$D92*(1+'Исходные данные'!$E92)*AX133","v":1305},{"$f":"'Исходные данные'!$C92*'Исходные данные'!$D92*(1+'Исходные данные'!$E92)*AY133","v":1305},{"$f":"'Исходные данные'!$C92*'Исходные данные'!$D92*(1+'Исходные данные'!$E92)*AZ133","v":1305},{"$f":"'Исходные данные'!$C92*'Исходные данные'!$D92*(1+'Исходные данные'!$E92)*BA133","v":1305},{"$f":"'Исходные данные'!$C92*'Исходные данные'!$D92*(1+'Исходные данные'!$E92)*BB133","v":1305},{"$f":"'Исходные данные'!$C92*'Исходные данные'!$D92*(1+'Исходные данные'!$E92)*BC133","v":1305},{"$f":"'Исходные данные'!$C92*'Исходные данные'!$D92*(1+'Исходные данные'!$E92)*BD133","v":1305},{"$f":"'Исходные данные'!$C92*'Исходные данные'!$D92*(1+'Исходные данные'!$E92)*BE133","v":1305},{"$f":"'Исходные данные'!$C92*'Исходные данные'!$D92*(1+'Исходные данные'!$E92)*BF133","v":1305},{"$f":"'Исходные данные'!$C92*'Исходные данные'!$D92*(1+'Исходные данные'!$E92)*BG133","v":1305},{"$f":"'Исходные данные'!$C92*'Исходные данные'!$D92*(1+'Исходные данные'!$E92)*BH133","v":1305},{"$f":"'Исходные данные'!$C92*'Исходные данные'!$D92*(1+'Исходные данные'!$E92)*BI133","v":1305},{"$f":"'Исходные данные'!$C92*'Исходные данные'!$D92*(1+'Исходные данные'!$E92)*BJ133","v":1305},{"$f":"'Исходные данные'!$C92*'Исходные данные'!$D92*(1+'Исходные данные'!$E92)*BK133","v":1305},{"$f":"'Исходные данные'!$C92*'Исходные данные'!$D92*(1+'Исходные данные'!$E92)*BL133","v":1305}]
[{"$f":"A134","v":0},null,null,null,{"$f":"'Исходные данные'!C115*'Исходные данные'!$D93*(1+'Исходные данные'!$E93)*E134","v":0},{"$f":"'Исходные данные'!D115*'Исходные данные'!$D93*(1+'Исходные данные'!$E93)*F134","v":0},{"$f":"'Исходные данные'!E115*'Исходные данные'!$D93*(1+'Исходные данные'!$E93)*G134","v":0},{"$f":"'Исходные данные'!F115*'Исходные данные'!$D93*(1+'Исходные данные'!$E93)*H134","v":0},{"$f":"'Исходные данные'!G115*'Исходные данные'!$D93*(1+'Исходные данные'!$E93)*I134","v":0},{"$f":"'Исходные данные'!H115*'Исходные данные'!$D93*(1+'Исходные данные'!$E93)*J134","v":0},{"$f":"'Исходные данные'!I115*'Исходные данные'!$D93*(1+'Исходные данные'!$E93)*K134","v":0},{"$f":"'Исходные данные'!J115*'Исходные данные'!$D93*(1+'Исходные данные'!$E93)*L134","v":0},{"$f":"'Исходные данные'!K115*'Исходные данные'!$D93*(1+'Исходные данные'!$E93)*M134","v":0},{"$f":"'Исходные данные'!L115*'Исходные данные'!$D93*(1+'Исходные данные'!$E93)*N134","v":0},{"$f":"'Исходные данные'!M115*'Исходные данные'!$D93*(1+'Исходные данные'!$E93)*O134","v":0},{"$f":"'Исходные данные'!N115*'Исходные данные'!$D93*(1+'Исходные данные'!$E93)*P134","v":0},{"$f":"'Исходные данные'!$C93*'Исходные данные'!$D93*(1+'Исходные данные'!$E93)*Q134","v":0},{"$f":"'Исходные данные'!$C93*'Исходные данные'!$D93*(1+'Исходные данные'!$E93)*R134","v":0},{"$f":"'Исходные данные'!$C93*'Исходные данные'!$D93*(1+'Исходные данные'!$E93)*S134","v":0},{"$f":"'Исходные данные'!$C93*'Исходные данные'!$D93*(1+'Исходные данные'!$E93)*T134","v":0},{"$f":"'Исходные данные'!$C93*'Исходные данные'!$D93*(1+'Исходные данные'!$E93)*U134","v":0},{"$f":"'Исходные данные'!$C93*'Исходные данные'!$D93*(1+'Исходные данные'!$E93)*V134","v":0},{"$f":"'Исходные данные'!$C93*'Исходные данные'!$D93*(1+'Исходные данные'!$E93)*W134","v":0},{"$f":"'Исходные данные'!$C93*'Исходные данные'!$D93*(1+'Исходные данные'!$E93)*X134","v":0},{"$f":"'Исходные данные'!$C93*'Исходные данные'!$D93*(1+'Исходные данные'!$E93)*Y134","v":0},{"$f":"'Исходные данные'!$C93*'Исходные данные'!$D93*(1+'Исходные данные'!$E93)*Z134","v":0},{"$f":"'Исходные данные'!$C93*'Исходные данные'!$D93*(1+'Исходные данные'!$E93)*AA134","v":0},{"$f":"'Исходные данные'!$C93*'Исходные данные'!$D93*(1+'Исходные данные'!$E93)*AB134","v":0},{"$f":"'Исходные данные'!$C93*'Исходные данные'!$D93*(1+'Исходные данные'!$E93)*AC134","v":0},{"$f":"'Исходные данные'!$C93*'Исходные данные'!$D93*(1+'Исходные данные'!$E93)*AD134","v":0},{"$f":"'Исходные данные'!$C93*'Исходные данные'!$D93*(1+'Исходные данные'!$E93)*AE134","v":0},{"$f":"'Исходные данные'!$C93*'Исходные данные'!$D93*(1+'Исходные данные'!$E93)*AF134","v":0},{"$f":"'Исходные данные'!$C93*'Исходные данные'!$D93*(1+'Исходные данные'!$E93)*AG134","v":0},{"$f":"'Исходные данные'!$C93*'Исходные данные'!$D93*(1+'Исходные данные'!$E93)*AH134","v":0},{"$f":"'Исходные данные'!$C93*'Исходные данные'!$D93*(1+'Исходные данные'!$E93)*AI134","v":0},{"$f":"'Исходные данные'!$C93*'Исходные данные'!$D93*(1+'Исходные данные'!$E93)*AJ134","v":0},{"$f":"'Исходные данные'!$C93*'Исходные данные'!$D93*(1+'Исходные данные'!$E93)*AK134","v":0},{"$f":"'Исходные данные'!$C93*'Исходные данные'!$D93*(1+'Исходные данные'!$E93)*AL134","v":0},{"$f":"'Исходные данные'!$C93*'Исходные данные'!$D93*(1+'Исходные данные'!$E93)*AM134","v":0},{"$f":"'Исходные данные'!$C93*'Исходные данные'!$D93*(1+'Исходные данные'!$E93)*AN134","v":0},{"$f":"'Исходные данные'!$C93*'Исходные данные'!$D93*(1+'Исходные данные'!$E93)*AO134","v":0},{"$f":"'Исходные данные'!$C93*'Исходные данные'!$D93*(1+'Исходные данные'!$E93)*AP134","v":0},{"$f":"'Исходные данные'!$C93*'Исходные данные'!$D93*(1+'Исходные данные'!$E93)*AQ134","v":0},{"$f":"'Исходные данные'!$C93*'Исходные данные'!$D93*(1+'Исходные данные'!$E93)*AR134","v":0},{"$f":"'Исходные данные'!$C93*'Исходные данные'!$D93*(1+'Исходные данные'!$E93)*AS134","v":0},{"$f":"'Исходные данные'!$C93*'Исходные данные'!$D93*(1+'Исходные данные'!$E93)*AT134","v":0},{"$f":"'Исходные данные'!$C93*'Исходные данные'!$D93*(1+'Исходные данные'!$E93)*AU134","v":0},{"$f":"'Исходные данные'!$C93*'Исходные данные'!$D93*(1+'Исходные данные'!$E93)*AV134","v":0},{"$f":"'Исходные данные'!$C93*'Исходные данные'!$D93*(1+'Исходные данные'!$E93)*AW134","v":0},{"$f":"'Исходные данные'!$C93*'Исходные данные'!$D93*(1+'Исходные данные'!$E93)*AX134","v":0},{"$f":"'Исходные данные'!$C93*'Исходные данные'!$D93*(1+'Исходные данные'!$E93)*AY134","v":0},{"$f":"'Исходные данные'!$C93*'Исходные данные'!$D93*(1+'Исходные данные'!$E93)*AZ134","v":0},{"$f":"'Исходные данные'!$C93*'Исходные данные'!$D93*(1+'Исходные данные'!$E93)*BA134","v":0},{"$f":"'Исходные данные'!$C93*'Исходные данные'!$D93*(1+'Исходные данные'!$E93)*BB134","v":0},{"$f":"'Исходные данные'!$C93*'Исходные данные'!$D93*(1+'Исходные данные'!$E93)*BC134","v":0},{"$f":"'Исходные данные'!$C93*'Исходные данные'!$D93*(1+'Исходные данные'!$E93)*BD134","v":0},{"$f":"'Исходные данные'!$C93*'Исходные данные'!$D93*(1+'Исходные данные'!$E93)*BE134","v":0},{"$f":"'Исходные данные'!$C93*'Исходные данные'!$D93*(1+'Исходные данные'!$E93)*BF134","v":0},{"$f":"'Исходные данные'!$C93*'Исходные данные'!$D93*(1+'Исходные данные'!$E93)*BG134","v":0},{"$f":"'Исходные данные'!$C93*'Исходные данные'!$D93*(1+'Исходные данные'!$E93)*BH134","v":0},{"$f":"'Исходные данные'!$C93*'Исходные данные'!$D93*(1+'Исходные данные'!$E93)*BI134","v":0},{"$f":"'Исходные данные'!$C93*'Исходные данные'!$D93*(1+'Исходные данные'!$E93)*BJ134","v":0},{"$f":"'Исходные данные'!$C93*'Исходные данные'!$D93*(1+'Исходные данные'!$E93)*BK134","v":0},{"$f":"'Исходные данные'!$C93*'Исходные данные'!$D93*(1+'Исходные данные'!$E93)*BL134","v":0}]
[0,null,null,null,{"$f":"'Исходные данные'!C116*'Исходные данные'!$D94*(1+'Исходные данные'!$E94)*E135","v":0},{"$f":"'Исходные данные'!D116*'Исходные данные'!$D94*(1+'Исходные данные'!$E94)*F135","v":0},{"$f":"'Исходные данные'!E116*'Исходные данные'!$D94*(1+'Исходные данные'!$E94)*G135","v":0},{"$f":"'Исходные данные'!F116*'Исходные данные'!$D94*(1+'Исходные данные'!$E94)*H135","v":0},{"$f":"'Исходные данные'!G116*'Исходные данные'!$D94*(1+'Исходные данные'!$E94)*I135","v":0},{"$f":"'Исходные данные'!H116*'Исходные данные'!$D94*(1+'Исходные данные'!$E94)*J135","v":0},{"$f":"'Исходные данные'!I116*'Исходные данные'!$D94*(1+'Исходные данные'!$E94)*K135","v":0},{"$f":"'Исходные данные'!J116*'Исходные данные'!$D94*(1+'Исходные данные'!$E94)*L135","v":0},{"$f":"'Исходные данные'!K116*'Исходные данные'!$D94*(1+'Исходные данные'!$E94)*M135","v":0},{"$f":"'Исходные данные'!L116*'Исходные данные'!$D94*(1+'Исходные данные'!$E94)*N135","v":0},{"$f":"'Исходные данные'!M116*'Исходные данные'!$D94*(1+'Исходные данные'!$E94)*O135","v":0},{"$f":"'Исходные данные'!N116*'Исходные данные'!$D94*(1+'Исходные данные'!$E94)*P135","v":0},{"$f":"'Исходные данные'!$C94*'Исходные данные'!$D94*(1+'Исходные данные'!$E94)*Q135","v":0},{"$f":"'Исходные данные'!$C94*'Исходные данные'!$D94*(1+'Исходные данные'!$E94)*R135","v":0},{"$f":"'Исходные данные'!$C94*'Исходные данные'!$D94*(1+'Исходные данные'!$E94)*S135","v":0},{"$f":"'Исходные данные'!$C94*'Исходные данные'!$D94*(1+'Исходные данные'!$E94)*T135","v":0},{"$f":"'Исходные данные'!$C94*'Исходные данные'!$D94*(1+'Исходные данные'!$E94)*U135","v":0},{"$f":"'Исходные данные'!$C94*'Исходные данные'!$D94*(1+'Исходные данные'!$E94)*V135","v":0},{"$f":"'Исходные данные'!$C94*'Исходные данные'!$D94*(1+'Исходные данные'!$E94)*W135","v":0},{"$f":"'Исходные данные'!$C94*'Исходные данные'!$D94*(1+'Исходные данные'!$E94)*X135","v":0},{"$f":"'Исходные данные'!$C94*'Исходные данные'!$D94*(1+'Исходные данные'!$E94)*Y135","v":0},{"$f":"'Исходные данные'!$C94*'Исходные данные'!$D94*(1+'Исходные данные'!$E94)*Z135","v":0},{"$f":"'Исходные данные'!$C94*'Исходные данные'!$D94*(1+'Исходные данные'!$E94)*AA135","v":0},{"$f":"'Исходные данные'!$C94*'Исходные данные'!$D94*(1+'Исходные данные'!$E94)*AB135","v":0},{"$f":"'Исходные данные'!$C94*'Исходные данные'!$D94*(1+'Исходные данные'!$E94)*AC135","v":0},{"$f":"'Исходные данные'!$C94*'Исходные данные'!$D94*(1+'Исходные данные'!$E94)*AD135","v":0},{"$f":"'Исходные данные'!$C94*'Исходные данные'!$D94*(1+'Исходные данные'!$E94)*AE135","v":0},{"$f":"'Исходные данные'!$C94*'Исходные данные'!$D94*(1+'Исходные данные'!$E94)*AF135","v":0},{"$f":"'Исходные данные'!$C94*'Исходные данные'!$D94*(1+'Исходные данные'!$E94)*AG135","v":0},{"$f":"'Исходные данные'!$C94*'Исходные данные'!$D94*(1+'Исходные данные'!$E94)*AH135","v":0},{"$f":"'Исходные данные'!$C94*'Исходные данные'!$D94*(1+'Исходные данные'!$E94)*AI135","v":0},{"$f":"'Исходные данные'!$C94*'Исходные данные'!$D94*(1+'Исходные данные'!$E94)*AJ135","v":0},{"$f":"'Исходные данные'!$C94*'Исходные данные'!$D94*(1+'Исходные данные'!$E94)*AK135","v":0},{"$f":"'Исходные данные'!$C94*'Исходные данные'!$D94*(1+'Исходные данные'!$E94)*AL135","v":0},{"$f":"'Исходные данные'!$C94*'Исходные данные'!$D94*(1+'Исходные данные'!$E94)*AM135","v":0},{"$f":"'Исходные данные'!$C94*'Исходные данные'!$D94*(1+'Исходные данные'!$E94)*AN135","v":0},{"$f":"'Исходные данные'!$C94*'Исходные данные'!$D94*(1+'Исходные данные'!$E94)*AO135","v":0},{"$f":"'Исходные данные'!$C94*'Исходные данные'!$D94*(1+'Исходные данные'!$E94)*AP135","v":0},{"$f":"'Исходные данные'!$C94*'Исходные данные'!$D94*(1+'Исходные данные'!$E94)*AQ135","v":0},{"$f":"'Исходные данные'!$C94*'Исходные данные'!$D94*(1+'Исходные данные'!$E94)*AR135","v":0},{"$f":"'Исходные данные'!$C94*'Исходные данные'!$D94*(1+'Исходные данные'!$E94)*AS135","v":0},{"$f":"'Исходные данные'!$C94*'Исходные данные'!$D94*(1+'Исходные данные'!$E94)*AT135","v":0},{"$f":"'Исходные данные'!$C94*'Исходные данные'!$D94*(1+'Исходные данные'!$E94)*AU135","v":0},{"$f":"'Исходные данные'!$C94*'Исходные данные'!$D94*(1+'Исходные данные'!$E94)*AV135","v":0},{"$f":"'Исходные данные'!$C94*'Исходные данные'!$D94*(1+'Исходные данные'!$E94)*AW135","v":0},{"$f":"'Исходные данные'!$C94*'Исходные данные'!$D94*(1+'Исходные данные'!$E94)*AX135","v":0},{"$f":"'Исходные данные'!$C94*'Исходные данные'!$D94*(1+'Исходные данные'!$E94)*AY135","v":0},{"$f":"'Исходные данные'!$C94*'Исходные данные'!$D94*(1+'Исходные данные'!$E94)*AZ135","v":0},{"$f":"'Исходные данные'!$C94*'Исходные данные'!$D94*(1+'Исходные данные'!$E94)*BA135","v":0},{"$f":"'Исходные данные'!$C94*'Исходные данные'!$D94*(1+'Исходные данные'!$E94)*BB135","v":0},{"$f":"'Исходные данные'!$C94*'Исходные данные'!$D94*(1+'Исходные данные'!$E94)*BC135","v":0},{"$f":"'Исходные данные'!$C94*'Исходные данные'!$D94*(1+'Исходные данные'!$E94)*BD135","v":0},{"$f":"'Исходные данные'!$C94*'Исходные данные'!$D94*(1+'Исходные данные'!$E94)*BE135","v":0},{"$f":"'Исходные данные'!$C94*'Исходные данные'!$D94*(1+'Исходные данные'!$E94)*BF135","v":0},{"$f":"'Исходные данные'!$C94*'Исходные данные'!$D94*(1+'Исходные данные'!$E94)*BG135","v":0},{"$f":"'Исходные данные'!$C94*'Исходные данные'!$D94*(1+'Исходные данные'!$E94)*BH135","v":0},{"$f":"'Исходные данные'!$C94*'Исходные данные'!$D94*(1+'Исходные данные'!$E94)*BI135","v":0},{"$f":"'Исходные данные'!$C94*'Исходные данные'!$D94*(1+'Исходные данные'!$E94)*BJ135","v":0},{"$f":"'Исходные данные'!$C94*'Исходные данные'!$D94*(1+'Исходные данные'!$E94)*BK135","v":0},{"$f":"'Исходные данные'!$C94*'Исходные данные'!$D94*(1+'Исходные данные'!$E94)*BL135","v":0}]
[0,null,null,null,{"$f":"'Исходные данные'!C117*'Исходные данные'!$D95*(1+'Исходные данные'!$E95)*E136","v":0},{"$f":"'Исходные данные'!D117*'Исходные данные'!$D95*(1+'Исходные данные'!$E95)*F136","v":0},{"$f":"'Исходные данные'!E117*'Исходные данные'!$D95*(1+'Исходные данные'!$E95)*G136","v":0},{"$f":"'Исходные данные'!F117*'Исходные данные'!$D95*(1+'Исходные данные'!$E95)*H136","v":0},{"$f":"'Исходные данные'!G117*'Исходные данные'!$D95*(1+'Исходные данные'!$E95)*I136","v":0},{"$f":"'Исходные данные'!H117*'Исходные данные'!$D95*(1+'Исходные данные'!$E95)*J136","v":0},{"$f":"'Исходные данные'!I117*'Исходные данные'!$D95*(1+'Исходные данные'!$E95)*K136","v":0},{"$f":"'Исходные данные'!J117*'Исходные данные'!$D95*(1+'Исходные данные'!$E95)*L136","v":0},{"$f":"'Исходные данные'!K117*'Исходные данные'!$D95*(1+'Исходные данные'!$E95)*M136","v":0},{"$f":"'Исходные данные'!L117*'Исходные данные'!$D95*(1+'Исходные данные'!$E95)*N136","v":0},{"$f":"'Исходные данные'!M117*'Исходные данные'!$D95*(1+'Исходные данные'!$E95)*O136","v":0},{"$f":"'Исходные данные'!N117*'Исходные данные'!$D95*(1+'Исходные данные'!$E95)*P136","v":0},{"$f":"'Исходные данные'!$C95*'Исходные данные'!$D95*(1+'Исходные данные'!$E95)*Q136","v":0},{"$f":"'Исходные данные'!$C95*'Исходные данные'!$D95*(1+'Исходные данные'!$E95)*R136","v":0},{"$f":"'Исходные данные'!$C95*'Исходные данные'!$D95*(1+'Исходные данные'!$E95)*S136","v":0},{"$f":"'Исходные данные'!$C95*'Исходные данные'!$D95*(1+'Исходные данные'!$E95)*T136","v":0},{"$f":"'Исходные данные'!$C95*'Исходные данные'!$D95*(1+'Исходные данные'!$E95)*U136","v":0},{"$f":"'Исходные данные'!$C95*'Исходные данные'!$D95*(1+'Исходные данные'!$E95)*V136","v":0},{"$f":"'Исходные данные'!$C95*'Исходные данные'!$D95*(1+'Исходные данные'!$E95)*W136","v":0},{"$f":"'Исходные данные'!$C95*'Исходные данные'!$D95*(1+'Исходные данные'!$E95)*X136","v":0},{"$f":"'Исходные данные'!$C95*'Исходные данные'!$D95*(1+'Исходные данные'!$E95)*Y136","v":0},{"$f":"'Исходные данные'!$C95*'Исходные данные'!$D95*(1+'Исходные данные'!$E95)*Z136","v":0},{"$f":"'Исходные данные'!$C95*'Исходные данные'!$D95*(1+'Исходные данные'!$E95)*AA136","v":0},{"$f":"'Исходные данные'!$C95*'Исходные данные'!$D95*(1+'Исходные данные'!$E95)*AB136","v":0},{"$f":"'Исходные данные'!$C95*'Исходные данные'!$D95*(1+'Исходные данные'!$E95)*AC136","v":0},{"$f":"'Исходные данные'!$C95*'Исходные данные'!$D95*(1+'Исходные данные'!$E95)*AD136","v":0},{"$f":"'Исходные данные'!$C95*'Исходные данные'!$D95*(1+'Исходные данные'!$E95)*AE136","v":0},{"$f":"'Исходные данные'!$C95*'Исходные данные'!$D95*(1+'Исходные данные'!$E95)*AF136","v":0},{"$f":"'Исходные данные'!$C95*'Исходные данные'!$D95*(1+'Исходные данные'!$E95)*AG136","v":0},{"$f":"'Исходные данные'!$C95*'Исходные данные'!$D95*(1+'Исходные данные'!$E95)*AH136","v":0},{"$f":"'Исходные данные'!$C95*'Исходные данные'!$D95*(1+'Исходные данные'!$E95)*AI136","v":0},{"$f":"'Исходные данные'!$C95*'Исходные данные'!$D95*(1+'Исходные данные'!$E95)*AJ136","v":0},{"$f":"'Исходные данные'!$C95*'Исходные данные'!$D95*(1+'Исходные данные'!$E95)*AK136","v":0},{"$f":"'Исходные данные'!$C95*'Исходные данные'!$D95*(1+'Исходные данные'!$E95)*AL136","v":0},{"$f":"'Исходные данные'!$C95*'Исходные данные'!$D95*(1+'Исходные данные'!$E95)*AM136","v":0},{"$f":"'Исходные данные'!$C95*'Исходные данные'!$D95*(1+'Исходные данные'!$E95)*AN136","v":0},{"$f":"'Исходные данные'!$C95*'Исходные данные'!$D95*(1+'Исходные данные'!$E95)*AO136","v":0},{"$f":"'Исходные данные'!$C95*'Исходные данные'!$D95*(1+'Исходные данные'!$E95)*AP136","v":0},{"$f":"'Исходные данные'!$C95*'Исходные данные'!$D95*(1+'Исходные данные'!$E95)*AQ136","v":0},{"$f":"'Исходные данные'!$C95*'Исходные данные'!$D95*(1+'Исходные данные'!$E95)*AR136","v":0},{"$f":"'Исходные данные'!$C95*'Исходные данные'!$D95*(1+'Исходные данные'!$E95)*AS136","v":0},{"$f":"'Исходные данные'!$C95*'Исходные данные'!$D95*(1+'Исходные данные'!$E95)*AT136","v":0},{"$f":"'Исходные данные'!$C95*'Исходные данные'!$D95*(1+'Исходные данные'!$E95)*AU136","v":0},{"$f":"'Исходные данные'!$C95*'Исходные данные'!$D95*(1+'Исходные данные'!$E95)*AV136","v":0},{"$f":"'Исходные данные'!$C95*'Исходные данные'!$D95*(1+'Исходные данные'!$E95)*AW136","v":0},{"$f":"'Исходные данные'!$C95*'Исходные данные'!$D95*(1+'Исходные данные'!$E95)*AX136","v":0},{"$f":"'Исходные данные'!$C95*'Исходные данные'!$D95*(1+'Исходные данные'!$E95)*AY136","v":0},{"$f":"'Исходные данные'!$C95*'Исходные данные'!$D95*(1+'Исходные данные'!$E95)*AZ136","v":0},{"$f":"'Исходные данные'!$C95*'Исходные данные'!$D95*(1+'Исходные данные'!$E95)*BA136","v":0},{"$f":"'Исходные данные'!$C95*'Исходные данные'!$D95*(1+'Исходные данные'!$E95)*BB136","v":0},{"$f":"'Исходные данные'!$C95*'Исходные данные'!$D95*(1+'Исходные данные'!$E95)*BC136","v":0},{"$f":"'Исходные данные'!$C95*'Исходные данные'!$D95*(1+'Исходные данные'!$E95)*BD136","v":0},{"$f":"'Исходные данные'!$C95*'Исходные данные'!$D95*(1+'Исходные данные'!$E95)*BE136","v":0},{"$f":"'Исходные данные'!$C95*'Исходные данные'!$D95*(1+'Исходные данные'!$E95)*BF136","v":0},{"$f":"'Исходные данные'!$C95*'Исходные данные'!$D95*(1+'Исходные данные'!$E95)*BG136","v":0},{"$f":"'Исходные данные'!$C95*'Исходные данные'!$D95*(1+'Исходные данные'!$E95)*BH136","v":0},{"$f":"'Исходные данные'!$C95*'Исходные данные'!$D95*(1+'Исходные данные'!$E95)*BI136","v":0},{"$f":"'Исходные данные'!$C95*'Исходные данные'!$D95*(1+'Исходные данные'!$E95)*BJ136","v":0},{"$f":"'Исходные данные'!$C95*'Исходные данные'!$D95*(1+'Исходные данные'!$E95)*BK136","v":0},{"$f":"'Исходные данные'!$C95*'Исходные данные'!$D95*(1+'Исходные данные'!$E95)*BL136","v":0}]
[0,null,null,null,{"$f":"'Исходные данные'!C118*'Исходные данные'!$D96*(1+'Исходные данные'!$E96)*E137","v":0},{"$f":"'Исходные данные'!D118*'Исходные данные'!$D96*(1+'Исходные данные'!$E96)*F137","v":0},{"$f":"'Исходные данные'!E118*'Исходные данные'!$D96*(1+'Исходные данные'!$E96)*G137","v":0},{"$f":"'Исходные данные'!F118*'Исходные данные'!$D96*(1+'Исходные данные'!$E96)*H137","v":0},{"$f":"'Исходные данные'!G118*'Исходные данные'!$D96*(1+'Исходные данные'!$E96)*I137","v":0},{"$f":"'Исходные данные'!H118*'Исходные данные'!$D96*(1+'Исходные данные'!$E96)*J137","v":0},{"$f":"'Исходные данные'!I118*'Исходные данные'!$D96*(1+'Исходные данные'!$E96)*K137","v":0},{"$f":"'Исходные данные'!J118*'Исходные данные'!$D96*(1+'Исходные данные'!$E96)*L137","v":0},{"$f":"'Исходные данные'!K118*'Исходные данные'!$D96*(1+'Исходные данные'!$E96)*M137","v":0},{"$f":"'Исходные данные'!L118*'Исходные данные'!$D96*(1+'Исходные данные'!$E96)*N137","v":0},{"$f":"'Исходные данные'!M118*'Исходные данные'!$D96*(1+'Исходные данные'!$E96)*O137","v":0},{"$f":"'Исходные данные'!N118*'Исходные данные'!$D96*(1+'Исходные данные'!$E96)*P137","v":0},{"$f":"'Исходные данные'!$C96*'Исходные данные'!$D96*(1+'Исходные данные'!$E96)*Q137","v":0},{"$f":"'Исходные данные'!$C96*'Исходные данные'!$D96*(1+'Исходные данные'!$E96)*R137","v":0},{"$f":"'Исходные данные'!$C96*'Исходные данные'!$D96*(1+'Исходные данные'!$E96)*S137","v":0},{"$f":"'Исходные данные'!$C96*'Исходные данные'!$D96*(1+'Исходные данные'!$E96)*T137","v":0},{"$f":"'Исходные данные'!$C96*'Исходные данные'!$D96*(1+'Исходные данные'!$E96)*U137","v":0},{"$f":"'Исходные данные'!$C96*'Исходные данные'!$D96*(1+'Исходные данные'!$E96)*V137","v":0},{"$f":"'Исходные данные'!$C96*'Исходные данные'!$D96*(1+'Исходные данные'!$E96)*W137","v":0},{"$f":"'Исходные данные'!$C96*'Исходные данные'!$D96*(1+'Исходные данные'!$E96)*X137","v":0},{"$f":"'Исходные данные'!$C96*'Исходные данные'!$D96*(1+'Исходные данные'!$E96)*Y137","v":0},{"$f":"'Исходные данные'!$C96*'Исходные данные'!$D96*(1+'Исходные данные'!$E96)*Z137","v":0},{"$f":"'Исходные данные'!$C96*'Исходные данные'!$D96*(1+'Исходные данные'!$E96)*AA137","v":0},{"$f":"'Исходные данные'!$C96*'Исходные данные'!$D96*(1+'Исходные данные'!$E96)*AB137","v":0},{"$f":"'Исходные данные'!$C96*'Исходные данные'!$D96*(1+'Исходные данные'!$E96)*AC137","v":0},{"$f":"'Исходные данные'!$C96*'Исходные данные'!$D96*(1+'Исходные данные'!$E96)*AD137","v":0},{"$f":"'Исходные данные'!$C96*'Исходные данные'!$D96*(1+'Исходные данные'!$E96)*AE137","v":0},{"$f":"'Исходные данные'!$C96*'Исходные данные'!$D96*(1+'Исходные данные'!$E96)*AF137","v":0},{"$f":"'Исходные данные'!$C96*'Исходные данные'!$D96*(1+'Исходные данные'!$E96)*AG137","v":0},{"$f":"'Исходные данные'!$C96*'Исходные данные'!$D96*(1+'Исходные данные'!$E96)*AH137","v":0},{"$f":"'Исходные данные'!$C96*'Исходные данные'!$D96*(1+'Исходные данные'!$E96)*AI137","v":0},{"$f":"'Исходные данные'!$C96*'Исходные данные'!$D96*(1+'Исходные данные'!$E96)*AJ137","v":0},{"$f":"'Исходные данные'!$C96*'Исходные данные'!$D96*(1+'Исходные данные'!$E96)*AK137","v":0},{"$f":"'Исходные данные'!$C96*'Исходные данные'!$D96*(1+'Исходные данные'!$E96)*AL137","v":0},{"$f":"'Исходные данные'!$C96*'Исходные данные'!$D96*(1+'Исходные данные'!$E96)*AM137","v":0},{"$f":"'Исходные данные'!$C96*'Исходные данные'!$D96*(1+'Исходные данные'!$E96)*AN137","v":0},{"$f":"'Исходные данные'!$C96*'Исходные данные'!$D96*(1+'Исходные данные'!$E96)*AO137","v":0},{"$f":"'Исходные данные'!$C96*'Исходные данные'!$D96*(1+'Исходные данные'!$E96)*AP137","v":0},{"$f":"'Исходные данные'!$C96*'Исходные данные'!$D96*(1+'Исходные данные'!$E96)*AQ137","v":0},{"$f":"'Исходные данные'!$C96*'Исходные данные'!$D96*(1+'Исходные данные'!$E96)*AR137","v":0},{"$f":"'Исходные данные'!$C96*'Исходные данные'!$D96*(1+'Исходные данные'!$E96)*AS137","v":0},{"$f":"'Исходные данные'!$C96*'Исходные данные'!$D96*(1+'Исходные данные'!$E96)*AT137","v":0},{"$f":"'Исходные данные'!$C96*'Исходные данные'!$D96*(1+'Исходные данные'!$E96)*AU137","v":0},{"$f":"'Исходные данные'!$C96*'Исходные данные'!$D96*(1+'Исходные данные'!$E96)*AV137","v":0},{"$f":"'Исходные данные'!$C96*'Исходные данные'!$D96*(1+'Исходные данные'!$E96)*AW137","v":0},{"$f":"'Исходные данные'!$C96*'Исходные данные'!$D96*(1+'Исходные данные'!$E96)*AX137","v":0},{"$f":"'Исходные данные'!$C96*'Исходные данные'!$D96*(1+'Исходные данные'!$E96)*AY137","v":0},{"$f":"'Исходные данные'!$C96*'Исходные данные'!$D96*(1+'Исходные данные'!$E96)*AZ137","v":0},{"$f":"'Исходные данные'!$C96*'Исходные данные'!$D96*(1+'Исходные данные'!$E96)*BA137","v":0},{"$f":"'Исходные данные'!$C96*'Исходные данные'!$D96*(1+'Исходные данные'!$E96)*BB137","v":0},{"$f":"'Исходные данные'!$C96*'Исходные данные'!$D96*(1+'Исходные данные'!$E96)*BC137","v":0},{"$f":"'Исходные данные'!$C96*'Исходные данные'!$D96*(1+'Исходные данные'!$E96)*BD137","v":0},{"$f":"'Исходные данные'!$C96*'Исходные данные'!$D96*(1+'Исходные данные'!$E96)*BE137","v":0},{"$f":"'Исходные данные'!$C96*'Исходные данные'!$D96*(1+'Исходные данные'!$E96)*BF137","v":0},{"$f":"'Исходные данные'!$C96*'Исходные данные'!$D96*(1+'Исходные данные'!$E96)*BG137","v":0},{"$f":"'Исходные данные'!$C96*'Исходные данные'!$D96*(1+'Исходные данные'!$E96)*BH137","v":0},{"$f":"'Исходные данные'!$C96*'Исходные данные'!$D96*(1+'Исходные данные'!$E96)*BI137","v":0},{"$f":"'Исходные данные'!$C96*'Исходные данные'!$D96*(1+'Исходные данные'!$E96)*BJ137","v":0},{"$f":"'Исходные данные'!$C96*'Исходные данные'!$D96*(1+'Исходные данные'!$E96)*BK137","v":0},{"$f":"'Исходные данные'!$C96*'Исходные данные'!$D96*(1+'Исходные данные'!$E96)*BL137","v":0}]
[0,null,null,null,{"$f":"'Исходные данные'!C119*'Исходные данные'!$D97*(1+'Исходные данные'!$E97)*E138","v":0},{"$f":"'Исходные данные'!D119*'Исходные данные'!$D97*(1+'Исходные данные'!$E97)*F138","v":0},{"$f":"'Исходные данные'!E119*'Исходные данные'!$D97*(1+'Исходные данные'!$E97)*G138","v":0},{"$f":"'Исходные данные'!F119*'Исходные данные'!$D97*(1+'Исходные данные'!$E97)*H138","v":0},{"$f":"'Исходные данные'!G119*'Исходные данные'!$D97*(1+'Исходные данные'!$E97)*I138","v":0},{"$f":"'Исходные данные'!H119*'Исходные данные'!$D97*(1+'Исходные данные'!$E97)*J138","v":0},{"$f":"'Исходные данные'!I119*'Исходные данные'!$D97*(1+'Исходные данные'!$E97)*K138","v":0},{"$f":"'Исходные данные'!J119*'Исходные данные'!$D97*(1+'Исходные данные'!$E97)*L138","v":0},{"$f":"'Исходные данные'!K119*'Исходные данные'!$D97*(1+'Исходные данные'!$E97)*M138","v":0},{"$f":"'Исходные данные'!L119*'Исходные данные'!$D97*(1+'Исходные данные'!$E97)*N138","v":0},{"$f":"'Исходные данные'!M119*'Исходные данные'!$D97*(1+'Исходные данные'!$E97)*O138","v":0},{"$f":"'Исходные данные'!N119*'Исходные данные'!$D97*(1+'Исходные данные'!$E97)*P138","v":0},{"$f":"'Исходные данные'!$C97*'Исходные данные'!$D97*(1+'Исходные данные'!$E97)*Q138","v":0},{"$f":"'Исходные данные'!$C97*'Исходные данные'!$D97*(1+'Исходные данные'!$E97)*R138","v":0},{"$f":"'Исходные данные'!$C97*'Исходные данные'!$D97*(1+'Исходные данные'!$E97)*S138","v":0},{"$f":"'Исходные данные'!$C97*'Исходные данные'!$D97*(1+'Исходные данные'!$E97)*T138","v":0},{"$f":"'Исходные данные'!$C97*'Исходные данные'!$D97*(1+'Исходные данные'!$E97)*U138","v":0},{"$f":"'Исходные данные'!$C97*'Исходные данные'!$D97*(1+'Исходные данные'!$E97)*V138","v":0},{"$f":"'Исходные данные'!$C97*'Исходные данные'!$D97*(1+'Исходные данные'!$E97)*W138","v":0},{"$f":"'Исходные данные'!$C97*'Исходные данные'!$D97*(1+'Исходные данные'!$E97)*X138","v":0},{"$f":"'Исходные данные'!$C97*'Исходные данные'!$D97*(1+'Исходные данные'!$E97)*Y138","v":0},{"$f":"'Исходные данные'!$C97*'Исходные данные'!$D97*(1+'Исходные данные'!$E97)*Z138","v":0},{"$f":"'Исходные данные'!$C97*'Исходные данные'!$D97*(1+'Исходные данные'!$E97)*AA138","v":0},{"$f":"'Исходные данные'!$C97*'Исходные данные'!$D97*(1+'Исходные данные'!$E97)*AB138","v":0},{"$f":"'Исходные данные'!$C97*'Исходные данные'!$D97*(1+'Исходные данные'!$E97)*AC138","v":0},{"$f":"'Исходные данные'!$C97*'Исходные данные'!$D97*(1+'Исходные данные'!$E97)*AD138","v":0},{"$f":"'Исходные данные'!$C97*'Исходные данные'!$D97*(1+'Исходные данные'!$E97)*AE138","v":0},{"$f":"'Исходные данные'!$C97*'Исходные данные'!$D97*(1+'Исходные данные'!$E97)*AF138","v":0},{"$f":"'Исходные данные'!$C97*'Исходные данные'!$D97*(1+'Исходные данные'!$E97)*AG138","v":0},{"$f":"'Исходные данные'!$C97*'Исходные данные'!$D97*(1+'Исходные данные'!$E97)*AH138","v":0},{"$f":"'Исходные данные'!$C97*'Исходные данные'!$D97*(1+'Исходные данные'!$E97)*AI138","v":0},{"$f":"'Исходные данные'!$C97*'Исходные данные'!$D97*(1+'Исходные данные'!$E97)*AJ138","v":0},{"$f":"'Исходные данные'!$C97*'Исходные данные'!$D97*(1+'Исходные данные'!$E97)*AK138","v":0},{"$f":"'Исходные данные'!$C97*'Исходные данные'!$D97*(1+'Исходные данные'!$E97)*AL138","v":0},{"$f":"'Исходные данные'!$C97*'Исходные данные'!$D97*(1+'Исходные данные'!$E97)*AM138","v":0},{"$f":"'Исходные данные'!$C97*'Исходные данные'!$D97*(1+'Исходные данные'!$E97)*AN138","v":0},{"$f":"'Исходные данные'!$C97*'Исходные данные'!$D97*(1+'Исходные данные'!$E97)*AO138","v":0},{"$f":"'Исходные данные'!$C97*'Исходные данные'!$D97*(1+'Исходные данные'!$E97)*AP138","v":0},{"$f":"'Исходные данные'!$C97*'Исходные данные'!$D97*(1+'Исходные данные'!$E97)*AQ138","v":0},{"$f":"'Исходные данные'!$C97*'Исходные данные'!$D97*(1+'Исходные данные'!$E97)*AR138","v":0},{"$f":"'Исходные данные'!$C97*'Исходные данные'!$D97*(1+'Исходные данные'!$E97)*AS138","v":0},{"$f":"'Исходные данные'!$C97*'Исходные данные'!$D97*(1+'Исходные данные'!$E97)*AT138","v":0},{"$f":"'Исходные данные'!$C97*'Исходные данные'!$D97*(1+'Исходные данные'!$E97)*AU138","v":0},{"$f":"'Исходные данные'!$C97*'Исходные данные'!$D97*(1+'Исходные данные'!$E97)*AV138","v":0},{"$f":"'Исходные данные'!$C97*'Исходные данные'!$D97*(1+'Исходные данные'!$E97)*AW138","v":0},{"$f":"'Исходные данные'!$C97*'Исходные данные'!$D97*(1+'Исходные данные'!$E97)*AX138","v":0},{"$f":"'Исходные данные'!$C97*'Исходные данные'!$D97*(1+'Исходные данные'!$E97)*AY138","v":0},{"$f":"'Исходные данные'!$C97*'Исходные данные'!$D97*(1+'Исходные данные'!$E97)*AZ138","v":0},{"$f":"'Исходные данные'!$C97*'Исходные данные'!$D97*(1+'Исходные данные'!$E97)*BA138","v":0},{"$f":"'Исходные данные'!$C97*'Исходные данные'!$D97*(1+'Исходные данные'!$E97)*BB138","v":0},{"$f":"'Исходные данные'!$C97*'Исходные данные'!$D97*(1+'Исходные данные'!$E97)*BC138","v":0},{"$f":"'Исходные данные'!$C97*'Исходные данные'!$D97*(1+'Исходные данные'!$E97)*BD138","v":0},{"$f":"'Исходные данные'!$C97*'Исходные данные'!$D97*(1+'Исходные данные'!$E97)*BE138","v":0},{"$f":"'Исходные данные'!$C97*'Исходные данные'!$D97*(1+'Исходные данные'!$E97)*BF138","v":0},{"$f":"'Исходные данные'!$C97*'Исходные данные'!$D97*(1+'Исходные данные'!$E97)*BG138","v":0},{"$f":"'Исходные данные'!$C97*'Исходные данные'!$D97*(1+'Исходные данные'!$E97)*BH138","v":0},{"$f":"'Исходные данные'!$C97*'Исходные данные'!$D97*(1+'Исходные данные'!$E97)*BI138","v":0},{"$f":"'Исходные данные'!$C97*'Исходные данные'!$D97*(1+'Исходные данные'!$E97)*BJ138","v":0},{"$f":"'Исходные данные'!$C97*'Исходные данные'!$D97*(1+'Исходные данные'!$E97)*BK138","v":0},{"$f":"'Исходные данные'!$C97*'Исходные данные'!$D97*(1+'Исходные данные'!$E97)*BL138","v":0}]
[0,null,null,null,{"$f":"'Исходные данные'!C120*'Исходные данные'!$D98*(1+'Исходные данные'!$E98)*E139","v":0},{"$f":"'Исходные данные'!D120*'Исходные данные'!$D98*(1+'Исходные данные'!$E98)*F139","v":0},{"$f":"'Исходные данные'!E120*'Исходные данные'!$D98*(1+'Исходные данные'!$E98)*G139","v":0},{"$f":"'Исходные данные'!F120*'Исходные данные'!$D98*(1+'Исходные данные'!$E98)*H139","v":0},{"$f":"'Исходные данные'!G120*'Исходные данные'!$D98*(1+'Исходные данные'!$E98)*I139","v":0},{"$f":"'Исходные данные'!H120*'Исходные данные'!$D98*(1+'Исходные данные'!$E98)*J139","v":0},{"$f":"'Исходные данные'!I120*'Исходные данные'!$D98*(1+'Исходные данные'!$E98)*K139","v":0},{"$f":"'Исходные данные'!J120*'Исходные данные'!$D98*(1+'Исходные данные'!$E98)*L139","v":0},{"$f":"'Исходные данные'!K120*'Исходные данные'!$D98*(1+'Исходные данные'!$E98)*M139","v":0},{"$f":"'Исходные данные'!L120*'Исходные данные'!$D98*(1+'Исходные данные'!$E98)*N139","v":0},{"$f":"'Исходные данные'!M120*'Исходные данные'!$D98*(1+'Исходные данные'!$E98)*O139","v":0},{"$f":"'Исходные данные'!N120*'Исходные данные'!$D98*(1+'Исходные данные'!$E98)*P139","v":0},{"$f":"'Исходные данные'!$C98*'Исходные данные'!$D98*(1+'Исходные данные'!$E98)*Q139","v":0},{"$f":"'Исходные данные'!$C98*'Исходные данные'!$D98*(1+'Исходные данные'!$E98)*R139","v":0},{"$f":"'Исходные данные'!$C98*'Исходные данные'!$D98*(1+'Исходные данные'!$E98)*S139","v":0},{"$f":"'Исходные данные'!$C98*'Исходные данные'!$D98*(1+'Исходные данные'!$E98)*T139","v":0},{"$f":"'Исходные данные'!$C98*'Исходные данные'!$D98*(1+'Исходные данные'!$E98)*U139","v":0},{"$f":"'Исходные данные'!$C98*'Исходные данные'!$D98*(1+'Исходные данные'!$E98)*V139","v":0},{"$f":"'Исходные данные'!$C98*'Исходные данные'!$D98*(1+'Исходные данные'!$E98)*W139","v":0},{"$f":"'Исходные данные'!$C98*'Исходные данные'!$D98*(1+'Исходные данные'!$E98)*X139","v":0},{"$f":"'Исходные данные'!$C98*'Исходные данные'!$D98*(1+'Исходные данные'!$E98)*Y139","v":0},{"$f":"'Исходные данные'!$C98*'Исходные данные'!$D98*(1+'Исходные данные'!$E98)*Z139","v":0},{"$f":"'Исходные данные'!$C98*'Исходные данные'!$D98*(1+'Исходные данные'!$E98)*AA139","v":0},{"$f":"'Исходные данные'!$C98*'Исходные данные'!$D98*(1+'Исходные данные'!$E98)*AB139","v":0},{"$f":"'Исходные данные'!$C98*'Исходные данные'!$D98*(1+'Исходные данные'!$E98)*AC139","v":0},{"$f":"'Исходные данные'!$C98*'Исходные данные'!$D98*(1+'Исходные данные'!$E98)*AD139","v":0},{"$f":"'Исходные данные'!$C98*'Исходные данные'!$D98*(1+'Исходные данные'!$E98)*AE139","v":0},{"$f":"'Исходные данные'!$C98*'Исходные данные'!$D98*(1+'Исходные данные'!$E98)*AF139","v":0},{"$f":"'Исходные данные'!$C98*'Исходные данные'!$D98*(1+'Исходные данные'!$E98)*AG139","v":0},{"$f":"'Исходные данные'!$C98*'Исходные данные'!$D98*(1+'Исходные данные'!$E98)*AH139","v":0},{"$f":"'Исходные данные'!$C98*'Исходные данные'!$D98*(1+'Исходные данные'!$E98)*AI139","v":0},{"$f":"'Исходные данные'!$C98*'Исходные данные'!$D98*(1+'Исходные данные'!$E98)*AJ139","v":0},{"$f":"'Исходные данные'!$C98*'Исходные данные'!$D98*(1+'Исходные данные'!$E98)*AK139","v":0},{"$f":"'Исходные данные'!$C98*'Исходные данные'!$D98*(1+'Исходные данные'!$E98)*AL139","v":0},{"$f":"'Исходные данные'!$C98*'Исходные данные'!$D98*(1+'Исходные данные'!$E98)*AM139","v":0},{"$f":"'Исходные данные'!$C98*'Исходные данные'!$D98*(1+'Исходные данные'!$E98)*AN139","v":0},{"$f":"'Исходные данные'!$C98*'Исходные данные'!$D98*(1+'Исходные данные'!$E98)*AO139","v":0},{"$f":"'Исходные данные'!$C98*'Исходные данные'!$D98*(1+'Исходные данные'!$E98)*AP139","v":0},{"$f":"'Исходные данные'!$C98*'Исходные данные'!$D98*(1+'Исходные данные'!$E98)*AQ139","v":0},{"$f":"'Исходные данные'!$C98*'Исходные данные'!$D98*(1+'Исходные данные'!$E98)*AR139","v":0},{"$f":"'Исходные данные'!$C98*'Исходные данные'!$D98*(1+'Исходные данные'!$E98)*AS139","v":0},{"$f":"'Исходные данные'!$C98*'Исходные данные'!$D98*(1+'Исходные данные'!$E98)*AT139","v":0},{"$f":"'Исходные данные'!$C98*'Исходные данные'!$D98*(1+'Исходные данные'!$E98)*AU139","v":0},{"$f":"'Исходные данные'!$C98*'Исходные данные'!$D98*(1+'Исходные данные'!$E98)*AV139","v":0},{"$f":"'Исходные данные'!$C98*'Исходные данные'!$D98*(1+'Исходные данные'!$E98)*AW139","v":0},{"$f":"'Исходные данные'!$C98*'Исходные данные'!$D98*(1+'Исходные данные'!$E98)*AX139","v":0},{"$f":"'Исходные данные'!$C98*'Исходные данные'!$D98*(1+'Исходные данные'!$E98)*AY139","v":0},{"$f":"'Исходные данные'!$C98*'Исходные данные'!$D98*(1+'Исходные данные'!$E98)*AZ139","v":0},{"$f":"'Исходные данные'!$C98*'Исходные данные'!$D98*(1+'Исходные данные'!$E98)*BA139","v":0},{"$f":"'Исходные данные'!$C98*'Исходные данные'!$D98*(1+'Исходные данные'!$E98)*BB139","v":0},{"$f":"'Исходные данные'!$C98*'Исходные данные'!$D98*(1+'Исходные данные'!$E98)*BC139","v":0},{"$f":"'Исходные данные'!$C98*'Исходные данные'!$D98*(1+'Исходные данные'!$E98)*BD139","v":0},{"$f":"'Исходные данные'!$C98*'Исходные данные'!$D98*(1+'Исходные данные'!$E98)*BE139","v":0},{"$f":"'Исходные данные'!$C98*'Исходные данные'!$D98*(1+'Исходные данные'!$E98)*BF139","v":0},{"$f":"'Исходные данные'!$C98*'Исходные данные'!$D98*(1+'Исходные данные'!$E98)*BG139","v":0},{"$f":"'Исходные данные'!$C98*'Исходные данные'!$D98*(1+'Исходные данные'!$E98)*BH139","v":0},{"$f":"'Исходные данные'!$C98*'Исходные данные'!$D98*(1+'Исходные данные'!$E98)*BI139","v":0},{"$f":"'Исходные данные'!$C98*'Исходные данные'!$D98*(1+'Исходные данные'!$E98)*BJ139","v":0},{"$f":"'Исходные данные'!$C98*'Исходные данные'!$D98*(1+'Исходные данные'!$E98)*BK139","v":0},{"$f":"'Исходные данные'!$C98*'Исходные данные'!$D98*(1+'Исходные данные'!$E98)*BL139","v":0}]
[0,null,null,null,{"$f":"'Исходные данные'!C121*'Исходные данные'!$D99*(1+'Исходные данные'!$E99)*E140","v":0},{"$f":"'Исходные данные'!D121*'Исходные данные'!$D99*(1+'Исходные данные'!$E99)*F140","v":0},{"$f":"'Исходные данные'!E121*'Исходные данные'!$D99*(1+'Исходные данные'!$E99)*G140","v":0},{"$f":"'Исходные данные'!F121*'Исходные данные'!$D99*(1+'Исходные данные'!$E99)*H140","v":0},{"$f":"'Исходные данные'!G121*'Исходные данные'!$D99*(1+'Исходные данные'!$E99)*I140","v":0},{"$f":"'Исходные данные'!H121*'Исходные данные'!$D99*(1+'Исходные данные'!$E99)*J140","v":0},{"$f":"'Исходные данные'!I121*'Исходные данные'!$D99*(1+'Исходные данные'!$E99)*K140","v":0},{"$f":"'Исходные данные'!J121*'Исходные данные'!$D99*(1+'Исходные данные'!$E99)*L140","v":0},{"$f":"'Исходные данные'!K121*'Исходные данные'!$D99*(1+'Исходные данные'!$E99)*M140","v":0},{"$f":"'Исходные данные'!L121*'Исходные данные'!$D99*(1+'Исходные данные'!$E99)*N140","v":0},{"$f":"'Исходные данные'!M121*'Исходные данные'!$D99*(1+'Исходные данные'!$E99)*O140","v":0},{"$f":"'Исходные данные'!N121*'Исходные данные'!$D99*(1+'Исходные данные'!$E99)*P140","v":0},{"$f":"'Исходные данные'!$C99*'Исходные данные'!$D99*(1+'Исходные данные'!$E99)*Q140","v":0},{"$f":"'Исходные данные'!$C99*'Исходные данные'!$D99*(1+'Исходные данные'!$E99)*R140","v":0},{"$f":"'Исходные данные'!$C99*'Исходные данные'!$D99*(1+'Исходные данные'!$E99)*S140","v":0},{"$f":"'Исходные данные'!$C99*'Исходные данные'!$D99*(1+'Исходные данные'!$E99)*T140","v":0},{"$f":"'Исходные данные'!$C99*'Исходные данные'!$D99*(1+'Исходные данные'!$E99)*U140","v":0},{"$f":"'Исходные данные'!$C99*'Исходные данные'!$D99*(1+'Исходные данные'!$E99)*V140","v":0},{"$f":"'Исходные данные'!$C99*'Исходные данные'!$D99*(1+'Исходные данные'!$E99)*W140","v":0},{"$f":"'Исходные данные'!$C99*'Исходные данные'!$D99*(1+'Исходные данные'!$E99)*X140","v":0},{"$f":"'Исходные данные'!$C99*'Исходные данные'!$D99*(1+'Исходные данные'!$E99)*Y140","v":0},{"$f":"'Исходные данные'!$C99*'Исходные данные'!$D99*(1+'Исходные данные'!$E99)*Z140","v":0},{"$f":"'Исходные данные'!$C99*'Исходные данные'!$D99*(1+'Исходные данные'!$E99)*AA140","v":0},{"$f":"'Исходные данные'!$C99*'Исходные данные'!$D99*(1+'Исходные данные'!$E99)*AB140","v":0},{"$f":"'Исходные данные'!$C99*'Исходные данные'!$D99*(1+'Исходные данные'!$E99)*AC140","v":0},{"$f":"'Исходные данные'!$C99*'Исходные данные'!$D99*(1+'Исходные данные'!$E99)*AD140","v":0},{"$f":"'Исходные данные'!$C99*'Исходные данные'!$D99*(1+'Исходные данные'!$E99)*AE140","v":0},{"$f":"'Исходные данные'!$C99*'Исходные данные'!$D99*(1+'Исходные данные'!$E99)*AF140","v":0},{"$f":"'Исходные данные'!$C99*'Исходные данные'!$D99*(1+'Исходные данные'!$E99)*AG140","v":0},{"$f":"'Исходные данные'!$C99*'Исходные данные'!$D99*(1+'Исходные данные'!$E99)*AH140","v":0},{"$f":"'Исходные данные'!$C99*'Исходные данные'!$D99*(1+'Исходные данные'!$E99)*AI140","v":0},{"$f":"'Исходные данные'!$C99*'Исходные данные'!$D99*(1+'Исходные данные'!$E99)*AJ140","v":0},{"$f":"'Исходные данные'!$C99*'Исходные данные'!$D99*(1+'Исходные данные'!$E99)*AK140","v":0},{"$f":"'Исходные данные'!$C99*'Исходные данные'!$D99*(1+'Исходные данные'!$E99)*AL140","v":0},{"$f":"'Исходные данные'!$C99*'Исходные данные'!$D99*(1+'Исходные данные'!$E99)*AM140","v":0},{"$f":"'Исходные данные'!$C99*'Исходные данные'!$D99*(1+'Исходные данные'!$E99)*AN140","v":0},{"$f":"'Исходные данные'!$C99*'Исходные данные'!$D99*(1+'Исходные данные'!$E99)*AO140","v":0},{"$f":"'Исходные данные'!$C99*'Исходные данные'!$D99*(1+'Исходные данные'!$E99)*AP140","v":0},{"$f":"'Исходные данные'!$C99*'Исходные данные'!$D99*(1+'Исходные данные'!$E99)*AQ140","v":0},{"$f":"'Исходные данные'!$C99*'Исходные данные'!$D99*(1+'Исходные данные'!$E99)*AR140","v":0},{"$f":"'Исходные данные'!$C99*'Исходные данные'!$D99*(1+'Исходные данные'!$E99)*AS140","v":0},{"$f":"'Исходные данные'!$C99*'Исходные данные'!$D99*(1+'Исходные данные'!$E99)*AT140","v":0},{"$f":"'Исходные данные'!$C99*'Исходные данные'!$D99*(1+'Исходные данные'!$E99)*AU140","v":0},{"$f":"'Исходные данные'!$C99*'Исходные данные'!$D99*(1+'Исходные данные'!$E99)*AV140","v":0},{"$f":"'Исходные данные'!$C99*'Исходные данные'!$D99*(1+'Исходные данные'!$E99)*AW140","v":0},{"$f":"'Исходные данные'!$C99*'Исходные данные'!$D99*(1+'Исходные данные'!$E99)*AX140","v":0},{"$f":"'Исходные данные'!$C99*'Исходные данные'!$D99*(1+'Исходные данные'!$E99)*AY140","v":0},{"$f":"'Исходные данные'!$C99*'Исходные данные'!$D99*(1+'Исходные данные'!$E99)*AZ140","v":0},{"$f":"'Исходные данные'!$C99*'Исходные данные'!$D99*(1+'Исходные данные'!$E99)*BA140","v":0},{"$f":"'Исходные данные'!$C99*'Исходные данные'!$D99*(1+'Исходные данные'!$E99)*BB140","v":0},{"$f":"'Исходные данные'!$C99*'Исходные данные'!$D99*(1+'Исходные данные'!$E99)*BC140","v":0},{"$f":"'Исходные данные'!$C99*'Исходные данные'!$D99*(1+'Исходные данные'!$E99)*BD140","v":0},{"$f":"'Исходные данные'!$C99*'Исходные данные'!$D99*(1+'Исходные данные'!$E99)*BE140","v":0},{"$f":"'Исходные данные'!$C99*'Исходные данные'!$D99*(1+'Исходные данные'!$E99)*BF140","v":0},{"$f":"'Исходные данные'!$C99*'Исходные данные'!$D99*(1+'Исходные данные'!$E99)*BG140","v":0},{"$f":"'Исходные данные'!$C99*'Исходные данные'!$D99*(1+'Исходные данные'!$E99)*BH140","v":0},{"$f":"'Исходные данные'!$C99*'Исходные данные'!$D99*(1+'Исходные данные'!$E99)*BI140","v":0},{"$f":"'Исходные данные'!$C99*'Исходные данные'!$D99*(1+'Исходные данные'!$E99)*BJ140","v":0},{"$f":"'Исходные данные'!$C99*'Исходные данные'!$D99*(1+'Исходные данные'!$E99)*BK140","v":0},{"$f":"'Исходные данные'!$C99*'Исходные данные'!$D99*(1+'Исходные данные'!$E99)*BL140","v":0}]
[0,null,null,null,{"$f":"'Исходные данные'!C122*'Исходные данные'!$D100*(1+'Исходные данные'!$E100)*E141","v":0},{"$f":"'Исходные данные'!D122*'Исходные данные'!$D100*(1+'Исходные данные'!$E100)*F141","v":0},{"$f":"'Исходные данные'!E122*'Исходные данные'!$D100*(1+'Исходные данные'!$E100)*G141","v":0},{"$f":"'Исходные данные'!F122*'Исходные данные'!$D100*(1+'Исходные данные'!$E100)*H141","v":0},{"$f":"'Исходные данные'!G122*'Исходные данные'!$D100*(1+'Исходные данные'!$E100)*I141","v":0},{"$f":"'Исходные данные'!H122*'Исходные данные'!$D100*(1+'Исходные данные'!$E100)*J141","v":0},{"$f":"'Исходные данные'!I122*'Исходные данные'!$D100*(1+'Исходные данные'!$E100)*K141","v":0},{"$f":"'Исходные данные'!J122*'Исходные данные'!$D100*(1+'Исходные данные'!$E100)*L141","v":0},{"$f":"'Исходные данные'!K122*'Исходные данные'!$D100*(1+'Исходные данные'!$E100)*M141","v":0},{"$f":"'Исходные данные'!L122*'Исходные данные'!$D100*(1+'Исходные данные'!$E100)*N141","v":0},{"$f":"'Исходные данные'!M122*'Исходные данные'!$D100*(1+'Исходные данные'!$E100)*O141","v":0},{"$f":"'Исходные данные'!N122*'Исходные данные'!$D100*(1+'Исходные данные'!$E100)*P141","v":0},{"$f":"'Исходные данные'!$C100*'Исходные данные'!$D100*(1+'Исходные данные'!$E100)*Q141","v":0},{"$f":"'Исходные данные'!$C100*'Исходные данные'!$D100*(1+'Исходные данные'!$E100)*R141","v":0},{"$f":"'Исходные данные'!$C100*'Исходные данные'!$D100*(1+'Исходные данные'!$E100)*S141","v":0},{"$f":"'Исходные данные'!$C100*'Исходные данные'!$D100*(1+'Исходные данные'!$E100)*T141","v":0},{"$f":"'Исходные данные'!$C100*'Исходные данные'!$D100*(1+'Исходные данные'!$E100)*U141","v":0},{"$f":"'Исходные данные'!$C100*'Исходные данные'!$D100*(1+'Исходные данные'!$E100)*V141","v":0},{"$f":"'Исходные данные'!$C100*'Исходные данные'!$D100*(1+'Исходные данные'!$E100)*W141","v":0},{"$f":"'Исходные данные'!$C100*'Исходные данные'!$D100*(1+'Исходные данные'!$E100)*X141","v":0},{"$f":"'Исходные данные'!$C100*'Исходные данные'!$D100*(1+'Исходные данные'!$E100)*Y141","v":0},{"$f":"'Исходные данные'!$C100*'Исходные данные'!$D100*(1+'Исходные данные'!$E100)*Z141","v":0},{"$f":"'Исходные данные'!$C100*'Исходные данные'!$D100*(1+'Исходные данные'!$E100)*AA141","v":0},{"$f":"'Исходные данные'!$C100*'Исходные данные'!$D100*(1+'Исходные данные'!$E100)*AB141","v":0},{"$f":"'Исходные данные'!$C100*'Исходные данные'!$D100*(1+'Исходные данные'!$E100)*AC141","v":0},{"$f":"'Исходные данные'!$C100*'Исходные данные'!$D100*(1+'Исходные данные'!$E100)*AD141","v":0},{"$f":"'Исходные данные'!$C100*'Исходные данные'!$D100*(1+'Исходные данные'!$E100)*AE141","v":0},{"$f":"'Исходные данные'!$C100*'Исходные данные'!$D100*(1+'Исходные данные'!$E100)*AF141","v":0},{"$f":"'Исходные данные'!$C100*'Исходные данные'!$D100*(1+'Исходные данные'!$E100)*AG141","v":0},{"$f":"'Исходные данные'!$C100*'Исходные данные'!$D100*(1+'Исходные данные'!$E100)*AH141","v":0},{"$f":"'Исходные данные'!$C100*'Исходные данные'!$D100*(1+'Исходные данные'!$E100)*AI141","v":0},{"$f":"'Исходные данные'!$C100*'Исходные данные'!$D100*(1+'Исходные данные'!$E100)*AJ141","v":0},{"$f":"'Исходные данные'!$C100*'Исходные данные'!$D100*(1+'Исходные данные'!$E100)*AK141","v":0},{"$f":"'Исходные данные'!$C100*'Исходные данные'!$D100*(1+'Исходные данные'!$E100)*AL141","v":0},{"$f":"'Исходные данные'!$C100*'Исходные данные'!$D100*(1+'Исходные данные'!$E100)*AM141","v":0},{"$f":"'Исходные данные'!$C100*'Исходные данные'!$D100*(1+'Исходные данные'!$E100)*AN141","v":0},{"$f":"'Исходные данные'!$C100*'Исходные данные'!$D100*(1+'Исходные данные'!$E100)*AO141","v":0},{"$f":"'Исходные данные'!$C100*'Исходные данные'!$D100*(1+'Исходные данные'!$E100)*AP141","v":0},{"$f":"'Исходные данные'!$C100*'Исходные данные'!$D100*(1+'Исходные данные'!$E100)*AQ141","v":0},{"$f":"'Исходные данные'!$C100*'Исходные данные'!$D100*(1+'Исходные данные'!$E100)*AR141","v":0},{"$f":"'Исходные данные'!$C100*'Исходные данные'!$D100*(1+'Исходные данные'!$E100)*AS141","v":0},{"$f":"'Исходные данные'!$C100*'Исходные данные'!$D100*(1+'Исходные данные'!$E100)*AT141","v":0},{"$f":"'Исходные данные'!$C100*'Исходные данные'!$D100*(1+'Исходные данные'!$E100)*AU141","v":0},{"$f":"'Исходные данные'!$C100*'Исходные данные'!$D100*(1+'Исходные данные'!$E100)*AV141","v":0},{"$f":"'Исходные данные'!$C100*'Исходные данные'!$D100*(1+'Исходные данные'!$E100)*AW141","v":0},{"$f":"'Исходные данные'!$C100*'Исходные данные'!$D100*(1+'Исходные данные'!$E100)*AX141","v":0},{"$f":"'Исходные данные'!$C100*'Исходные данные'!$D100*(1+'Исходные данные'!$E100)*AY141","v":0},{"$f":"'Исходные данные'!$C100*'Исходные данные'!$D100*(1+'Исходные данные'!$E100)*AZ141","v":0},{"$f":"'Исходные данные'!$C100*'Исходные данные'!$D100*(1+'Исходные данные'!$E100)*BA141","v":0},{"$f":"'Исходные данные'!$C100*'Исходные данные'!$D100*(1+'Исходные данные'!$E100)*BB141","v":0},{"$f":"'Исходные данные'!$C100*'Исходные данные'!$D100*(1+'Исходные данные'!$E100)*BC141","v":0},{"$f":"'Исходные данные'!$C100*'Исходные данные'!$D100*(1+'Исходные данные'!$E100)*BD141","v":0},{"$f":"'Исходные данные'!$C100*'Исходные данные'!$D100*(1+'Исходные данные'!$E100)*BE141","v":0},{"$f":"'Исходные данные'!$C100*'Исходные данные'!$D100*(1+'Исходные данные'!$E100)*BF141","v":0},{"$f":"'Исходные данные'!$C100*'Исходные данные'!$D100*(1+'Исходные данные'!$E100)*BG141","v":0},{"$f":"'Исходные данные'!$C100*'Исходные данные'!$D100*(1+'Исходные данные'!$E100)*BH141","v":0},{"$f":"'Исходные данные'!$C100*'Исходные данные'!$D100*(1+'Исходные данные'!$E100)*BI141","v":0},{"$f":"'Исходные данные'!$C100*'Исходные данные'!$D100*(1+'Исходные данные'!$E100)*BJ141","v":0},{"$f":"'Исходные данные'!$C100*'Исходные данные'!$D100*(1+'Исходные данные'!$E100)*BK141","v":0},{"$f":"'Исходные данные'!$C100*'Исходные данные'!$D100*(1+'Исходные данные'!$E100)*BL141","v":0}]
[0,null,null,null,{"$f":"'Исходные данные'!C123*'Исходные данные'!$D101*(1+'Исходные данные'!$E101)*E142","v":0},{"$f":"'Исходные данные'!D123*'Исходные данные'!$D101*(1+'Исходные данные'!$E101)*F142","v":0},{"$f":"'Исходные данные'!E123*'Исходные данные'!$D101*(1+'Исходные данные'!$E101)*G142","v":0},{"$f":"'Исходные данные'!F123*'Исходные данные'!$D101*(1+'Исходные данные'!$E101)*H142","v":0},{"$f":"'Исходные данные'!G123*'Исходные данные'!$D101*(1+'Исходные данные'!$E101)*I142","v":0},{"$f":"'Исходные данные'!H123*'Исходные данные'!$D101*(1+'Исходные данные'!$E101)*J142","v":0},{"$f":"'Исходные данные'!I123*'Исходные данные'!$D101*(1+'Исходные данные'!$E101)*K142","v":0},{"$f":"'Исходные данные'!J123*'Исходные данные'!$D101*(1+'Исходные данные'!$E101)*L142","v":0},{"$f":"'Исходные данные'!K123*'Исходные данные'!$D101*(1+'Исходные данные'!$E101)*M142","v":0},{"$f":"'Исходные данные'!L123*'Исходные данные'!$D101*(1+'Исходные данные'!$E101)*N142","v":0},{"$f":"'Исходные данные'!M123*'Исходные данные'!$D101*(1+'Исходные данные'!$E101)*O142","v":0},{"$f":"'Исходные данные'!N123*'Исходные данные'!$D101*(1+'Исходные данные'!$E101)*P142","v":0},{"$f":"'Исходные данные'!$C101*'Исходные данные'!$D101*(1+'Исходные данные'!$E101)*Q142","v":0},{"$f":"'Исходные данные'!$C101*'Исходные данные'!$D101*(1+'Исходные данные'!$E101)*R142","v":0},{"$f":"'Исходные данные'!$C101*'Исходные данные'!$D101*(1+'Исходные данные'!$E101)*S142","v":0},{"$f":"'Исходные данные'!$C101*'Исходные данные'!$D101*(1+'Исходные данные'!$E101)*T142","v":0},{"$f":"'Исходные данные'!$C101*'Исходные данные'!$D101*(1+'Исходные данные'!$E101)*U142","v":0},{"$f":"'Исходные данные'!$C101*'Исходные данные'!$D101*(1+'Исходные данные'!$E101)*V142","v":0},{"$f":"'Исходные данные'!$C101*'Исходные данные'!$D101*(1+'Исходные данные'!$E101)*W142","v":0},{"$f":"'Исходные данные'!$C101*'Исходные данные'!$D101*(1+'Исходные данные'!$E101)*X142","v":0},{"$f":"'Исходные данные'!$C101*'Исходные данные'!$D101*(1+'Исходные данные'!$E101)*Y142","v":0},{"$f":"'Исходные данные'!$C101*'Исходные данные'!$D101*(1+'Исходные данные'!$E101)*Z142","v":0},{"$f":"'Исходные данные'!$C101*'Исходные данные'!$D101*(1+'Исходные данные'!$E101)*AA142","v":0},{"$f":"'Исходные данные'!$C101*'Исходные данные'!$D101*(1+'Исходные данные'!$E101)*AB142","v":0},{"$f":"'Исходные данные'!$C101*'Исходные данные'!$D101*(1+'Исходные данные'!$E101)*AC142","v":0},{"$f":"'Исходные данные'!$C101*'Исходные данные'!$D101*(1+'Исходные данные'!$E101)*AD142","v":0},{"$f":"'Исходные данные'!$C101*'Исходные данные'!$D101*(1+'Исходные данные'!$E101)*AE142","v":0},{"$f":"'Исходные данные'!$C101*'Исходные данные'!$D101*(1+'Исходные данные'!$E101)*AF142","v":0},{"$f":"'Исходные данные'!$C101*'Исходные данные'!$D101*(1+'Исходные данные'!$E101)*AG142","v":0},{"$f":"'Исходные данные'!$C101*'Исходные данные'!$D101*(1+'Исходные данные'!$E101)*AH142","v":0},{"$f":"'Исходные данные'!$C101*'Исходные данные'!$D101*(1+'Исходные данные'!$E101)*AI142","v":0},{"$f":"'Исходные данные'!$C101*'Исходные данные'!$D101*(1+'Исходные данные'!$E101)*AJ142","v":0},{"$f":"'Исходные данные'!$C101*'Исходные данные'!$D101*(1+'Исходные данные'!$E101)*AK142","v":0},{"$f":"'Исходные данные'!$C101*'Исходные данные'!$D101*(1+'Исходные данные'!$E101)*AL142","v":0},{"$f":"'Исходные данные'!$C101*'Исходные данные'!$D101*(1+'Исходные данные'!$E101)*AM142","v":0},{"$f":"'Исходные данные'!$C101*'Исходные данные'!$D101*(1+'Исходные данные'!$E101)*AN142","v":0},{"$f":"'Исходные данные'!$C101*'Исходные данные'!$D101*(1+'Исходные данные'!$E101)*AO142","v":0},{"$f":"'Исходные данные'!$C101*'Исходные данные'!$D101*(1+'Исходные данные'!$E101)*AP142","v":0},{"$f":"'Исходные данные'!$C101*'Исходные данные'!$D101*(1+'Исходные данные'!$E101)*AQ142","v":0},{"$f":"'Исходные данные'!$C101*'Исходные данные'!$D101*(1+'Исходные данные'!$E101)*AR142","v":0},{"$f":"'Исходные данные'!$C101*'Исходные данные'!$D101*(1+'Исходные данные'!$E101)*AS142","v":0},{"$f":"'Исходные данные'!$C101*'Исходные данные'!$D101*(1+'Исходные данные'!$E101)*AT142","v":0},{"$f":"'Исходные данные'!$C101*'Исходные данные'!$D101*(1+'Исходные данные'!$E101)*AU142","v":0},{"$f":"'Исходные данные'!$C101*'Исходные данные'!$D101*(1+'Исходные данные'!$E101)*AV142","v":0},{"$f":"'Исходные данные'!$C101*'Исходные данные'!$D101*(1+'Исходные данные'!$E101)*AW142","v":0},{"$f":"'Исходные данные'!$C101*'Исходные данные'!$D101*(1+'Исходные данные'!$E101)*AX142","v":0},{"$f":"'Исходные данные'!$C101*'Исходные данные'!$D101*(1+'Исходные данные'!$E101)*AY142","v":0},{"$f":"'Исходные данные'!$C101*'Исходные данные'!$D101*(1+'Исходные данные'!$E101)*AZ142","v":0},{"$f":"'Исходные данные'!$C101*'Исходные данные'!$D101*(1+'Исходные данные'!$E101)*BA142","v":0},{"$f":"'Исходные данные'!$C101*'Исходные данные'!$D101*(1+'Исходные данные'!$E101)*BB142","v":0},{"$f":"'Исходные данные'!$C101*'Исходные данные'!$D101*(1+'Исходные данные'!$E101)*BC142","v":0},{"$f":"'Исходные данные'!$C101*'Исходные данные'!$D101*(1+'Исходные данные'!$E101)*BD142","v":0},{"$f":"'Исходные данные'!$C101*'Исходные данные'!$D101*(1+'Исходные данные'!$E101)*BE142","v":0},{"$f":"'Исходные данные'!$C101*'Исходные данные'!$D101*(1+'Исходные данные'!$E101)*BF142","v":0},{"$f":"'Исходные данные'!$C101*'Исходные данные'!$D101*(1+'Исходные данные'!$E101)*BG142","v":0},{"$f":"'Исходные данные'!$C101*'Исходные данные'!$D101*(1+'Исходные данные'!$E101)*BH142","v":0},{"$f":"'Исходные данные'!$C101*'Исходные данные'!$D101*(1+'Исходные данные'!$E101)*BI142","v":0},{"$f":"'Исходные данные'!$C101*'Исходные данные'!$D101*(1+'Исходные данные'!$E101)*BJ142","v":0},{"$f":"'Исходные данные'!$C101*'Исходные данные'!$D101*(1+'Исходные данные'!$E101)*BK142","v":0},{"$f":"'Исходные данные'!$C101*'Исходные данные'!$D101*(1+'Исходные данные'!$E101)*BL142","v":0}]
[0,null,null,null,{"$f":"'Исходные данные'!C124*'Исходные данные'!$D102*(1+'Исходные данные'!$E102)*E143","v":0},{"$f":"'Исходные данные'!D124*'Исходные данные'!$D102*(1+'Исходные данные'!$E102)*F143","v":0},{"$f":"'Исходные данные'!E124*'Исходные данные'!$D102*(1+'Исходные данные'!$E102)*G143","v":0},{"$f":"'Исходные данные'!F124*'Исходные данные'!$D102*(1+'Исходные данные'!$E102)*H143","v":0},{"$f":"'Исходные данные'!G124*'Исходные данные'!$D102*(1+'Исходные данные'!$E102)*I143","v":0},{"$f":"'Исходные данные'!H124*'Исходные данные'!$D102*(1+'Исходные данные'!$E102)*J143","v":0},{"$f":"'Исходные данные'!I124*'Исходные данные'!$D102*(1+'Исходные данные'!$E102)*K143","v":0},{"$f":"'Исходные данные'!J124*'Исходные данные'!$D102*(1+'Исходные данные'!$E102)*L143","v":0},{"$f":"'Исходные данные'!K124*'Исходные данные'!$D102*(1+'Исходные данные'!$E102)*M143","v":0},{"$f":"'Исходные данные'!L124*'Исходные данные'!$D102*(1+'Исходные данные'!$E102)*N143","v":0},{"$f":"'Исходные данные'!M124*'Исходные данные'!$D102*(1+'Исходные данные'!$E102)*O143","v":0},{"$f":"'Исходные данные'!N124*'Исходные данные'!$D102*(1+'Исходные данные'!$E102)*P143","v":0},{"$f":"'Исходные данные'!$C102*'Исходные данные'!$D102*(1+'Исходные данные'!$E102)*Q143","v":0},{"$f":"'Исходные данные'!$C102*'Исходные данные'!$D102*(1+'Исходные данные'!$E102)*R143","v":0},{"$f":"'Исходные данные'!$C102*'Исходные данные'!$D102*(1+'Исходные данные'!$E102)*S143","v":0},{"$f":"'Исходные данные'!$C102*'Исходные данные'!$D102*(1+'Исходные данные'!$E102)*T143","v":0},{"$f":"'Исходные данные'!$C102*'Исходные данные'!$D102*(1+'Исходные данные'!$E102)*U143","v":0},{"$f":"'Исходные данные'!$C102*'Исходные данные'!$D102*(1+'Исходные данные'!$E102)*V143","v":0},{"$f":"'Исходные данные'!$C102*'Исходные данные'!$D102*(1+'Исходные данные'!$E102)*W143","v":0},{"$f":"'Исходные данные'!$C102*'Исходные данные'!$D102*(1+'Исходные данные'!$E102)*X143","v":0},{"$f":"'Исходные данные'!$C102*'Исходные данные'!$D102*(1+'Исходные данные'!$E102)*Y143","v":0},{"$f":"'Исходные данные'!$C102*'Исходные данные'!$D102*(1+'Исходные данные'!$E102)*Z143","v":0},{"$f":"'Исходные данные'!$C102*'Исходные данные'!$D102*(1+'Исходные данные'!$E102)*AA143","v":0},{"$f":"'Исходные данные'!$C102*'Исходные данные'!$D102*(1+'Исходные данные'!$E102)*AB143","v":0},{"$f":"'Исходные данные'!$C102*'Исходные данные'!$D102*(1+'Исходные данные'!$E102)*AC143","v":0},{"$f":"'Исходные данные'!$C102*'Исходные данные'!$D102*(1+'Исходные данные'!$E102)*AD143","v":0},{"$f":"'Исходные данные'!$C102*'Исходные данные'!$D102*(1+'Исходные данные'!$E102)*AE143","v":0},{"$f":"'Исходные данные'!$C102*'Исходные данные'!$D102*(1+'Исходные данные'!$E102)*AF143","v":0},{"$f":"'Исходные данные'!$C102*'Исходные данные'!$D102*(1+'Исходные данные'!$E102)*AG143","v":0},{"$f":"'Исходные данные'!$C102*'Исходные данные'!$D102*(1+'Исходные данные'!$E102)*AH143","v":0},{"$f":"'Исходные данные'!$C102*'Исходные данные'!$D102*(1+'Исходные данные'!$E102)*AI143","v":0},{"$f":"'Исходные данные'!$C102*'Исходные данные'!$D102*(1+'Исходные данные'!$E102)*AJ143","v":0},{"$f":"'Исходные данные'!$C102*'Исходные данные'!$D102*(1+'Исходные данные'!$E102)*AK143","v":0},{"$f":"'Исходные данные'!$C102*'Исходные данные'!$D102*(1+'Исходные данные'!$E102)*AL143","v":0},{"$f":"'Исходные данные'!$C102*'Исходные данные'!$D102*(1+'Исходные данные'!$E102)*AM143","v":0},{"$f":"'Исходные данные'!$C102*'Исходные данные'!$D102*(1+'Исходные данные'!$E102)*AN143","v":0},{"$f":"'Исходные данные'!$C102*'Исходные данные'!$D102*(1+'Исходные данные'!$E102)*AO143","v":0},{"$f":"'Исходные данные'!$C102*'Исходные данные'!$D102*(1+'Исходные данные'!$E102)*AP143","v":0},{"$f":"'Исходные данные'!$C102*'Исходные данные'!$D102*(1+'Исходные данные'!$E102)*AQ143","v":0},{"$f":"'Исходные данные'!$C102*'Исходные данные'!$D102*(1+'Исходные данные'!$E102)*AR143","v":0},{"$f":"'Исходные данные'!$C102*'Исходные данные'!$D102*(1+'Исходные данные'!$E102)*AS143","v":0},{"$f":"'Исходные данные'!$C102*'Исходные данные'!$D102*(1+'Исходные данные'!$E102)*AT143","v":0},{"$f":"'Исходные данные'!$C102*'Исходные данные'!$D102*(1+'Исходные данные'!$E102)*AU143","v":0},{"$f":"'Исходные данные'!$C102*'Исходные данные'!$D102*(1+'Исходные данные'!$E102)*AV143","v":0},{"$f":"'Исходные данные'!$C102*'Исходные данные'!$D102*(1+'Исходные данные'!$E102)*AW143","v":0},{"$f":"'Исходные данные'!$C102*'Исходные данные'!$D102*(1+'Исходные данные'!$E102)*AX143","v":0},{"$f":"'Исходные данные'!$C102*'Исходные данные'!$D102*(1+'Исходные данные'!$E102)*AY143","v":0},{"$f":"'Исходные данные'!$C102*'Исходные данные'!$D102*(1+'Исходные данные'!$E102)*AZ143","v":0},{"$f":"'Исходные данные'!$C102*'Исходные данные'!$D102*(1+'Исходные данные'!$E102)*BA143","v":0},{"$f":"'Исходные данные'!$C102*'Исходные данные'!$D102*(1+'Исходные данные'!$E102)*BB143","v":0},{"$f":"'Исходные данные'!$C102*'Исходные данные'!$D102*(1+'Исходные данные'!$E102)*BC143","v":0},{"$f":"'Исходные данные'!$C102*'Исходные данные'!$D102*(1+'Исходные данные'!$E102)*BD143","v":0},{"$f":"'Исходные данные'!$C102*'Исходные данные'!$D102*(1+'Исходные данные'!$E102)*BE143","v":0},{"$f":"'Исходные данные'!$C102*'Исходные данные'!$D102*(1+'Исходные данные'!$E102)*BF143","v":0},{"$f":"'Исходные данные'!$C102*'Исходные данные'!$D102*(1+'Исходные данные'!$E102)*BG143","v":0},{"$f":"'Исходные данные'!$C102*'Исходные данные'!$D102*(1+'Исходные данные'!$E102)*BH143","v":0},{"$f":"'Исходные данные'!$C102*'Исходные данные'!$D102*(1+'Исходные данные'!$E102)*BI143","v":0},{"$f":"'Исходные данные'!$C102*'Исходные данные'!$D102*(1+'Исходные данные'!$E102)*BJ143","v":0},{"$f":"'Исходные данные'!$C102*'Исходные данные'!$D102*(1+'Исходные данные'!$E102)*BK143","v":0},{"$f":"'Исходные данные'!$C102*'Исходные данные'!$D102*(1+'Исходные данные'!$E102)*BL143","v":0}]
[0,null,null,null,{"$f":"'Исходные данные'!C125*'Исходные данные'!$D103*(1+'Исходные данные'!$E103)*E144","v":0},{"$f":"'Исходные данные'!D125*'Исходные данные'!$D103*(1+'Исходные данные'!$E103)*F144","v":0},{"$f":"'Исходные данные'!E125*'Исходные данные'!$D103*(1+'Исходные данные'!$E103)*G144","v":0},{"$f":"'Исходные данные'!F125*'Исходные данные'!$D103*(1+'Исходные данные'!$E103)*H144","v":0},{"$f":"'Исходные данные'!G125*'Исходные данные'!$D103*(1+'Исходные данные'!$E103)*I144","v":0},{"$f":"'Исходные данные'!H125*'Исходные данные'!$D103*(1+'Исходные данные'!$E103)*J144","v":0},{"$f":"'Исходные данные'!I125*'Исходные данные'!$D103*(1+'Исходные данные'!$E103)*K144","v":0},{"$f":"'Исходные данные'!J125*'Исходные данные'!$D103*(1+'Исходные данные'!$E103)*L144","v":0},{"$f":"'Исходные данные'!K125*'Исходные данные'!$D103*(1+'Исходные данные'!$E103)*M144","v":0},{"$f":"'Исходные данные'!L125*'Исходные данные'!$D103*(1+'Исходные данные'!$E103)*N144","v":0},{"$f":"'Исходные данные'!M125*'Исходные данные'!$D103*(1+'Исходные данные'!$E103)*O144","v":0},{"$f":"'Исходные данные'!N125*'Исходные данные'!$D103*(1+'Исходные данные'!$E103)*P144","v":0},{"$f":"'Исходные данные'!$C103*'Исходные данные'!$D103*(1+'Исходные данные'!$E103)*Q144","v":0},{"$f":"'Исходные данные'!$C103*'Исходные данные'!$D103*(1+'Исходные данные'!$E103)*R144","v":0},{"$f":"'Исходные данные'!$C103*'Исходные данные'!$D103*(1+'Исходные данные'!$E103)*S144","v":0},{"$f":"'Исходные данные'!$C103*'Исходные данные'!$D103*(1+'Исходные данные'!$E103)*T144","v":0},{"$f":"'Исходные данные'!$C103*'Исходные данные'!$D103*(1+'Исходные данные'!$E103)*U144","v":0},{"$f":"'Исходные данные'!$C103*'Исходные данные'!$D103*(1+'Исходные данные'!$E103)*V144","v":0},{"$f":"'Исходные данные'!$C103*'Исходные данные'!$D103*(1+'Исходные данные'!$E103)*W144","v":0},{"$f":"'Исходные данные'!$C103*'Исходные данные'!$D103*(1+'Исходные данные'!$E103)*X144","v":0},{"$f":"'Исходные данные'!$C103*'Исходные данные'!$D103*(1+'Исходные данные'!$E103)*Y144","v":0},{"$f":"'Исходные данные'!$C103*'Исходные данные'!$D103*(1+'Исходные данные'!$E103)*Z144","v":0},{"$f":"'Исходные данные'!$C103*'Исходные данные'!$D103*(1+'Исходные данные'!$E103)*AA144","v":0},{"$f":"'Исходные данные'!$C103*'Исходные данные'!$D103*(1+'Исходные данные'!$E103)*AB144","v":0},{"$f":"'Исходные данные'!$C103*'Исходные данные'!$D103*(1+'Исходные данные'!$E103)*AC144","v":0},{"$f":"'Исходные данные'!$C103*'Исходные данные'!$D103*(1+'Исходные данные'!$E103)*AD144","v":0},{"$f":"'Исходные данные'!$C103*'Исходные данные'!$D103*(1+'Исходные данные'!$E103)*AE144","v":0},{"$f":"'Исходные данные'!$C103*'Исходные данные'!$D103*(1+'Исходные данные'!$E103)*AF144","v":0},{"$f":"'Исходные данные'!$C103*'Исходные данные'!$D103*(1+'Исходные данные'!$E103)*AG144","v":0},{"$f":"'Исходные данные'!$C103*'Исходные данные'!$D103*(1+'Исходные данные'!$E103)*AH144","v":0},{"$f":"'Исходные данные'!$C103*'Исходные данные'!$D103*(1+'Исходные данные'!$E103)*AI144","v":0},{"$f":"'Исходные данные'!$C103*'Исходные данные'!$D103*(1+'Исходные данные'!$E103)*AJ144","v":0},{"$f":"'Исходные данные'!$C103*'Исходные данные'!$D103*(1+'Исходные данные'!$E103)*AK144","v":0},{"$f":"'Исходные данные'!$C103*'Исходные данные'!$D103*(1+'Исходные данные'!$E103)*AL144","v":0},{"$f":"'Исходные данные'!$C103*'Исходные данные'!$D103*(1+'Исходные данные'!$E103)*AM144","v":0},{"$f":"'Исходные данные'!$C103*'Исходные данные'!$D103*(1+'Исходные данные'!$E103)*AN144","v":0},{"$f":"'Исходные данные'!$C103*'Исходные данные'!$D103*(1+'Исходные данные'!$E103)*AO144","v":0},{"$f":"'Исходные данные'!$C103*'Исходные данные'!$D103*(1+'Исходные данные'!$E103)*AP144","v":0},{"$f":"'Исходные данные'!$C103*'Исходные данные'!$D103*(1+'Исходные данные'!$E103)*AQ144","v":0},{"$f":"'Исходные данные'!$C103*'Исходные данные'!$D103*(1+'Исходные данные'!$E103)*AR144","v":0},{"$f":"'Исходные данные'!$C103*'Исходные данные'!$D103*(1+'Исходные данные'!$E103)*AS144","v":0},{"$f":"'Исходные данные'!$C103*'Исходные данные'!$D103*(1+'Исходные данные'!$E103)*AT144","v":0},{"$f":"'Исходные данные'!$C103*'Исходные данные'!$D103*(1+'Исходные данные'!$E103)*AU144","v":0},{"$f":"'Исходные данные'!$C103*'Исходные данные'!$D103*(1+'Исходные данные'!$E103)*AV144","v":0},{"$f":"'Исходные данные'!$C103*'Исходные данные'!$D103*(1+'Исходные данные'!$E103)*AW144","v":0},{"$f":"'Исходные данные'!$C103*'Исходные данные'!$D103*(1+'Исходные данные'!$E103)*AX144","v":0},{"$f":"'Исходные данные'!$C103*'Исходные данные'!$D103*(1+'Исходные данные'!$E103)*AY144","v":0},{"$f":"'Исходные данные'!$C103*'Исходные данные'!$D103*(1+'Исходные данные'!$E103)*AZ144","v":0},{"$f":"'Исходные данные'!$C103*'Исходные данные'!$D103*(1+'Исходные данные'!$E103)*BA144","v":0},{"$f":"'Исходные данные'!$C103*'Исходные данные'!$D103*(1+'Исходные данные'!$E103)*BB144","v":0},{"$f":"'Исходные данные'!$C103*'Исходные данные'!$D103*(1+'Исходные данные'!$E103)*BC144","v":0},{"$f":"'Исходные данные'!$C103*'Исходные данные'!$D103*(1+'Исходные данные'!$E103)*BD144","v":0},{"$f":"'Исходные данные'!$C103*'Исходные данные'!$D103*(1+'Исходные данные'!$E103)*BE144","v":0},{"$f":"'Исходные данные'!$C103*'Исходные данные'!$D103*(1+'Исходные данные'!$E103)*BF144","v":0},{"$f":"'Исходные данные'!$C103*'Исходные данные'!$D103*(1+'Исходные данные'!$E103)*BG144","v":0},{"$f":"'Исходные данные'!$C103*'Исходные данные'!$D103*(1+'Исходные данные'!$E103)*BH144","v":0},{"$f":"'Исходные данные'!$C103*'Исходные данные'!$D103*(1+'Исходные данные'!$E103)*BI144","v":0},{"$f":"'Исходные данные'!$C103*'Исходные данные'!$D103*(1+'Исходные данные'!$E103)*BJ144","v":0},{"$f":"'Исходные данные'!$C103*'Исходные данные'!$D103*(1+'Исходные данные'!$E103)*BK144","v":0},{"$f":"'Исходные данные'!$C103*'Исходные данные'!$D103*(1+'Исходные данные'!$E103)*BL144","v":0}]
[0,null,null,null,{"$f":"'Исходные данные'!C126*'Исходные данные'!$D104*(1+'Исходные данные'!$E104)*E145","v":0},{"$f":"'Исходные данные'!D126*'Исходные данные'!$D104*(1+'Исходные данные'!$E104)*F145","v":0},{"$f":"'Исходные данные'!E126*'Исходные данные'!$D104*(1+'Исходные данные'!$E104)*G145","v":0},{"$f":"'Исходные данные'!F126*'Исходные данные'!$D104*(1+'Исходные данные'!$E104)*H145","v":0},{"$f":"'Исходные данные'!G126*'Исходные данные'!$D104*(1+'Исходные данные'!$E104)*I145","v":0},{"$f":"'Исходные данные'!H126*'Исходные данные'!$D104*(1+'Исходные данные'!$E104)*J145","v":0},{"$f":"'Исходные данные'!I126*'Исходные данные'!$D104*(1+'Исходные данные'!$E104)*K145","v":0},{"$f":"'Исходные данные'!J126*'Исходные данные'!$D104*(1+'Исходные данные'!$E104)*L145","v":0},{"$f":"'Исходные данные'!K126*'Исходные данные'!$D104*(1+'Исходные данные'!$E104)*M145","v":0},{"$f":"'Исходные данные'!L126*'Исходные данные'!$D104*(1+'Исходные данные'!$E104)*N145","v":0},{"$f":"'Исходные данные'!M126*'Исходные данные'!$D104*(1+'Исходные данные'!$E104)*O145","v":0},{"$f":"'Исходные данные'!N126*'Исходные данные'!$D104*(1+'Исходные данные'!$E104)*P145","v":0},{"$f":"'Исходные данные'!$C104*'Исходные данные'!$D104*(1+'Исходные данные'!$E104)*Q145","v":0},{"$f":"'Исходные данные'!$C104*'Исходные данные'!$D104*(1+'Исходные данные'!$E104)*R145","v":0},{"$f":"'Исходные данные'!$C104*'Исходные данные'!$D104*(1+'Исходные данные'!$E104)*S145","v":0},{"$f":"'Исходные данные'!$C104*'Исходные данные'!$D104*(1+'Исходные данные'!$E104)*T145","v":0},{"$f":"'Исходные данные'!$C104*'Исходные данные'!$D104*(1+'Исходные данные'!$E104)*U145","v":0},{"$f":"'Исходные данные'!$C104*'Исходные данные'!$D104*(1+'Исходные данные'!$E104)*V145","v":0},{"$f":"'Исходные данные'!$C104*'Исходные данные'!$D104*(1+'Исходные данные'!$E104)*W145","v":0},{"$f":"'Исходные данные'!$C104*'Исходные данные'!$D104*(1+'Исходные данные'!$E104)*X145","v":0},{"$f":"'Исходные данные'!$C104*'Исходные данные'!$D104*(1+'Исходные данные'!$E104)*Y145","v":0},{"$f":"'Исходные данные'!$C104*'Исходные данные'!$D104*(1+'Исходные данные'!$E104)*Z145","v":0},{"$f":"'Исходные данные'!$C104*'Исходные данные'!$D104*(1+'Исходные данные'!$E104)*AA145","v":0},{"$f":"'Исходные данные'!$C104*'Исходные данные'!$D104*(1+'Исходные данные'!$E104)*AB145","v":0},{"$f":"'Исходные данные'!$C104*'Исходные данные'!$D104*(1+'Исходные данные'!$E104)*AC145","v":0},{"$f":"'Исходные данные'!$C104*'Исходные данные'!$D104*(1+'Исходные данные'!$E104)*AD145","v":0},{"$f":"'Исходные данные'!$C104*'Исходные данные'!$D104*(1+'Исходные данные'!$E104)*AE145","v":0},{"$f":"'Исходные данные'!$C104*'Исходные данные'!$D104*(1+'Исходные данные'!$E104)*AF145","v":0},{"$f":"'Исходные данные'!$C104*'Исходные данные'!$D104*(1+'Исходные данные'!$E104)*AG145","v":0},{"$f":"'Исходные данные'!$C104*'Исходные данные'!$D104*(1+'Исходные данные'!$E104)*AH145","v":0},{"$f":"'Исходные данные'!$C104*'Исходные данные'!$D104*(1+'Исходные данные'!$E104)*AI145","v":0},{"$f":"'Исходные данные'!$C104*'Исходные данные'!$D104*(1+'Исходные данные'!$E104)*AJ145","v":0},{"$f":"'Исходные данные'!$C104*'Исходные данные'!$D104*(1+'Исходные данные'!$E104)*AK145","v":0},{"$f":"'Исходные данные'!$C104*'Исходные данные'!$D104*(1+'Исходные данные'!$E104)*AL145","v":0},{"$f":"'Исходные данные'!$C104*'Исходные данные'!$D104*(1+'Исходные данные'!$E104)*AM145","v":0},{"$f":"'Исходные данные'!$C104*'Исходные данные'!$D104*(1+'Исходные данные'!$E104)*AN145","v":0},{"$f":"'Исходные данные'!$C104*'Исходные данные'!$D104*(1+'Исходные данные'!$E104)*AO145","v":0},{"$f":"'Исходные данные'!$C104*'Исходные данные'!$D104*(1+'Исходные данные'!$E104)*AP145","v":0},{"$f":"'Исходные данные'!$C104*'Исходные данные'!$D104*(1+'Исходные данные'!$E104)*AQ145","v":0},{"$f":"'Исходные данные'!$C104*'Исходные данные'!$D104*(1+'Исходные данные'!$E104)*AR145","v":0},{"$f":"'Исходные данные'!$C104*'Исходные данные'!$D104*(1+'Исходные данные'!$E104)*AS145","v":0},{"$f":"'Исходные данные'!$C104*'Исходные данные'!$D104*(1+'Исходные данные'!$E104)*AT145","v":0},{"$f":"'Исходные данные'!$C104*'Исходные данные'!$D104*(1+'Исходные данные'!$E104)*AU145","v":0},{"$f":"'Исходные данные'!$C104*'Исходные данные'!$D104*(1+'Исходные данные'!$E104)*AV145","v":0},{"$f":"'Исходные данные'!$C104*'Исходные данные'!$D104*(1+'Исходные данные'!$E104)*AW145","v":0},{"$f":"'Исходные данные'!$C104*'Исходные данные'!$D104*(1+'Исходные данные'!$E104)*AX145","v":0},{"$f":"'Исходные данные'!$C104*'Исходные данные'!$D104*(1+'Исходные данные'!$E104)*AY145","v":0},{"$f":"'Исходные данные'!$C104*'Исходные данные'!$D104*(1+'Исходные данные'!$E104)*AZ145","v":0},{"$f":"'Исходные данные'!$C104*'Исходные данные'!$D104*(1+'Исходные данные'!$E104)*BA145","v":0},{"$f":"'Исходные данные'!$C104*'Исходные данные'!$D104*(1+'Исходные данные'!$E104)*BB145","v":0},{"$f":"'Исходные данные'!$C104*'Исходные данные'!$D104*(1+'Исходные данные'!$E104)*BC145","v":0},{"$f":"'Исходные данные'!$C104*'Исходные данные'!$D104*(1+'Исходные данные'!$E104)*BD145","v":0},{"$f":"'Исходные данные'!$C104*'Исходные данные'!$D104*(1+'Исходные данные'!$E104)*BE145","v":0},{"$f":"'Исходные данные'!$C104*'Исходные данные'!$D104*(1+'Исходные данные'!$E104)*BF145","v":0},{"$f":"'Исходные данные'!$C104*'Исходные данные'!$D104*(1+'Исходные данные'!$E104)*BG145","v":0},{"$f":"'Исходные данные'!$C104*'Исходные данные'!$D104*(1+'Исходные данные'!$E104)*BH145","v":0},{"$f":"'Исходные данные'!$C104*'Исходные данные'!$D104*(1+'Исходные данные'!$E104)*BI145","v":0},{"$f":"'Исходные данные'!$C104*'Исходные данные'!$D104*(1+'Исходные данные'!$E104)*BJ145","v":0},{"$f":"'Исходные данные'!$C104*'Исходные данные'!$D104*(1+'Исходные данные'!$E104)*BK145","v":0},{"$f":"'Исходные данные'!$C104*'Исходные данные'!$D104*(1+'Исходные данные'!$E104)*BL145","v":0}]
[0,null,null,null,{"$f":"'Исходные данные'!C127*'Исходные данные'!$D105*(1+'Исходные данные'!$E105)*E146","v":0},{"$f":"'Исходные данные'!D127*'Исходные данные'!$D105*(1+'Исходные данные'!$E105)*F146","v":0},{"$f":"'Исходные данные'!E127*'Исходные данные'!$D105*(1+'Исходные данные'!$E105)*G146","v":0},{"$f":"'Исходные данные'!F127*'Исходные данные'!$D105*(1+'Исходные данные'!$E105)*H146","v":0},{"$f":"'Исходные данные'!G127*'Исходные данные'!$D105*(1+'Исходные данные'!$E105)*I146","v":0},{"$f":"'Исходные данные'!H127*'Исходные данные'!$D105*(1+'Исходные данные'!$E105)*J146","v":0},{"$f":"'Исходные данные'!I127*'Исходные данные'!$D105*(1+'Исходные данные'!$E105)*K146","v":0},{"$f":"'Исходные данные'!J127*'Исходные данные'!$D105*(1+'Исходные данные'!$E105)*L146","v":0},{"$f":"'Исходные данные'!K127*'Исходные данные'!$D105*(1+'Исходные данные'!$E105)*M146","v":0},{"$f":"'Исходные данные'!L127*'Исходные данные'!$D105*(1+'Исходные данные'!$E105)*N146","v":0},{"$f":"'Исходные данные'!M127*'Исходные данные'!$D105*(1+'Исходные данные'!$E105)*O146","v":0},{"$f":"'Исходные данные'!N127*'Исходные данные'!$D105*(1+'Исходные данные'!$E105)*P146","v":0},{"$f":"'Исходные данные'!$C105*'Исходные данные'!$D105*(1+'Исходные данные'!$E105)*Q146","v":0},{"$f":"'Исходные данные'!$C105*'Исходные данные'!$D105*(1+'Исходные данные'!$E105)*R146","v":0},{"$f":"'Исходные данные'!$C105*'Исходные данные'!$D105*(1+'Исходные данные'!$E105)*S146","v":0},{"$f":"'Исходные данные'!$C105*'Исходные данные'!$D105*(1+'Исходные данные'!$E105)*T146","v":0},{"$f":"'Исходные данные'!$C105*'Исходные данные'!$D105*(1+'Исходные данные'!$E105)*U146","v":0},{"$f":"'Исходные данные'!$C105*'Исходные данные'!$D105*(1+'Исходные данные'!$E105)*V146","v":0},{"$f":"'Исходные данные'!$C105*'Исходные данные'!$D105*(1+'Исходные данные'!$E105)*W146","v":0},{"$f":"'Исходные данные'!$C105*'Исходные данные'!$D105*(1+'Исходные данные'!$E105)*X146","v":0},{"$f":"'Исходные данные'!$C105*'Исходные данные'!$D105*(1+'Исходные данные'!$E105)*Y146","v":0},{"$f":"'Исходные данные'!$C105*'Исходные данные'!$D105*(1+'Исходные данные'!$E105)*Z146","v":0},{"$f":"'Исходные данные'!$C105*'Исходные данные'!$D105*(1+'Исходные данные'!$E105)*AA146","v":0},{"$f":"'Исходные данные'!$C105*'Исходные данные'!$D105*(1+'Исходные данные'!$E105)*AB146","v":0},{"$f":"'Исходные данные'!$C105*'Исходные данные'!$D105*(1+'Исходные данные'!$E105)*AC146","v":0},{"$f":"'Исходные данные'!$C105*'Исходные данные'!$D105*(1+'Исходные данные'!$E105)*AD146","v":0},{"$f":"'Исходные данные'!$C105*'Исходные данные'!$D105*(1+'Исходные данные'!$E105)*AE146","v":0},{"$f":"'Исходные данные'!$C105*'Исходные данные'!$D105*(1+'Исходные данные'!$E105)*AF146","v":0},{"$f":"'Исходные данные'!$C105*'Исходные данные'!$D105*(1+'Исходные данные'!$E105)*AG146","v":0},{"$f":"'Исходные данные'!$C105*'Исходные данные'!$D105*(1+'Исходные данные'!$E105)*AH146","v":0},{"$f":"'Исходные данные'!$C105*'Исходные данные'!$D105*(1+'Исходные данные'!$E105)*AI146","v":0},{"$f":"'Исходные данные'!$C105*'Исходные данные'!$D105*(1+'Исходные данные'!$E105)*AJ146","v":0},{"$f":"'Исходные данные'!$C105*'Исходные данные'!$D105*(1+'Исходные данные'!$E105)*AK146","v":0},{"$f":"'Исходные данные'!$C105*'Исходные данные'!$D105*(1+'Исходные данные'!$E105)*AL146","v":0},{"$f":"'Исходные данные'!$C105*'Исходные данные'!$D105*(1+'Исходные данные'!$E105)*AM146","v":0},{"$f":"'Исходные данные'!$C105*'Исходные данные'!$D105*(1+'Исходные данные'!$E105)*AN146","v":0},{"$f":"'Исходные данные'!$C105*'Исходные данные'!$D105*(1+'Исходные данные'!$E105)*AO146","v":0},{"$f":"'Исходные данные'!$C105*'Исходные данные'!$D105*(1+'Исходные данные'!$E105)*AP146","v":0},{"$f":"'Исходные данные'!$C105*'Исходные данные'!$D105*(1+'Исходные данные'!$E105)*AQ146","v":0},{"$f":"'Исходные данные'!$C105*'Исходные данные'!$D105*(1+'Исходные данные'!$E105)*AR146","v":0},{"$f":"'Исходные данные'!$C105*'Исходные данные'!$D105*(1+'Исходные данные'!$E105)*AS146","v":0},{"$f":"'Исходные данные'!$C105*'Исходные данные'!$D105*(1+'Исходные данные'!$E105)*AT146","v":0},{"$f":"'Исходные данные'!$C105*'Исходные данные'!$D105*(1+'Исходные данные'!$E105)*AU146","v":0},{"$f":"'Исходные данные'!$C105*'Исходные данные'!$D105*(1+'Исходные данные'!$E105)*AV146","v":0},{"$f":"'Исходные данные'!$C105*'Исходные данные'!$D105*(1+'Исходные данные'!$E105)*AW146","v":0},{"$f":"'Исходные данные'!$C105*'Исходные данные'!$D105*(1+'Исходные данные'!$E105)*AX146","v":0},{"$f":"'Исходные данные'!$C105*'Исходные данные'!$D105*(1+'Исходные данные'!$E105)*AY146","v":0},{"$f":"'Исходные данные'!$C105*'Исходные данные'!$D105*(1+'Исходные данные'!$E105)*AZ146","v":0},{"$f":"'Исходные данные'!$C105*'Исходные данные'!$D105*(1+'Исходные данные'!$E105)*BA146","v":0},{"$f":"'Исходные данные'!$C105*'Исходные данные'!$D105*(1+'Исходные данные'!$E105)*BB146","v":0},{"$f":"'Исходные данные'!$C105*'Исходные данные'!$D105*(1+'Исходные данные'!$E105)*BC146","v":0},{"$f":"'Исходные данные'!$C105*'Исходные данные'!$D105*(1+'Исходные данные'!$E105)*BD146","v":0},{"$f":"'Исходные данные'!$C105*'Исходные данные'!$D105*(1+'Исходные данные'!$E105)*BE146","v":0},{"$f":"'Исходные данные'!$C105*'Исходные данные'!$D105*(1+'Исходные данные'!$E105)*BF146","v":0},{"$f":"'Исходные данные'!$C105*'Исходные данные'!$D105*(1+'Исходные данные'!$E105)*BG146","v":0},{"$f":"'Исходные данные'!$C105*'Исходные данные'!$D105*(1+'Исходные данные'!$E105)*BH146","v":0},{"$f":"'Исходные данные'!$C105*'Исходные данные'!$D105*(1+'Исходные данные'!$E105)*BI146","v":0},{"$f":"'Исходные данные'!$C105*'Исходные данные'!$D105*(1+'Исходные данные'!$E105)*BJ146","v":0},{"$f":"'Исходные данные'!$C105*'Исходные данные'!$D105*(1+'Исходные данные'!$E105)*BK146","v":0},{"$f":"'Исходные данные'!$C105*'Исходные данные'!$D105*(1+'Исходные данные'!$E105)*BL146","v":0}]
[0,null,null,null,{"$f":"'Исходные данные'!C128*'Исходные данные'!$D106*(1+'Исходные данные'!$E106)*E147","v":0},{"$f":"'Исходные данные'!D128*'Исходные данные'!$D106*(1+'Исходные данные'!$E106)*F147","v":0},{"$f":"'Исходные данные'!E128*'Исходные данные'!$D106*(1+'Исходные данные'!$E106)*G147","v":0},{"$f":"'Исходные данные'!F128*'Исходные данные'!$D106*(1+'Исходные данные'!$E106)*H147","v":0},{"$f":"'Исходные данные'!G128*'Исходные данные'!$D106*(1+'Исходные данные'!$E106)*I147","v":0},{"$f":"'Исходные данные'!H128*'Исходные данные'!$D106*(1+'Исходные данные'!$E106)*J147","v":0},{"$f":"'Исходные данные'!I128*'Исходные данные'!$D106*(1+'Исходные данные'!$E106)*K147","v":0},{"$f":"'Исходные данные'!J128*'Исходные данные'!$D106*(1+'Исходные данные'!$E106)*L147","v":0},{"$f":"'Исходные данные'!K128*'Исходные данные'!$D106*(1+'Исходные данные'!$E106)*M147","v":0},{"$f":"'Исходные данные'!L128*'Исходные данные'!$D106*(1+'Исходные данные'!$E106)*N147","v":0},{"$f":"'Исходные данные'!M128*'Исходные данные'!$D106*(1+'Исходные данные'!$E106)*O147","v":0},{"$f":"'Исходные данные'!N128*'Исходные данные'!$D106*(1+'Исходные данные'!$E106)*P147","v":0},{"$f":"'Исходные данные'!$C106*'Исходные данные'!$D106*(1+'Исходные данные'!$E106)*Q147","v":0},{"$f":"'Исходные данные'!$C106*'Исходные данные'!$D106*(1+'Исходные данные'!$E106)*R147","v":0},{"$f":"'Исходные данные'!$C106*'Исходные данные'!$D106*(1+'Исходные данные'!$E106)*S147","v":0},{"$f":"'Исходные данные'!$C106*'Исходные данные'!$D106*(1+'Исходные данные'!$E106)*T147","v":0},{"$f":"'Исходные данные'!$C106*'Исходные данные'!$D106*(1+'Исходные данные'!$E106)*U147","v":0},{"$f":"'Исходные данные'!$C106*'Исходные данные'!$D106*(1+'Исходные данные'!$E106)*V147","v":0},{"$f":"'Исходные данные'!$C106*'Исходные данные'!$D106*(1+'Исходные данные'!$E106)*W147","v":0},{"$f":"'Исходные данные'!$C106*'Исходные данные'!$D106*(1+'Исходные данные'!$E106)*X147","v":0},{"$f":"'Исходные данные'!$C106*'Исходные данные'!$D106*(1+'Исходные данные'!$E106)*Y147","v":0},{"$f":"'Исходные данные'!$C106*'Исходные данные'!$D106*(1+'Исходные данные'!$E106)*Z147","v":0},{"$f":"'Исходные данные'!$C106*'Исходные данные'!$D106*(1+'Исходные данные'!$E106)*AA147","v":0},{"$f":"'Исходные данные'!$C106*'Исходные данные'!$D106*(1+'Исходные данные'!$E106)*AB147","v":0},{"$f":"'Исходные данные'!$C106*'Исходные данные'!$D106*(1+'Исходные данные'!$E106)*AC147","v":0},{"$f":"'Исходные данные'!$C106*'Исходные данные'!$D106*(1+'Исходные данные'!$E106)*AD147","v":0},{"$f":"'Исходные данные'!$C106*'Исходные данные'!$D106*(1+'Исходные данные'!$E106)*AE147","v":0},{"$f":"'Исходные данные'!$C106*'Исходные данные'!$D106*(1+'Исходные данные'!$E106)*AF147","v":0},{"$f":"'Исходные данные'!$C106*'Исходные данные'!$D106*(1+'Исходные данные'!$E106)*AG147","v":0},{"$f":"'Исходные данные'!$C106*'Исходные данные'!$D106*(1+'Исходные данные'!$E106)*AH147","v":0},{"$f":"'Исходные данные'!$C106*'Исходные данные'!$D106*(1+'Исходные данные'!$E106)*AI147","v":0},{"$f":"'Исходные данные'!$C106*'Исходные данные'!$D106*(1+'Исходные данные'!$E106)*AJ147","v":0},{"$f":"'Исходные данные'!$C106*'Исходные данные'!$D106*(1+'Исходные данные'!$E106)*AK147","v":0},{"$f":"'Исходные данные'!$C106*'Исходные данные'!$D106*(1+'Исходные данные'!$E106)*AL147","v":0},{"$f":"'Исходные данные'!$C106*'Исходные данные'!$D106*(1+'Исходные данные'!$E106)*AM147","v":0},{"$f":"'Исходные данные'!$C106*'Исходные данные'!$D106*(1+'Исходные данные'!$E106)*AN147","v":0},{"$f":"'Исходные данные'!$C106*'Исходные данные'!$D106*(1+'Исходные данные'!$E106)*AO147","v":0},{"$f":"'Исходные данные'!$C106*'Исходные данные'!$D106*(1+'Исходные данные'!$E106)*AP147","v":0},{"$f":"'Исходные данные'!$C106*'Исходные данные'!$D106*(1+'Исходные данные'!$E106)*AQ147","v":0},{"$f":"'Исходные данные'!$C106*'Исходные данные'!$D106*(1+'Исходные данные'!$E106)*AR147","v":0},{"$f":"'Исходные данные'!$C106*'Исходные данные'!$D106*(1+'Исходные данные'!$E106)*AS147","v":0},{"$f":"'Исходные данные'!$C106*'Исходные данные'!$D106*(1+'Исходные данные'!$E106)*AT147","v":0},{"$f":"'Исходные данные'!$C106*'Исходные данные'!$D106*(1+'Исходные данные'!$E106)*AU147","v":0},{"$f":"'Исходные данные'!$C106*'Исходные данные'!$D106*(1+'Исходные данные'!$E106)*AV147","v":0},{"$f":"'Исходные данные'!$C106*'Исходные данные'!$D106*(1+'Исходные данные'!$E106)*AW147","v":0},{"$f":"'Исходные данные'!$C106*'Исходные данные'!$D106*(1+'Исходные данные'!$E106)*AX147","v":0},{"$f":"'Исходные данные'!$C106*'Исходные данные'!$D106*(1+'Исходные данные'!$E106)*AY147","v":0},{"$f":"'Исходные данные'!$C106*'Исходные данные'!$D106*(1+'Исходные данные'!$E106)*AZ147","v":0},{"$f":"'Исходные данные'!$C106*'Исходные данные'!$D106*(1+'Исходные данные'!$E106)*BA147","v":0},{"$f":"'Исходные данные'!$C106*'Исходные данные'!$D106*(1+'Исходные данные'!$E106)*BB147","v":0},{"$f":"'Исходные данные'!$C106*'Исходные данные'!$D106*(1+'Исходные данные'!$E106)*BC147","v":0},{"$f":"'Исходные данные'!$C106*'Исходные данные'!$D106*(1+'Исходные данные'!$E106)*BD147","v":0},{"$f":"'Исходные данные'!$C106*'Исходные данные'!$D106*(1+'Исходные данные'!$E106)*BE147","v":0},{"$f":"'Исходные данные'!$C106*'Исходные данные'!$D106*(1+'Исходные данные'!$E106)*BF147","v":0},{"$f":"'Исходные данные'!$C106*'Исходные данные'!$D106*(1+'Исходные данные'!$E106)*BG147","v":0},{"$f":"'Исходные данные'!$C106*'Исходные данные'!$D106*(1+'Исходные данные'!$E106)*BH147","v":0},{"$f":"'Исходные данные'!$C106*'Исходные данные'!$D106*(1+'Исходные данные'!$E106)*BI147","v":0},{"$f":"'Исходные данные'!$C106*'Исходные данные'!$D106*(1+'Исходные данные'!$E106)*BJ147","v":0},{"$f":"'Исходные данные'!$C106*'Исходные данные'!$D106*(1+'Исходные данные'!$E106)*BK147","v":0},{"$f":"'Исходные данные'!$C106*'Исходные данные'!$D106*(1+'Исходные данные'!$E106)*BL147","v":0}]
["Страховые взносы в ФСС (сделка)",null,null,null,{"$f":"SUM(E165:E179)","v":733.87400000000002},{"$f":"SUM(F165:F179)","v":859.50200000000007},{"$f":"SUM(G165:G179)","v":967.12100000000009},{"$f":"SUM(H165:H179)","v":967.12100000000009},{"$f":"SUM(I165:I179)","v":1048.3790000000001},{"$f":"SUM(J165:J179)","v":1087.529},{"$f":"SUM(K165:K179)","v":1615.5030000000002},{"$f":"SUM(L165:L179)","v":2920.6770000000001},{"$f":"SUM(M165:M179)","v":1419.8980000000001},{"$f":"SUM(N165:N179)","v":1137.1190000000001},{"$f":"SUM(O165:O179)","v":1071.8690000000001},{"$f":"SUM(P165:P179)","v":1087.529},{"$f":"SUM(Q165:Q179)","v":1048.3790000000001},{"$f":"SUM(R165:R179)","v":1074.479},{"$f":"SUM(S165:S179)","v":1074.479},{"$f":"SUM(T165:T179)","v":1074.479},{"$f":"SUM(U165:U179)","v":1048.3790000000001},{"$f":"SUM(V165:V179)","v":1087.529},{"$f":"SUM(W165:W179)","v":1615.5030000000002},{"$f":"SUM(X165:X179)","v":2920.6770000000001},{"$f":"SUM(Y165:Y179)","v":1419.8980000000001},{"$f":"SUM(Z165:Z179)","v":1137.1190000000001},{"$f":"SUM(AA165:AA179)","v":1071.8690000000001},{"$f":"SUM(AB165:AB179)","v":1087.529},{"$f":"SUM(AC165:AC179)","v":1048.3790000000001},{"$f":"SUM(AD165:AD179)","v":1074.479},{"$f":"SUM(AE165:AE179)","v":1074.479},{"$f":"SUM(AF165:AF179)","v":1074.479},{"$f":"SUM(AG165:AG179)","v":1048.3790000000001},{"$f":"SUM(AH165:AH179)","v":1087.529},{"$f":"SUM(AI165:AI179)","v":1615.5030000000002},{"$f":"SUM(AJ165:AJ179)","v":2920.6770000000001},{"$f":"SUM(AK165:AK179)","v":1419.8980000000001},{"$f":"SUM(AL165:AL179)","v":1137.1190000000001},{"$f":"SUM(AM165:AM179)","v":1071.8690000000001},{"$f":"SUM(AN165:AN179)","v":1087.529},{"$f":"SUM(AO165:AO179)","v":1048.3790000000001},{"$f":"SUM(AP165:AP179)","v":1074.479},{"$f":"SUM(AQ165:AQ179)","v":1074.479},{"$f":"SUM(AR165:AR179)","v":1074.479},{"$f":"SUM(AS165:AS179)","v":1048.3790000000001},{"$f":"SUM(AT165:AT179)","v":1087.529},{"$f":"SUM(AU165:AU179)","v":1615.5030000000002},{"$f":"SUM(AV165:AV179)","v":2920.6770000000001},{"$f":"SUM(AW165:AW179)","v":1419.8980000000001},{"$f":"SUM(AX165:AX179)","v":1137.1190000000001},{"$f":"SUM(AY165:AY179)","v":1071.8690000000001},{"$f":"SUM(AZ165:AZ179)","v":1087.529},{"$f":"SUM(BA165:BA179)","v":1048.3790000000001},{"$f":"SUM(BB165:BB179)","v":1074.479},{"$f":"SUM(BC165:BC179)","v":1074.479},{"$f":"SUM(BD165:BD179)","v":1074.479},{"$f":"SUM(BE165:BE179)","v":1048.3790000000001},{"$f":"SUM(BF165:BF179)","v":1087.529},{"$f":"SUM(BG165:BG179)","v":1615.5030000000002},{"$f":"SUM(BH165:BH179)","v":2920.6770000000001},{"$f":"SUM(BI165:BI179)","v":1419.8980000000001},{"$f":"SUM(BJ165:BJ179)","v":1137.1190000000001},{"$f":"SUM(BK165:BK179)","v":1071.8690000000001},{"$f":"SUM(BL165:BL179)","v":1087.529}]
[{"$f":"A149","v":"Продавей"},null,null,null,{"$f":"IF('Исходные данные'!$H92=0,0,'Исходные данные'!$F92*'План продаж'!D$32*E133)","v":733.87400000000002},{"$f":"IF('Исходные данные'!$H92=0,0,'Исходные данные'!$F92*'План продаж'!E$32*F133)","v":859.50200000000007},{"$f":"IF('Исходные данные'!$H92=0,0,'Исходные данные'!$F92*'План продаж'!F$32*G133)","v":967.12100000000009},{"$f":"IF('Исходные данные'!$H92=0,0,'Исходные данные'!$F92*'План продаж'!G$32*H133)","v":967.12100000000009},{"$f":"IF('Исходные данные'!$H92=0,0,'Исходные данные'!$F92*'План продаж'!H$32*I133)","v":1048.3790000000001},{"$f":"IF('Исходные данные'!$H92=0,0,'Исходные данные'!$F92*'План продаж'!I$32*J133)","v":1087.529},{"$f":"IF('Исходные данные'!$H92=0,0,'Исходные данные'!$F92*'План продаж'!J$32*K133)","v":1615.5030000000002},{"$f":"IF('Исходные данные'!$H92=0,0,'Исходные данные'!$F92*'План продаж'!K$32*L133)","v":2920.6770000000001},{"$f":"IF('Исходные данные'!$H92=0,0,'Исходные данные'!$F92*'План продаж'!L$32*M133)","v":1419.8980000000001},{"$f":"IF('Исходные данные'!$H92=0,0,'Исходные данные'!$F92*'План продаж'!M$32*N133)","v":1137.1190000000001},{"$f":"IF('Исходные данные'!$H92=0,0,'Исходные данные'!$F92*'План продаж'!N$32*O133)","v":1071.8690000000001},{"$f":"IF('Исходные данные'!$H92=0,0,'Исходные данные'!$F92*'План продаж'!O$32*P133)","v":1087.529},{"$f":"IF('Исходные данные'!$H92=0,0,'Исходные данные'!$F92*'План продаж'!P$32*Q133)","v":1048.3790000000001},{"$f":"IF('Исходные данные'!$H92=0,0,'Исходные данные'!$F92*'План продаж'!Q$32*R133)","v":1074.479},{"$f":"IF('Исходные данные'!$H92=0,0,'Исходные данные'!$F92*'План продаж'!R$32*S133)","v":1074.479},{"$f":"IF('Исходные данные'!$H92=0,0,'Исходные данные'!$F92*'План продаж'!S$32*T133)","v":1074.479},{"$f":"IF('Исходные данные'!$H92=0,0,'Исходные данные'!$F92*'План продаж'!T$32*U133)","v":1048.3790000000001},{"$f":"IF('Исходные данные'!$H92=0,0,'Исходные данные'!$F92*'План продаж'!U$32*V133)","v":1087.529},{"$f":"IF('Исходные данные'!$H92=0,0,'Исходные данные'!$F92*'План продаж'!V$32*W133)","v":1615.5030000000002},{"$f":"IF('Исходные данные'!$H92=0,0,'Исходные данные'!$F92*'План продаж'!W$32*X133)","v":2920.6770000000001},{"$f":"IF('Исходные данные'!$H92=0,0,'Исходные данные'!$F92*'План продаж'!X$32*Y133)","v":1419.8980000000001},{"$f":"IF('Исходные данные'!$H92=0,0,'Исходные данные'!$F92*'План продаж'!Y$32*Z133)","v":1137.1190000000001},{"$f":"IF('Исходные данные'!$H92=0,0,'Исходные данные'!$F92*'План продаж'!Z$32*AA133)","v":1071.8690000000001},{"$f":"IF('Исходные данные'!$H92=0,0,'Исходные данные'!$F92*'План продаж'!AA$32*AB133)","v":1087.529},{"$f":"IF('Исходные данные'!$H92=0,0,'Исходные данные'!$F92*'План продаж'!AB$32*AC133)","v":1048.3790000000001},{"$f":"IF('Исходные данные'!$H92=0,0,'Исходные данные'!$F92*'План продаж'!AC$32*AD133)","v":1074.479},{"$f":"IF('Исходные данные'!$H92=0,0,'Исходные данные'!$F92*'План продаж'!AD$32*AE133)","v":1074.479},{"$f":"IF('Исходные данные'!$H92=0,0,'Исходные данные'!$F92*'План продаж'!AE$32*AF133)","v":1074.479},{"$f":"IF('Исходные данные'!$H92=0,0,'Исходные данные'!$F92*'План продаж'!AF$32*AG133)","v":1048.3790000000001},{"$f":"IF('Исходные данные'!$H92=0,0,'Исходные данные'!$F92*'План продаж'!AG$32*AH133)","v":1087.529},{"$f":"IF('Исходные данные'!$H92=0,0,'Исходные данные'!$F92*'План продаж'!AH$32*AI133)","v":1615.5030000000002},{"$f":"IF('Исходные данные'!$H92=0,0,'Исходные данные'!$F92*'План продаж'!AI$32*AJ133)","v":2920.6770000000001},{"$f":"IF('Исходные данные'!$H92=0,0,'Исходные данные'!$F92*'План продаж'!AJ$32*AK133)","v":1419.8980000000001},{"$f":"IF('Исходные данные'!$H92=0,0,'Исходные данные'!$F92*'План продаж'!AK$32*AL133)","v":1137.1190000000001},{"$f":"IF('Исходные данные'!$H92=0,0,'Исходные данные'!$F92*'План продаж'!AL$32*AM133)","v":1071.8690000000001},{"$f":"IF('Исходные данные'!$H92=0,0,'Исходные данные'!$F92*'План продаж'!AM$32*AN133)","v":1087.529},{"$f":"IF('Исходные данные'!$H92=0,0,'Исходные данные'!$F92*'План продаж'!AN$32*AO133)","v":1048.3790000000001},{"$f":"IF('Исходные данные'!$H92=0,0,'Исходные данные'!$F92*'План продаж'!AO$32*AP133)","v":1074.479},{"$f":"IF('Исходные данные'!$H92=0,0,'Исходные данные'!$F92*'План продаж'!AP$32*AQ133)","v":1074.479},{"$f":"IF('Исходные данные'!$H92=0,0,'Исходные данные'!$F92*'План продаж'!AQ$32*AR133)","v":1074.479},{"$f":"IF('Исходные данные'!$H92=0,0,'Исходные данные'!$F92*'План продаж'!AR$32*AS133)","v":1048.3790000000001},{"$f":"IF('Исходные данные'!$H92=0,0,'Исходные данные'!$F92*'План продаж'!AS$32*AT133)","v":1087.529},{"$f":"IF('Исходные данные'!$H92=0,0,'Исходные данные'!$F92*'План продаж'!AT$32*AU133)","v":1615.5030000000002},{"$f":"IF('Исходные данные'!$H92=0,0,'Исходные данные'!$F92*'План продаж'!AU$32*AV133)","v":2920.6770000000001},{"$f":"IF('Исходные данные'!$H92=0,0,'Исходные данные'!$F92*'План продаж'!AV$32*AW133)","v":1419.8980000000001},{"$f":"IF('Исходные данные'!$H92=0,0,'Исходные данные'!$F92*'План продаж'!AW$32*AX133)","v":1137.1190000000001},{"$f":"IF('Исходные данные'!$H92=0,0,'Исходные данные'!$F92*'План продаж'!AX$32*AY133)","v":1071.8690000000001},{"$f":"IF('Исходные данные'!$H92=0,0,'Исходные данные'!$F92*'План продаж'!AY$32*AZ133)","v":1087.529},{"$f":"IF('Исходные данные'!$H92=0,0,'Исходные данные'!$F92*'План продаж'!AZ$32*BA133)","v":1048.3790000000001},{"$f":"IF('Исходные данные'!$H92=0,0,'Исходные данные'!$F92*'План продаж'!BA$32*BB133)","v":1074.479},{"$f":"IF('Исходные данные'!$H92=0,0,'Исходные данные'!$F92*'План продаж'!BB$32*BC133)","v":1074.479},{"$f":"IF('Исходные данные'!$H92=0,0,'Исходные данные'!$F92*'План продаж'!BC$32*BD133)","v":1074.479},{"$f":"IF('Исходные данные'!$H92=0,0,'Исходные данные'!$F92*'План продаж'!BD$32*BE133)","v":1048.3790000000001},{"$f":"IF('Исходные данные'!$H92=0,0,'Исходные данные'!$F92*'План продаж'!BE$32*BF133)","v":1087.529},{"$f":"IF('Исходные данные'!$H92=0,0,'Исходные данные'!$F92*'План продаж'!BF$32*BG133)","v":1615.5030000000002},{"$f":"IF('Исходные данные'!$H92=0,0,'Исходные данные'!$F92*'План продаж'!BG$32*BH133)","v":2920.6770000000001},{"$f":"IF('Исходные данные'!$H92=0,0,'Исходные данные'!$F92*'План продаж'!BH$32*BI133)","v":1419.8980000000001},{"$f":"IF('Исходные данные'!$H92=0,0,'Исходные данные'!$F92*'План продаж'!BI$32*BJ133)","v":1137.1190000000001},{"$f":"IF('Исходные данные'!$H92=0,0,'Исходные данные'!$F92*'План продаж'!BJ$32*BK133)","v":1071.8690000000001},{"$f":"IF('Исходные данные'!$H92=0,0,'Исходные данные'!$F92*'План продаж'!BK$32*BL133)","v":1087.529}]
[{"$f":"A150","v":0},null,null,null,{"$f":"IF('Исходные данные'!$H93=0,0,'Исходные данные'!$F93*'План продаж'!D$32*E134)","v":0},{"$f":"IF('Исходные данные'!$H93=0,0,'Исходные данные'!$F93*'План продаж'!E$32*F134)","v":0},{"$f":"IF('Исходные данные'!$H93=0,0,'Исходные данные'!$F93*'План продаж'!F$32*G134)","v":0},{"$f":"IF('Исходные данные'!$H93=0,0,'Исходные данные'!$F93*'План продаж'!G$32*H134)","v":0},{"$f":"IF('Исходные данные'!$H93=0,0,'Исходные данные'!$F93*'План продаж'!H$32*I134)","v":0},{"$f":"IF('Исходные данные'!$H93=0,0,'Исходные данные'!$F93*'План продаж'!I$32*J134)","v":0},{"$f":"IF('Исходные данные'!$H93=0,0,'Исходные данные'!$F93*'План продаж'!J$32*K134)","v":0},{"$f":"IF('Исходные данные'!$H93=0,0,'Исходные данные'!$F93*'План продаж'!K$32*L134)","v":0},{"$f":"IF('Исходные данные'!$H93=0,0,'Исходные данные'!$F93*'План продаж'!L$32*M134)","v":0},{"$f":"IF('Исходные данные'!$H93=0,0,'Исходные данные'!$F93*'План продаж'!M$32*N134)","v":0},{"$f":"IF('Исходные данные'!$H93=0,0,'Исходные данные'!$F93*'План продаж'!N$32*O134)","v":0},{"$f":"IF('Исходные данные'!$H93=0,0,'Исходные данные'!$F93*'План продаж'!O$32*P134)","v":0},{"$f":"IF('Исходные данные'!$H93=0,0,'Исходные данные'!$F93*'План продаж'!P$32*Q134)","v":0},{"$f":"IF('Исходные данные'!$H93=0,0,'Исходные данные'!$F93*'План продаж'!Q$32*R134)","v":0},{"$f":"IF('Исходные данные'!$H93=0,0,'Исходные данные'!$F93*'План продаж'!R$32*S134)","v":0},{"$f":"IF('Исходные данные'!$H93=0,0,'Исходные данные'!$F93*'План продаж'!S$32*T134)","v":0},{"$f":"IF('Исходные данные'!$H93=0,0,'Исходные данные'!$F93*'План продаж'!T$32*U134)","v":0},{"$f":"IF('Исходные данные'!$H93=0,0,'Исходные данные'!$F93*'План продаж'!U$32*V134)","v":0},{"$f":"IF('Исходные данные'!$H93=0,0,'Исходные данные'!$F93*'План продаж'!V$32*W134)","v":0},{"$f":"IF('Исходные данные'!$H93=0,0,'Исходные данные'!$F93*'План продаж'!W$32*X134)","v":0},{"$f":"IF('Исходные данные'!$H93=0,0,'Исходные данные'!$F93*'План продаж'!X$32*Y134)","v":0},{"$f":"IF('Исходные данные'!$H93=0,0,'Исходные данные'!$F93*'План продаж'!Y$32*Z134)","v":0},{"$f":"IF('Исходные данные'!$H93=0,0,'Исходные данные'!$F93*'План продаж'!Z$32*AA134)","v":0},{"$f":"IF('Исходные данные'!$H93=0,0,'Исходные данные'!$F93*'План продаж'!AA$32*AB134)","v":0},{"$f":"IF('Исходные данные'!$H93=0,0,'Исходные данные'!$F93*'План продаж'!AB$32*AC134)","v":0},{"$f":"IF('Исходные данные'!$H93=0,0,'Исходные данные'!$F93*'План продаж'!AC$32*AD134)","v":0},{"$f":"IF('Исходные данные'!$H93=0,0,'Исходные данные'!$F93*'План продаж'!AD$32*AE134)","v":0},{"$f":"IF('Исходные данные'!$H93=0,0,'Исходные данные'!$F93*'План продаж'!AE$32*AF134)","v":0},{"$f":"IF('Исходные данные'!$H93=0,0,'Исходные данные'!$F93*'План продаж'!AF$32*AG134)","v":0},{"$f":"IF('Исходные данные'!$H93=0,0,'Исходные данные'!$F93*'План продаж'!AG$32*AH134)","v":0},{"$f":"IF('Исходные данные'!$H93=0,0,'Исходные данные'!$F93*'План продаж'!AH$32*AI134)","v":0},{"$f":"IF('Исходные данные'!$H93=0,0,'Исходные данные'!$F93*'План продаж'!AI$32*AJ134)","v":0},{"$f":"IF('Исходные данные'!$H93=0,0,'Исходные данные'!$F93*'План продаж'!AJ$32*AK134)","v":0},{"$f":"IF('Исходные данные'!$H93=0,0,'Исходные данные'!$F93*'План продаж'!AK$32*AL134)","v":0},{"$f":"IF('Исходные данные'!$H93=0,0,'Исходные данные'!$F93*'План продаж'!AL$32*AM134)","v":0},{"$f":"IF('Исходные данные'!$H93=0,0,'Исходные данные'!$F93*'План продаж'!AM$32*AN134)","v":0},{"$f":"IF('Исходные данные'!$H93=0,0,'Исходные данные'!$F93*'План продаж'!AN$32*AO134)","v":0},{"$f":"IF('Исходные данные'!$H93=0,0,'Исходные данные'!$F93*'План продаж'!AO$32*AP134)","v":0},{"$f":"IF('Исходные данные'!$H93=0,0,'Исходные данные'!$F93*'План продаж'!AP$32*AQ134)","v":0},{"$f":"IF('Исходные данные'!$H93=0,0,'Исходные данные'!$F93*'План продаж'!AQ$32*AR134)","v":0},{"$f":"IF('Исходные данные'!$H93=0,0,'Исходные данные'!$F93*'План продаж'!AR$32*AS134)","v":0},{"$f":"IF('Исходные данные'!$H93=0,0,'Исходные данные'!$F93*'План продаж'!AS$32*AT134)","v":0},{"$f":"IF('Исходные данные'!$H93=0,0,'Исходные данные'!$F93*'План продаж'!AT$32*AU134)","v":0},{"$f":"IF('Исходные данные'!$H93=0,0,'Исходные данные'!$F93*'План продаж'!AU$32*AV134)","v":0},{"$f":"IF('Исходные данные'!$H93=0,0,'Исходные данные'!$F93*'План продаж'!AV$32*AW134)","v":0},{"$f":"IF('Исходные данные'!$H93=0,0,'Исходные данные'!$F93*'План продаж'!AW$32*AX134)","v":0},{"$f":"IF('Исходные данные'!$H93=0,0,'Исходные данные'!$F93*'План продаж'!AX$32*AY134)","v":0},{"$f":"IF('Исходные данные'!$H93=0,0,'Исходные данные'!$F93*'План продаж'!AY$32*AZ134)","v":0},{"$f":"IF('Исходные данные'!$H93=0,0,'Исходные данные'!$F93*'План продаж'!AZ$32*BA134)","v":0},{"$f":"IF('Исходные данные'!$H93=0,0,'Исходные данные'!$F93*'План продаж'!BA$32*BB134)","v":0},{"$f":"IF('Исходные данные'!$H93=0,0,'Исходные данные'!$F93*'План продаж'!BB$32*BC134)","v":0},{"$f":"IF('Исходные данные'!$H93=0,0,'Исходные данные'!$F93*'План продаж'!BC$32*BD134)","v":0},{"$f":"IF('Исходные данные'!$H93=0,0,'Исходные данные'!$F93*'План продаж'!BD$32*BE134)","v":0},{"$f":"IF('Исходные данные'!$H93=0,0,'Исходные данные'!$F93*'План продаж'!BE$32*BF134)","v":0},{"$f":"IF('Исходные данные'!$H93=0,0,'Исходные данные'!$F93*'План продаж'!BF$32*BG134)","v":0},{"$f":"IF('Исходные данные'!$H93=0,0,'Исходные данные'!$F93*'План продаж'!BG$32*BH134)","v":0},{"$f":"IF('Исходные данные'!$H93=0,0,'Исходные данные'!$F93*'План продаж'!BH$32*BI134)","v":0},{"$f":"IF('Исходные данные'!$H93=0,0,'Исходные данные'!$F93*'План продаж'!BI$32*BJ134)","v":0},{"$f":"IF('Исходные данные'!$H93=0,0,'Исходные данные'!$F93*'План продаж'!BJ$32*BK134)","v":0},{"$f":"IF('Исходные данные'!$H93=0,0,'Исходные данные'!$F93*'План продаж'!BK$32*BL134)","v":0}]
[0,null,null,null,{"$f":"IF('Исходные данные'!$H94=0,0,'Исходные данные'!$F94*'План продаж'!D$32*E135)","v":0},{"$f":"IF('Исходные данные'!$H94=0,0,'Исходные данные'!$F94*'План продаж'!E$32*F135)","v":0},{"$f":"IF('Исходные данные'!$H94=0,0,'Исходные данные'!$F94*'План продаж'!F$32*G135)","v":0},{"$f":"IF('Исходные данные'!$H94=0,0,'Исходные данные'!$F94*'План продаж'!G$32*H135)","v":0},{"$f":"IF('Исходные данные'!$H94=0,0,'Исходные данные'!$F94*'План продаж'!H$32*I135)","v":0},{"$f":"IF('Исходные данные'!$H94=0,0,'Исходные данные'!$F94*'План продаж'!I$32*J135)","v":0},{"$f":"IF('Исходные данные'!$H94=0,0,'Исходные данные'!$F94*'План продаж'!J$32*K135)","v":0},{"$f":"IF('Исходные данные'!$H94=0,0,'Исходные данные'!$F94*'План продаж'!K$32*L135)","v":0},{"$f":"IF('Исходные данные'!$H94=0,0,'Исходные данные'!$F94*'План продаж'!L$32*M135)","v":0},{"$f":"IF('Исходные данные'!$H94=0,0,'Исходные данные'!$F94*'План продаж'!M$32*N135)","v":0},{"$f":"IF('Исходные данные'!$H94=0,0,'Исходные данные'!$F94*'План продаж'!N$32*O135)","v":0},{"$f":"IF('Исходные данные'!$H94=0,0,'Исходные данные'!$F94*'План продаж'!O$32*P135)","v":0},{"$f":"IF('Исходные данные'!$H94=0,0,'Исходные данные'!$F94*'План продаж'!P$32*Q135)","v":0},{"$f":"IF('Исходные данные'!$H94=0,0,'Исходные данные'!$F94*'План продаж'!Q$32*R135)","v":0},{"$f":"IF('Исходные данные'!$H94=0,0,'Исходные данные'!$F94*'План продаж'!R$32*S135)","v":0},{"$f":"IF('Исходные данные'!$H94=0,0,'Исходные данные'!$F94*'План продаж'!S$32*T135)","v":0},{"$f":"IF('Исходные данные'!$H94=0,0,'Исходные данные'!$F94*'План продаж'!T$32*U135)","v":0},{"$f":"IF('Исходные данные'!$H94=0,0,'Исходные данные'!$F94*'План продаж'!U$32*V135)","v":0},{"$f":"IF('Исходные данные'!$H94=0,0,'Исходные данные'!$F94*'План продаж'!V$32*W135)","v":0},{"$f":"IF('Исходные данные'!$H94=0,0,'Исходные данные'!$F94*'План продаж'!W$32*X135)","v":0},{"$f":"IF('Исходные данные'!$H94=0,0,'Исходные данные'!$F94*'План продаж'!X$32*Y135)","v":0},{"$f":"IF('Исходные данные'!$H94=0,0,'Исходные данные'!$F94*'План продаж'!Y$32*Z135)","v":0},{"$f":"IF('Исходные данные'!$H94=0,0,'Исходные данные'!$F94*'План продаж'!Z$32*AA135)","v":0},{"$f":"IF('Исходные данные'!$H94=0,0,'Исходные данные'!$F94*'План продаж'!AA$32*AB135)","v":0},{"$f":"IF('Исходные данные'!$H94=0,0,'Исходные данные'!$F94*'План продаж'!AB$32*AC135)","v":0},{"$f":"IF('Исходные данные'!$H94=0,0,'Исходные данные'!$F94*'План продаж'!AC$32*AD135)","v":0},{"$f":"IF('Исходные данные'!$H94=0,0,'Исходные данные'!$F94*'План продаж'!AD$32*AE135)","v":0},{"$f":"IF('Исходные данные'!$H94=0,0,'Исходные данные'!$F94*'План продаж'!AE$32*AF135)","v":0},{"$f":"IF('Исходные данные'!$H94=0,0,'Исходные данные'!$F94*'План продаж'!AF$32*AG135)","v":0},{"$f":"IF('Исходные данные'!$H94=0,0,'Исходные данные'!$F94*'План продаж'!AG$32*AH135)","v":0},{"$f":"IF('Исходные данные'!$H94=0,0,'Исходные данные'!$F94*'План продаж'!AH$32*AI135)","v":0},{"$f":"IF('Исходные данные'!$H94=0,0,'Исходные данные'!$F94*'План продаж'!AI$32*AJ135)","v":0},{"$f":"IF('Исходные данные'!$H94=0,0,'Исходные данные'!$F94*'План продаж'!AJ$32*AK135)","v":0},{"$f":"IF('Исходные данные'!$H94=0,0,'Исходные данные'!$F94*'План продаж'!AK$32*AL135)","v":0},{"$f":"IF('Исходные данные'!$H94=0,0,'Исходные данные'!$F94*'План продаж'!AL$32*AM135)","v":0},{"$f":"IF('Исходные данные'!$H94=0,0,'Исходные данные'!$F94*'План продаж'!AM$32*AN135)","v":0},{"$f":"IF('Исходные данные'!$H94=0,0,'Исходные данные'!$F94*'План продаж'!AN$32*AO135)","v":0},{"$f":"IF('Исходные данные'!$H94=0,0,'Исходные данные'!$F94*'План продаж'!AO$32*AP135)","v":0},{"$f":"IF('Исходные данные'!$H94=0,0,'Исходные данные'!$F94*'План продаж'!AP$32*AQ135)","v":0},{"$f":"IF('Исходные данные'!$H94=0,0,'Исходные данные'!$F94*'План продаж'!AQ$32*AR135)","v":0},{"$f":"IF('Исходные данные'!$H94=0,0,'Исходные данные'!$F94*'План продаж'!AR$32*AS135)","v":0},{"$f":"IF('Исходные данные'!$H94=0,0,'Исходные данные'!$F94*'План продаж'!AS$32*AT135)","v":0},{"$f":"IF('Исходные данные'!$H94=0,0,'Исходные данные'!$F94*'План продаж'!AT$32*AU135)","v":0},{"$f":"IF('Исходные данные'!$H94=0,0,'Исходные данные'!$F94*'План продаж'!AU$32*AV135)","v":0},{"$f":"IF('Исходные данные'!$H94=0,0,'Исходные данные'!$F94*'План продаж'!AV$32*AW135)","v":0},{"$f":"IF('Исходные данные'!$H94=0,0,'Исходные данные'!$F94*'План продаж'!AW$32*AX135)","v":0},{"$f":"IF('Исходные данные'!$H94=0,0,'Исходные данные'!$F94*'План продаж'!AX$32*AY135)","v":0},{"$f":"IF('Исходные данные'!$H94=0,0,'Исходные данные'!$F94*'План продаж'!AY$32*AZ135)","v":0},{"$f":"IF('Исходные данные'!$H94=0,0,'Исходные данные'!$F94*'План продаж'!AZ$32*BA135)","v":0},{"$f":"IF('Исходные данные'!$H94=0,0,'Исходные данные'!$F94*'План продаж'!BA$32*BB135)","v":0},{"$f":"IF('Исходные данные'!$H94=0,0,'Исходные данные'!$F94*'План продаж'!BB$32*BC135)","v":0},{"$f":"IF('Исходные данные'!$H94=0,0,'Исходные данные'!$F94*'План продаж'!BC$32*BD135)","v":0},{"$f":"IF('Исходные данные'!$H94=0,0,'Исходные данные'!$F94*'План продаж'!BD$32*BE135)","v":0},{"$f":"IF('Исходные данные'!$H94=0,0,'Исходные данные'!$F94*'План продаж'!BE$32*BF135)","v":0},{"$f":"IF('Исходные данные'!$H94=0,0,'Исходные данные'!$F94*'План продаж'!BF$32*BG135)","v":0},{"$f":"IF('Исходные данные'!$H94=0,0,'Исходные данные'!$F94*'План продаж'!BG$32*BH135)","v":0},{"$f":"IF('Исходные данные'!$H94=0,0,'Исходные данные'!$F94*'План продаж'!BH$32*BI135)","v":0},{"$f":"IF('Исходные данные'!$H94=0,0,'Исходные данные'!$F94*'План продаж'!BI$32*BJ135)","v":0},{"$f":"IF('Исходные данные'!$H94=0,0,'Исходные данные'!$F94*'План продаж'!BJ$32*BK135)","v":0},{"$f":"IF('Исходные данные'!$H94=0,0,'Исходные данные'!$F94*'План продаж'!BK$32*BL135)","v":0}]
[0,null,null,null,{"$f":"IF('Исходные данные'!$H95=0,0,'Исходные данные'!$F95*'План продаж'!D$32*E136)","v":0},{"$f":"IF('Исходные данные'!$H95=0,0,'Исходные данные'!$F95*'План продаж'!E$32*F136)","v":0},{"$f":"IF('Исходные данные'!$H95=0,0,'Исходные данные'!$F95*'План продаж'!F$32*G136)","v":0},{"$f":"IF('Исходные данные'!$H95=0,0,'Исходные данные'!$F95*'План продаж'!G$32*H136)","v":0},{"$f":"IF('Исходные данные'!$H95=0,0,'Исходные данные'!$F95*'План продаж'!H$32*I136)","v":0},{"$f":"IF('Исходные данные'!$H95=0,0,'Исходные данные'!$F95*'План продаж'!I$32*J136)","v":0},{"$f":"IF('Исходные данные'!$H95=0,0,'Исходные данные'!$F95*'План продаж'!J$32*K136)","v":0},{"$f":"IF('Исходные данные'!$H95=0,0,'Исходные данные'!$F95*'План продаж'!K$32*L136)","v":0},{"$f":"IF('Исходные данные'!$H95=0,0,'Исходные данные'!$F95*'План продаж'!L$32*M136)","v":0},{"$f":"IF('Исходные данные'!$H95=0,0,'Исходные данные'!$F95*'План продаж'!M$32*N136)","v":0},{"$f":"IF('Исходные данные'!$H95=0,0,'Исходные данные'!$F95*'План продаж'!N$32*O136)","v":0},{"$f":"IF('Исходные данные'!$H95=0,0,'Исходные данные'!$F95*'План продаж'!O$32*P136)","v":0},{"$f":"IF('Исходные данные'!$H95=0,0,'Исходные данные'!$F95*'План продаж'!P$32*Q136)","v":0},{"$f":"IF('Исходные данные'!$H95=0,0,'Исходные данные'!$F95*'План продаж'!Q$32*R136)","v":0},{"$f":"IF('Исходные данные'!$H95=0,0,'Исходные данные'!$F95*'План продаж'!R$32*S136)","v":0},{"$f":"IF('Исходные данные'!$H95=0,0,'Исходные данные'!$F95*'План продаж'!S$32*T136)","v":0},{"$f":"IF('Исходные данные'!$H95=0,0,'Исходные данные'!$F95*'План продаж'!T$32*U136)","v":0},{"$f":"IF('Исходные данные'!$H95=0,0,'Исходные данные'!$F95*'План продаж'!U$32*V136)","v":0},{"$f":"IF('Исходные данные'!$H95=0,0,'Исходные данные'!$F95*'План продаж'!V$32*W136)","v":0},{"$f":"IF('Исходные данные'!$H95=0,0,'Исходные данные'!$F95*'План продаж'!W$32*X136)","v":0},{"$f":"IF('Исходные данные'!$H95=0,0,'Исходные данные'!$F95*'План продаж'!X$32*Y136)","v":0},{"$f":"IF('Исходные данные'!$H95=0,0,'Исходные данные'!$F95*'План продаж'!Y$32*Z136)","v":0},{"$f":"IF('Исходные данные'!$H95=0,0,'Исходные данные'!$F95*'План продаж'!Z$32*AA136)","v":0},{"$f":"IF('Исходные данные'!$H95=0,0,'Исходные данные'!$F95*'План продаж'!AA$32*AB136)","v":0},{"$f":"IF('Исходные данные'!$H95=0,0,'Исходные данные'!$F95*'План продаж'!AB$32*AC136)","v":0},{"$f":"IF('Исходные данные'!$H95=0,0,'Исходные данные'!$F95*'План продаж'!AC$32*AD136)","v":0},{"$f":"IF('Исходные данные'!$H95=0,0,'Исходные данные'!$F95*'План продаж'!AD$32*AE136)","v":0},{"$f":"IF('Исходные данные'!$H95=0,0,'Исходные данные'!$F95*'План продаж'!AE$32*AF136)","v":0},{"$f":"IF('Исходные данные'!$H95=0,0,'Исходные данные'!$F95*'План продаж'!AF$32*AG136)","v":0},{"$f":"IF('Исходные данные'!$H95=0,0,'Исходные данные'!$F95*'План продаж'!AG$32*AH136)","v":0},{"$f":"IF('Исходные данные'!$H95=0,0,'Исходные данные'!$F95*'План продаж'!AH$32*AI136)","v":0},{"$f":"IF('Исходные данные'!$H95=0,0,'Исходные данные'!$F95*'План продаж'!AI$32*AJ136)","v":0},{"$f":"IF('Исходные данные'!$H95=0,0,'Исходные данные'!$F95*'План продаж'!AJ$32*AK136)","v":0},{"$f":"IF('Исходные данные'!$H95=0,0,'Исходные данные'!$F95*'План продаж'!AK$32*AL136)","v":0},{"$f":"IF('Исходные данные'!$H95=0,0,'Исходные данные'!$F95*'План продаж'!AL$32*AM136)","v":0},{"$f":"IF('Исходные данные'!$H95=0,0,'Исходные данные'!$F95*'План продаж'!AM$32*AN136)","v":0},{"$f":"IF('Исходные данные'!$H95=0,0,'Исходные данные'!$F95*'План продаж'!AN$32*AO136)","v":0},{"$f":"IF('Исходные данные'!$H95=0,0,'Исходные данные'!$F95*'План продаж'!AO$32*AP136)","v":0},{"$f":"IF('Исходные данные'!$H95=0,0,'Исходные данные'!$F95*'План продаж'!AP$32*AQ136)","v":0},{"$f":"IF('Исходные данные'!$H95=0,0,'Исходные данные'!$F95*'План продаж'!AQ$32*AR136)","v":0},{"$f":"IF('Исходные данные'!$H95=0,0,'Исходные данные'!$F95*'План продаж'!AR$32*AS136)","v":0},{"$f":"IF('Исходные данные'!$H95=0,0,'Исходные данные'!$F95*'План продаж'!AS$32*AT136)","v":0},{"$f":"IF('Исходные данные'!$H95=0,0,'Исходные данные'!$F95*'План продаж'!AT$32*AU136)","v":0},{"$f":"IF('Исходные данные'!$H95=0,0,'Исходные данные'!$F95*'План продаж'!AU$32*AV136)","v":0},{"$f":"IF('Исходные данные'!$H95=0,0,'Исходные данные'!$F95*'План продаж'!AV$32*AW136)","v":0},{"$f":"IF('Исходные данные'!$H95=0,0,'Исходные данные'!$F95*'План продаж'!AW$32*AX136)","v":0},{"$f":"IF('Исходные данные'!$H95=0,0,'Исходные данные'!$F95*'План продаж'!AX$32*AY136)","v":0},{"$f":"IF('Исходные данные'!$H95=0,0,'Исходные данные'!$F95*'План продаж'!AY$32*AZ136)","v":0},{"$f":"IF('Исходные данные'!$H95=0,0,'Исходные данные'!$F95*'План продаж'!AZ$32*BA136)","v":0},{"$f":"IF('Исходные данные'!$H95=0,0,'Исходные данные'!$F95*'План продаж'!BA$32*BB136)","v":0},{"$f":"IF('Исходные данные'!$H95=0,0,'Исходные данные'!$F95*'План продаж'!BB$32*BC136)","v":0},{"$f":"IF('Исходные данные'!$H95=0,0,'Исходные данные'!$F95*'План продаж'!BC$32*BD136)","v":0},{"$f":"IF('Исходные данные'!$H95=0,0,'Исходные данные'!$F95*'План продаж'!BD$32*BE136)","v":0},{"$f":"IF('Исходные данные'!$H95=0,0,'Исходные данные'!$F95*'План продаж'!BE$32*BF136)","v":0},{"$f":"IF('Исходные данные'!$H95=0,0,'Исходные данные'!$F95*'План продаж'!BF$32*BG136)","v":0},{"$f":"IF('Исходные данные'!$H95=0,0,'Исходные данные'!$F95*'План продаж'!BG$32*BH136)","v":0},{"$f":"IF('Исходные данные'!$H95=0,0,'Исходные данные'!$F95*'План продаж'!BH$32*BI136)","v":0},{"$f":"IF('Исходные данные'!$H95=0,0,'Исходные данные'!$F95*'План продаж'!BI$32*BJ136)","v":0},{"$f":"IF('Исходные данные'!$H95=0,0,'Исходные данные'!$F95*'План продаж'!BJ$32*BK136)","v":0},{"$f":"IF('Исходные данные'!$H95=0,0,'Исходные данные'!$F95*'План продаж'!BK$32*BL136)","v":0}]
[0,null,null,null,{"$f":"IF('Исходные данные'!$H96=0,0,'Исходные данные'!$F96*'План продаж'!D$32*E137)","v":0},{"$f":"IF('Исходные данные'!$H96=0,0,'Исходные данные'!$F96*'План продаж'!E$32*F137)","v":0},{"$f":"IF('Исходные данные'!$H96=0,0,'Исходные данные'!$F96*'План продаж'!F$32*G137)","v":0},{"$f":"IF('Исходные данные'!$H96=0,0,'Исходные данные'!$F96*'План продаж'!G$32*H137)","v":0},{"$f":"IF('Исходные данные'!$H96=0,0,'Исходные данные'!$F96*'План продаж'!H$32*I137)","v":0},{"$f":"IF('Исходные данные'!$H96=0,0,'Исходные данные'!$F96*'План продаж'!I$32*J137)","v":0},{"$f":"IF('Исходные данные'!$H96=0,0,'Исходные данные'!$F96*'План продаж'!J$32*K137)","v":0},{"$f":"IF('Исходные данные'!$H96=0,0,'Исходные данные'!$F96*'План продаж'!K$32*L137)","v":0},{"$f":"IF('Исходные данные'!$H96=0,0,'Исходные данные'!$F96*'План продаж'!L$32*M137)","v":0},{"$f":"IF('Исходные данные'!$H96=0,0,'Исходные данные'!$F96*'План продаж'!M$32*N137)","v":0},{"$f":"IF('Исходные данные'!$H96=0,0,'Исходные данные'!$F96*'План продаж'!N$32*O137)","v":0},{"$f":"IF('Исходные данные'!$H96=0,0,'Исходные данные'!$F96*'План продаж'!O$32*P137)","v":0},{"$f":"IF('Исходные данные'!$H96=0,0,'Исходные данные'!$F96*'План продаж'!P$32*Q137)","v":0},{"$f":"IF('Исходные данные'!$H96=0,0,'Исходные данные'!$F96*'План продаж'!Q$32*R137)","v":0},{"$f":"IF('Исходные данные'!$H96=0,0,'Исходные данные'!$F96*'План продаж'!R$32*S137)","v":0},{"$f":"IF('Исходные данные'!$H96=0,0,'Исходные данные'!$F96*'План продаж'!S$32*T137)","v":0},{"$f":"IF('Исходные данные'!$H96=0,0,'Исходные данные'!$F96*'План продаж'!T$32*U137)","v":0},{"$f":"IF('Исходные данные'!$H96=0,0,'Исходные данные'!$F96*'План продаж'!U$32*V137)","v":0},{"$f":"IF('Исходные данные'!$H96=0,0,'Исходные данные'!$F96*'План продаж'!V$32*W137)","v":0},{"$f":"IF('Исходные данные'!$H96=0,0,'Исходные данные'!$F96*'План продаж'!W$32*X137)","v":0},{"$f":"IF('Исходные данные'!$H96=0,0,'Исходные данные'!$F96*'План продаж'!X$32*Y137)","v":0},{"$f":"IF('Исходные данные'!$H96=0,0,'Исходные данные'!$F96*'План продаж'!Y$32*Z137)","v":0},{"$f":"IF('Исходные данные'!$H96=0,0,'Исходные данные'!$F96*'План продаж'!Z$32*AA137)","v":0},{"$f":"IF('Исходные данные'!$H96=0,0,'Исходные данные'!$F96*'План продаж'!AA$32*AB137)","v":0},{"$f":"IF('Исходные данные'!$H96=0,0,'Исходные данные'!$F96*'План продаж'!AB$32*AC137)","v":0},{"$f":"IF('Исходные данные'!$H96=0,0,'Исходные данные'!$F96*'План продаж'!AC$32*AD137)","v":0},{"$f":"IF('Исходные данные'!$H96=0,0,'Исходные данные'!$F96*'План продаж'!AD$32*AE137)","v":0},{"$f":"IF('Исходные данные'!$H96=0,0,'Исходные данные'!$F96*'План продаж'!AE$32*AF137)","v":0},{"$f":"IF('Исходные данные'!$H96=0,0,'Исходные данные'!$F96*'План продаж'!AF$32*AG137)","v":0},{"$f":"IF('Исходные данные'!$H96=0,0,'Исходные данные'!$F96*'План продаж'!AG$32*AH137)","v":0},{"$f":"IF('Исходные данные'!$H96=0,0,'Исходные данные'!$F96*'План продаж'!AH$32*AI137)","v":0},{"$f":"IF('Исходные данные'!$H96=0,0,'Исходные данные'!$F96*'План продаж'!AI$32*AJ137)","v":0},{"$f":"IF('Исходные данные'!$H96=0,0,'Исходные данные'!$F96*'План продаж'!AJ$32*AK137)","v":0},{"$f":"IF('Исходные данные'!$H96=0,0,'Исходные данные'!$F96*'План продаж'!AK$32*AL137)","v":0},{"$f":"IF('Исходные данные'!$H96=0,0,'Исходные данные'!$F96*'План продаж'!AL$32*AM137)","v":0},{"$f":"IF('Исходные данные'!$H96=0,0,'Исходные данные'!$F96*'План продаж'!AM$32*AN137)","v":0},{"$f":"IF('Исходные данные'!$H96=0,0,'Исходные данные'!$F96*'План продаж'!AN$32*AO137)","v":0},{"$f":"IF('Исходные данные'!$H96=0,0,'Исходные данные'!$F96*'План продаж'!AO$32*AP137)","v":0},{"$f":"IF('Исходные данные'!$H96=0,0,'Исходные данные'!$F96*'План продаж'!AP$32*AQ137)","v":0},{"$f":"IF('Исходные данные'!$H96=0,0,'Исходные данные'!$F96*'План продаж'!AQ$32*AR137)","v":0},{"$f":"IF('Исходные данные'!$H96=0,0,'Исходные данные'!$F96*'План продаж'!AR$32*AS137)","v":0},{"$f":"IF('Исходные данные'!$H96=0,0,'Исходные данные'!$F96*'План продаж'!AS$32*AT137)","v":0},{"$f":"IF('Исходные данные'!$H96=0,0,'Исходные данные'!$F96*'План продаж'!AT$32*AU137)","v":0},{"$f":"IF('Исходные данные'!$H96=0,0,'Исходные данные'!$F96*'План продаж'!AU$32*AV137)","v":0},{"$f":"IF('Исходные данные'!$H96=0,0,'Исходные данные'!$F96*'План продаж'!AV$32*AW137)","v":0},{"$f":"IF('Исходные данные'!$H96=0,0,'Исходные данные'!$F96*'План продаж'!AW$32*AX137)","v":0},{"$f":"IF('Исходные данные'!$H96=0,0,'Исходные данные'!$F96*'План продаж'!AX$32*AY137)","v":0},{"$f":"IF('Исходные данные'!$H96=0,0,'Исходные данные'!$F96*'План продаж'!AY$32*AZ137)","v":0},{"$f":"IF('Исходные данные'!$H96=0,0,'Исходные данные'!$F96*'План продаж'!AZ$32*BA137)","v":0},{"$f":"IF('Исходные данные'!$H96=0,0,'Исходные данные'!$F96*'План продаж'!BA$32*BB137)","v":0},{"$f":"IF('Исходные данные'!$H96=0,0,'Исходные данные'!$F96*'План продаж'!BB$32*BC137)","v":0},{"$f":"IF('Исходные данные'!$H96=0,0,'Исходные данные'!$F96*'План продаж'!BC$32*BD137)","v":0},{"$f":"IF('Исходные данные'!$H96=0,0,'Исходные данные'!$F96*'План продаж'!BD$32*BE137)","v":0},{"$f":"IF('Исходные данные'!$H96=0,0,'Исходные данные'!$F96*'План продаж'!BE$32*BF137)","v":0},{"$f":"IF('Исходные данные'!$H96=0,0,'Исходные данные'!$F96*'План продаж'!BF$32*BG137)","v":0},{"$f":"IF('Исходные данные'!$H96=0,0,'Исходные данные'!$F96*'План продаж'!BG$32*BH137)","v":0},{"$f":"IF('Исходные данные'!$H96=0,0,'Исходные данные'!$F96*'План продаж'!BH$32*BI137)","v":0},{"$f":"IF('Исходные данные'!$H96=0,0,'Исходные данные'!$F96*'План продаж'!BI$32*BJ137)","v":0},{"$f":"IF('Исходные данные'!$H96=0,0,'Исходные данные'!$F96*'План продаж'!BJ$32*BK137)","v":0},{"$f":"IF('Исходные данные'!$H96=0,0,'Исходные данные'!$F96*'План продаж'!BK$32*BL137)","v":0}]
[0,null,null,null,{"$f":"IF('Исходные данные'!$H97=0,0,'Исходные данные'!$F97*'План продаж'!D$32*E138)","v":0},{"$f":"IF('Исходные данные'!$H97=0,0,'Исходные данные'!$F97*'План продаж'!E$32*F138)","v":0},{"$f":"IF('Исходные данные'!$H97=0,0,'Исходные данные'!$F97*'План продаж'!F$32*G138)","v":0},{"$f":"IF('Исходные данные'!$H97=0,0,'Исходные данные'!$F97*'План продаж'!G$32*H138)","v":0},{"$f":"IF('Исходные данные'!$H97=0,0,'Исходные данные'!$F97*'План продаж'!H$32*I138)","v":0},{"$f":"IF('Исходные данные'!$H97=0,0,'Исходные данные'!$F97*'План продаж'!I$32*J138)","v":0},{"$f":"IF('Исходные данные'!$H97=0,0,'Исходные данные'!$F97*'План продаж'!J$32*K138)","v":0},{"$f":"IF('Исходные данные'!$H97=0,0,'Исходные данные'!$F97*'План продаж'!K$32*L138)","v":0},{"$f":"IF('Исходные данные'!$H97=0,0,'Исходные данные'!$F97*'План продаж'!L$32*M138)","v":0},{"$f":"IF('Исходные данные'!$H97=0,0,'Исходные данные'!$F97*'План продаж'!M$32*N138)","v":0},{"$f":"IF('Исходные данные'!$H97=0,0,'Исходные данные'!$F97*'План продаж'!N$32*O138)","v":0},{"$f":"IF('Исходные данные'!$H97=0,0,'Исходные данные'!$F97*'План продаж'!O$32*P138)","v":0},{"$f":"IF('Исходные данные'!$H97=0,0,'Исходные данные'!$F97*'План продаж'!P$32*Q138)","v":0},{"$f":"IF('Исходные данные'!$H97=0,0,'Исходные данные'!$F97*'План продаж'!Q$32*R138)","v":0},{"$f":"IF('Исходные данные'!$H97=0,0,'Исходные данные'!$F97*'План продаж'!R$32*S138)","v":0},{"$f":"IF('Исходные данные'!$H97=0,0,'Исходные данные'!$F97*'План продаж'!S$32*T138)","v":0},{"$f":"IF('Исходные данные'!$H97=0,0,'Исходные данные'!$F97*'План продаж'!T$32*U138)","v":0},{"$f":"IF('Исходные данные'!$H97=0,0,'Исходные данные'!$F97*'План продаж'!U$32*V138)","v":0},{"$f":"IF('Исходные данные'!$H97=0,0,'Исходные данные'!$F97*'План продаж'!V$32*W138)","v":0},{"$f":"IF('Исходные данные'!$H97=0,0,'Исходные данные'!$F97*'План продаж'!W$32*X138)","v":0},{"$f":"IF('Исходные данные'!$H97=0,0,'Исходные данные'!$F97*'План продаж'!X$32*Y138)","v":0},{"$f":"IF('Исходные данные'!$H97=0,0,'Исходные данные'!$F97*'План продаж'!Y$32*Z138)","v":0},{"$f":"IF('Исходные данные'!$H97=0,0,'Исходные данные'!$F97*'План продаж'!Z$32*AA138)","v":0},{"$f":"IF('Исходные данные'!$H97=0,0,'Исходные данные'!$F97*'План продаж'!AA$32*AB138)","v":0},{"$f":"IF('Исходные данные'!$H97=0,0,'Исходные данные'!$F97*'План продаж'!AB$32*AC138)","v":0},{"$f":"IF('Исходные данные'!$H97=0,0,'Исходные данные'!$F97*'План продаж'!AC$32*AD138)","v":0},{"$f":"IF('Исходные данные'!$H97=0,0,'Исходные данные'!$F97*'План продаж'!AD$32*AE138)","v":0},{"$f":"IF('Исходные данные'!$H97=0,0,'Исходные данные'!$F97*'План продаж'!AE$32*AF138)","v":0},{"$f":"IF('Исходные данные'!$H97=0,0,'Исходные данные'!$F97*'План продаж'!AF$32*AG138)","v":0},{"$f":"IF('Исходные данные'!$H97=0,0,'Исходные данные'!$F97*'План продаж'!AG$32*AH138)","v":0},{"$f":"IF('Исходные данные'!$H97=0,0,'Исходные данные'!$F97*'План продаж'!AH$32*AI138)","v":0},{"$f":"IF('Исходные данные'!$H97=0,0,'Исходные данные'!$F97*'План продаж'!AI$32*AJ138)","v":0},{"$f":"IF('Исходные данные'!$H97=0,0,'Исходные данные'!$F97*'План продаж'!AJ$32*AK138)","v":0},{"$f":"IF('Исходные данные'!$H97=0,0,'Исходные данные'!$F97*'План продаж'!AK$32*AL138)","v":0},{"$f":"IF('Исходные данные'!$H97=0,0,'Исходные данные'!$F97*'План продаж'!AL$32*AM138)","v":0},{"$f":"IF('Исходные данные'!$H97=0,0,'Исходные данные'!$F97*'План продаж'!AM$32*AN138)","v":0},{"$f":"IF('Исходные данные'!$H97=0,0,'Исходные данные'!$F97*'План продаж'!AN$32*AO138)","v":0},{"$f":"IF('Исходные данные'!$H97=0,0,'Исходные данные'!$F97*'План продаж'!AO$32*AP138)","v":0},{"$f":"IF('Исходные данные'!$H97=0,0,'Исходные данные'!$F97*'План продаж'!AP$32*AQ138)","v":0},{"$f":"IF('Исходные данные'!$H97=0,0,'Исходные данные'!$F97*'План продаж'!AQ$32*AR138)","v":0},{"$f":"IF('Исходные данные'!$H97=0,0,'Исходные данные'!$F97*'План продаж'!AR$32*AS138)","v":0},{"$f":"IF('Исходные данные'!$H97=0,0,'Исходные данные'!$F97*'План продаж'!AS$32*AT138)","v":0},{"$f":"IF('Исходные данные'!$H97=0,0,'Исходные данные'!$F97*'План продаж'!AT$32*AU138)","v":0},{"$f":"IF('Исходные данные'!$H97=0,0,'Исходные данные'!$F97*'План продаж'!AU$32*AV138)","v":0},{"$f":"IF('Исходные данные'!$H97=0,0,'Исходные данные'!$F97*'План продаж'!AV$32*AW138)","v":0},{"$f":"IF('Исходные данные'!$H97=0,0,'Исходные данные'!$F97*'План продаж'!AW$32*AX138)","v":0},{"$f":"IF('Исходные данные'!$H97=0,0,'Исходные данные'!$F97*'План продаж'!AX$32*AY138)","v":0},{"$f":"IF('Исходные данные'!$H97=0,0,'Исходные данные'!$F97*'План продаж'!AY$32*AZ138)","v":0},{"$f":"IF('Исходные данные'!$H97=0,0,'Исходные данные'!$F97*'План продаж'!AZ$32*BA138)","v":0},{"$f":"IF('Исходные данные'!$H97=0,0,'Исходные данные'!$F97*'План продаж'!BA$32*BB138)","v":0},{"$f":"IF('Исходные данные'!$H97=0,0,'Исходные данные'!$F97*'План продаж'!BB$32*BC138)","v":0},{"$f":"IF('Исходные данные'!$H97=0,0,'Исходные данные'!$F97*'План продаж'!BC$32*BD138)","v":0},{"$f":"IF('Исходные данные'!$H97=0,0,'Исходные данные'!$F97*'План продаж'!BD$32*BE138)","v":0},{"$f":"IF('Исходные данные'!$H97=0,0,'Исходные данные'!$F97*'План продаж'!BE$32*BF138)","v":0},{"$f":"IF('Исходные данные'!$H97=0,0,'Исходные данные'!$F97*'План продаж'!BF$32*BG138)","v":0},{"$f":"IF('Исходные данные'!$H97=0,0,'Исходные данные'!$F97*'План продаж'!BG$32*BH138)","v":0},{"$f":"IF('Исходные данные'!$H97=0,0,'Исходные данные'!$F97*'План продаж'!BH$32*BI138)","v":0},{"$f":"IF('Исходные данные'!$H97=0,0,'Исходные данные'!$F97*'План продаж'!BI$32*BJ138)","v":0},{"$f":"IF('Исходные данные'!$H97=0,0,'Исходные данные'!$F97*'План продаж'!BJ$32*BK138)","v":0},{"$f":"IF('Исходные данные'!$H97=0,0,'Исходные данные'!$F97*'План продаж'!BK$32*BL138)","v":0}]
[0,null,null,null,{"$f":"IF('Исходные данные'!$H98=0,0,'Исходные данные'!$F98*'План продаж'!D$32*E139)","v":0},{"$f":"IF('Исходные данные'!$H98=0,0,'Исходные данные'!$F98*'План продаж'!E$32*F139)","v":0},{"$f":"IF('Исходные данные'!$H98=0,0,'Исходные данные'!$F98*'План продаж'!F$32*G139)","v":0},{"$f":"IF('Исходные данные'!$H98=0,0,'Исходные данные'!$F98*'План продаж'!G$32*H139)","v":0},{"$f":"IF('Исходные данные'!$H98=0,0,'Исходные данные'!$F98*'План продаж'!H$32*I139)","v":0},{"$f":"IF('Исходные данные'!$H98=0,0,'Исходные данные'!$F98*'План продаж'!I$32*J139)","v":0},{"$f":"IF('Исходные данные'!$H98=0,0,'Исходные данные'!$F98*'План продаж'!J$32*K139)","v":0},{"$f":"IF('Исходные данные'!$H98=0,0,'Исходные данные'!$F98*'План продаж'!K$32*L139)","v":0},{"$f":"IF('Исходные данные'!$H98=0,0,'Исходные данные'!$F98*'План продаж'!L$32*M139)","v":0},{"$f":"IF('Исходные данные'!$H98=0,0,'Исходные данные'!$F98*'План продаж'!M$32*N139)","v":0},{"$f":"IF('Исходные данные'!$H98=0,0,'Исходные данные'!$F98*'План продаж'!N$32*O139)","v":0},{"$f":"IF('Исходные данные'!$H98=0,0,'Исходные данные'!$F98*'План продаж'!O$32*P139)","v":0},{"$f":"IF('Исходные данные'!$H98=0,0,'Исходные данные'!$F98*'План продаж'!P$32*Q139)","v":0},{"$f":"IF('Исходные данные'!$H98=0,0,'Исходные данные'!$F98*'План продаж'!Q$32*R139)","v":0},{"$f":"IF('Исходные данные'!$H98=0,0,'Исходные данные'!$F98*'План продаж'!R$32*S139)","v":0},{"$f":"IF('Исходные данные'!$H98=0,0,'Исходные данные'!$F98*'План продаж'!S$32*T139)","v":0},{"$f":"IF('Исходные данные'!$H98=0,0,'Исходные данные'!$F98*'План продаж'!T$32*U139)","v":0},{"$f":"IF('Исходные данные'!$H98=0,0,'Исходные данные'!$F98*'План продаж'!U$32*V139)","v":0},{"$f":"IF('Исходные данные'!$H98=0,0,'Исходные данные'!$F98*'План продаж'!V$32*W139)","v":0},{"$f":"IF('Исходные данные'!$H98=0,0,'Исходные данные'!$F98*'План продаж'!W$32*X139)","v":0},{"$f":"IF('Исходные данные'!$H98=0,0,'Исходные данные'!$F98*'План продаж'!X$32*Y139)","v":0},{"$f":"IF('Исходные данные'!$H98=0,0,'Исходные данные'!$F98*'План продаж'!Y$32*Z139)","v":0},{"$f":"IF('Исходные данные'!$H98=0,0,'Исходные данные'!$F98*'План продаж'!Z$32*AA139)","v":0},{"$f":"IF('Исходные данные'!$H98=0,0,'Исходные данные'!$F98*'План продаж'!AA$32*AB139)","v":0},{"$f":"IF('Исходные данные'!$H98=0,0,'Исходные данные'!$F98*'План продаж'!AB$32*AC139)","v":0},{"$f":"IF('Исходные данные'!$H98=0,0,'Исходные данные'!$F98*'План продаж'!AC$32*AD139)","v":0},{"$f":"IF('Исходные данные'!$H98=0,0,'Исходные данные'!$F98*'План продаж'!AD$32*AE139)","v":0},{"$f":"IF('Исходные данные'!$H98=0,0,'Исходные данные'!$F98*'План продаж'!AE$32*AF139)","v":0},{"$f":"IF('Исходные данные'!$H98=0,0,'Исходные данные'!$F98*'План продаж'!AF$32*AG139)","v":0},{"$f":"IF('Исходные данные'!$H98=0,0,'Исходные данные'!$F98*'План продаж'!AG$32*AH139)","v":0},{"$f":"IF('Исходные данные'!$H98=0,0,'Исходные данные'!$F98*'План продаж'!AH$32*AI139)","v":0},{"$f":"IF('Исходные данные'!$H98=0,0,'Исходные данные'!$F98*'План продаж'!AI$32*AJ139)","v":0},{"$f":"IF('Исходные данные'!$H98=0,0,'Исходные данные'!$F98*'План продаж'!AJ$32*AK139)","v":0},{"$f":"IF('Исходные данные'!$H98=0,0,'Исходные данные'!$F98*'План продаж'!AK$32*AL139)","v":0},{"$f":"IF('Исходные данные'!$H98=0,0,'Исходные данные'!$F98*'План продаж'!AL$32*AM139)","v":0},{"$f":"IF('Исходные данные'!$H98=0,0,'Исходные данные'!$F98*'План продаж'!AM$32*AN139)","v":0},{"$f":"IF('Исходные данные'!$H98=0,0,'Исходные данные'!$F98*'План продаж'!AN$32*AO139)","v":0},{"$f":"IF('Исходные данные'!$H98=0,0,'Исходные данные'!$F98*'План продаж'!AO$32*AP139)","v":0},{"$f":"IF('Исходные данные'!$H98=0,0,'Исходные данные'!$F98*'План продаж'!AP$32*AQ139)","v":0},{"$f":"IF('Исходные данные'!$H98=0,0,'Исходные данные'!$F98*'План продаж'!AQ$32*AR139)","v":0},{"$f":"IF('Исходные данные'!$H98=0,0,'Исходные данные'!$F98*'План продаж'!AR$32*AS139)","v":0},{"$f":"IF('Исходные данные'!$H98=0,0,'Исходные данные'!$F98*'План продаж'!AS$32*AT139)","v":0},{"$f":"IF('Исходные данные'!$H98=0,0,'Исходные данные'!$F98*'План продаж'!AT$32*AU139)","v":0},{"$f":"IF('Исходные данные'!$H98=0,0,'Исходные данные'!$F98*'План продаж'!AU$32*AV139)","v":0},{"$f":"IF('Исходные данные'!$H98=0,0,'Исходные данные'!$F98*'План продаж'!AV$32*AW139)","v":0},{"$f":"IF('Исходные данные'!$H98=0,0,'Исходные данные'!$F98*'План продаж'!AW$32*AX139)","v":0},{"$f":"IF('Исходные данные'!$H98=0,0,'Исходные данные'!$F98*'План продаж'!AX$32*AY139)","v":0},{"$f":"IF('Исходные данные'!$H98=0,0,'Исходные данные'!$F98*'План продаж'!AY$32*AZ139)","v":0},{"$f":"IF('Исходные данные'!$H98=0,0,'Исходные данные'!$F98*'План продаж'!AZ$32*BA139)","v":0},{"$f":"IF('Исходные данные'!$H98=0,0,'Исходные данные'!$F98*'План продаж'!BA$32*BB139)","v":0},{"$f":"IF('Исходные данные'!$H98=0,0,'Исходные данные'!$F98*'План продаж'!BB$32*BC139)","v":0},{"$f":"IF('Исходные данные'!$H98=0,0,'Исходные данные'!$F98*'План продаж'!BC$32*BD139)","v":0},{"$f":"IF('Исходные данные'!$H98=0,0,'Исходные данные'!$F98*'План продаж'!BD$32*BE139)","v":0},{"$f":"IF('Исходные данные'!$H98=0,0,'Исходные данные'!$F98*'План продаж'!BE$32*BF139)","v":0},{"$f":"IF('Исходные данные'!$H98=0,0,'Исходные данные'!$F98*'План продаж'!BF$32*BG139)","v":0},{"$f":"IF('Исходные данные'!$H98=0,0,'Исходные данные'!$F98*'План продаж'!BG$32*BH139)","v":0},{"$f":"IF('Исходные данные'!$H98=0,0,'Исходные данные'!$F98*'План продаж'!BH$32*BI139)","v":0},{"$f":"IF('Исходные данные'!$H98=0,0,'Исходные данные'!$F98*'План продаж'!BI$32*BJ139)","v":0},{"$f":"IF('Исходные данные'!$H98=0,0,'Исходные данные'!$F98*'План продаж'!BJ$32*BK139)","v":0},{"$f":"IF('Исходные данные'!$H98=0,0,'Исходные данные'!$F98*'План продаж'!BK$32*BL139)","v":0}]
[0,null,null,null,{"$f":"IF('Исходные данные'!$H99=0,0,'Исходные данные'!$F99*'План продаж'!D$32*E140)","v":0},{"$f":"IF('Исходные данные'!$H99=0,0,'Исходные данные'!$F99*'План продаж'!E$32*F140)","v":0},{"$f":"IF('Исходные данные'!$H99=0,0,'Исходные данные'!$F99*'План продаж'!F$32*G140)","v":0},{"$f":"IF('Исходные данные'!$H99=0,0,'Исходные данные'!$F99*'План продаж'!G$32*H140)","v":0},{"$f":"IF('Исходные данные'!$H99=0,0,'Исходные данные'!$F99*'План продаж'!H$32*I140)","v":0},{"$f":"IF('Исходные данные'!$H99=0,0,'Исходные данные'!$F99*'План продаж'!I$32*J140)","v":0},{"$f":"IF('Исходные данные'!$H99=0,0,'Исходные данные'!$F99*'План продаж'!J$32*K140)","v":0},{"$f":"IF('Исходные данные'!$H99=0,0,'Исходные данные'!$F99*'План продаж'!K$32*L140)","v":0},{"$f":"IF('Исходные данные'!$H99=0,0,'Исходные данные'!$F99*'План продаж'!L$32*M140)","v":0},{"$f":"IF('Исходные данные'!$H99=0,0,'Исходные данные'!$F99*'План продаж'!M$32*N140)","v":0},{"$f":"IF('Исходные данные'!$H99=0,0,'Исходные данные'!$F99*'План продаж'!N$32*O140)","v":0},{"$f":"IF('Исходные данные'!$H99=0,0,'Исходные данные'!$F99*'План продаж'!O$32*P140)","v":0},{"$f":"IF('Исходные данные'!$H99=0,0,'Исходные данные'!$F99*'План продаж'!P$32*Q140)","v":0},{"$f":"IF('Исходные данные'!$H99=0,0,'Исходные данные'!$F99*'План продаж'!Q$32*R140)","v":0},{"$f":"IF('Исходные данные'!$H99=0,0,'Исходные данные'!$F99*'План продаж'!R$32*S140)","v":0},{"$f":"IF('Исходные данные'!$H99=0,0,'Исходные данные'!$F99*'План продаж'!S$32*T140)","v":0},{"$f":"IF('Исходные данные'!$H99=0,0,'Исходные данные'!$F99*'План продаж'!T$32*U140)","v":0},{"$f":"IF('Исходные данные'!$H99=0,0,'Исходные данные'!$F99*'План продаж'!U$32*V140)","v":0},{"$f":"IF('Исходные данные'!$H99=0,0,'Исходные данные'!$F99*'План продаж'!V$32*W140)","v":0},{"$f":"IF('Исходные данные'!$H99=0,0,'Исходные данные'!$F99*'План продаж'!W$32*X140)","v":0},{"$f":"IF('Исходные данные'!$H99=0,0,'Исходные данные'!$F99*'План продаж'!X$32*Y140)","v":0},{"$f":"IF('Исходные данные'!$H99=0,0,'Исходные данные'!$F99*'План продаж'!Y$32*Z140)","v":0},{"$f":"IF('Исходные данные'!$H99=0,0,'Исходные данные'!$F99*'План продаж'!Z$32*AA140)","v":0},{"$f":"IF('Исходные данные'!$H99=0,0,'Исходные данные'!$F99*'План продаж'!AA$32*AB140)","v":0},{"$f":"IF('Исходные данные'!$H99=0,0,'Исходные данные'!$F99*'План продаж'!AB$32*AC140)","v":0},{"$f":"IF('Исходные данные'!$H99=0,0,'Исходные данные'!$F99*'План продаж'!AC$32*AD140)","v":0},{"$f":"IF('Исходные данные'!$H99=0,0,'Исходные данные'!$F99*'План продаж'!AD$32*AE140)","v":0},{"$f":"IF('Исходные данные'!$H99=0,0,'Исходные данные'!$F99*'План продаж'!AE$32*AF140)","v":0},{"$f":"IF('Исходные данные'!$H99=0,0,'Исходные данные'!$F99*'План продаж'!AF$32*AG140)","v":0},{"$f":"IF('Исходные данные'!$H99=0,0,'Исходные данные'!$F99*'План продаж'!AG$32*AH140)","v":0},{"$f":"IF('Исходные данные'!$H99=0,0,'Исходные данные'!$F99*'План продаж'!AH$32*AI140)","v":0},{"$f":"IF('Исходные данные'!$H99=0,0,'Исходные данные'!$F99*'План продаж'!AI$32*AJ140)","v":0},{"$f":"IF('Исходные данные'!$H99=0,0,'Исходные данные'!$F99*'План продаж'!AJ$32*AK140)","v":0},{"$f":"IF('Исходные данные'!$H99=0,0,'Исходные данные'!$F99*'План продаж'!AK$32*AL140)","v":0},{"$f":"IF('Исходные данные'!$H99=0,0,'Исходные данные'!$F99*'План продаж'!AL$32*AM140)","v":0},{"$f":"IF('Исходные данные'!$H99=0,0,'Исходные данные'!$F99*'План продаж'!AM$32*AN140)","v":0},{"$f":"IF('Исходные данные'!$H99=0,0,'Исходные данные'!$F99*'План продаж'!AN$32*AO140)","v":0},{"$f":"IF('Исходные данные'!$H99=0,0,'Исходные данные'!$F99*'План продаж'!AO$32*AP140)","v":0},{"$f":"IF('Исходные данные'!$H99=0,0,'Исходные данные'!$F99*'План продаж'!AP$32*AQ140)","v":0},{"$f":"IF('Исходные данные'!$H99=0,0,'Исходные данные'!$F99*'План продаж'!AQ$32*AR140)","v":0},{"$f":"IF('Исходные данные'!$H99=0,0,'Исходные данные'!$F99*'План продаж'!AR$32*AS140)","v":0},{"$f":"IF('Исходные данные'!$H99=0,0,'Исходные данные'!$F99*'План продаж'!AS$32*AT140)","v":0},{"$f":"IF('Исходные данные'!$H99=0,0,'Исходные данные'!$F99*'План продаж'!AT$32*AU140)","v":0},{"$f":"IF('Исходные данные'!$H99=0,0,'Исходные данные'!$F99*'План продаж'!AU$32*AV140)","v":0},{"$f":"IF('Исходные данные'!$H99=0,0,'Исходные данные'!$F99*'План продаж'!AV$32*AW140)","v":0},{"$f":"IF('Исходные данные'!$H99=0,0,'Исходные данные'!$F99*'План продаж'!AW$32*AX140)","v":0},{"$f":"IF('Исходные данные'!$H99=0,0,'Исходные данные'!$F99*'План продаж'!AX$32*AY140)","v":0},{"$f":"IF('Исходные данные'!$H99=0,0,'Исходные данные'!$F99*'План продаж'!AY$32*AZ140)","v":0},{"$f":"IF('Исходные данные'!$H99=0,0,'Исходные данные'!$F99*'План продаж'!AZ$32*BA140)","v":0},{"$f":"IF('Исходные данные'!$H99=0,0,'Исходные данные'!$F99*'План продаж'!BA$32*BB140)","v":0},{"$f":"IF('Исходные данные'!$H99=0,0,'Исходные данные'!$F99*'План продаж'!BB$32*BC140)","v":0},{"$f":"IF('Исходные данные'!$H99=0,0,'Исходные данные'!$F99*'План продаж'!BC$32*BD140)","v":0},{"$f":"IF('Исходные данные'!$H99=0,0,'Исходные данные'!$F99*'План продаж'!BD$32*BE140)","v":0},{"$f":"IF('Исходные данные'!$H99=0,0,'Исходные данные'!$F99*'План продаж'!BE$32*BF140)","v":0},{"$f":"IF('Исходные данные'!$H99=0,0,'Исходные данные'!$F99*'План продаж'!BF$32*BG140)","v":0},{"$f":"IF('Исходные данные'!$H99=0,0,'Исходные данные'!$F99*'План продаж'!BG$32*BH140)","v":0},{"$f":"IF('Исходные данные'!$H99=0,0,'Исходные данные'!$F99*'План продаж'!BH$32*BI140)","v":0},{"$f":"IF('Исходные данные'!$H99=0,0,'Исходные данные'!$F99*'План продаж'!BI$32*BJ140)","v":0},{"$f":"IF('Исходные данные'!$H99=0,0,'Исходные данные'!$F99*'План продаж'!BJ$32*BK140)","v":0},{"$f":"IF('Исходные данные'!$H99=0,0,'Исходные данные'!$F99*'План продаж'!BK$32*BL140)","v":0}]
[0,null,null,null,{"$f":"IF('Исходные данные'!$H100=0,0,'Исходные данные'!$F100*'План продаж'!D$32*E141)","v":0},{"$f":"IF('Исходные данные'!$H100=0,0,'Исходные данные'!$F100*'План продаж'!E$32*F141)","v":0},{"$f":"IF('Исходные данные'!$H100=0,0,'Исходные данные'!$F100*'План продаж'!F$32*G141)","v":0},{"$f":"IF('Исходные данные'!$H100=0,0,'Исходные данные'!$F100*'План продаж'!G$32*H141)","v":0},{"$f":"IF('Исходные данные'!$H100=0,0,'Исходные данные'!$F100*'План продаж'!H$32*I141)","v":0},{"$f":"IF('Исходные данные'!$H100=0,0,'Исходные данные'!$F100*'План продаж'!I$32*J141)","v":0},{"$f":"IF('Исходные данные'!$H100=0,0,'Исходные данные'!$F100*'План продаж'!J$32*K141)","v":0},{"$f":"IF('Исходные данные'!$H100=0,0,'Исходные данные'!$F100*'План продаж'!K$32*L141)","v":0},{"$f":"IF('Исходные данные'!$H100=0,0,'Исходные данные'!$F100*'План продаж'!L$32*M141)","v":0},{"$f":"IF('Исходные данные'!$H100=0,0,'Исходные данные'!$F100*'План продаж'!M$32*N141)","v":0},{"$f":"IF('Исходные данные'!$H100=0,0,'Исходные данные'!$F100*'План продаж'!N$32*O141)","v":0},{"$f":"IF('Исходные данные'!$H100=0,0,'Исходные данные'!$F100*'План продаж'!O$32*P141)","v":0},{"$f":"IF('Исходные данные'!$H100=0,0,'Исходные данные'!$F100*'План продаж'!P$32*Q141)","v":0},{"$f":"IF('Исходные данные'!$H100=0,0,'Исходные данные'!$F100*'План продаж'!Q$32*R141)","v":0},{"$f":"IF('Исходные данные'!$H100=0,0,'Исходные данные'!$F100*'План продаж'!R$32*S141)","v":0},{"$f":"IF('Исходные данные'!$H100=0,0,'Исходные данные'!$F100*'План продаж'!S$32*T141)","v":0},{"$f":"IF('Исходные данные'!$H100=0,0,'Исходные данные'!$F100*'План продаж'!T$32*U141)","v":0},{"$f":"IF('Исходные данные'!$H100=0,0,'Исходные данные'!$F100*'План продаж'!U$32*V141)","v":0},{"$f":"IF('Исходные данные'!$H100=0,0,'Исходные данные'!$F100*'План продаж'!V$32*W141)","v":0},{"$f":"IF('Исходные данные'!$H100=0,0,'Исходные данные'!$F100*'План продаж'!W$32*X141)","v":0},{"$f":"IF('Исходные данные'!$H100=0,0,'Исходные данные'!$F100*'План продаж'!X$32*Y141)","v":0},{"$f":"IF('Исходные данные'!$H100=0,0,'Исходные данные'!$F100*'План продаж'!Y$32*Z141)","v":0},{"$f":"IF('Исходные данные'!$H100=0,0,'Исходные данные'!$F100*'План продаж'!Z$32*AA141)","v":0},{"$f":"IF('Исходные данные'!$H100=0,0,'Исходные данные'!$F100*'План продаж'!AA$32*AB141)","v":0},{"$f":"IF('Исходные данные'!$H100=0,0,'Исходные данные'!$F100*'План продаж'!AB$32*AC141)","v":0},{"$f":"IF('Исходные данные'!$H100=0,0,'Исходные данные'!$F100*'План продаж'!AC$32*AD141)","v":0},{"$f":"IF('Исходные данные'!$H100=0,0,'Исходные данные'!$F100*'План продаж'!AD$32*AE141)","v":0},{"$f":"IF('Исходные данные'!$H100=0,0,'Исходные данные'!$F100*'План продаж'!AE$32*AF141)","v":0},{"$f":"IF('Исходные данные'!$H100=0,0,'Исходные данные'!$F100*'План продаж'!AF$32*AG141)","v":0},{"$f":"IF('Исходные данные'!$H100=0,0,'Исходные данные'!$F100*'План продаж'!AG$32*AH141)","v":0},{"$f":"IF('Исходные данные'!$H100=0,0,'Исходные данные'!$F100*'План продаж'!AH$32*AI141)","v":0},{"$f":"IF('Исходные данные'!$H100=0,0,'Исходные данные'!$F100*'План продаж'!AI$32*AJ141)","v":0},{"$f":"IF('Исходные данные'!$H100=0,0,'Исходные данные'!$F100*'План продаж'!AJ$32*AK141)","v":0},{"$f":"IF('Исходные данные'!$H100=0,0,'Исходные данные'!$F100*'План продаж'!AK$32*AL141)","v":0},{"$f":"IF('Исходные данные'!$H100=0,0,'Исходные данные'!$F100*'План продаж'!AL$32*AM141)","v":0},{"$f":"IF('Исходные данные'!$H100=0,0,'Исходные данные'!$F100*'План продаж'!AM$32*AN141)","v":0},{"$f":"IF('Исходные данные'!$H100=0,0,'Исходные данные'!$F100*'План продаж'!AN$32*AO141)","v":0},{"$f":"IF('Исходные данные'!$H100=0,0,'Исходные данные'!$F100*'План продаж'!AO$32*AP141)","v":0},{"$f":"IF('Исходные данные'!$H100=0,0,'Исходные данные'!$F100*'План продаж'!AP$32*AQ141)","v":0},{"$f":"IF('Исходные данные'!$H100=0,0,'Исходные данные'!$F100*'План продаж'!AQ$32*AR141)","v":0},{"$f":"IF('Исходные данные'!$H100=0,0,'Исходные данные'!$F100*'План продаж'!AR$32*AS141)","v":0},{"$f":"IF('Исходные данные'!$H100=0,0,'Исходные данные'!$F100*'План продаж'!AS$32*AT141)","v":0},{"$f":"IF('Исходные данные'!$H100=0,0,'Исходные данные'!$F100*'План продаж'!AT$32*AU141)","v":0},{"$f":"IF('Исходные данные'!$H100=0,0,'Исходные данные'!$F100*'План продаж'!AU$32*AV141)","v":0},{"$f":"IF('Исходные данные'!$H100=0,0,'Исходные данные'!$F100*'План продаж'!AV$32*AW141)","v":0},{"$f":"IF('Исходные данные'!$H100=0,0,'Исходные данные'!$F100*'План продаж'!AW$32*AX141)","v":0},{"$f":"IF('Исходные данные'!$H100=0,0,'Исходные данные'!$F100*'План продаж'!AX$32*AY141)","v":0},{"$f":"IF('Исходные данные'!$H100=0,0,'Исходные данные'!$F100*'План продаж'!AY$32*AZ141)","v":0},{"$f":"IF('Исходные данные'!$H100=0,0,'Исходные данные'!$F100*'План продаж'!AZ$32*BA141)","v":0},{"$f":"IF('Исходные данные'!$H100=0,0,'Исходные данные'!$F100*'План продаж'!BA$32*BB141)","v":0},{"$f":"IF('Исходные данные'!$H100=0,0,'Исходные данные'!$F100*'План продаж'!BB$32*BC141)","v":0},{"$f":"IF('Исходные данные'!$H100=0,0,'Исходные данные'!$F100*'План продаж'!BC$32*BD141)","v":0},{"$f":"IF('Исходные данные'!$H100=0,0,'Исходные данные'!$F100*'План продаж'!BD$32*BE141)","v":0},{"$f":"IF('Исходные данные'!$H100=0,0,'Исходные данные'!$F100*'План продаж'!BE$32*BF141)","v":0},{"$f":"IF('Исходные данные'!$H100=0,0,'Исходные данные'!$F100*'План продаж'!BF$32*BG141)","v":0},{"$f":"IF('Исходные данные'!$H100=0,0,'Исходные данные'!$F100*'План продаж'!BG$32*BH141)","v":0},{"$f":"IF('Исходные данные'!$H100=0,0,'Исходные данные'!$F100*'План продаж'!BH$32*BI141)","v":0},{"$f":"IF('Исходные данные'!$H100=0,0,'Исходные данные'!$F100*'План продаж'!BI$32*BJ141)","v":0},{"$f":"IF('Исходные данные'!$H100=0,0,'Исходные данные'!$F100*'План продаж'!BJ$32*BK141)","v":0},{"$f":"IF('Исходные данные'!$H100=0,0,'Исходные данные'!$F100*'План продаж'!BK$32*BL141)","v":0}]
[0,null,null,null,{"$f":"IF('Исходные данные'!$H101=0,0,'Исходные данные'!$F101*'План продаж'!D$32*E142)","v":0},{"$f":"IF('Исходные данные'!$H101=0,0,'Исходные данные'!$F101*'План продаж'!E$32*F142)","v":0},{"$f":"IF('Исходные данные'!$H101=0,0,'Исходные данные'!$F101*'План продаж'!F$32*G142)","v":0},{"$f":"IF('Исходные данные'!$H101=0,0,'Исходные данные'!$F101*'План продаж'!G$32*H142)","v":0},{"$f":"IF('Исходные данные'!$H101=0,0,'Исходные данные'!$F101*'План продаж'!H$32*I142)","v":0},{"$f":"IF('Исходные данные'!$H101=0,0,'Исходные данные'!$F101*'План продаж'!I$32*J142)","v":0},{"$f":"IF('Исходные данные'!$H101=0,0,'Исходные данные'!$F101*'План продаж'!J$32*K142)","v":0},{"$f":"IF('Исходные данные'!$H101=0,0,'Исходные данные'!$F101*'План продаж'!K$32*L142)","v":0},{"$f":"IF('Исходные данные'!$H101=0,0,'Исходные данные'!$F101*'План продаж'!L$32*M142)","v":0},{"$f":"IF('Исходные данные'!$H101=0,0,'Исходные данные'!$F101*'План продаж'!M$32*N142)","v":0},{"$f":"IF('Исходные данные'!$H101=0,0,'Исходные данные'!$F101*'План продаж'!N$32*O142)","v":0},{"$f":"IF('Исходные данные'!$H101=0,0,'Исходные данные'!$F101*'План продаж'!O$32*P142)","v":0},{"$f":"IF('Исходные данные'!$H101=0,0,'Исходные данные'!$F101*'План продаж'!P$32*Q142)","v":0},{"$f":"IF('Исходные данные'!$H101=0,0,'Исходные данные'!$F101*'План продаж'!Q$32*R142)","v":0},{"$f":"IF('Исходные данные'!$H101=0,0,'Исходные данные'!$F101*'План продаж'!R$32*S142)","v":0},{"$f":"IF('Исходные данные'!$H101=0,0,'Исходные данные'!$F101*'План продаж'!S$32*T142)","v":0},{"$f":"IF('Исходные данные'!$H101=0,0,'Исходные данные'!$F101*'План продаж'!T$32*U142)","v":0},{"$f":"IF('Исходные данные'!$H101=0,0,'Исходные данные'!$F101*'План продаж'!U$32*V142)","v":0},{"$f":"IF('Исходные данные'!$H101=0,0,'Исходные данные'!$F101*'План продаж'!V$32*W142)","v":0},{"$f":"IF('Исходные данные'!$H101=0,0,'Исходные данные'!$F101*'План продаж'!W$32*X142)","v":0},{"$f":"IF('Исходные данные'!$H101=0,0,'Исходные данные'!$F101*'План продаж'!X$32*Y142)","v":0},{"$f":"IF('Исходные данные'!$H101=0,0,'Исходные данные'!$F101*'План продаж'!Y$32*Z142)","v":0},{"$f":"IF('Исходные данные'!$H101=0,0,'Исходные данные'!$F101*'План продаж'!Z$32*AA142)","v":0},{"$f":"IF('Исходные данные'!$H101=0,0,'Исходные данные'!$F101*'План продаж'!AA$32*AB142)","v":0},{"$f":"IF('Исходные данные'!$H101=0,0,'Исходные данные'!$F101*'План продаж'!AB$32*AC142)","v":0},{"$f":"IF('Исходные данные'!$H101=0,0,'Исходные данные'!$F101*'План продаж'!AC$32*AD142)","v":0},{"$f":"IF('Исходные данные'!$H101=0,0,'Исходные данные'!$F101*'План продаж'!AD$32*AE142)","v":0},{"$f":"IF('Исходные данные'!$H101=0,0,'Исходные данные'!$F101*'План продаж'!AE$32*AF142)","v":0},{"$f":"IF('Исходные данные'!$H101=0,0,'Исходные данные'!$F101*'План продаж'!AF$32*AG142)","v":0},{"$f":"IF('Исходные данные'!$H101=0,0,'Исходные данные'!$F101*'План продаж'!AG$32*AH142)","v":0},{"$f":"IF('Исходные данные'!$H101=0,0,'Исходные данные'!$F101*'План продаж'!AH$32*AI142)","v":0},{"$f":"IF('Исходные данные'!$H101=0,0,'Исходные данные'!$F101*'План продаж'!AI$32*AJ142)","v":0},{"$f":"IF('Исходные данные'!$H101=0,0,'Исходные данные'!$F101*'План продаж'!AJ$32*AK142)","v":0},{"$f":"IF('Исходные данные'!$H101=0,0,'Исходные данные'!$F101*'План продаж'!AK$32*AL142)","v":0},{"$f":"IF('Исходные данные'!$H101=0,0,'Исходные данные'!$F101*'План продаж'!AL$32*AM142)","v":0},{"$f":"IF('Исходные данные'!$H101=0,0,'Исходные данные'!$F101*'План продаж'!AM$32*AN142)","v":0},{"$f":"IF('Исходные данные'!$H101=0,0,'Исходные данные'!$F101*'План продаж'!AN$32*AO142)","v":0},{"$f":"IF('Исходные данные'!$H101=0,0,'Исходные данные'!$F101*'План продаж'!AO$32*AP142)","v":0},{"$f":"IF('Исходные данные'!$H101=0,0,'Исходные данные'!$F101*'План продаж'!AP$32*AQ142)","v":0},{"$f":"IF('Исходные данные'!$H101=0,0,'Исходные данные'!$F101*'План продаж'!AQ$32*AR142)","v":0},{"$f":"IF('Исходные данные'!$H101=0,0,'Исходные данные'!$F101*'План продаж'!AR$32*AS142)","v":0},{"$f":"IF('Исходные данные'!$H101=0,0,'Исходные данные'!$F101*'План продаж'!AS$32*AT142)","v":0},{"$f":"IF('Исходные данные'!$H101=0,0,'Исходные данные'!$F101*'План продаж'!AT$32*AU142)","v":0},{"$f":"IF('Исходные данные'!$H101=0,0,'Исходные данные'!$F101*'План продаж'!AU$32*AV142)","v":0},{"$f":"IF('Исходные данные'!$H101=0,0,'Исходные данные'!$F101*'План продаж'!AV$32*AW142)","v":0},{"$f":"IF('Исходные данные'!$H101=0,0,'Исходные данные'!$F101*'План продаж'!AW$32*AX142)","v":0},{"$f":"IF('Исходные данные'!$H101=0,0,'Исходные данные'!$F101*'План продаж'!AX$32*AY142)","v":0},{"$f":"IF('Исходные данные'!$H101=0,0,'Исходные данные'!$F101*'План продаж'!AY$32*AZ142)","v":0},{"$f":"IF('Исходные данные'!$H101=0,0,'Исходные данные'!$F101*'План продаж'!AZ$32*BA142)","v":0},{"$f":"IF('Исходные данные'!$H101=0,0,'Исходные данные'!$F101*'План продаж'!BA$32*BB142)","v":0},{"$f":"IF('Исходные данные'!$H101=0,0,'Исходные данные'!$F101*'План продаж'!BB$32*BC142)","v":0},{"$f":"IF('Исходные данные'!$H101=0,0,'Исходные данные'!$F101*'План продаж'!BC$32*BD142)","v":0},{"$f":"IF('Исходные данные'!$H101=0,0,'Исходные данные'!$F101*'План продаж'!BD$32*BE142)","v":0},{"$f":"IF('Исходные данные'!$H101=0,0,'Исходные данные'!$F101*'План продаж'!BE$32*BF142)","v":0},{"$f":"IF('Исходные данные'!$H101=0,0,'Исходные данные'!$F101*'План продаж'!BF$32*BG142)","v":0},{"$f":"IF('Исходные данные'!$H101=0,0,'Исходные данные'!$F101*'План продаж'!BG$32*BH142)","v":0},{"$f":"IF('Исходные данные'!$H101=0,0,'Исходные данные'!$F101*'План продаж'!BH$32*BI142)","v":0},{"$f":"IF('Исходные данные'!$H101=0,0,'Исходные данные'!$F101*'План продаж'!BI$32*BJ142)","v":0},{"$f":"IF('Исходные данные'!$H101=0,0,'Исходные данные'!$F101*'План продаж'!BJ$32*BK142)","v":0},{"$f":"IF('Исходные данные'!$H101=0,0,'Исходные данные'!$F101*'План продаж'!BK$32*BL142)","v":0}]
[0,null,null,null,{"$f":"IF('Исходные данные'!$H102=0,0,'Исходные данные'!$F102*'План продаж'!D$32*E143)","v":0},{"$f":"IF('Исходные данные'!$H102=0,0,'Исходные данные'!$F102*'План продаж'!E$32*F143)","v":0},{"$f":"IF('Исходные данные'!$H102=0,0,'Исходные данные'!$F102*'План продаж'!F$32*G143)","v":0},{"$f":"IF('Исходные данные'!$H102=0,0,'Исходные данные'!$F102*'План продаж'!G$32*H143)","v":0},{"$f":"IF('Исходные данные'!$H102=0,0,'Исходные данные'!$F102*'План продаж'!H$32*I143)","v":0},{"$f":"IF('Исходные данные'!$H102=0,0,'Исходные данные'!$F102*'План продаж'!I$32*J143)","v":0},{"$f":"IF('Исходные данные'!$H102=0,0,'Исходные данные'!$F102*'План продаж'!J$32*K143)","v":0},{"$f":"IF('Исходные данные'!$H102=0,0,'Исходные данные'!$F102*'План продаж'!K$32*L143)","v":0},{"$f":"IF('Исходные данные'!$H102=0,0,'Исходные данные'!$F102*'План продаж'!L$32*M143)","v":0},{"$f":"IF('Исходные данные'!$H102=0,0,'Исходные данные'!$F102*'План продаж'!M$32*N143)","v":0},{"$f":"IF('Исходные данные'!$H102=0,0,'Исходные данные'!$F102*'План продаж'!N$32*O143)","v":0},{"$f":"IF('Исходные данные'!$H102=0,0,'Исходные данные'!$F102*'План продаж'!O$32*P143)","v":0},{"$f":"IF('Исходные данные'!$H102=0,0,'Исходные данные'!$F102*'План продаж'!P$32*Q143)","v":0},{"$f":"IF('Исходные данные'!$H102=0,0,'Исходные данные'!$F102*'План продаж'!Q$32*R143)","v":0},{"$f":"IF('Исходные данные'!$H102=0,0,'Исходные данные'!$F102*'План продаж'!R$32*S143)","v":0},{"$f":"IF('Исходные данные'!$H102=0,0,'Исходные данные'!$F102*'План продаж'!S$32*T143)","v":0},{"$f":"IF('Исходные данные'!$H102=0,0,'Исходные данные'!$F102*'План продаж'!T$32*U143)","v":0},{"$f":"IF('Исходные данные'!$H102=0,0,'Исходные данные'!$F102*'План продаж'!U$32*V143)","v":0},{"$f":"IF('Исходные данные'!$H102=0,0,'Исходные данные'!$F102*'План продаж'!V$32*W143)","v":0},{"$f":"IF('Исходные данные'!$H102=0,0,'Исходные данные'!$F102*'План продаж'!W$32*X143)","v":0},{"$f":"IF('Исходные данные'!$H102=0,0,'Исходные данные'!$F102*'План продаж'!X$32*Y143)","v":0},{"$f":"IF('Исходные данные'!$H102=0,0,'Исходные данные'!$F102*'План продаж'!Y$32*Z143)","v":0},{"$f":"IF('Исходные данные'!$H102=0,0,'Исходные данные'!$F102*'План продаж'!Z$32*AA143)","v":0},{"$f":"IF('Исходные данные'!$H102=0,0,'Исходные данные'!$F102*'План продаж'!AA$32*AB143)","v":0},{"$f":"IF('Исходные данные'!$H102=0,0,'Исходные данные'!$F102*'План продаж'!AB$32*AC143)","v":0},{"$f":"IF('Исходные данные'!$H102=0,0,'Исходные данные'!$F102*'План продаж'!AC$32*AD143)","v":0},{"$f":"IF('Исходные данные'!$H102=0,0,'Исходные данные'!$F102*'План продаж'!AD$32*AE143)","v":0},{"$f":"IF('Исходные данные'!$H102=0,0,'Исходные данные'!$F102*'План продаж'!AE$32*AF143)","v":0},{"$f":"IF('Исходные данные'!$H102=0,0,'Исходные данные'!$F102*'План продаж'!AF$32*AG143)","v":0},{"$f":"IF('Исходные данные'!$H102=0,0,'Исходные данные'!$F102*'План продаж'!AG$32*AH143)","v":0},{"$f":"IF('Исходные данные'!$H102=0,0,'Исходные данные'!$F102*'План продаж'!AH$32*AI143)","v":0},{"$f":"IF('Исходные данные'!$H102=0,0,'Исходные данные'!$F102*'План продаж'!AI$32*AJ143)","v":0},{"$f":"IF('Исходные данные'!$H102=0,0,'Исходные данные'!$F102*'План продаж'!AJ$32*AK143)","v":0},{"$f":"IF('Исходные данные'!$H102=0,0,'Исходные данные'!$F102*'План продаж'!AK$32*AL143)","v":0},{"$f":"IF('Исходные данные'!$H102=0,0,'Исходные данные'!$F102*'План продаж'!AL$32*AM143)","v":0},{"$f":"IF('Исходные данные'!$H102=0,0,'Исходные данные'!$F102*'План продаж'!AM$32*AN143)","v":0},{"$f":"IF('Исходные данные'!$H102=0,0,'Исходные данные'!$F102*'План продаж'!AN$32*AO143)","v":0},{"$f":"IF('Исходные данные'!$H102=0,0,'Исходные данные'!$F102*'План продаж'!AO$32*AP143)","v":0},{"$f":"IF('Исходные данные'!$H102=0,0,'Исходные данные'!$F102*'План продаж'!AP$32*AQ143)","v":0},{"$f":"IF('Исходные данные'!$H102=0,0,'Исходные данные'!$F102*'План продаж'!AQ$32*AR143)","v":0},{"$f":"IF('Исходные данные'!$H102=0,0,'Исходные данные'!$F102*'План продаж'!AR$32*AS143)","v":0},{"$f":"IF('Исходные данные'!$H102=0,0,'Исходные данные'!$F102*'План продаж'!AS$32*AT143)","v":0},{"$f":"IF('Исходные данные'!$H102=0,0,'Исходные данные'!$F102*'План продаж'!AT$32*AU143)","v":0},{"$f":"IF('Исходные данные'!$H102=0,0,'Исходные данные'!$F102*'План продаж'!AU$32*AV143)","v":0},{"$f":"IF('Исходные данные'!$H102=0,0,'Исходные данные'!$F102*'План продаж'!AV$32*AW143)","v":0},{"$f":"IF('Исходные данные'!$H102=0,0,'Исходные данные'!$F102*'План продаж'!AW$32*AX143)","v":0},{"$f":"IF('Исходные данные'!$H102=0,0,'Исходные данные'!$F102*'План продаж'!AX$32*AY143)","v":0},{"$f":"IF('Исходные данные'!$H102=0,0,'Исходные данные'!$F102*'План продаж'!AY$32*AZ143)","v":0},{"$f":"IF('Исходные данные'!$H102=0,0,'Исходные данные'!$F102*'План продаж'!AZ$32*BA143)","v":0},{"$f":"IF('Исходные данные'!$H102=0,0,'Исходные данные'!$F102*'План продаж'!BA$32*BB143)","v":0},{"$f":"IF('Исходные данные'!$H102=0,0,'Исходные данные'!$F102*'План продаж'!BB$32*BC143)","v":0},{"$f":"IF('Исходные данные'!$H102=0,0,'Исходные данные'!$F102*'План продаж'!BC$32*BD143)","v":0},{"$f":"IF('Исходные данные'!$H102=0,0,'Исходные данные'!$F102*'План продаж'!BD$32*BE143)","v":0},{"$f":"IF('Исходные данные'!$H102=0,0,'Исходные данные'!$F102*'План продаж'!BE$32*BF143)","v":0},{"$f":"IF('Исходные данные'!$H102=0,0,'Исходные данные'!$F102*'План продаж'!BF$32*BG143)","v":0},{"$f":"IF('Исходные данные'!$H102=0,0,'Исходные данные'!$F102*'План продаж'!BG$32*BH143)","v":0},{"$f":"IF('Исходные данные'!$H102=0,0,'Исходные данные'!$F102*'План продаж'!BH$32*BI143)","v":0},{"$f":"IF('Исходные данные'!$H102=0,0,'Исходные данные'!$F102*'План продаж'!BI$32*BJ143)","v":0},{"$f":"IF('Исходные данные'!$H102=0,0,'Исходные данные'!$F102*'План продаж'!BJ$32*BK143)","v":0},{"$f":"IF('Исходные данные'!$H102=0,0,'Исходные данные'!$F102*'План продаж'!BK$32*BL143)","v":0}]
[0,null,null,null,{"$f":"IF('Исходные данные'!$H103=0,0,'Исходные данные'!$F103*'План продаж'!D$32*E144)","v":0},{"$f":"IF('Исходные данные'!$H103=0,0,'Исходные данные'!$F103*'План продаж'!E$32*F144)","v":0},{"$f":"IF('Исходные данные'!$H103=0,0,'Исходные данные'!$F103*'План продаж'!F$32*G144)","v":0},{"$f":"IF('Исходные данные'!$H103=0,0,'Исходные данные'!$F103*'План продаж'!G$32*H144)","v":0},{"$f":"IF('Исходные данные'!$H103=0,0,'Исходные данные'!$F103*'План продаж'!H$32*I144)","v":0},{"$f":"IF('Исходные данные'!$H103=0,0,'Исходные данные'!$F103*'План продаж'!I$32*J144)","v":0},{"$f":"IF('Исходные данные'!$H103=0,0,'Исходные данные'!$F103*'План продаж'!J$32*K144)","v":0},{"$f":"IF('Исходные данные'!$H103=0,0,'Исходные данные'!$F103*'План продаж'!K$32*L144)","v":0},{"$f":"IF('Исходные данные'!$H103=0,0,'Исходные данные'!$F103*'План продаж'!L$32*M144)","v":0},{"$f":"IF('Исходные данные'!$H103=0,0,'Исходные данные'!$F103*'План продаж'!M$32*N144)","v":0},{"$f":"IF('Исходные данные'!$H103=0,0,'Исходные данные'!$F103*'План продаж'!N$32*O144)","v":0},{"$f":"IF('Исходные данные'!$H103=0,0,'Исходные данные'!$F103*'План продаж'!O$32*P144)","v":0},{"$f":"IF('Исходные данные'!$H103=0,0,'Исходные данные'!$F103*'План продаж'!P$32*Q144)","v":0},{"$f":"IF('Исходные данные'!$H103=0,0,'Исходные данные'!$F103*'План продаж'!Q$32*R144)","v":0},{"$f":"IF('Исходные данные'!$H103=0,0,'Исходные данные'!$F103*'План продаж'!R$32*S144)","v":0},{"$f":"IF('Исходные данные'!$H103=0,0,'Исходные данные'!$F103*'План продаж'!S$32*T144)","v":0},{"$f":"IF('Исходные данные'!$H103=0,0,'Исходные данные'!$F103*'План продаж'!T$32*U144)","v":0},{"$f":"IF('Исходные данные'!$H103=0,0,'Исходные данные'!$F103*'План продаж'!U$32*V144)","v":0},{"$f":"IF('Исходные данные'!$H103=0,0,'Исходные данные'!$F103*'План продаж'!V$32*W144)","v":0},{"$f":"IF('Исходные данные'!$H103=0,0,'Исходные данные'!$F103*'План продаж'!W$32*X144)","v":0},{"$f":"IF('Исходные данные'!$H103=0,0,'Исходные данные'!$F103*'План продаж'!X$32*Y144)","v":0},{"$f":"IF('Исходные данные'!$H103=0,0,'Исходные данные'!$F103*'План продаж'!Y$32*Z144)","v":0},{"$f":"IF('Исходные данные'!$H103=0,0,'Исходные данные'!$F103*'План продаж'!Z$32*AA144)","v":0},{"$f":"IF('Исходные данные'!$H103=0,0,'Исходные данные'!$F103*'План продаж'!AA$32*AB144)","v":0},{"$f":"IF('Исходные данные'!$H103=0,0,'Исходные данные'!$F103*'План продаж'!AB$32*AC144)","v":0},{"$f":"IF('Исходные данные'!$H103=0,0,'Исходные данные'!$F103*'План продаж'!AC$32*AD144)","v":0},{"$f":"IF('Исходные данные'!$H103=0,0,'Исходные данные'!$F103*'План продаж'!AD$32*AE144)","v":0},{"$f":"IF('Исходные данные'!$H103=0,0,'Исходные данные'!$F103*'План продаж'!AE$32*AF144)","v":0},{"$f":"IF('Исходные данные'!$H103=0,0,'Исходные данные'!$F103*'План продаж'!AF$32*AG144)","v":0},{"$f":"IF('Исходные данные'!$H103=0,0,'Исходные данные'!$F103*'План продаж'!AG$32*AH144)","v":0},{"$f":"IF('Исходные данные'!$H103=0,0,'Исходные данные'!$F103*'План продаж'!AH$32*AI144)","v":0},{"$f":"IF('Исходные данные'!$H103=0,0,'Исходные данные'!$F103*'План продаж'!AI$32*AJ144)","v":0},{"$f":"IF('Исходные данные'!$H103=0,0,'Исходные данные'!$F103*'План продаж'!AJ$32*AK144)","v":0},{"$f":"IF('Исходные данные'!$H103=0,0,'Исходные данные'!$F103*'План продаж'!AK$32*AL144)","v":0},{"$f":"IF('Исходные данные'!$H103=0,0,'Исходные данные'!$F103*'План продаж'!AL$32*AM144)","v":0},{"$f":"IF('Исходные данные'!$H103=0,0,'Исходные данные'!$F103*'План продаж'!AM$32*AN144)","v":0},{"$f":"IF('Исходные данные'!$H103=0,0,'Исходные данные'!$F103*'План продаж'!AN$32*AO144)","v":0},{"$f":"IF('Исходные данные'!$H103=0,0,'Исходные данные'!$F103*'План продаж'!AO$32*AP144)","v":0},{"$f":"IF('Исходные данные'!$H103=0,0,'Исходные данные'!$F103*'План продаж'!AP$32*AQ144)","v":0},{"$f":"IF('Исходные данные'!$H103=0,0,'Исходные данные'!$F103*'План продаж'!AQ$32*AR144)","v":0},{"$f":"IF('Исходные данные'!$H103=0,0,'Исходные данные'!$F103*'План продаж'!AR$32*AS144)","v":0},{"$f":"IF('Исходные данные'!$H103=0,0,'Исходные данные'!$F103*'План продаж'!AS$32*AT144)","v":0},{"$f":"IF('Исходные данные'!$H103=0,0,'Исходные данные'!$F103*'План продаж'!AT$32*AU144)","v":0},{"$f":"IF('Исходные данные'!$H103=0,0,'Исходные данные'!$F103*'План продаж'!AU$32*AV144)","v":0},{"$f":"IF('Исходные данные'!$H103=0,0,'Исходные данные'!$F103*'План продаж'!AV$32*AW144)","v":0},{"$f":"IF('Исходные данные'!$H103=0,0,'Исходные данные'!$F103*'План продаж'!AW$32*AX144)","v":0},{"$f":"IF('Исходные данные'!$H103=0,0,'Исходные данные'!$F103*'План продаж'!AX$32*AY144)","v":0},{"$f":"IF('Исходные данные'!$H103=0,0,'Исходные данные'!$F103*'План продаж'!AY$32*AZ144)","v":0},{"$f":"IF('Исходные данные'!$H103=0,0,'Исходные данные'!$F103*'План продаж'!AZ$32*BA144)","v":0},{"$f":"IF('Исходные данные'!$H103=0,0,'Исходные данные'!$F103*'План продаж'!BA$32*BB144)","v":0},{"$f":"IF('Исходные данные'!$H103=0,0,'Исходные данные'!$F103*'План продаж'!BB$32*BC144)","v":0},{"$f":"IF('Исходные данные'!$H103=0,0,'Исходные данные'!$F103*'План продаж'!BC$32*BD144)","v":0},{"$f":"IF('Исходные данные'!$H103=0,0,'Исходные данные'!$F103*'План продаж'!BD$32*BE144)","v":0},{"$f":"IF('Исходные данные'!$H103=0,0,'Исходные данные'!$F103*'План продаж'!BE$32*BF144)","v":0},{"$f":"IF('Исходные данные'!$H103=0,0,'Исходные данные'!$F103*'План продаж'!BF$32*BG144)","v":0},{"$f":"IF('Исходные данные'!$H103=0,0,'Исходные данные'!$F103*'План продаж'!BG$32*BH144)","v":0},{"$f":"IF('Исходные данные'!$H103=0,0,'Исходные данные'!$F103*'План продаж'!BH$32*BI144)","v":0},{"$f":"IF('Исходные данные'!$H103=0,0,'Исходные данные'!$F103*'План продаж'!BI$32*BJ144)","v":0},{"$f":"IF('Исходные данные'!$H103=0,0,'Исходные данные'!$F103*'План продаж'!BJ$32*BK144)","v":0},{"$f":"IF('Исходные данные'!$H103=0,0,'Исходные данные'!$F103*'План продаж'!BK$32*BL144)","v":0}]
[0,null,null,null,{"$f":"IF('Исходные данные'!$H104=0,0,'Исходные данные'!$F104*'План продаж'!D$32*E145)","v":0},{"$f":"IF('Исходные данные'!$H104=0,0,'Исходные данные'!$F104*'План продаж'!E$32*F145)","v":0},{"$f":"IF('Исходные данные'!$H104=0,0,'Исходные данные'!$F104*'План продаж'!F$32*G145)","v":0},{"$f":"IF('Исходные данные'!$H104=0,0,'Исходные данные'!$F104*'План продаж'!G$32*H145)","v":0},{"$f":"IF('Исходные данные'!$H104=0,0,'Исходные данные'!$F104*'План продаж'!H$32*I145)","v":0},{"$f":"IF('Исходные данные'!$H104=0,0,'Исходные данные'!$F104*'План продаж'!I$32*J145)","v":0},{"$f":"IF('Исходные данные'!$H104=0,0,'Исходные данные'!$F104*'План продаж'!J$32*K145)","v":0},{"$f":"IF('Исходные данные'!$H104=0,0,'Исходные данные'!$F104*'План продаж'!K$32*L145)","v":0},{"$f":"IF('Исходные данные'!$H104=0,0,'Исходные данные'!$F104*'План продаж'!L$32*M145)","v":0},{"$f":"IF('Исходные данные'!$H104=0,0,'Исходные данные'!$F104*'План продаж'!M$32*N145)","v":0},{"$f":"IF('Исходные данные'!$H104=0,0,'Исходные данные'!$F104*'План продаж'!N$32*O145)","v":0},{"$f":"IF('Исходные данные'!$H104=0,0,'Исходные данные'!$F104*'План продаж'!O$32*P145)","v":0},{"$f":"IF('Исходные данные'!$H104=0,0,'Исходные данные'!$F104*'План продаж'!P$32*Q145)","v":0},{"$f":"IF('Исходные данные'!$H104=0,0,'Исходные данные'!$F104*'План продаж'!Q$32*R145)","v":0},{"$f":"IF('Исходные данные'!$H104=0,0,'Исходные данные'!$F104*'План продаж'!R$32*S145)","v":0},{"$f":"IF('Исходные данные'!$H104=0,0,'Исходные данные'!$F104*'План продаж'!S$32*T145)","v":0},{"$f":"IF('Исходные данные'!$H104=0,0,'Исходные данные'!$F104*'План продаж'!T$32*U145)","v":0},{"$f":"IF('Исходные данные'!$H104=0,0,'Исходные данные'!$F104*'План продаж'!U$32*V145)","v":0},{"$f":"IF('Исходные данные'!$H104=0,0,'Исходные данные'!$F104*'План продаж'!V$32*W145)","v":0},{"$f":"IF('Исходные данные'!$H104=0,0,'Исходные данные'!$F104*'План продаж'!W$32*X145)","v":0},{"$f":"IF('Исходные данные'!$H104=0,0,'Исходные данные'!$F104*'План продаж'!X$32*Y145)","v":0},{"$f":"IF('Исходные данные'!$H104=0,0,'Исходные данные'!$F104*'План продаж'!Y$32*Z145)","v":0},{"$f":"IF('Исходные данные'!$H104=0,0,'Исходные данные'!$F104*'План продаж'!Z$32*AA145)","v":0},{"$f":"IF('Исходные данные'!$H104=0,0,'Исходные данные'!$F104*'План продаж'!AA$32*AB145)","v":0},{"$f":"IF('Исходные данные'!$H104=0,0,'Исходные данные'!$F104*'План продаж'!AB$32*AC145)","v":0},{"$f":"IF('Исходные данные'!$H104=0,0,'Исходные данные'!$F104*'План продаж'!AC$32*AD145)","v":0},{"$f":"IF('Исходные данные'!$H104=0,0,'Исходные данные'!$F104*'План продаж'!AD$32*AE145)","v":0},{"$f":"IF('Исходные данные'!$H104=0,0,'Исходные данные'!$F104*'План продаж'!AE$32*AF145)","v":0},{"$f":"IF('Исходные данные'!$H104=0,0,'Исходные данные'!$F104*'План продаж'!AF$32*AG145)","v":0},{"$f":"IF('Исходные данные'!$H104=0,0,'Исходные данные'!$F104*'План продаж'!AG$32*AH145)","v":0},{"$f":"IF('Исходные данные'!$H104=0,0,'Исходные данные'!$F104*'План продаж'!AH$32*AI145)","v":0},{"$f":"IF('Исходные данные'!$H104=0,0,'Исходные данные'!$F104*'План продаж'!AI$32*AJ145)","v":0},{"$f":"IF('Исходные данные'!$H104=0,0,'Исходные данные'!$F104*'План продаж'!AJ$32*AK145)","v":0},{"$f":"IF('Исходные данные'!$H104=0,0,'Исходные данные'!$F104*'План продаж'!AK$32*AL145)","v":0},{"$f":"IF('Исходные данные'!$H104=0,0,'Исходные данные'!$F104*'План продаж'!AL$32*AM145)","v":0},{"$f":"IF('Исходные данные'!$H104=0,0,'Исходные данные'!$F104*'План продаж'!AM$32*AN145)","v":0},{"$f":"IF('Исходные данные'!$H104=0,0,'Исходные данные'!$F104*'План продаж'!AN$32*AO145)","v":0},{"$f":"IF('Исходные данные'!$H104=0,0,'Исходные данные'!$F104*'План продаж'!AO$32*AP145)","v":0},{"$f":"IF('Исходные данные'!$H104=0,0,'Исходные данные'!$F104*'План продаж'!AP$32*AQ145)","v":0},{"$f":"IF('Исходные данные'!$H104=0,0,'Исходные данные'!$F104*'План продаж'!AQ$32*AR145)","v":0},{"$f":"IF('Исходные данные'!$H104=0,0,'Исходные данные'!$F104*'План продаж'!AR$32*AS145)","v":0},{"$f":"IF('Исходные данные'!$H104=0,0,'Исходные данные'!$F104*'План продаж'!AS$32*AT145)","v":0},{"$f":"IF('Исходные данные'!$H104=0,0,'Исходные данные'!$F104*'План продаж'!AT$32*AU145)","v":0},{"$f":"IF('Исходные данные'!$H104=0,0,'Исходные данные'!$F104*'План продаж'!AU$32*AV145)","v":0},{"$f":"IF('Исходные данные'!$H104=0,0,'Исходные данные'!$F104*'План продаж'!AV$32*AW145)","v":0},{"$f":"IF('Исходные данные'!$H104=0,0,'Исходные данные'!$F104*'План продаж'!AW$32*AX145)","v":0},{"$f":"IF('Исходные данные'!$H104=0,0,'Исходные данные'!$F104*'План продаж'!AX$32*AY145)","v":0},{"$f":"IF('Исходные данные'!$H104=0,0,'Исходные данные'!$F104*'План продаж'!AY$32*AZ145)","v":0},{"$f":"IF('Исходные данные'!$H104=0,0,'Исходные данные'!$F104*'План продаж'!AZ$32*BA145)","v":0},{"$f":"IF('Исходные данные'!$H104=0,0,'Исходные данные'!$F104*'План продаж'!BA$32*BB145)","v":0},{"$f":"IF('Исходные данные'!$H104=0,0,'Исходные данные'!$F104*'План продаж'!BB$32*BC145)","v":0},{"$f":"IF('Исходные данные'!$H104=0,0,'Исходные данные'!$F104*'План продаж'!BC$32*BD145)","v":0},{"$f":"IF('Исходные данные'!$H104=0,0,'Исходные данные'!$F104*'План продаж'!BD$32*BE145)","v":0},{"$f":"IF('Исходные данные'!$H104=0,0,'Исходные данные'!$F104*'План продаж'!BE$32*BF145)","v":0},{"$f":"IF('Исходные данные'!$H104=0,0,'Исходные данные'!$F104*'План продаж'!BF$32*BG145)","v":0},{"$f":"IF('Исходные данные'!$H104=0,0,'Исходные данные'!$F104*'План продаж'!BG$32*BH145)","v":0},{"$f":"IF('Исходные данные'!$H104=0,0,'Исходные данные'!$F104*'План продаж'!BH$32*BI145)","v":0},{"$f":"IF('Исходные данные'!$H104=0,0,'Исходные данные'!$F104*'План продаж'!BI$32*BJ145)","v":0},{"$f":"IF('Исходные данные'!$H104=0,0,'Исходные данные'!$F104*'План продаж'!BJ$32*BK145)","v":0},{"$f":"IF('Исходные данные'!$H104=0,0,'Исходные данные'!$F104*'План продаж'!BK$32*BL145)","v":0}]
[0,null,null,null,{"$f":"IF('Исходные данные'!$H105=0,0,'Исходные данные'!$F105*'План продаж'!D$32*E146)","v":0},{"$f":"IF('Исходные данные'!$H105=0,0,'Исходные данные'!$F105*'План продаж'!E$32*F146)","v":0},{"$f":"IF('Исходные данные'!$H105=0,0,'Исходные данные'!$F105*'План продаж'!F$32*G146)","v":0},{"$f":"IF('Исходные данные'!$H105=0,0,'Исходные данные'!$F105*'План продаж'!G$32*H146)","v":0},{"$f":"IF('Исходные данные'!$H105=0,0,'Исходные данные'!$F105*'План продаж'!H$32*I146)","v":0},{"$f":"IF('Исходные данные'!$H105=0,0,'Исходные данные'!$F105*'План продаж'!I$32*J146)","v":0},{"$f":"IF('Исходные данные'!$H105=0,0,'Исходные данные'!$F105*'План продаж'!J$32*K146)","v":0},{"$f":"IF('Исходные данные'!$H105=0,0,'Исходные данные'!$F105*'План продаж'!K$32*L146)","v":0},{"$f":"IF('Исходные данные'!$H105=0,0,'Исходные данные'!$F105*'План продаж'!L$32*M146)","v":0},{"$f":"IF('Исходные данные'!$H105=0,0,'Исходные данные'!$F105*'План продаж'!M$32*N146)","v":0},{"$f":"IF('Исходные данные'!$H105=0,0,'Исходные данные'!$F105*'План продаж'!N$32*O146)","v":0},{"$f":"IF('Исходные данные'!$H105=0,0,'Исходные данные'!$F105*'План продаж'!O$32*P146)","v":0},{"$f":"IF('Исходные данные'!$H105=0,0,'Исходные данные'!$F105*'План продаж'!P$32*Q146)","v":0},{"$f":"IF('Исходные данные'!$H105=0,0,'Исходные данные'!$F105*'План продаж'!Q$32*R146)","v":0},{"$f":"IF('Исходные данные'!$H105=0,0,'Исходные данные'!$F105*'План продаж'!R$32*S146)","v":0},{"$f":"IF('Исходные данные'!$H105=0,0,'Исходные данные'!$F105*'План продаж'!S$32*T146)","v":0},{"$f":"IF('Исходные данные'!$H105=0,0,'Исходные данные'!$F105*'План продаж'!T$32*U146)","v":0},{"$f":"IF('Исходные данные'!$H105=0,0,'Исходные данные'!$F105*'План продаж'!U$32*V146)","v":0},{"$f":"IF('Исходные данные'!$H105=0,0,'Исходные данные'!$F105*'План продаж'!V$32*W146)","v":0},{"$f":"IF('Исходные данные'!$H105=0,0,'Исходные данные'!$F105*'План продаж'!W$32*X146)","v":0},{"$f":"IF('Исходные данные'!$H105=0,0,'Исходные данные'!$F105*'План продаж'!X$32*Y146)","v":0},{"$f":"IF('Исходные данные'!$H105=0,0,'Исходные данные'!$F105*'План продаж'!Y$32*Z146)","v":0},{"$f":"IF('Исходные данные'!$H105=0,0,'Исходные данные'!$F105*'План продаж'!Z$32*AA146)","v":0},{"$f":"IF('Исходные данные'!$H105=0,0,'Исходные данные'!$F105*'План продаж'!AA$32*AB146)","v":0},{"$f":"IF('Исходные данные'!$H105=0,0,'Исходные данные'!$F105*'План продаж'!AB$32*AC146)","v":0},{"$f":"IF('Исходные данные'!$H105=0,0,'Исходные данные'!$F105*'План продаж'!AC$32*AD146)","v":0},{"$f":"IF('Исходные данные'!$H105=0,0,'Исходные данные'!$F105*'План продаж'!AD$32*AE146)","v":0},{"$f":"IF('Исходные данные'!$H105=0,0,'Исходные данные'!$F105*'План продаж'!AE$32*AF146)","v":0},{"$f":"IF('Исходные данные'!$H105=0,0,'Исходные данные'!$F105*'План продаж'!AF$32*AG146)","v":0},{"$f":"IF('Исходные данные'!$H105=0,0,'Исходные данные'!$F105*'План продаж'!AG$32*AH146)","v":0},{"$f":"IF('Исходные данные'!$H105=0,0,'Исходные данные'!$F105*'План продаж'!AH$32*AI146)","v":0},{"$f":"IF('Исходные данные'!$H105=0,0,'Исходные данные'!$F105*'План продаж'!AI$32*AJ146)","v":0},{"$f":"IF('Исходные данные'!$H105=0,0,'Исходные данные'!$F105*'План продаж'!AJ$32*AK146)","v":0},{"$f":"IF('Исходные данные'!$H105=0,0,'Исходные данные'!$F105*'План продаж'!AK$32*AL146)","v":0},{"$f":"IF('Исходные данные'!$H105=0,0,'Исходные данные'!$F105*'План продаж'!AL$32*AM146)","v":0},{"$f":"IF('Исходные данные'!$H105=0,0,'Исходные данные'!$F105*'План продаж'!AM$32*AN146)","v":0},{"$f":"IF('Исходные данные'!$H105=0,0,'Исходные данные'!$F105*'План продаж'!AN$32*AO146)","v":0},{"$f":"IF('Исходные данные'!$H105=0,0,'Исходные данные'!$F105*'План продаж'!AO$32*AP146)","v":0},{"$f":"IF('Исходные данные'!$H105=0,0,'Исходные данные'!$F105*'План продаж'!AP$32*AQ146)","v":0},{"$f":"IF('Исходные данные'!$H105=0,0,'Исходные данные'!$F105*'План продаж'!AQ$32*AR146)","v":0},{"$f":"IF('Исходные данные'!$H105=0,0,'Исходные данные'!$F105*'План продаж'!AR$32*AS146)","v":0},{"$f":"IF('Исходные данные'!$H105=0,0,'Исходные данные'!$F105*'План продаж'!AS$32*AT146)","v":0},{"$f":"IF('Исходные данные'!$H105=0,0,'Исходные данные'!$F105*'План продаж'!AT$32*AU146)","v":0},{"$f":"IF('Исходные данные'!$H105=0,0,'Исходные данные'!$F105*'План продаж'!AU$32*AV146)","v":0},{"$f":"IF('Исходные данные'!$H105=0,0,'Исходные данные'!$F105*'План продаж'!AV$32*AW146)","v":0},{"$f":"IF('Исходные данные'!$H105=0,0,'Исходные данные'!$F105*'План продаж'!AW$32*AX146)","v":0},{"$f":"IF('Исходные данные'!$H105=0,0,'Исходные данные'!$F105*'План продаж'!AX$32*AY146)","v":0},{"$f":"IF('Исходные данные'!$H105=0,0,'Исходные данные'!$F105*'План продаж'!AY$32*AZ146)","v":0},{"$f":"IF('Исходные данные'!$H105=0,0,'Исходные данные'!$F105*'План продаж'!AZ$32*BA146)","v":0},{"$f":"IF('Исходные данные'!$H105=0,0,'Исходные данные'!$F105*'План продаж'!BA$32*BB146)","v":0},{"$f":"IF('Исходные данные'!$H105=0,0,'Исходные данные'!$F105*'План продаж'!BB$32*BC146)","v":0},{"$f":"IF('Исходные данные'!$H105=0,0,'Исходные данные'!$F105*'План продаж'!BC$32*BD146)","v":0},{"$f":"IF('Исходные данные'!$H105=0,0,'Исходные данные'!$F105*'План продаж'!BD$32*BE146)","v":0},{"$f":"IF('Исходные данные'!$H105=0,0,'Исходные данные'!$F105*'План продаж'!BE$32*BF146)","v":0},{"$f":"IF('Исходные данные'!$H105=0,0,'Исходные данные'!$F105*'План продаж'!BF$32*BG146)","v":0},{"$f":"IF('Исходные данные'!$H105=0,0,'Исходные данные'!$F105*'План продаж'!BG$32*BH146)","v":0},{"$f":"IF('Исходные данные'!$H105=0,0,'Исходные данные'!$F105*'План продаж'!BH$32*BI146)","v":0},{"$f":"IF('Исходные данные'!$H105=0,0,'Исходные данные'!$F105*'План продаж'!BI$32*BJ146)","v":0},{"$f":"IF('Исходные данные'!$H105=0,0,'Исходные данные'!$F105*'План продаж'!BJ$32*BK146)","v":0},{"$f":"IF('Исходные данные'!$H105=0,0,'Исходные данные'!$F105*'План продаж'!BK$32*BL146)","v":0}]
[0,null,null,null,{"$f":"IF('Исходные данные'!$H106=0,0,'Исходные данные'!$F106*'План продаж'!D$32*E147)","v":0},{"$f":"IF('Исходные данные'!$H106=0,0,'Исходные данные'!$F106*'План продаж'!E$32*F147)","v":0},{"$f":"IF('Исходные данные'!$H106=0,0,'Исходные данные'!$F106*'План продаж'!F$32*G147)","v":0},{"$f":"IF('Исходные данные'!$H106=0,0,'Исходные данные'!$F106*'План продаж'!G$32*H147)","v":0},{"$f":"IF('Исходные данные'!$H106=0,0,'Исходные данные'!$F106*'План продаж'!H$32*I147)","v":0},{"$f":"IF('Исходные данные'!$H106=0,0,'Исходные данные'!$F106*'План продаж'!I$32*J147)","v":0},{"$f":"IF('Исходные данные'!$H106=0,0,'Исходные данные'!$F106*'План продаж'!J$32*K147)","v":0},{"$f":"IF('Исходные данные'!$H106=0,0,'Исходные данные'!$F106*'План продаж'!K$32*L147)","v":0},{"$f":"IF('Исходные данные'!$H106=0,0,'Исходные данные'!$F106*'План продаж'!L$32*M147)","v":0},{"$f":"IF('Исходные данные'!$H106=0,0,'Исходные данные'!$F106*'План продаж'!M$32*N147)","v":0},{"$f":"IF('Исходные данные'!$H106=0,0,'Исходные данные'!$F106*'План продаж'!N$32*O147)","v":0},{"$f":"IF('Исходные данные'!$H106=0,0,'Исходные данные'!$F106*'План продаж'!O$32*P147)","v":0},{"$f":"IF('Исходные данные'!$H106=0,0,'Исходные данные'!$F106*'План продаж'!P$32*Q147)","v":0},{"$f":"IF('Исходные данные'!$H106=0,0,'Исходные данные'!$F106*'План продаж'!Q$32*R147)","v":0},{"$f":"IF('Исходные данные'!$H106=0,0,'Исходные данные'!$F106*'План продаж'!R$32*S147)","v":0},{"$f":"IF('Исходные данные'!$H106=0,0,'Исходные данные'!$F106*'План продаж'!S$32*T147)","v":0},{"$f":"IF('Исходные данные'!$H106=0,0,'Исходные данные'!$F106*'План продаж'!T$32*U147)","v":0},{"$f":"IF('Исходные данные'!$H106=0,0,'Исходные данные'!$F106*'План продаж'!U$32*V147)","v":0},{"$f":"IF('Исходные данные'!$H106=0,0,'Исходные данные'!$F106*'План продаж'!V$32*W147)","v":0},{"$f":"IF('Исходные данные'!$H106=0,0,'Исходные данные'!$F106*'План продаж'!W$32*X147)","v":0},{"$f":"IF('Исходные данные'!$H106=0,0,'Исходные данные'!$F106*'План продаж'!X$32*Y147)","v":0},{"$f":"IF('Исходные данные'!$H106=0,0,'Исходные данные'!$F106*'План продаж'!Y$32*Z147)","v":0},{"$f":"IF('Исходные данные'!$H106=0,0,'Исходные данные'!$F106*'План продаж'!Z$32*AA147)","v":0},{"$f":"IF('Исходные данные'!$H106=0,0,'Исходные данные'!$F106*'План продаж'!AA$32*AB147)","v":0},{"$f":"IF('Исходные данные'!$H106=0,0,'Исходные данные'!$F106*'План продаж'!AB$32*AC147)","v":0},{"$f":"IF('Исходные данные'!$H106=0,0,'Исходные данные'!$F106*'План продаж'!AC$32*AD147)","v":0},{"$f":"IF('Исходные данные'!$H106=0,0,'Исходные данные'!$F106*'План продаж'!AD$32*AE147)","v":0},{"$f":"IF('Исходные данные'!$H106=0,0,'Исходные данные'!$F106*'План продаж'!AE$32*AF147)","v":0},{"$f":"IF('Исходные данные'!$H106=0,0,'Исходные данные'!$F106*'План продаж'!AF$32*AG147)","v":0},{"$f":"IF('Исходные данные'!$H106=0,0,'Исходные данные'!$F106*'План продаж'!AG$32*AH147)","v":0},{"$f":"IF('Исходные данные'!$H106=0,0,'Исходные данные'!$F106*'План продаж'!AH$32*AI147)","v":0},{"$f":"IF('Исходные данные'!$H106=0,0,'Исходные данные'!$F106*'План продаж'!AI$32*AJ147)","v":0},{"$f":"IF('Исходные данные'!$H106=0,0,'Исходные данные'!$F106*'План продаж'!AJ$32*AK147)","v":0},{"$f":"IF('Исходные данные'!$H106=0,0,'Исходные данные'!$F106*'План продаж'!AK$32*AL147)","v":0},{"$f":"IF('Исходные данные'!$H106=0,0,'Исходные данные'!$F106*'План продаж'!AL$32*AM147)","v":0},{"$f":"IF('Исходные данные'!$H106=0,0,'Исходные данные'!$F106*'План продаж'!AM$32*AN147)","v":0},{"$f":"IF('Исходные данные'!$H106=0,0,'Исходные данные'!$F106*'План продаж'!AN$32*AO147)","v":0},{"$f":"IF('Исходные данные'!$H106=0,0,'Исходные данные'!$F106*'План продаж'!AO$32*AP147)","v":0},{"$f":"IF('Исходные данные'!$H106=0,0,'Исходные данные'!$F106*'План продаж'!AP$32*AQ147)","v":0},{"$f":"IF('Исходные данные'!$H106=0,0,'Исходные данные'!$F106*'План продаж'!AQ$32*AR147)","v":0},{"$f":"IF('Исходные данные'!$H106=0,0,'Исходные данные'!$F106*'План продаж'!AR$32*AS147)","v":0},{"$f":"IF('Исходные данные'!$H106=0,0,'Исходные данные'!$F106*'План продаж'!AS$32*AT147)","v":0},{"$f":"IF('Исходные данные'!$H106=0,0,'Исходные данные'!$F106*'План продаж'!AT$32*AU147)","v":0},{"$f":"IF('Исходные данные'!$H106=0,0,'Исходные данные'!$F106*'План продаж'!AU$32*AV147)","v":0},{"$f":"IF('Исходные данные'!$H106=0,0,'Исходные данные'!$F106*'План продаж'!AV$32*AW147)","v":0},{"$f":"IF('Исходные данные'!$H106=0,0,'Исходные данные'!$F106*'План продаж'!AW$32*AX147)","v":0},{"$f":"IF('Исходные данные'!$H106=0,0,'Исходные данные'!$F106*'План продаж'!AX$32*AY147)","v":0},{"$f":"IF('Исходные данные'!$H106=0,0,'Исходные данные'!$F106*'План продаж'!AY$32*AZ147)","v":0},{"$f":"IF('Исходные данные'!$H106=0,0,'Исходные данные'!$F106*'План продаж'!AZ$32*BA147)","v":0},{"$f":"IF('Исходные данные'!$H106=0,0,'Исходные данные'!$F106*'План продаж'!BA$32*BB147)","v":0},{"$f":"IF('Исходные данные'!$H106=0,0,'Исходные данные'!$F106*'План продаж'!BB$32*BC147)","v":0},{"$f":"IF('Исходные данные'!$H106=0,0,'Исходные данные'!$F106*'План продаж'!BC$32*BD147)","v":0},{"$f":"IF('Исходные данные'!$H106=0,0,'Исходные данные'!$F106*'План продаж'!BD$32*BE147)","v":0},{"$f":"IF('Исходные данные'!$H106=0,0,'Исходные данные'!$F106*'План продаж'!BE$32*BF147)","v":0},{"$f":"IF('Исходные данные'!$H106=0,0,'Исходные данные'!$F106*'План продаж'!BF$32*BG147)","v":0},{"$f":"IF('Исходные данные'!$H106=0,0,'Исходные данные'!$F106*'План продаж'!BG$32*BH147)","v":0},{"$f":"IF('Исходные данные'!$H106=0,0,'Исходные данные'!$F106*'План продаж'!BH$32*BI147)","v":0},{"$f":"IF('Исходные данные'!$H106=0,0,'Исходные данные'!$F106*'План продаж'!BI$32*BJ147)","v":0},{"$f":"IF('Исходные данные'!$H106=0,0,'Исходные данные'!$F106*'План продаж'!BJ$32*BK147)","v":0},{"$f":"IF('Исходные данные'!$H106=0,0,'Исходные данные'!$F106*'План продаж'!BK$32*BL147)","v":0}]
[]
[{"$f":"\"РАСЧЕТ СУММЫ НАЛОГА \"&'Исходные данные'!B286&\" \"&TEXT('Исходные данные'!C286,\"0%\")","v":"РАСЧЕТ СУММЫ НАЛОГА УСН доходы 6%"}]
["Система налогооблажения","Ставка","% вычета"]
[{"$f":"'Исходные данные'!B286","v":"УСН доходы"},{"$f":"'Исходные данные'!C286","v":0.06},{"$f":"IF('Исходные данные'!H107=0,100%,50%)","v":0.5}]
[]
["Наименование",null,null,"0-й","1-й месяц","2-й месяц","3-й месяц","4-й месяц","5-й месяц","6-й месяц","7-й месяц","8-й месяц","9-й месяц","10-й месяц","11-й месяц","12-й месяц","13-й месяц","14-й месяц","15-й месяц","16-й месяц","17-й месяц","18-й месяц","19-й месяц","20-й месяц","21-й месяц","22-й месяц","23-й месяц","24-й месяц","25-й месяц","26-й месяц","27-й месяц","28-й месяц","29-й месяц","30-й месяц","31-й месяц","32-й месяц","33-й месяц","34-й месяц","35-й месяц","36-й месяц","37-й месяц","38-й месяц","39-й месяц","40-й месяц","41-й месяц","42-й месяц","43-й месяц","44-й месяц","45-й месяц","46-й месяц","47-й месяц","48-й месяц","49-й месяц","50-й месяц","51-й месяц","52-й месяц","53-й месяц","54-й месяц","55-й месяц","56-й месяц","57-й месяц","58-й месяц","59-й месяц","60-й месяц"]
[null,null,null,{"$f":"D4","v":3},"Май","Июнь","Июль","Август","Сентябрь","Октябрь","Ноябрь","Декабрь","Январь","Февраль","Март","Апрель","Май","Июнь","Июль","Август","Сентябрь","Октябрь","Ноябрь","Декабрь","Январь","Февраль","Март","Апрель","Май","Июнь","Июль","Август","Сентябрь","Октябрь","Ноябрь",{"$f":"AJ4","v":"Декабрь"},"Январь","Февраль","Март","Апрель","Май","Июнь","Июль","Август","Сентябрь","Октябрь","Ноябрь","Декабрь","Январь","Февраль","Март","Апрель","Май","Июнь","Июль","Август","Сентябрь","Октябрь","Ноябрь","Декабрь","Январь","Февраль","Март","Апрель"]
[null,null,null,{"$f":"D5","v":2021},2021,2021,2021,2021,2021,2021,2021,2021,2022,2022,2022,2022,2022,2022,2022,2022,2022,2022,2022,2022,2023,2023,2023,2023,2023,2023,2023,2023,2023,2023,2023,{"$f":"AJ5","v":2023},2024,2024,2024,2024,2024,2024,2024,2024,2024,2024,2024,2024,2025,2025,2025,2025,2025,2025,2025,2025,2025,2025,2025,2025,2026,2026,2026,2026]
["Страховые взносы к уплате за период",null,null,{"$f":"SUM(D25,D26,D27,D28,D29,D30,D31)","v":10218.5},0,21249.745333333329,18183.782000000003,26760.642499999998,38977.042000000001,31531.194500000001,33973.82,51330.054499999991,56123.741999999991,25980.492999999995,36483.122499999998,27205.627999999997,29444.943499999998,109320.99400000001,33493.644500000002,35585.945,48480.995499999997,39521.696000000004,41964.321500000005,59904.80599999999,64114.24349999999,25980.492999999995,37140.872499999998,27205.627999999997,29444.943499999998,147638.144,33493.644500000002,35585.945,49138.745499999997,39521.696000000004,41964.321500000005,{"$f":"SUM(AJ25,AJ26,AJ27,AJ28,AJ29,AJ30,AJ31)","v":60562.55599999999},64114.24349999999,25980.492999999995,37140.872499999998,27205.627999999997,29444.943499999998,147638.144,33493.644500000002,35585.945,49138.745499999997,39521.696000000004,41964.321500000005,60562.55599999999,64114.24349999999,25980.492999999995,37140.872499999998,27205.627999999997,29444.943499999998,147638.144,33493.644500000002,35585.945,49138.745499999997,39521.696000000004,41964.321500000005,60562.55599999999,64114.24349999999,25980.492999999995,37140.872499999998,27205.627999999997]
["Страховые взносы (по кварталам)",null,null,null,{"$f":"IF(E7<>0,D188+E188,0)","v":0},{"$f":"IF(F7<>0,D188+E188+F188,0)","v":31468.245333333329},0,0,83921.46650000001,0,0,116835.06899999999,0,0,118587.35749999998,0,0,165971.5655,0,0,117560.58499999999,0,0,141390.8235,0,0,127235.60899999998,0,0,204288.71549999999,0,0,118218.33499999999,0,0,142048.5735,0,{"$f":"IF(AL7<>0,AJ188+AK188+AL188,0)","v":0},127235.60899999998,0,0,204288.71549999999,0,0,118218.33499999999,0,0,142048.5735,0,0,127235.60899999998,0,0,204288.71549999999,0,0,118218.33499999999,0,0,142048.5735,0,0,127235.60899999998,0]
["Страховые взносы (за год)",null,null,null,{"$f":"IF(E4=\"Декабрь\",E189,0)","v":0},{"$f":"IF(F4=\"Декабрь\",SUM($E189:F189),0)","v":0},{"$f":"IF(G4=\"Декабрь\",SUM($E189:G189),0)","v":0},{"$f":"IF(H4=\"Декабрь\",SUM($E189:H189),0)","v":0},{"$f":"IF(I4=\"Декабрь\",SUM($E189:I189),0)","v":0},{"$f":"IF(J4=\"Декабрь\",SUM($E189:J189),0)","v":0},{"$f":"IF(K4=\"Декабрь\",SUM($E189:K189),0)","v":0},{"$f":"IF(L4=\"Декабрь\",SUM($E189:L189),0)","v":232224.78083333332},{"$f":"IF(M4=\"Декабрь\",SUM($E189:M189),0)","v":0},{"$f":"IF(N4=\"Декабрь\",SUM($E189:N189),0)","v":0},{"$f":"IF(O4=\"Декабрь\",SUM($E189:O189),0)","v":0},{"$f":"IF(P4=\"Декабрь\",SUM(E189:P189),0)","v":0},0,0,0,0,0,0,0,543510.33149999985,0,0,0,0,0,0,0,0,0,0,0,591791.23300000001,0,0,0,0,0,0,0,0,0,0,0,{"$f":"IF(AV4=\"Декабрь\",SUM(AK189:AV189),0)","v":591791.23300000001},0,0,0,0,0,0,0,0,0,0,0,591791.23300000001,0,0,0,0]
["УСН накопительный (квартал)",null,null,null,{"$f":"IF(IF(E7<>0,IF($A$183=\"УСН доходы\",E7*$B$183,(E7-E10)*$B$183),0)<0,0,IF(E7<>0,IF($A$183=\"УСН доходы\",E7*$B$183,(E7-E10)*$B$183),0))","v":0},30367.199999999997,0,0,145970.4,0,0,301201.2,0,0,226663.19999999998,0,0,359398.8,0,0,492782.39999999997,0,0,648013.19999999995,0,0,226663.19999999998,0,0,359398.8,0,0,492782.39999999997,0,0,648013.19999999995,{"$f":"IF(IF(AK7<>0,IF($A$183=\"УСН доходы\",AK7*$B$183,(AK7-AK10)*$B$183),0)<0,0,IF(AK7<>0,IF($A$183=\"УСН доходы\",AK7*$B$183,(AK7-AK10)*$B$183),0))","v":0},0,226663.19999999998,0,0,359398.8,0,0,492782.39999999997,0,0,648013.19999999995,0,0,226663.19999999998,0,0,359398.8,0,0,492782.39999999997,0,0,648013.19999999995,0,0,226663.19999999998,0]
["УСН до вычета (квартал)",null,null,null,{"$f":"IF(IF(E4=\"Март\",E191,IF(E4=\"Июнь\",E191,IF(E4=\"Сентябрь\",E191,IF(E4=\"Декабрь\",E191,0))))<0,0,IF(E4=\"Март\",E191,IF(E4=\"Июнь\",E191,IF(E4=\"Сентябрь\",E191,IF(E4=\"Декабрь\",E191,0)))))","v":0},{"$f":"IF(IF(F4=\"Март\",F191,IF(F4=\"Июнь\",F191,IF(F4=\"Сентябрь\",F191,IF(F4=\"Декабрь\",F191,0))))<0,0,IF(F4=\"Март\",F191,IF(F4=\"Июнь\",F191,IF(F4=\"Сентябрь\",F191,IF(F4=\"Декабрь\",F191,0)))))","v":30367.199999999997},{"$f":"IF(IF(G4=\"Март\",G191,IF(G4=\"Июнь\",G191,IF(G4=\"Сентябрь\",G191,IF(G4=\"Декабрь\",G191,0))))<0,0,IF(G4=\"Март\",G191,IF(G4=\"Июнь\",G191,IF(G4=\"Сентябрь\",G191,IF(G4=\"Декабрь\",G191,0)))))","v":0},{"$f":"IF(IF(H4=\"Март\",H191,IF(H4=\"Июнь\",(H191-E191),IF(H4=\"Сентябрь\",(H191-E191),IF(H4=\"Декабрь\",(H191-E191),0))))<0,0,IF(H4=\"Март\",H191,IF(H4=\"Июнь\",(H191-E191),IF(H4=\"Сентябрь\",(H191-E191),IF(H4=\"Декабрь\",(H191-E191),0)))))","v":0},{"$f":"IF(IF(I4=\"Март\",I191,IF(I4=\"Июнь\",(I191-F191),IF(I4=\"Сентябрь\",(I191-F191),IF(I4=\"Декабрь\",(I191-F191),0))))<0,0,IF(I4=\"Март\",I191,IF(I4=\"Июнь\",(I191-F191),IF(I4=\"Сентябрь\",(I191-F191),IF(I4=\"Декабрь\",(I191-F191),0)))))","v":115603.2},{"$f":"IF(IF(J4=\"Март\",J191,IF(J4=\"Июнь\",(J191-G191),IF(J4=\"Сентябрь\",(J191-G191),IF(J4=\"Декабрь\",(J191-G191),0))))<0,0,IF(J4=\"Март\",J191,IF(J4=\"Июнь\",(J191-G191),IF(J4=\"Сентябрь\",(J191-G191),IF(J4=\"Декабрь\",(J191-G191),0)))))","v":0},{"$f":"IF(IF(K4=\"Март\",K191,IF(K4=\"Июнь\",(K191-H191),IF(K4=\"Сентябрь\",(K191-H191-E191),IF(K4=\"Декабрь\",(K191-H191-E191),0))))<0,0,IF(K4=\"Март\",K191,IF(K4=\"Июнь\",(K191-H191),IF(K4=\"Сентябрь\",(K191-H191-E191),IF(K4=\"Декабрь\",(K191-H191-E191),0)))))","v":0},{"$f":"IF(IF(L4=\"Март\",L191,IF(L4=\"Июнь\",(L191-I191),IF(L4=\"Сентябрь\",(L191-I191-F191),IF(L4=\"Декабрь\",(L191-I191-F191),0))))<0,0,IF(L4=\"Март\",L191,IF(L4=\"Июнь\",(L191-I191),IF(L4=\"Сентябрь\",(L191-I191-F191),IF(L4=\"Декабрь\",(L191-I191-F191),0)))))","v":124863.60000000002},{"$f":"IF(IF(M4=\"Март\",M191,IF(M4=\"Июнь\",(M191-J191),IF(M4=\"Сентябрь\",(M191-J191-G191),IF(M4=\"Декабрь\",(M191-J191-G191),0))))<0,0,IF(M4=\"Март\",M191,IF(M4=\"Июнь\",(M191-J191),IF(M4=\"Сентябрь\",(M191-J191-G191),IF(M4=\"Декабрь\",(M191-J191-G191),0)))))","v":0},{"$f":"IF(IF(N4=\"Март\",N191,IF(N4=\"Июнь\",(N191-K191),IF(N4=\"Сентябрь\",(N191-K191-H191),IF(N4=\"Декабрь\",(N191-K191-H191-E191),0))))<0,0,IF(N4=\"Март\",N191,IF(N4=\"Июнь\",(N191-K191),IF(N4=\"Сентябрь\",(N191-K191-H191),IF(N4=\"Декабрь\",(N191-K191-H191-E191),0)))))","v":0},226663.19999999998,0,0,132735.6,0,0,0,0,0,0,0,0,226663.19999999998,0,0,132735.6,0,0,0,0,0,0,0,0,226663.19999999998,0,0,132735.6,0,0,0,{"$f":"IF(IF(AT4=\"Март\",AT191,IF(AT4=\"Июнь\",(AT191-AQ191),IF(AT4=\"Сентябрь\",(AT191-AQ191-AN191),IF(AT4=\"Декабрь\",(AT191-AQ191-AN191-AK191),0))))<0,0,IF(AT4=\"Март\",AT191,IF(AT4=\"Июнь\",(AT191-AQ191),IF(AT4=\"Сентябрь\",(AT191-AQ191-AN191),IF(AT4=\"Декабрь\",(AT191-AQ191-AN191-AK191),0)))))","v":0},0,0,0,0,226663.19999999998,0,0,132735.6,0,0,0,0,0,0,0,0,226663.19999999998,0]
["База для расчета вычета (квартал)",null,null,null,{"$f":"MIN(E192,E189)","v":0},{"$f":"MIN(F192,F189)","v":30367.199999999997},0,0,83921.46650000001,0,0,116835.06899999999,0,0,118587.35749999998,0,0,132735.6,0,0,0,0,0,0,0,0,127235.60899999998,0,0,132735.6,0,0,0,0,0,0,0,0,127235.60899999998,0,0,132735.6,0,0,0,0,0,0,0,0,127235.60899999998,0,0,132735.6,0,0,0,0,0,0,0,0,127235.60899999998,0]
["Вычет для ИП (квартал)",null,null,null,{"$f":"IF('Исходные данные'!$C$5=\"ООО\",0,E193*$C$183)","v":0},{"$f":"IF('Исходные данные'!$C$5=\"ООО\",0,F193*$C$183)","v":15183.599999999999},{"$f":"IF('Исходные данные'!$C$5=\"ООО\",0,G193*$C$183)","v":0},{"$f":"IF('Исходные данные'!$C$5=\"ООО\",0,H193*$C$183)","v":0},{"$f":"IF('Исходные данные'!$C$5=\"ООО\",0,I193*$C$183)","v":41960.733250000005},{"$f":"IF('Исходные данные'!$C$5=\"ООО\",0,J193*$C$183)","v":0},{"$f":"IF('Исходные данные'!$C$5=\"ООО\",0,K193*$C$183)","v":0},{"$f":"IF('Исходные данные'!$C$5=\"ООО\",0,L193*$C$183)","v":58417.534499999994},{"$f":"IF('Исходные данные'!$C$5=\"ООО\",0,M193*$C$183)","v":0},{"$f":"IF('Исходные данные'!$C$5=\"ООО\",0,N193*$C$183)","v":0},{"$f":"IF('Исходные данные'!$C$5=\"ООО\",0,O193*$C$183)","v":59293.678749999992},{"$f":"IF('Исходные данные'!$C$5=\"ООО\",0,P193*$C$183)","v":0},{"$f":"IF('Исходные данные'!$C$5=\"ООО\",0,Q193*$C$183)","v":0},{"$f":"IF('Исходные данные'!$C$5=\"ООО\",0,R193*$C$183)","v":66367.8},{"$f":"IF('Исходные данные'!$C$5=\"ООО\",0,S193*$C$183)","v":0},{"$f":"IF('Исходные данные'!$C$5=\"ООО\",0,T193*$C$183)","v":0},{"$f":"IF('Исходные данные'!$C$5=\"ООО\",0,U193*$C$183)","v":0},{"$f":"IF('Исходные данные'!$C$5=\"ООО\",0,V193*$C$183)","v":0},{"$f":"IF('Исходные данные'!$C$5=\"ООО\",0,W193*$C$183)","v":0},{"$f":"IF('Исходные данные'!$C$5=\"ООО\",0,X193*$C$183)","v":0},{"$f":"IF('Исходные данные'!$C$5=\"ООО\",0,Y193*$C$183)","v":0},{"$f":"IF('Исходные данные'!$C$5=\"ООО\",0,Z193*$C$183)","v":0},{"$f":"IF('Исходные данные'!$C$5=\"ООО\",0,AA193*$C$183)","v":63617.804499999991},{"$f":"IF('Исходные данные'!$C$5=\"ООО\",0,AB193*$C$183)","v":0},{"$f":"IF('Исходные данные'!$C$5=\"ООО\",0,AC193*$C$183)","v":0},{"$f":"IF('Исходные данные'!$C$5=\"ООО\",0,AD193*$C$183)","v":66367.8},{"$f":"IF('Исходные данные'!$C$5=\"ООО\",0,AE193*$C$183)","v":0},{"$f":"IF('Исходные данные'!$C$5=\"ООО\",0,AF193*$C$183)","v":0},{"$f":"IF('Исходные данные'!$C$5=\"ООО\",0,AG193*$C$183)","v":0},{"$f":"IF('Исходные данные'!$C$5=\"ООО\",0,AH193*$C$183)","v":0},{"$f":"IF('Исходные данные'!$C$5=\"ООО\",0,AI193*$C$183)","v":0},{"$f":"IF('Исходные данные'!$C$5=\"ООО\",0,AJ193*$C$183)","v":0},{"$f":"IF('Исходные данные'!$C$5=\"ООО\",0,AK193*$C$183)","v":0},{"$f":"IF('Исходные данные'!$C$5=\"ООО\",0,AL193*$C$183)","v":0},{"$f":"IF('Исходные данные'!$C$5=\"ООО\",0,AM193*$C$183)","v":63617.804499999991},{"$f":"IF('Исходные данные'!$C$5=\"ООО\",0,AN193*$C$183)","v":0},{"$f":"IF('Исходные данные'!$C$5=\"ООО\",0,AO193*$C$183)","v":0},{"$f":"IF('Исходные данные'!$C$5=\"ООО\",0,AP193*$C$183)","v":66367.8},{"$f":"IF('Исходные данные'!$C$5=\"ООО\",0,AQ193*$C$183)","v":0},{"$f":"IF('Исходные данные'!$C$5=\"ООО\",0,AR193*$C$183)","v":0},{"$f":"IF('Исходные данные'!$C$5=\"ООО\",0,AS193*$C$183)","v":0},{"$f":"IF('Исходные данные'!$C$5=\"ООО\",0,AT193*$C$183)","v":0},{"$f":"IF('Исходные данные'!$C$5=\"ООО\",0,AU193*$C$183)","v":0},{"$f":"IF('Исходные данные'!$C$5=\"ООО\",0,AV193*$C$183)","v":0},{"$f":"IF('Исходные данные'!$C$5=\"ООО\",0,AW193*$C$183)","v":0},{"$f":"IF('Исходные данные'!$C$5=\"ООО\",0,AX193*$C$183)","v":0},{"$f":"IF('Исходные данные'!$C$5=\"ООО\",0,AY193*$C$183)","v":63617.804499999991},{"$f":"IF('Исходные данные'!$C$5=\"ООО\",0,AZ193*$C$183)","v":0},{"$f":"IF('Исходные данные'!$C$5=\"ООО\",0,BA193*$C$183)","v":0},{"$f":"IF('Исходные данные'!$C$5=\"ООО\",0,BB193*$C$183)","v":66367.8},{"$f":"IF('Исходные данные'!$C$5=\"ООО\",0,BC193*$C$183)","v":0},{"$f":"IF('Исходные данные'!$C$5=\"ООО\",0,BD193*$C$183)","v":0},{"$f":"IF('Исходные данные'!$C$5=\"ООО\",0,BE193*$C$183)","v":0},{"$f":"IF('Исходные данные'!$C$5=\"ООО\",0,BF193*$C$183)","v":0},{"$f":"IF('Исходные данные'!$C$5=\"ООО\",0,BG193*$C$183)","v":0},{"$f":"IF('Исходные данные'!$C$5=\"ООО\",0,BH193*$C$183)","v":0},{"$f":"IF('Исходные данные'!$C$5=\"ООО\",0,BI193*$C$183)","v":0},{"$f":"IF('Исходные данные'!$C$5=\"ООО\",0,BJ193*$C$183)","v":0},{"$f":"IF('Исходные данные'!$C$5=\"ООО\",0,BK193*$C$183)","v":63617.804499999991},{"$f":"IF('Исходные данные'!$C$5=\"ООО\",0,BL193*$C$183)","v":0}]
["УСН (квартал)",null,null,null,{"$f":"E192-E194","v":0},{"$f":"F192-F194","v":15183.599999999999},0,0,73642.466749999992,0,0,66446.065500000026,0,0,167369.52124999999,0,0,66367.8,0,0,0,0,0,0,0,0,163045.39549999998,0,0,66367.8,0,0,0,0,0,0,0,0,163045.39549999998,0,0,66367.8,0,0,0,0,0,0,0,0,163045.39549999998,0,0,66367.8,0,0,0,0,0,0,0,0,163045.39549999998,0]
["УСН до вычета (год)",null,null,null,{"$f":"IF(E4=\"Декабрь\",IF(A183=\"УСН Доход\",E11*$B$183,(E11-E12)*$B$183),0)","v":0},0,0,0,0,0,0,91941.457099062885,0,0,0,0,0,0,0,0,0,0,0,130080.21147500005,0,0,0,0,0,0,0,0,0,0,0,128181.59260575,{"$f":"IF(AK4=\"Декабрь\",IF(AG183=\"УСН Доход\",AK11*$B$183,(AK11-AK12)*$B$183),0)","v":0},0,0,0,0,0,0,0,0,0,0,124542.55117182757,0,0,0,0,0,0,0,0,0,0,0,129499.72241484527,0,0,0,0]
["Максимально возможный вычет (год)",null,null,null,{"$f":"E196*$C$183","v":0},{"$f":"F196*$C$183","v":0},0,0,0,0,0,45970.728549531443,0,0,0,0,0,0,0,0,0,0,0,65040.105737500024,0,0,0,0,0,0,0,0,0,0,0,64090.796302875002,0,0,0,0,0,0,0,0,0,0,0,62271.275585913783,0,0,0,0,0,0,0,0,0,0,0,64749.861207422633,0,0,0,0]
["Вычет (год)",null,null,null,{"$f":"MIN(E197,E190)","v":0},0,0,0,0,0,0,45970.728549531443,0,0,0,0,0,0,0,0,0,0,0,65040.105737500024,0,0,0,0,0,0,0,0,0,0,0,64090.796302875002,{"$f":"MIN(AK197,AK190)","v":0},0,0,0,0,0,0,0,0,0,0,62271.275585913783,0,0,0,0,0,0,0,0,0,0,0,64749.861207422633,0,0,0,0]
["УСН (год)",null,null,null,{"$f":"E196-E198","v":0},{"$f":"F196-F198","v":0},0,0,0,0,0,45970.728549531443,0,0,0,{"$f":"P196-P198","v":0},0,0,0,0,0,0,0,65040.105737500024,0,0,0,0,0,0,0,0,0,0,0,64090.796302875002,0,0,0,0,0,0,0,0,0,0,0,62271.275585913783,0,0,0,0,0,0,0,0,0,0,0,64749.861207422633,0,0,0,0]
["УСН (квартал и год)",null,null,null,{"$f":"MAX(E199,E195)","v":0},15183.599999999999,0,0,73642.466749999992,0,0,66446.065500000026,0,0,167369.52124999999,0,0,66367.8,0,0,0,0,0,65040.105737500024,0,0,163045.39549999998,0,0,66367.8,0,0,0,0,0,64090.796302875002,{"$f":"MAX(AK199,AK195)","v":0},0,163045.39549999998,0,0,66367.8,0,0,0,0,0,62271.275585913783,0,0,163045.39549999998,0,0,66367.8,0,0,0,0,0,64749.861207422633,0,0,163045.39549999998,0]
["УСН начислен",null,null,null,{"$f":"IF(IF(E4=\"Март\",E200,IF(E4=\"Июнь\",E200,IF(E4=\"Сентябрь\",E200,IF(E4=\"Декабрь\",E200,0))))<0,E200,IF(E4=\"Март\",E200,IF(E4=\"Июнь\",E200,IF(E4=\"Сентябрь\",E200,IF(E4=\"Декабрь\",E200,0)))))","v":0},{"$f":"IF(IF(F4=\"Март\",F200,IF(F4=\"Июнь\",F200,IF(F4=\"Сентябрь\",F200,IF(F4=\"Декабрь\",F200,0))))<0,F200,IF(F4=\"Март\",F200,IF(F4=\"Июнь\",F200,IF(F4=\"Сентябрь\",F200,IF(F4=\"Декабрь\",F200,0)))))","v":15183.599999999999},{"$f":"IF(IF(G4=\"Март\",G200,IF(G4=\"Июнь\",G200,IF(G4=\"Сентябрь\",G200,IF(G4=\"Декабрь\",G200,0))))<0,G200,IF(G4=\"Март\",G200,IF(G4=\"Июнь\",G200,IF(G4=\"Сентябрь\",G200,IF(G4=\"Декабрь\",G200,0)))))","v":0},{"$f":"IF(IF(H4=\"Март\",H200,IF(H4=\"Июнь\",H200-E200,IF(H4=\"Сентябрь\",H200-E200,IF(H4=\"Декабрь\",H200-E200,0))))<0,H200,IF(H4=\"Март\",H200,IF(H4=\"Июнь\",H200-E200,IF(H4=\"Сентябрь\",H200-E200,IF(H4=\"Декабрь\",H200-E200,0)))))","v":0},{"$f":"IF(IF(I4=\"Март\",I200,IF(I4=\"Июнь\",I200-F200,IF(I4=\"Сентябрь\",I200-F200,IF(I4=\"Декабрь\",I200-F200,0))))<0,I200,IF(I4=\"Март\",I200,IF(I4=\"Июнь\",I200-F200,IF(I4=\"Сентябрь\",I200-F200,IF(I4=\"Декабрь\",I200-F200,0)))))","v":58458.866749999994},{"$f":"IF(IF(J4=\"Март\",J200,IF(J4=\"Июнь\",J200-G200,IF(J4=\"Сентябрь\",J200-G200,IF(J4=\"Декабрь\",J200-G200,0))))<0,J200,IF(J4=\"Март\",J200,IF(J4=\"Июнь\",J200-G200,IF(J4=\"Сентябрь\",J200-G200,IF(J4=\"Декабрь\",J200-G200,0)))))","v":0},{"$f":"IF(IF(K4=\"Март\",K200,IF(K4=\"Июнь\",K200-H200,IF(K4=\"Сентябрь\",K200-H200-E200,IF(K4=\"Декабрь\",K200-H200-E200,0))))<0,K200,IF(K4=\"Март\",K200,IF(K4=\"Июнь\",K200-H200,IF(K4=\"Сентябрь\",K200-H200-E200,IF(K4=\"Декабрь\",K200-H200-E200,0)))))","v":0},{"$f":"IF(IF(L4=\"Март\",L200,IF(L4=\"Июнь\",L200-I200,IF(L4=\"Сентябрь\",L200-I200-F200,IF(L4=\"Декабрь\",L200-I200-F200,0))))<0,L200,IF(L4=\"Март\",L200,IF(L4=\"Июнь\",L200-I200,IF(L4=\"Сентябрь\",L200-I200-F200,IF(L4=\"Декабрь\",L200-I200-F200,0)))))","v":66446.065500000026},{"$f":"IF(IF(M4=\"Март\",M200,IF(M4=\"Июнь\",M200-J200,IF(M4=\"Сентябрь\",M200-J200-G200,IF(M4=\"Декабрь\",M200-J200-G200,0))))<0,M200,IF(M4=\"Март\",M200,IF(M4=\"Июнь\",M200-J200,IF(M4=\"Сентябрь\",M200-J200-G200,IF(M4=\"Декабрь\",M200-J200-G200,0)))))","v":0},{"$f":"IF(IF(N4=\"Март\",N200,IF(N4=\"Июнь\",N200-K200,IF(N4=\"Сентябрь\",N200-K200-H200,IF(N4=\"Декабрь\",N200-K200-H200-E200,0))))<0,N200,IF(N4=\"Март\",N200,IF(N4=\"Июнь\",N200-K200,IF(N4=\"Сентябрь\",N200-K200-H200,IF(N4=\"Декабрь\",N200-K200-H200-E200,0)))))","v":0},167369.52124999999,0,0,66367.8,0,0,0,0,0,65040.105737500024,0,0,163045.39549999998,0,0,66367.8,0,0,0,0,0,64090.796302875002,0,0,163045.39549999998,0,0,66367.8,0,0,0,{"$f":"IF(IF(AT4=\"Март\",AT200,IF(AT4=\"Июнь\",AT200-AQ200,IF(AT4=\"Сентябрь\",AT200-AQ200-AN200,IF(AT4=\"Декабрь\",AT200-AQ200-AN200-AK200,0))))<0,AT200,IF(AT4=\"Март\",AT200,IF(AT4=\"Июнь\",AT200-AQ200,IF(AT4=\"Сентябрь\",AT200-AQ200-AN200,IF(AT4=\"Декабрь\",AT200-AQ200-AN200-AK200,0)))))","v":0},0,62271.275585913783,0,0,163045.39549999998,0,0,66367.8,0,0,0,0,0,64749.861207422633,0,0,163045.39549999998,0]
[]
["РАСЧЁТ СУММЫ СТРАХОВЫХ ОТЧИСЛЕНИЯ ЗА ИП"]
["Год начисления",{"$f":"БДДС!D6","v":2021},{"$f":"B204+1","v":2022},{"$f":"C204+1","v":2023},{"$f":"D204+1","v":2024},{"$f":"E204+1","v":2025},{"$f":"F204+1","v":2026}]
["Месяцев",{"$f":"MIN(COUNTIF(БДДС!$D$6:$BK$6,B204)+БДДС!C10,12)","v":11},{"$f":"COUNTIF(БДДС!$D$6:$BK$6,C204)","v":12},{"$f":"COUNTIF(БДДС!$D$6:$BK$6,D204)","v":12},{"$f":"COUNTIF(БДДС!$D$6:$BK$6,E204)","v":12},{"$f":"COUNTIF(БДДС!$D$6:$BK$6,F204)","v":12},{"$f":"F205","v":12}]
["Страховые взносы минимум",{"$f":"IFERROR(HLOOKUP(B204,'Исходные данные'!$C$299:$E$301,2,FALSE),'Исходные данные'!$E$300)","v":40874},{"$f":"IFERROR(HLOOKUP(C204,'Исходные данные'!$C$299:$E$301,2,FALSE),'Исходные данные'!$E$300)","v":43211},{"$f":"IFERROR(HLOOKUP(D204,'Исходные данные'!$C$299:$E$301,2,FALSE),'Исходные данные'!$E$300)","v":45842},{"$f":"IFERROR(HLOOKUP(E204,'Исходные данные'!$C$299:$E$301,2,FALSE),'Исходные данные'!$E$300)","v":45842},{"$f":"IFERROR(HLOOKUP(F204,'Исходные данные'!$C$299:$E$301,2,FALSE),'Исходные данные'!$E$300)","v":45842},{"$f":"IFERROR(HLOOKUP(G204,'Исходные данные'!$C$299:$E$301,2,FALSE),'Исходные данные'!$E$300)","v":45842}]
["Страховые взносы максимум",{"$f":"B206*8","v":326992},345688,366736,366736,366736,366736]
["Выручка",{"$f":"'План продаж'!D127","v":7034280},{"$f":"'План продаж'!E127","v":10800220},{"$f":"'План продаж'!F127","v":10800220},{"$f":"'План продаж'!G127","v":10800220},{"$f":"'План продаж'!H127","v":10800220},{"$f":"'План продаж'!I127","v":10800220}]
["Страховые взносы (дополнительные)",{"$f":"IF(OR((B208-300000)*0.01<0,B206=0),0,(B208-300000)*0.01)","v":67342.8},105002.2,105002.2,105002.2,105002.2,105002.2]
["Страховые взносы н начислению (фиксированные)",{"$f":"B206","v":40874},43211,45842,45842,45842,45842]
["Страховые взносы н начислению (дополнительные)",{"$f":"IF(B206+B209<B207,B209,B207-B210)","v":67342.8},105002.2,105002.2,105002.2,105002.2,105002.2]

{"sheet":"Анализ эффективности","index":7,"n_rows":88,"n_cols":73,"rows_kept":88,"cut":false,"hidden":false,"merged":[[11,1,11,2],[12,1,12,2],[13,1,13,2],[14,1,14,2],[6,1,6,2],[7,1,7,2],[8,1,8,2],[9,1,9,2],[10,1,10,2],[11,3,11,4],[12,3,12,4],[13,3,13,4],[14,3,14,4],[6,3,6,4],[7,3,7,4],[8,3,8,4],[9,3,9,4],[10,3,10,4]]}
["АНАЛИЗ ЭФФЕКТИВНОСТИ"]
[]
["ПОКАЗАТЕЛИ ЭКОНОМИЧЕСКОЙ ЭФФЕКТИВНОСТИ"]
[]
["Период расчета интегральных показателей, мес.",{"$f":"BU36","v":63}]
[]
["Показатель","Значение",null,"Рекомендуемые"]
["Ставка дисконтирования (стоимость капитала) - R, %",{"$f":"'Исходные данные'!C280","v":0.19500000000000001}]
["Период окупаемости - PP, мес.",{"$f":"IF(SUM(B43:BU43)=60,\"Не окупаем за 5 лет\",SUM(B43:BU43)+1)","v":8},null,"<36 мес."]
["Дисконтированный период окупаемости - DPP, мес.",{"$f":"IF(SUM(B49:BU49)=60,\"Не окупаем за 5 лет\",SUM(B49:BU49)+1)","v":8},null,"<36 мес."]
["Средняя норма рентабельности - ARR, %",{"$f":"(BU40/5)/'Исходные данные'!C259","v":2.4806990501483104}]
["Чистый приведенный доход - NPV",{"$f":"BU48","v":4823252.6520242719}]
["Индекс рентабельности – PI",{"$f":"B12/'Исходные данные'!C259","v":6.3710436409877493},null,">1"]
["Внутренняя норма рентабельности - IRR, % годовых",{"$f":"B55","v":2.2192787819327373},null,{"$f":"\">\"&TEXT(B8,\"0,00%\")","v":">19,50%"}]
["Модифицированная внутренняя норма доходности - MIRR, %",{"$f":"B65","v":0.74739543903418393}]
[]
[]
[]
[]
[]
[]
[]
[]
[]
[]
[]
[]
[]
[]
[]
["РАСЧЁТ СРОКОВ ОКУПАЕМОСТИ"]
[]
["Номер месяца",{"$f":"-12","v":-12},{"$f":"B33+1","v":-11},-10,-9,-8,-7,-6,-5,-4,-3,-2,-1,1,{"$f":"N33+1","v":2},3,4,5,6,7,8,9,10,11,12,13,14,15,16,17,18,19,20,21,22,23,24,25,26,27,28,29,30,31,32,33,{"$f":"AT33+1","v":34},35,36,37,38,39,40,41,42,43,44,45,46,47,48,49,50,51,52,53,54,55,56,57,58,59,60]
["Месяц",{"$f":"'Исходные данные'!D253","v":"Май"},{"$f":"'Исходные данные'!E253","v":"Июнь"},{"$f":"'Исходные данные'!F253","v":"Июль"},{"$f":"'Исходные данные'!G253","v":"Август"},{"$f":"'Исходные данные'!H253","v":"Сентябрь"},{"$f":"'Исходные данные'!I253","v":"Октябрь"},{"$f":"'Исходные данные'!J253","v":"Ноябрь"},{"$f":"'Исходные данные'!K253","v":"Декабрь"},{"$f":"'Исходные данные'!L253","v":"Январь"},{"$f":"'Исходные данные'!M253","v":"Февраль"},{"$f":"'Исходные данные'!N253","v":"Март"},{"$f":"'Исходные данные'!O253","v":"Апрель"},{"$f":"БДР!C5","v":"Май"},{"$f":"БДР!D5","v":"Июнь"},{"$f":"БДР!E5","v":"Июль"},{"$f":"БДР!F5","v":"Август"},{"$f":"БДР!G5","v":"Сентябрь"},{"$f":"БДР!H5","v":"Октябрь"},{"$f":"БДР!I5","v":"Ноябрь"},{"$f":"БДР!J5","v":"Декабрь"},{"$f":"БДР!K5","v":"Январь"},{"$f":"БДР!L5","v":"Февраль"},{"$f":"БДР!M5","v":"Март"},{"$f":"БДР!N5","v":"Апрель"},{"$f":"БДР!O5","v":"Май"},{"$f":"БДР!P5","v":"Июнь"},{"$f":"БДР!Q5","v":"Июль"},{"$f":"БДР!R5","v":"Август"},{"$f":"БДР!S5","v":"Сентябрь"},{"$f":"БДР!T5","v":"Октябрь"},{"$f":"БДР!U5","v":"Ноябрь"},{"$f":"БДР!V5","v":"Декабрь"},{"$f":"БДР!W5","v":"Январь"},{"$f":"БДР!X5","v":"Февраль"},{"$f":"БДР!Y5","v":"Март"},{"$f":"БДР!Z5","v":"Апрель"},{"$f":"БДР!AA5","v":"Май"},{"$f":"БДР!AB5","v":"Июнь"},{"$f":"БДР!AC5","v":"Июль"},{"$f":"БДР!AD5","v":"Август"},{"$f":"БДР!AE5","v":"Сентябрь"},{"$f":"БДР!AF5","v":"Октябрь"},{"$f":"БДР!AG5","v":"Ноябрь"},{"$f":"БДР!AH5","v":"Декабрь"},{"$f":"БДР!AI5","v":"Январь"},{"$f":"БДР!AJ5","v":"Февраль"},{"$f":"БДР!AK5","v":"Март"},{"$f":"БДР!AL5","v":"Апрель"},{"$f":"БДР!AM5","v":"Май"},{"$f":"БДР!AN5","v":"Июнь"},{"$f":"БДР!AO5","v":"Июль"},{"$f":"БДР!AP5","v":"Август"},{"$f":"БДР!AQ5","v":"Сентябрь"},{"$f":"БДР!AR5","v":"Октябрь"},{"$f":"БДР!AS5","v":"Ноябрь"},{"$f":"БДР!AT5","v":"Декабрь"},{"$f":"БДР!AU5","v":"Январь"},{"$f":"БДР!AV5","v":"Февраль"},{"$f":"БДР!AW5","v":"Март"},{"$f":"БДР!AX5","v":"Апрель"},{"$f":"БДР!AY5","v":"Май"},{"$f":"БДР!AZ5","v":"Июнь"},{"$f":"БДР!BA5","v":"Июль"},{"$f":"БДР!BB5","v":"Август"},{"$f":"БДР!BC5","v":"Сентябрь"},{"$f":"БДР!BD5","v":"Октябрь"},{"$f":"БДР!BE5","v":"Ноябрь"},{"$f":"БДР!BF5","v":"Декабрь"},{"$f":"БДР!BG5","v":"Январь"},{"$f":"БДР!BH5","v":"Февраль"},{"$f":"БДР!BI5","v":"Март"},{"$f":"БДР!BJ5","v":"Апрель"}]
["Год",{"$f":"'Исходные данные'!D252","v":2020},{"$f":"'Исходные данные'!E252","v":2020},{"$f":"'Исходные данные'!F252","v":2020},{"$f":"'Исходные данные'!G252","v":2020},{"$f":"'Исходные данные'!H252","v":2020},{"$f":"'Исходные данные'!I252","v":2020},{"$f":"'Исходные данные'!J252","v":2020},{"$f":"'Исходные данные'!K252","v":2020},{"$f":"'Исходные данные'!L252","v":2021},{"$f":"'Исходные данные'!M252","v":2021},{"$f":"'Исходные данные'!N252","v":2021},{"$f":"'Исходные данные'!O252","v":2021},{"$f":"БДР!C6","v":2021},{"$f":"БДР!D6","v":2021},{"$f":"БДР!E6","v":2021},{"$f":"БДР!F6","v":2021},{"$f":"БДР!G6","v":2021},{"$f":"БДР!H6","v":2021},{"$f":"БДР!I6","v":2021},{"$f":"БДР!J6","v":2021},{"$f":"БДР!K6","v":2022},{"$f":"БДР!L6","v":2022},{"$f":"БДР!M6","v":2022},{"$f":"БДР!N6","v":2022},{"$f":"БДР!O6","v":2022},{"$f":"БДР!P6","v":2022},{"$f":"БДР!Q6","v":2022},{"$f":"БДР!R6","v":2022},{"$f":"БДР!S6","v":2022},{"$f":"БДР!T6","v":2022},{"$f":"БДР!U6","v":2022},{"$f":"БДР!V6","v":2022},{"$f":"БДР!W6","v":2023},{"$f":"БДР!X6","v":2023},{"$f":"БДР!Y6","v":2023},{"$f":"БДР!Z6","v":2023},{"$f":"БДР!AA6","v":2023},{"$f":"БДР!AB6","v":2023},{"$f":"БДР!AC6","v":2023},{"$f":"БДР!AD6","v":2023},{"$f":"БДР!AE6","v":2023},{"$f":"БДР!AF6","v":2023},{"$f":"БДР!AG6","v":2023},{"$f":"БДР!AH6","v":2023},{"$f":"БДР!AI6","v":2024},{"$f":"БДР!AJ6","v":2024},{"$f":"БДР!AK6","v":2024},{"$f":"БДР!AL6","v":2024},{"$f":"БДР!AM6","v":2024},{"$f":"БДР!AN6","v":2024},{"$f":"БДР!AO6","v":2024},{"$f":"БДР!AP6","v":2024},{"$f":"БДР!AQ6","v":2024},{"$f":"БДР!AR6","v":2024},{"$f":"БДР!AS6","v":2024},{"$f":"БДР!AT6","v":2024},{"$f":"БДР!AU6","v":2025},{"$f":"БДР!AV6","v":2025},{"$f":"БДР!AW6","v":2025},{"$f":"БДР!AX6","v":2025},{"$f":"БДР!AY6","v":2025},{"$f":"БДР!AZ6","v":2025},{"$f":"БДР!BA6","v":2025},{"$f":"БДР!BB6","v":2025},{"$f":"БДР!BC6","v":2025},{"$f":"БДР!BD6","v":2025},{"$f":"БДР!BE6","v":2025},{"$f":"БДР!BF6","v":2025},{"$f":"БДР!BG6","v":2026},{"$f":"БДР!BH6","v":2026},{"$f":"БДР!BI6","v":2026},{"$f":"БДР!BJ6","v":2026}]
["Номер месяца от начала проекта",{"$f":"IF(B38=0,0,1)","v":0},{"$f":"IF(B36>0,B36+1,IF(C38=0,0,1))","v":0},{"$f":"IF(C36>0,C36+1,IF(D38=0,0,1))","v":0},0,0,0,0,0,0,1,2,3,4,5,6,7,8,9,10,11,12,13,14,15,16,17,18,19,20,21,22,23,24,25,26,27,28,29,30,31,32,33,34,35,36,37,38,39,40,41,42,43,44,45,46,47,48,49,50,51,52,53,54,55,56,57,{"$f":"IF(BO36>0,BO36+1,IF(BP38=0,0,1))","v":58},59,60,61,62,63]
["Объем инвестиций, руб.",{"$f":"'Исходные данные'!D259","v":0},{"$f":"'Исходные данные'!E259","v":0},{"$f":"'Исходные данные'!F259","v":0},{"$f":"'Исходные данные'!G259","v":0},{"$f":"'Исходные данные'!H259","v":0},{"$f":"'Исходные данные'!I259","v":0},{"$f":"'Исходные данные'!J259","v":0},{"$f":"'Исходные данные'!K259","v":0},{"$f":"'Исходные данные'!L259","v":0},{"$f":"'Исходные данные'!M259","v":170000},{"$f":"'Исходные данные'!N259","v":200000},{"$f":"'Исходные данные'!O259","v":387058.48583333334},{"$f":"БДДС!D58-БДДС!D68-БДДС!D56","v":0},{"$f":"БДДС!E58-БДДС!E68-БДДС!E56","v":0},{"$f":"БДДС!F58-БДДС!F68-БДДС!F56","v":0},{"$f":"БДДС!G58-БДДС!G68-БДДС!G56","v":0},{"$f":"БДДС!H58-БДДС!H68-БДДС!H56","v":0},{"$f":"БДДС!I58-БДДС!I68-БДДС!I56","v":0},{"$f":"БДДС!J58-БДДС!J68-БДДС!J56","v":0},{"$f":"БДДС!K58-БДДС!K68-БДДС!K56","v":0},{"$f":"БДДС!L58-БДДС!L68-БДДС!L56","v":0},{"$f":"БДДС!M58-БДДС!M68-БДДС!M56","v":0},{"$f":"БДДС!N58-БДДС!N68-БДДС!N56","v":0},{"$f":"БДДС!O58-БДДС!O68-БДДС!O56","v":0},{"$f":"БДДС!P58-БДДС!P68-БДДС!P56","v":0},{"$f":"БДДС!Q58-БДДС!Q68-БДДС!Q56","v":0},{"$f":"БДДС!R58-БДДС!R68-БДДС!R56","v":0},{"$f":"БДДС!S58-БДДС!S68-БДДС!S56","v":0},{"$f":"БДДС!T58-БДДС!T68-БДДС!T56","v":0},{"$f":"БДДС!U58-БДДС!U68-БДДС!U56","v":0},{"$f":"БДДС!V58-БДДС!V68-БДДС!V56","v":0},{"$f":"БДДС!W58-БДДС!W68-БДДС!W56","v":0},{"$f":"БДДС!X58-БДДС!X68-БДДС!X56","v":0},{"$f":"БДДС!Y58-БДДС!Y68-БДДС!Y56","v":0},{"$f":"БДДС!Z58-БДДС!Z68-БДДС!Z56","v":0},{"$f":"БДДС!AA58-БДДС!AA68-БДДС!AA56","v":0},{"$f":"БДДС!AB58-БДДС!AB68-БДДС!AB56","v":0},{"$f":"БДДС!AC58-БДДС!AC68-БДДС!AC56","v":0},{"$f":"БДДС!AD58-БДДС!AD68-БДДС!AD56","v":0},{"$f":"БДДС!AE58-БДДС!AE68-БДДС!AE56","v":0},{"$f":"БДДС!AF58-БДДС!AF68-БДДС!AF56","v":0},{"$f":"БДДС!AG58-БДДС!AG68-БДДС!AG56","v":0},{"$f":"БДДС!AH58-БДДС!AH68-БДДС!AH56","v":0},{"$f":"БДДС!AI58-БДДС!AI68-БДДС!AI56","v":0},{"$f":"БДДС!AJ58-БДДС!AJ68-БДДС!AJ56","v":0},{"$f":"БДДС!AK58-БДДС!AK68-БДДС!AK56","v":0},{"$f":"БДДС!AL58-БДДС!AL68-БДДС!AL56","v":0},{"$f":"БДДС!AM58-БДДС!AM68-БДДС!AM56","v":70000},{"$f":"БДДС!AN58-БДДС!AN68-БДДС!AN56","v":-21000},{"$f":"БДДС!AO58-БДДС!AO68-БДДС!AO56","v":0},{"$f":"БДДС!AP58-БДДС!AP68-БДДС!AP56","v":0},{"$f":"БДДС!AQ58-БДДС!AQ68-БДДС!AQ56","v":0},{"$f":"БДДС!AR58-БДДС!AR68-БДДС!AR56","v":0},{"$f":"БДДС!AS58-БДДС!AS68-БДДС!AS56","v":0},{"$f":"БДДС!AT58-БДДС!AT68-БДДС!AT56","v":0},{"$f":"БДДС!AU58-БДДС!AU68-БДДС!AU56","v":0},{"$f":"БДДС!AV58-БДДС!AV68-БДДС!AV56","v":0},{"$f":"БДДС!AW58-БДДС!AW68-БДДС!AW56","v":0},{"$f":"БДДС!AX58-БДДС!AX68-БДДС!AX56","v":0},{"$f":"БДДС!AY58-БДДС!AY68-БДДС!AY56","v":0},{"$f":"БДДС!AZ58-БДДС!AZ68-БДДС!AZ56","v":0},{"$f":"БДДС!BA58-БДДС!BA68-БДДС!BA56","v":0},{"$f":"БДДС!BB58-БДДС!BB68-БДДС!BB56","v":0},{"$f":"БДДС!BC58-БДДС!BC68-БДДС!BC56","v":0},{"$f":"БДДС!BD58-БДДС!BD68-БДДС!BD56","v":0},{"$f":"БДДС!BE58-БДДС!BE68-БДДС!BE56","v":0},{"$f":"БДДС!BF58-БДДС!BF68-БДДС!BF56","v":0},{"$f":"БДДС!BG58-БДДС!BG68-БДДС!BG56","v":0},{"$f":"БДДС!BH58-БДДС!BH68-БДДС!BH56","v":0},{"$f":"БДДС!BI58-БДДС!BI68-БДДС!BI56","v":0},{"$f":"БДДС!BJ58-БДДС!BJ68-БДДС!BJ56","v":0},{"$f":"БДДС!BK58-БДДС!BK68-БДДС!BK56","v":0}]
["То же нарастающим итогом",{"$f":"B37","v":0},{"$f":"B38+C37","v":0},0,0,0,0,0,0,0,170000,370000,757058.48583333334,757058.48583333334,757058.48583333334,757058.48583333334,757058.48583333334,757058.48583333334,757058.48583333334,757058.48583333334,757058.48583333334,757058.48583333334,757058.48583333334,757058.48583333334,757058.48583333334,757058.48583333334,757058.48583333334,757058.48583333334,757058.48583333334,757058.48583333334,757058.48583333334,757058.48583333334,757058.48583333334,757058.48583333334,{"$f":"AH38+AI37","v":757058.48583333334},757058.48583333334,757058.48583333334,757058.48583333334,757058.48583333334,757058.48583333334,757058.48583333334,757058.48583333334,757058.48583333334,757058.48583333334,757058.48583333334,757058.48583333334,757058.48583333334,757058.48583333334,827058.48583333334,806058.48583333334,806058.48583333334,806058.48583333334,806058.48583333334,806058.48583333334,806058.48583333334,806058.48583333334,806058.48583333334,806058.48583333334,806058.48583333334,806058.48583333334,806058.48583333334,806058.48583333334,806058.48583333334,806058.48583333334,806058.48583333334,806058.48583333334,{"$f":"BN38+BO37","v":806058.48583333334},806058.48583333334,806058.48583333334,806058.48583333334,806058.48583333334,806058.48583333334,806058.48583333334]
["Сумма чистой прибыли и амортизационных отчислений, тыс.руб.",0,{"$f":"B39","v":0},0,0,0,0,0,0,0,0,0,0,{"$f":"БДР!C47+БДР!C24","v":-264570.1281423152},{"$f":"БДР!D47+БДР!D24","v":93089.958561370338},{"$f":"БДР!E47+БДР!E24","v":85553.263735625631},{"$f":"БДР!F47+БДР!F24","v":106137.36574636759},{"$f":"БДР!G47+БДР!G24","v":109925.91466666669},{"$f":"БДР!H47+БДР!H24","v":-12622.302083333401},{"$f":"БДР!I47+БДР!I24","v":56518.702666666744},{"$f":"БДР!J47+БДР!J24","v":908168.29066666646},{"$f":"БДР!K47+БДР!K24","v":219148.67716666666},{"$f":"БДР!L47+БДР!L24","v":167127.29466666668},{"$f":"БДР!M47+БДР!M24","v":121667.7946666667},{"$f":"БДР!N47+БДР!N24","v":-29038.639916666652},{"$f":"БДР!O47+БДР!O24","v":121113.49800000002},{"$f":"БДР!P47+БДР!P24","v":53481.14800000003},{"$f":"БДР!Q47+БДР!Q24","v":65258.89800000003},{"$f":"БДР!R47+БДР!R24","v":137626.69800000003},{"$f":"БДР!S47+БДР!S24","v":110174.99800000002},{"$f":"БДР!T47+БДР!T24","v":46669.897999999928},{"$f":"БДР!U47+БДР!U24","v":57352.03600000008},{"$f":"БДР!V47+БДР!V24","v":908417.37399999984},{"$f":"БДР!W47+БДР!W24","v":221387.97026249999},{"$f":"БДР!X47+БДР!X24","v":167960.62800000003},{"$f":"БДР!Y47+БДР!Y24","v":121843.37800000003},{"$f":"БДР!Z47+БДР!Z24","v":-24297.847499999974},{"$f":"БДР!AA47+БДР!AA24","v":121113.49800000002},{"$f":"БДР!AB47+БДР!AB24","v":15163.998000000036},{"$f":"БДР!AC47+БДР!AC24","v":65258.89800000003},{"$f":"БДР!AD47+БДР!AD24","v":137626.69800000003},{"$f":"БДР!AE47+БДР!AE24","v":109517.24800000002},{"$f":"БДР!AF47+БДР!AF24","v":46669.897999999928},{"$f":"БДР!AG47+БДР!AG24","v":57352.03600000008},{"$f":"БДР!AH47+БДР!AH24","v":907759.62399999984},{"$f":"БДР!AI47+БДР!AI24","v":223137.27969712499},{"$f":"БДР!AJ47+БДР!AJ24","v":169560.62800000003},{"$f":"БДР!AK47+БДР!AK24","v":123443.37800000003},{"$f":"БДР!AL47+БДР!AL24","v":-32697.847499999974},{"$f":"БДР!AM47+БДР!AM24","v":143713.49800000002},{"$f":"БДР!AN47+БДР!AN24","v":16763.998000000036},{"$f":"БДР!AO47+БДР!AO24","v":66858.89800000003},{"$f":"БДР!AP47+БДР!AP24","v":139226.69800000003},{"$f":"БДР!AQ47+БДР!AQ24","v":111117.24800000002},{"$f":"БДР!AR47+БДР!AR24","v":48269.897999999928},{"$f":"БДР!AS47+БДР!AS24","v":58952.03600000008},{"$f":"БДР!AT47+БДР!AT24","v":909359.62399999984},{"$f":"БДР!AU47+БДР!AU24","v":225756.8004140862},{"$f":"БДР!AV47+БДР!AV24","v":169560.62800000003},{"$f":"БДР!AW47+БДР!AW24","v":123443.37800000003},{"$f":"БДР!AX47+БДР!AX24","v":-22697.847499999974},{"$f":"БДР!AY47+БДР!AY24","v":122713.49800000002},{"$f":"БДР!AZ47+БДР!AZ24","v":16763.998000000036},{"$f":"БДР!BA47+БДР!BA24","v":66858.89800000003},{"$f":"БДР!BB47+БДР!BB24","v":139226.69800000003},{"$f":"БДР!BC47+БДР!BC24","v":111117.24800000002},{"$f":"БДР!BD47+БДР!BD24","v":48269.897999999928},{"$f":"БДР!BE47+БДР!BE24","v":58952.03600000008},{"$f":"БДР!BF47+БДР!BF24","v":909359.62399999984},{"$f":"БДР!BG47+БДР!BG24","v":223278.21479257738},{"$f":"БДР!BH47+БДР!BH24","v":169560.62800000003},{"$f":"БДР!BI47+БДР!BI24","v":123443.37800000003},{"$f":"БДР!BJ47+БДР!BJ24","v":-81697.847499999974}]
["То же нарастающим итогом",{"$f":"B39","v":0},{"$f":"B40+C39","v":0},0,0,0,0,0,0,0,0,0,0,-264570.1281423152,-171480.16958094487,-85926.905845319241,20210.459901048351,130136.37456771504,117514.07248438164,174032.77515104838,1082201.0658177149,1301349.7429843815,1468477.0376510483,1590144.832317715,1561106.1924010485,1682219.6904010484,1735700.8384010484,1800959.7364010485,1938586.4344010486,2048761.4324010485,2095431.3304010485,2152783.3664010484,3061200.7404010482,3282588.7106635482,{"$f":"AH40+AI39","v":3450549.3386635482},3572392.7166635483,3548094.8691635481,3669208.3671635482,3684372.3651635484,3749631.2631635484,3887257.9611635483,3996775.2091635484,4043445.1071635485,4100797.1431635488,5008556.7671635486,5231694.0468606735,5401254.674860673,5524698.0528606735,5492000.2053606734,5635713.703360673,5652477.7013606727,5719336.5993606728,5858563.2973606726,5969680.5453606723,6017950.4433606723,6076902.4793606726,6986262.1033606725,7212018.9037747588,7381579.5317747593,7505022.9097747598,7482325.0622747596,7605038.5602747593,7621802.558274759,7688661.456274759,7827888.1542747589,7939005.4022747586,{"$f":"BN40+BO39","v":7987275.3002747586},8046227.3362747589,8955586.9602747597,9178865.1750673372,9348425.8030673377,9471869.1810673382,9390171.3335673381]
["Чистый доход",{"$f":"B39-B37","v":0},{"$f":"C39-C37","v":0},0,0,0,0,0,0,0,-170000,-200000,-387058.48583333334,-264570.1281423152,93089.958561370338,85553.263735625631,106137.36574636759,109925.91466666669,-12622.302083333401,56518.702666666744,908168.29066666646,219148.67716666666,167127.29466666668,121667.7946666667,-29038.639916666652,121113.49800000002,53481.14800000003,65258.89800000003,137626.69800000003,110174.99800000002,46669.897999999928,57352.03600000008,908417.37399999984,221387.97026249999,167960.62800000003,121843.37800000003,-24297.847499999974,121113.49800000002,15163.998000000036,65258.89800000003,137626.69800000003,109517.24800000002,46669.897999999928,57352.03600000008,907759.62399999984,223137.27969712499,169560.62800000003,123443.37800000003,-102697.84749999997,164713.49800000002,16763.998000000036,66858.89800000003,139226.69800000003,111117.24800000002,48269.897999999928,58952.03600000008,909359.62399999984,225756.8004140862,169560.62800000003,123443.37800000003,-22697.847499999974,122713.49800000002,16763.998000000036,66858.89800000003,139226.69800000003,111117.24800000002,{"$f":"BO39-BO37","v":48269.897999999928},58952.03600000008,909359.62399999984,223278.21479257738,169560.62800000003,123443.37800000003,-81697.847499999974]
["Денежный поток нарастающим итогом",{"$f":"B40-B38","v":0},{"$f":"C40-C38","v":0},0,0,0,0,0,0,0,-170000,-370000,-757058.48583333334,-1021628.6139756485,-928538.65541427815,-842985.39167865261,-736848.025932285,-626922.11126561835,-639544.41334895173,-583025.71068228502,325142.57998438156,544291.25715104816,711418.55181771494,833086.34648438171,804047.70656771515,925161.20456771506,978642.3525677151,1043901.2505677151,1181527.9485677152,1291702.9465677151,1338372.8445677152,1395724.880567715,2304142.2545677149,2525530.2248302149,{"$f":"AI40-AI38","v":2693490.8528302149},2815334.2308302149,2791036.3833302148,2912149.8813302149,2927313.879330215,2992572.7773302151,3130199.4753302149,3239716.7233302151,3286386.6213302151,3343738.6573302154,4251498.2813302148,4474635.5610273406,4644196.1890273392,4767639.5670273397,4664941.7195273396,4829655.2175273392,4846419.2155273389,4913278.113527339,5052504.8115273397,5163622.0595273394,5211891.9575273395,5270843.9935273398,6180203.6175273396,6405960.417941425,6575521.0459414255,6698964.423941426,6676266.5764414258,6798980.0744414255,6815744.0724414252,6882602.9704414252,7021829.668441426,7132946.9164414257,{"$f":"BO40-BO38","v":7181216.8144414257},7240168.850441426,8149528.4744414259,8372806.6892340034,8542367.3172340039,8665810.6952340044,8584112.8477340043]
["Признак (0-окупился; 1-не окупился)",null,null,null,null,null,null,null,null,null,null,null,null,{"$f":"IF(N42>0,0,1)","v":1},{"$f":"IF(OR(N43=0,O42>0),0,1)","v":1},1,1,1,1,1,0,0,0,0,0,0,0,0,0,0,0,0,0,0,0,0,0,0,0,0,0,0,0,0,0,0,{"$f":"IF(OR(AT43=0,AU42>0),0,1)","v":0},0,0,0,0,0,0,0,0,0,0,0,0,0,0,0,0,0,0,0,0,0,0,0,0,0,0]
["Коэффициент дисконтирования, at",{"$f":"IF(B36=0,0,(1+'Исходные данные'!$C$280/12)^(-(B36-1)))","v":0},{"$f":"IF(C36=0,0,(1+'Исходные данные'!$C$280/12)^(-(C36-1)))","v":0},{"$f":"IF(D36=0,0,(1+'Исходные данные'!$C$280/12)^(-(D36-1)))","v":0},{"$f":"IF(E36=0,0,(1+'Исходные данные'!$C$280/12)^(-(E36-1)))","v":0},{"$f":"IF(F36=0,0,(1+'Исходные данные'!$C$280/12)^(-(F36-1)))","v":0},{"$f":"IF(G36=0,0,(1+'Исходные данные'!$C$280/12)^(-(G36-1)))","v":0},{"$f":"IF(H36=0,0,(1+'Исходные данные'!$C$280/12)^(-(H36-1)))","v":0},{"$f":"IF(I36=0,0,(1+'Исходные данные'!$C$280/12)^(-(I36-1)))","v":0},{"$f":"IF(J36=0,0,(1+'Исходные данные'!$C$280/12)^(-(J36-1)))","v":0},{"$f":"IF(K36=0,0,(1+'Исходные данные'!$C$280/12)^(-(K36-1)))","v":1},{"$f":"IF(L36=0,0,(1+'Исходные данные'!$C$280/12)^(-(L36-1)))","v":0.98400984009840087},{"$f":"IF(M36=0,0,(1+'Исходные данные'!$C$280/12)^(-(M36-1)))","v":0.96827536541048043},{"$f":"IF(N36=0,0,(1+'Исходные данные'!$C$280/12)^(-(N36-1)))","v":0.95279248748878742},{"$f":"IF(O36=0,0,(1+'Исходные данные'!$C$280/12)^(-(O36-1)))","v":0.9375571832607994},{"$f":"IF(P36=0,0,(1+'Исходные данные'!$C$280/12)^(-(P36-1)))","v":0.92256549398356635},{"$f":"IF(Q36=0,0,(1+'Исходные данные'!$C$280/12)^(-(Q36-1)))","v":0.90781352421507122},{"$f":"IF(R36=0,0,(1+'Исходные данные'!$C$280/12)^(-(R36-1)))","v":0.89329744080203799},{"$f":"IF(S36=0,0,(1+'Исходные данные'!$C$280/12)^(-(S36-1)))","v":0.8790134718839242},{"$f":"IF(T36=0,0,(1+'Исходные данные'!$C$280/12)^(-(T36-1)))","v":0.86495790591284061},{"$f":"IF(U36=0,0,(1+'Исходные данные'!$C$280/12)^(-(U36-1)))","v":0.85112709068914183},{"$f":"IF(V36=0,0,(1+'Исходные данные'!$C$280/12)^(-(V36-1)))","v":0.83751743241243959},{"$f":"IF(W36=0,0,(1+'Исходные данные'!$C$280/12)^(-(W36-1)))","v":0.8241253947477879},{"$f":"IF(X36=0,0,(1+'Исходные данные'!$C$280/12)^(-(X36-1)))","v":0.81094749790680221},{"$f":"IF(Y36=0,0,(1+'Исходные данные'!$C$280/12)^(-(Y36-1)))","v":0.79798031774347067},{"$f":"IF(Z36=0,0,(1+'Исходные данные'!$C$280/12)^(-(Z36-1)))","v":0.78522048486442364},{"$f":"IF(AA36=0,0,(1+'Исходные данные'!$C$280/12)^(-(AA36-1)))","v":0.77266468375343045},{"$f":"IF(AB36=0,0,(1+'Исходные данные'!$C$280/12)^(-(AB36-1)))","v":0.76030965190989452},{"$f":"IF(AC36=0,0,(1+'Исходные данные'!$C$280/12)^(-(AC36-1)))","v":0.74815217900112607},{"$f":"IF(AD36=0,0,(1+'Исходные данные'!$C$280/12)^(-(AD36-1)))","v":0.73618910602816823},{"$f":"IF(AE36=0,0,(1+'Исходные данные'!$C$280/12)^(-(AE36-1)))","v":0.72441732450496255},{"$f":"IF(AF36=0,0,(1+'Исходные данные'!$C$280/12)^(-(AF36-1)))","v":0.71283377565063955},{"$f":"IF(AG36=0,0,(1+'Исходные данные'!$C$280/12)^(-(AG36-1)))","v":0.70143544959472515},{"$f":"IF(AH36=0,0,(1+'Исходные данные'!$C$280/12)^(-(AH36-1)))","v":0.69021938459505539},{"$f":"IF(AI36=0,0,(1+'Исходные данные'!$C$280/12)^(-(AI36-1)))","v":0.67918266626819723},{"$f":"IF(AJ36=0,0,(1+'Исходные данные'!$C$280/12)^(-(AJ36-1)))","v":0.66832242683217435},{"$f":"IF(AK36=0,0,(1+'Исходные данные'!$C$280/12)^(-(AK36-1)))","v":0.65763584436130307},{"$f":"IF(AL36=0,0,(1+'Исходные данные'!$C$280/12)^(-(AL36-1)))","v":0.64712014205294266},{"$f":"IF(AM36=0,0,(1+'Исходные данные'!$C$280/12)^(-(AM36-1)))","v":0.63677258750597054},{"$f":"IF(AN36=0,0,(1+'Исходные данные'!$C$280/12)^(-(AN36-1)))","v":0.62659049201079509},{"$f":"IF(AO36=0,0,(1+'Исходные данные'!$C$280/12)^(-(AO36-1)))","v":0.61657120985072078},{"$f":"IF(AP36=0,0,(1+'Исходные данные'!$C$280/12)^(-(AP36-1)))","v":0.60671213761448517},{"$f":"IF(AQ36=0,0,(1+'Исходные данные'!$C$280/12)^(-(AQ36-1)))","v":0.59701071351978863},{"$f":"IF(AR36=0,0,(1+'Исходные данные'!$C$280/12)^(-(AR36-1)))","v":0.58746441674763938},{"$f":"IF(AS36=0,0,(1+'Исходные данные'!$C$280/12)^(-(AS36-1)))","v":0.57807076678734504},{"$f":"IF(AT36=0,0,(1+'Исходные данные'!$C$280/12)^(-(AT36-1)))","v":0.56882732279197534},{"$f":"IF(AU36=0,0,(1+'Исходные данные'!$C$280/12)^(-(AU36-1)))","v":0.55973168294413311},{"$f":"IF(AV36=0,0,(1+'Исходные данные'!$C$280/12)^(-(AV36-1)))","v":0.5507814838318652},{"$f":"IF(AW36=0,0,(1+'Исходные данные'!$C$280/12)^(-(AW36-1)))","v":0.54197439983455364},{"$f":"IF(AX36=0,0,(1+'Исходные данные'!$C$280/12)^(-(AX36-1)))","v":0.53330814251862579},{"$f":"IF(AY36=0,0,(1+'Исходные данные'!$C$280/12)^(-(AY36-1)))","v":0.52478046004292833},{"$f":"IF(AZ36=0,0,(1+'Исходные данные'!$C$280/12)^(-(AZ36-1)))","v":0.51638913657360719},{"$f":"IF(BA36=0,0,(1+'Исходные данные'!$C$280/12)^(-(BA36-1)))","v":0.50813199170834644},{"$f":"IF(BB36=0,0,(1+'Исходные данные'!$C$280/12)^(-(BB36-1)))","v":0.50000687990981185},{"$f":"IF(BC36=0,0,(1+'Исходные данные'!$C$280/12)^(-(BC36-1)))","v":0.49201168994815436},{"$f":"IF(BD36=0,0,(1+'Исходные данные'!$C$280/12)^(-(BD36-1)))","v":0.48414434435242731},{"$f":"IF(BE36=0,0,(1+'Исходные данные'!$C$280/12)^(-(BE36-1)))","v":0.47640279887077708},{"$f":"IF(BF36=0,0,(1+'Исходные данные'!$C$280/12)^(-(BF36-1)))","v":0.46878504193926396},{"$f":"IF(BG36=0,0,(1+'Исходные данные'!$C$280/12)^(-(BG36-1)))","v":0.4612890941591774},{"$f":"IF(BH36=0,0,(1+'Исходные данные'!$C$280/12)^(-(BH36-1)))","v":0.45391300778270827},{"$f":"IF(BI36=0,0,(1+'Исходные данные'!$C$280/12)^(-(BI36-1)))","v":0.44665486620684691},{"$f":"IF(BJ36=0,0,(1+'Исходные данные'!$C$280/12)^(-(BJ36-1)))","v":0.43951278347537204},{"$f":"IF(BK36=0,0,(1+'Исходные данные'!$C$280/12)^(-(BK36-1)))","v":0.43248490378880394},{"$f":"IF(BL36=0,0,(1+'Исходные данные'!$C$280/12)^(-(BL36-1)))","v":0.42556940102219326},{"$f":"IF(BM36=0,0,(1+'Исходные данные'!$C$280/12)^(-(BM36-1)))","v":0.41876447825062058},{"$f":"IF(BN36=0,0,(1+'Исходные данные'!$C$280/12)^(-(BN36-1)))","v":0.41206836728228341},{"$f":"IF(BO36=0,0,(1+'Исходные данные'!$C$280/12)^(-(BO36-1)))","v":0.40547932819904897},{"$f":"IF(BP36=0,0,(1+'Исходные данные'!$C$280/12)^(-(BP36-1)))","v":0.39899564890435318},{"$f":"IF(BQ36=0,0,(1+'Исходные данные'!$C$280/12)^(-(BQ36-1)))","v":0.39261564467833021},{"$f":"IF(BR36=0,0,(1+'Исходные данные'!$C$280/12)^(-(BR36-1)))","v":0.3863376577400543},{"$f":"IF(BS36=0,0,(1+'Исходные данные'!$C$280/12)^(-(BS36-1)))","v":0.38016005681678156},{"$f":"IF(BT36=0,0,(1+'Исходные данные'!$C$280/12)^(-(BT36-1)))","v":0.37408123672008015},{"$f":"IF(BU36=0,0,(1+'Исходные данные'!$C$280/12)^(-(BU36-1)))","v":0.36809961792873813}]
["Дисконтированный объем инвестиций, руб.",{"$f":"B37*B44","v":0},0,0,0,0,0,0,0,0,170000,196801.96801968018,374779.1968054981,0,0,0,0,0,0,0,0,0,0,0,0,0,0,0,0,0,0,0,0,{"$f":"AH37*AH44","v":0},0,0,0,0,0,0,0,0,0,0,0,0,0,0,37938.207988418755,-11199.470992891142,0,0,0,0,0,0,0,0,0,0,0,0,0,0,0,{"$f":"BN37*BN44","v":0},0,0,0,0,0,0,0]
["Дисконтированная сумма чистой прибыли и амортизационных отчислений, тыс.руб.",{"$f":"B39*B44","v":0},0,0,0,0,0,0,0,0,0,0,0,-252080.43050794373,87277.15933866291,78928.48902016379,96352.936049113952,98196.538249556572,-11095.173577438583,48886.298703470544,772966.63509125076,183540.83741720929,137733.84769029653,98666.193660771925,-23172.263107539886,95100.799623186424,41322.994306190434,49616.970022403337,102965.71399742995,81109.633284275245,33808.48264407945,40882.468363131462,637196.14915134944,{"$f":"AH39*AH44","v":152806.26859133117},114075.94715312084,81430.662078389985,-15979.135456824661,78374.984030288804,9656.0182433953851,40890.605005902311,84856.659693619789,66445.44363973572,27862.429104875715,33692.280378029667,524749.30190427194,126926.58142519981,94908.455671504111,67990.326904057845,-17721.396274694245,76643.578673234253,8797.4185825987497,34525.208610482885,70745.539353716478,55559.388476644795,23749.354088605,28541.29481746073,433221.47005367739,105831.41115019144,78216.468495181267,56032.554998837812,-10138.104038295904,53934.151075979506,7250.176062145717,28453.101174863928,58303.195546526731,{"$f":"BN39*BN44","v":45787.902960260581},19572.445813276587,23521.605858052822,357028.81502120389,86260.782527345087,64460.177974369173,46177.85150714434,-30072.946450350304]
["Чистый дисконтированный доход",{"$f":"B46-B45","v":0},0,0,0,0,0,0,0,0,-170000,-196801.96801968018,-374779.1968054981,-252080.43050794373,87277.15933866291,78928.48902016379,96352.936049113952,98196.538249556572,-11095.173577438583,48886.298703470544,772966.63509125076,183540.83741720929,137733.84769029653,98666.193660771925,-23172.263107539886,95100.799623186424,41322.994306190434,49616.970022403337,102965.71399742995,81109.633284275245,33808.48264407945,40882.468363131462,637196.14915134944,{"$f":"AH46-AH45","v":152806.26859133117},114075.94715312084,81430.662078389985,-15979.135456824661,78374.984030288804,9656.0182433953851,40890.605005902311,84856.659693619789,66445.44363973572,27862.429104875715,33692.280378029667,524749.30190427194,126926.58142519981,94908.455671504111,67990.326904057845,-55659.604263112997,87843.0496661254,8797.4185825987497,34525.208610482885,70745.539353716478,55559.388476644795,23749.354088605,28541.29481746073,433221.47005367739,105831.41115019144,78216.468495181267,56032.554998837812,-10138.104038295904,53934.151075979506,7250.176062145717,28453.101174863928,58303.195546526731,{"$f":"BN46-BN45","v":45787.902960260581},19572.445813276587,23521.605858052822,357028.81502120389,86260.782527345087,64460.177974369173,46177.85150714434,-30072.946450350304]
["Чистый дисконтированный доход нарастающим итогом (NPV)",{"$f":"B47","v":0},{"$f":"B48+C47","v":0},0,0,0,0,0,0,0,-170000,-366801.96801968018,-741581.16482517822,-993661.59533312195,-906384.43599445908,-827455.94697429531,-731103.01092518133,-632906.47267562477,-644001.64625306334,-595115.34754959284,177851.28754165792,361392.12495886721,499125.97264916374,597792.16630993562,574619.90320239577,669720.70282558224,711043.69713177264,760660.66715417593,863626.38115160586,944736.01443588105,978544.49707996054,1019426.965443092,1656623.1145944414,1809429.3831857725,{"$f":"AH48+AI47","v":1923505.3303388932},2004935.9924172831,1988956.8569604584,2067331.8409907473,2076987.8592341428,2117878.4642400453,2202735.123933665,2269180.5675734007,2297042.9966782765,2330735.2770563061,2855484.578960578,2982411.1603857777,3077319.6160572818,3145309.9429613398,3089650.338698227,3177493.3883643523,3186290.806946951,3220816.0155574339,3291561.5549111506,3347120.9433877952,3370870.2974764002,3399411.5922938609,3832633.0623475383,3938464.4734977297,4016680.941992911,4072713.4969917489,4062575.3929534531,4116509.5440294328,4123759.7200915786,4152212.8212664425,4210516.016812969,4256303.9197732294,{"$f":"BN48+BO47","v":4275876.3655865062},4299397.9714445593,4656426.7864657631,4742687.5689931083,4807147.7469674777,4853325.5984746218,4823252.6520242719]
["Признак (0-окупился; 1-не окупился)",null,null,null,null,null,null,null,null,null,null,null,null,{"$f":"IF(N48>0,0,1)","v":1},{"$f":"IF(OR(N49=0,O48>0),0,1)","v":1},1,1,1,1,1,0,0,0,0,0,0,0,0,0,0,0,0,0,0,0,0,0,0,0,0,0,0,0,0,0,0,{"$f":"IF(OR(AT49=0,AU48>0),0,1)","v":0},0,0,0,0,0,0,0,0,0,0,0,0,0,0,0,0,0,0,0,0,0,0,0,0,0,0]
[]
["ВНУТРЕННЯЯ НОРМА РЕНТАБЕЛЬНОСТИ, ДОХОДНОСТИ (IRR)"]
[]
["Наименование показателей","\"0\"","1-й год","2-й год","3-й год","4-й год","5-й год"]
["Чистый доход",{"$f":"SUM(B41:M41)","v":-757058.48583333334},{"$f":"SUM(N41:Y41)","v":1561106.1924010485},{"$f":"SUM(Z41:AK41)","v":1986988.6767625001},{"$f":"SUM(AL41:AW41)","v":1873905.3361971253},{"$f":"SUM(AX41:BI41)","v":2011324.8569140865},{"$f":"SUM(BJ41:BU41)","v":1907846.2712925775}]
["Внутренняя норма рентабельности (IRR)",{"$f":"IFERROR(IRR($B54:G54),\"\")","v":2.2192787819327373}]
[]
["МОДИФИЦИРОВАННАЯ ВНУТРЕННЯЯ НОРМА ДОХОДНОСТИ (MIRR)"]
[]
["Наименование показателей",{"$f":"B53","v":"\"0\""},{"$f":"C53","v":"1-й год"},"2-й год","3-й год","4-й год","5-й год"]
["Чистый доход",{"$f":"B54","v":-757058.48583333334},{"$f":"C54","v":1561106.1924010485},{"$f":"D54","v":1986988.6767625001},1873905.3361971253,2011324.8569140865,1907846.2712925775]
["Положительный денежный поток",{"$f":"IF(B60>0,B60,0)","v":0},1561106.1924010485,1986988.6767625001,1873905.3361971253,2011324.8569140865,1907846.2712925775]
["Отрицательный денежный поток",{"$f":"IF(B60<0,B60*(-1),0)","v":757058.48583333334},0,0,0,0,0]
["PV (negative cash flows, finance rate)",{"$f":"B62+C62/(1+'Исходные данные'!$C$280)^1+D62/(1+'Исходные данные'!$C$280)^2+E62/(1+'Исходные данные'!$C$280)^3+F62/(1+'Исходные данные'!$C$280)^4+G62/(1+'Исходные данные'!$C$280)^5","v":757058.48583333334}]
["FV (positive cash flows, reinvestment rate)",{"$f":"G61+F61*(1+'Исходные данные'!$C$282)^1+E61*(1+'Исходные данные'!$C$282)^2+D61*(1+'Исходные данные'!$C$282)^3+C61*(1+'Исходные данные'!$C$282)^4+B61*(1+'Исходные данные'!$C$282)^5","v":12333473.948739046}]
["Модифицированная внутренняя норма рентабельности (MIRR)",{"$f":"IFERROR((B64/B63)^(1/5)-1,\"\")","v":0.74739543903418393}]
[]
["СРОК ВОЗВРАТА КРЕДИТА"]
[]
["Наименование показателей","Всего","\"0\"",{"$f":"'Исходные данные'!D244","v":"2кв2021"},{"$f":"'Исходные данные'!E244","v":"3кв2021"},{"$f":"'Исходные данные'!F244","v":"4кв2021"},{"$f":"'Исходные данные'!G244","v":"1кв2022"},{"$f":"'Исходные данные'!H244","v":"2кв2022"},{"$f":"'Исходные данные'!I244","v":"3кв2022"},{"$f":"'Исходные данные'!J244","v":"4кв2022"},{"$f":"'Исходные данные'!K244","v":"1кв2023"},{"$f":"'Исходные данные'!L244","v":"2кв2023"},{"$f":"'Исходные данные'!M244","v":"3кв2023"},{"$f":"'Исходные данные'!N244","v":"4кв2023"},{"$f":"'Исходные данные'!O244","v":"1кв2024"},{"$f":"'Исходные данные'!P244","v":"2кв2024"},{"$f":"'Исходные данные'!Q244","v":"3кв2024"},{"$f":"'Исходные данные'!R244","v":"4кв2024"},{"$f":"'Исходные данные'!S244","v":"1кв2025"},{"$f":"'Исходные данные'!T244","v":"2кв2025"},{"$f":"'Исходные данные'!U244","v":"3кв2025"},{"$f":"'Исходные данные'!V244","v":"4кв2025"},{"$f":"'Исходные данные'!W244","v":"1кв2026"}]
["Привлечение кредита",{"$f":"SUM(C70:W70)","v":160000},{"$f":"'Исходные данные'!C209","v":160000}]
["Погашение задолженности по кредиту",{"$f":"SUM(C71:W71)","v":160000},null,{"$f":"'Исходные данные'!D246","v":0},{"$f":"'Исходные данные'!E246","v":0},{"$f":"'Исходные данные'!F246","v":0},{"$f":"'Исходные данные'!G246","v":0},{"$f":"'Исходные данные'!H246","v":0},{"$f":"'Исходные данные'!I246","v":0},{"$f":"'Исходные данные'!J246","v":0},{"$f":"'Исходные данные'!K246","v":0},{"$f":"'Исходные данные'!L246","v":0},{"$f":"'Исходные данные'!M246","v":0},{"$f":"'Исходные данные'!N246","v":160000},{"$f":"'Исходные данные'!O246","v":0},{"$f":"'Исходные данные'!P246","v":0},{"$f":"'Исходные данные'!Q246","v":0},{"$f":"'Исходные данные'!R246","v":0},{"$f":"'Исходные данные'!S246","v":0},{"$f":"'Исходные данные'!T246","v":0},{"$f":"'Исходные данные'!U246","v":0},{"$f":"'Исходные данные'!V246","v":0},{"$f":"'Исходные данные'!W246","v":0}]
["Задолженность по кредиту на конец периода",null,{"$f":"C70-C71","v":160000},{"$f":"C72+D70-D71","v":160000},{"$f":"D72+E70-E71","v":160000},160000,160000,160000,160000,160000,160000,160000,160000,0,0,0,0,0,0,0,0,0,0]
["Начислено и выплачено процентов по кредиту",{"$f":"SUM(C73:W73)","v":52000},{"$f":"БДДС!C53","v":0},{"$f":"SUMIF(БДДС!$D$8:$BK$8,D$69,БДДС!$D$53:$BK$53)","v":3200},{"$f":"SUMIF(БДДС!$D$8:$BK$8,E$69,БДДС!$D$53:$BK$53)","v":4800},{"$f":"SUMIF(БДДС!$D$8:$BK$8,F$69,БДДС!$D$53:$BK$53)","v":4800},{"$f":"SUMIF(БДДС!$D$8:$BK$8,G$69,БДДС!$D$53:$BK$53)","v":4800},{"$f":"SUMIF(БДДС!$D$8:$BK$8,H$69,БДДС!$D$53:$BK$53)","v":4800},{"$f":"SUMIF(БДДС!$D$8:$BK$8,I$69,БДДС!$D$53:$BK$53)","v":4800},{"$f":"SUMIF(БДДС!$D$8:$BK$8,J$69,БДДС!$D$53:$BK$53)","v":4800},{"$f":"SUMIF(БДДС!$D$8:$BK$8,K$69,БДДС!$D$53:$BK$53)","v":4800},{"$f":"SUMIF(БДДС!$D$8:$BK$8,L$69,БДДС!$D$53:$BK$53)","v":4800},{"$f":"SUMIF(БДДС!$D$8:$BK$8,M$69,БДДС!$D$53:$BK$53)","v":4800},{"$f":"SUMIF(БДДС!$D$8:$BK$8,N$69,БДДС!$D$53:$BK$53)","v":4800},{"$f":"SUMIF(БДДС!$D$8:$BK$8,O$69,БДДС!$D$53:$BK$53)","v":800},{"$f":"SUMIF(БДДС!$D$8:$BK$8,P$69,БДДС!$D$53:$BK$53)","v":0},{"$f":"SUMIF(БДДС!$D$8:$BK$8,Q$69,БДДС!$D$53:$BK$53)","v":0},{"$f":"SUMIF(БДДС!$D$8:$BK$8,R$69,БДДС!$D$53:$BK$53)","v":0},{"$f":"SUMIF(БДДС!$D$8:$BK$8,S$69,БДДС!$D$53:$BK$53)","v":0},{"$f":"SUMIF(БДДС!$D$8:$BK$8,T$69,БДДС!$D$53:$BK$53)","v":0},{"$f":"SUMIF(БДДС!$D$8:$BK$8,U$69,БДДС!$D$53:$BK$53)","v":0},{"$f":"SUMIF(БДДС!$D$8:$BK$8,V$69,БДДС!$D$53:$BK$53)","v":0},{"$f":"SUMIF(БДДС!$D$8:$BK$8,W$69,БДДС!$D$53:$BK$53)","v":0}]
["Привлечение займа",100000,{"$f":"'Исходные данные'!C208","v":100000}]
["Погашение задолженности по займу",100000,null,{"$f":"'Исходные данные'!D245","v":0},{"$f":"'Исходные данные'!E245","v":0},{"$f":"'Исходные данные'!F245","v":0},{"$f":"'Исходные данные'!G245","v":100000},{"$f":"'Исходные данные'!H245","v":0},{"$f":"'Исходные данные'!I245","v":0},{"$f":"'Исходные данные'!J245","v":0},{"$f":"'Исходные данные'!K245","v":0},{"$f":"'Исходные данные'!L245","v":0},{"$f":"'Исходные данные'!M245","v":0},{"$f":"'Исходные данные'!N245","v":0},{"$f":"'Исходные данные'!O245","v":0},{"$f":"'Исходные данные'!P245","v":0},{"$f":"'Исходные данные'!Q245","v":0},{"$f":"'Исходные данные'!R245","v":0},{"$f":"'Исходные данные'!S245","v":0},{"$f":"'Исходные данные'!T245","v":0},{"$f":"'Исходные данные'!U245","v":0},{"$f":"'Исходные данные'!V245","v":0},{"$f":"'Исходные данные'!W245","v":0}]
["Задолженность по займу на конец периода",null,{"$f":"C74-C75","v":100000},{"$f":"C76+D74-D75","v":100000},{"$f":"D76+E74-E75","v":100000},{"$f":"E76+F74-F75","v":100000},{"$f":"F76+G74-G75","v":0},{"$f":"G76+H74-H75","v":0},{"$f":"H76+I74-I75","v":0},{"$f":"I76+J74-J75","v":0},{"$f":"J76+K74-K75","v":0},{"$f":"K76+L74-L75","v":0},{"$f":"L76+M74-M75","v":0},{"$f":"M76+N74-N75","v":0},{"$f":"N76+O74-O75","v":0},{"$f":"O76+P74-P75","v":0},{"$f":"P76+Q74-Q75","v":0},{"$f":"Q76+R74-R75","v":0},{"$f":"R76+S74-S75","v":0},{"$f":"S76+T74-T75","v":0},{"$f":"T76+U74-U75","v":0},{"$f":"U76+V74-V75","v":0},{"$f":"V76+W74-W75","v":0}]
["Начислено и выплачено процентов по займу",{"$f":"SUM(C77:W77)","v":9583.3333333333339},{"$f":"БДДС!C51","v":0},{"$f":"SUMIF(БДДС!$D$8:$BK$8,D$69,БДДС!$D$51:$BK$51)","v":1666.6666666666667},{"$f":"SUMIF(БДДС!$D$8:$BK$8,E$69,БДДС!$D$51:$BK$51)","v":2500},{"$f":"SUMIF(БДДС!$D$8:$BK$8,F$69,БДДС!$D$51:$BK$51)","v":2500},{"$f":"SUMIF(БДДС!$D$8:$BK$8,G$69,БДДС!$D$51:$BK$51)","v":2500},{"$f":"SUMIF(БДДС!$D$8:$BK$8,H$69,БДДС!$D$51:$BK$51)","v":416.66666666666669},{"$f":"SUMIF(БДДС!$D$8:$BK$8,I$69,БДДС!$D$51:$BK$51)","v":0},{"$f":"SUMIF(БДДС!$D$8:$BK$8,J$69,БДДС!$D$51:$BK$51)","v":0},{"$f":"SUMIF(БДДС!$D$8:$BK$8,K$69,БДДС!$D$51:$BK$51)","v":0},{"$f":"SUMIF(БДДС!$D$8:$BK$8,L$69,БДДС!$D$51:$BK$51)","v":0},{"$f":"SUMIF(БДДС!$D$8:$BK$8,M$69,БДДС!$D$51:$BK$51)","v":0},{"$f":"SUMIF(БДДС!$D$8:$BK$8,N$69,БДДС!$D$51:$BK$51)","v":0},{"$f":"SUMIF(БДДС!$D$8:$BK$8,O$69,БДДС!$D$51:$BK$51)","v":0},{"$f":"SUMIF(БДДС!$D$8:$BK$8,P$69,БДДС!$D$51:$BK$51)","v":0},{"$f":"SUMIF(БДДС!$D$8:$BK$8,Q$69,БДДС!$D$51:$BK$51)","v":0},{"$f":"SUMIF(БДДС!$D$8:$BK$8,R$69,БДДС!$D$51:$BK$51)","v":0},{"$f":"SUMIF(БДДС!$D$8:$BK$8,S$69,БДДС!$D$51:$BK$51)","v":0},{"$f":"SUMIF(БДДС!$D$8:$BK$8,T$69,БДДС!$D$51:$BK$51)","v":0},{"$f":"SUMIF(БДДС!$D$8:$BK$8,U$69,БДДС!$D$51:$BK$51)","v":0},{"$f":"SUMIF(БДДС!$D$8:$BK$8,V$69,БДДС!$D$51:$BK$51)","v":0},{"$f":"SUMIF(БДДС!$D$8:$BK$8,W$69,БДДС!$D$51:$BK$51)","v":0}]
[]
["РЕНТАБЕЛЬНОСТЬ ПРОДАЖ"]
[]
["Наименование показателей",{"$f":"БДР!C6","v":2021},{"$f":"B81+1","v":2022},{"$f":"C81+1","v":2023},2024,2025]
["Выручка",{"$f":"SUMIF(БДР!$C$6:$BJ$6,B$81,БДР!$C$10:$BJ$10)","v":7034280},{"$f":"SUMIF(БДР!$C$6:$BJ$6,C$81,БДР!$C$10:$BJ$10)","v":10800220},{"$f":"SUMIF(БДР!$C$6:$BJ$6,D$81,БДР!$C$10:$BJ$10)","v":10800220},{"$f":"SUMIF(БДР!$C$6:$BJ$6,E$81,БДР!$C$10:$BJ$10)","v":10800220},{"$f":"SUMIF(БДР!$C$6:$BJ$6,F$81,БДР!$C$10:$BJ$10)","v":10800220}]
[{"$f":"БДР!A155","v":"Маржинальная прибыль"},{"$f":"БДР!B155","v":2811746.1850677151},{"$f":"БДР!G155","v":4429933.5280000009},{"$f":"БДР!L155","v":4429933.5280000009},{"$f":"БДР!Q155","v":4429933.5280000009},{"$f":"БДР!V155","v":4429933.5280000009}]
["Маржинальная рентабельность",{"$f":"B83/B82","v":0.39972053786140377},{"$f":"C83/C82","v":0.41017067504180477},0.41017067504180477,0.41017067504180477,0.41017067504180477]
["Операционная прибыль",{"$f":"БДР!B157","v":1455616.1850677151},{"$f":"БДР!G157","v":2336853.5280000009},{"$f":"БДР!L157","v":2372853.5280000009},{"$f":"БДР!Q157","v":2407853.5280000009},{"$f":"БДР!V157","v":2435853.5280000009}]
["Рентабельность продаж",{"$f":"B85/B82","v":0.20693179473488618},{"$f":"C85/C82","v":0.21637091911090708},{"$f":"D85/D82","v":0.219704184544389},{"$f":"E85/E82","v":0.2229448592713853},{"$f":"F85/F82","v":0.22553739905298234}]
[{"$f":"БДР!A162","v":"Чистая прибыль"},{"$f":"БДР!B162","v":992201.06581771502},{"$f":"БДР!G162","v":1879999.674583334},{"$f":"БДР!L162","v":1884356.0267625006},{"$f":"БДР!Q162","v":1959705.3361971257},{"$f":"БДР!V162","v":1969324.856914087}]
["Рентабельность по чистой прибыли",{"$f":"B87/B82","v":0.14105225635284849},{"$f":"C87/C82","v":0.1740704980623852},0.17447385578835437,0.18145050158210904,0.18234117980134543]

{"sheet":"Анализ чувствительности NPV","index":8,"n_rows":73,"n_cols":12,"rows_kept":73,"cut":false,"hidden":false,"merged":[[0,0,0,1],[60,0,60,13],[63,2,63,3],[63,4,63,5],[62,2,62,5],[4,0,4,13],[32,0,32,13]]}
[{"$f":"IF(AND('Анализ эффективности'!B13=G13,'Анализ эффективности'!B12=G12),\"АНАЛИЗ ЧУВСТВИТЕЛЬНОСТИ NPV\",\"ДАННЫЕ АНАЛИЗА НЕ АКТУАЛЬНЫ\")","v":"АНАЛИЗ ЧУВСТВИТЕЛЬНОСТИ NPV"}]
[]
["Период расчета интегральных показателей, мес.",{"$f":"'Анализ эффективности'!B5","v":63}]
[]
["АНАЛИЗ ЧУВСТВИТЕЛЬНОСТИ ЧИСТОГО ПРИВЕДЕННОГО ДОХОДА (NPV) К ЦЕНЕ"]
[]
["Показатель",-0.5,-0.4,-0.3,-0.2,-0.1,0,0.1,0.2,0.3,0.4,0.5]
["Ставка дисконтирования (стоимость капитала) - R, %",0.19500000000000001,0.19500000000000001,0.19500000000000001,0.19500000000000001,0.19500000000000001,0.19500000000000001,0.19500000000000001,0.19500000000000001,0.19500000000000001,0.19500000000000001,0.19500000000000001]
["Период окупаемости - PP, мес.","Не окупаем за 5 лет","Не окупаем за 5 лет","Не окупаем за 5 лет",20,9,8,8,8,7,7,6]
["Дисконтированный период окупаемости - DPP, мес.","Не окупаем за 5 лет","Не окупаем за 5 лет","Не окупаем за 5 лет",32,10,8,8,8,7,7,7]
["Средняя норма рентабельности - ARR, %",-4.6134306548550619,-2.2279686184609235,-0.52296803048800233,0.73134337537657035,1.7030220294300347,2.4806990501483104,3.1168600323857665,3.6478103522239125,4.0944917125649631,4.479187268166843,4.8110812769562097]
["Чистый приведенный доход - NPV",-11607894.074116798,-6085738.292605944,-2141325.9814623678,766983.7114585368,3020314.3183365357,4823252.6520242719,6297728.8390800953,7528229.8506641667,8562019.8247278258,9452176.8318052143,10219768.839045154]
["Индекс рентабельности – PI",-15.315945063397693,-8.0327827295900871,-2.8271453021849142,1.0128257035724557,3.989046134066665,6.3710436409877493,8.3195644272758642,9.9458412443817075,11.312638681995063,12.489213829698869,13.504211686986402]
["Внутренняя норма рентабельности - IRR, %",null,null,null,0.55942653595795067,1.4826077040347125,2.2192787819327373,2.8270727923348686,3.3373968192963401,3.7649576483791858,4.1324083763434922,4.4496311046384012]
["Модифицированная внутренняя норма доходности - MIRR, %",-1,-1,-1,0.35844502142942081,0.61848139431272364,0.74739543903418393,0.83017314404654208,0.88933685005462393,0.93390116152821268,0.96922411833863498,0.9977823972112243]
[]
[]
[]
[]
[]
[]
[]
[]
[]
[]
[]
[]
[]
[]
[]
[]
[]
["АНАЛИЗ ЧУВСТВИТЕЛЬНОСТИ ЧИСТОГО ПРИВЕДЕННОГО ДОХОДА (NPV) К ОБЪЕМУ ВЫРУЧКИ"]
[]
["Показатель",-0.5,-0.4,-0.3,-0.2,-0.1,0,0.1,0.2,0.3,0.4,0.5]
["Ставка дисконтирования (стоимость капитала) - R, %",0.19500000000000001,0.19500000000000001,0.19500000000000001,0.19500000000000001,0.19500000000000001,{"$f":"G8","v":0.19500000000000001},0.19500000000000001,0.19500000000000001,0.19500000000000001,0.19500000000000001,0.19500000000000001]
["Период окупаемости - PP, мес.","Не окупаем за 5 лет",32,20,10,8,{"$f":"G9","v":8},8,8,8,7,6]
["Дисконтированный период окупаемости - DPP, мес.","Не окупаем за 5 лет",56,20,16,9,8,8,8,8,8,7]
["Средняя норма рентабельности - ARR, %",-0.12234724677066205,0.42579623586393517,0.95904024760624951,1.4788234559602895,1.9866626548883395,2.4806990501483104,2.9632429520348356,3.4342602889289591,3.8951158073551913,4.3446854954303129,4.7843418624648235]
["Чистый приведенный доход - NPV",-1140081.8884430816,56437.899136781773,1249155.6405227873,2441030.4526687865,3634396.7176052225,4823252.6520242719,6012591.3775410689,7201371.01473084,8392092.6038789582,9580889.4117727317,10770368.251178687]
["Индекс рентабельности – PI",-1.6020595016024608,7.8307238261338771E-2,1.7116241783869881,3.3036610853711323,4.8589541373936562,6.3710436409877493,7.8478956758060034,9.2894564029138458,10.699933322031876,12.07586025729433,13.421435106766763]
["Внутренняя норма рентабельности - IRR, %",null,0.24458627926087617,0.7749378017449251,1.2682718046429713,1.7497412167837987,2.2192787819327373,2.6805459390638959,3.1330973276458343,3.5775939930170777,4.012618850272796,4.4390677270515004]
["Модифицированная внутренняя норма доходности - MIRR, %",-0.46215168003864793,0.20811169531648854,0.43730027270152627,0.57214729663188413,0.67014024536157279,0.74739543903418393,0.81157734736331655,0.86650846903532597,0.91463552257590752,0.95733544553097794,0.99577143478299623]
[]
[]
[]
[]
[]
[]
[]
[]
[]
[]
[]
[]
[]
[]
[]
[]
[]
["АНАЛИЗ ЧУВСТВИТЕЛЬНОСТИ ЧИСТОГО ПРИВЕДЕННОГО ДОХОДА (NPV) К СИСТЕМЕ НАЛОГООБЛАЖЕНИЯ И ФОРМЕ СОБСТВЕННОСТИ"]
[]
[null,"Текущий","Варианты для сравнения"]
[null,{"$f":"'Исходные данные'!C5","v":"ИП"},"ООО",null,"ИП"]
[null,{"$f":"'Исходные данные'!C8","v":"УСН доходы"},"УСН доходы","УСН доходы минус расходы","УСН доходы","УСН доходы минус расходы"]
["Ставка дисконтирования (стоимость капитала) - R, %",{"$f":"G8","v":0.19500000000000001},0.19500000000000001,0.19500000000000001,0.19500000000000001,0.19500000000000001]
["Период окупаемости - PP, мес.",{"$f":"G9","v":8},8,8,8,8]
["Дисконтированный период окупаемости - DPP, мес.",8,8,8,8,8]
["Средняя норма рентабельности - ARR, %",2.4806990501483104,2.4966185788844255,2.4945858895788291,2.4806990501483104,2.4038871941188078]
["Чистый приведенный доход - NPV",4823252.6520242719,4778977.2702735392,4832946.6229981817,4823252.6520242719,4683757.9592604423]
["Индекс рентабельности – PI",6.3710436409877493,6.3989306423398018,6.4711942513435732,6.3710436409877493,6.1867848348662111]
["Внутренняя норма рентабельности - IRR, %",2.2192787819327373,2.148402805007799,2.2065428770486766,2.2192787819327373,2.1740450749707665]
["Модифицированная внутренняя норма доходности - MIRR, %",0.74739543903418393,0.74796972918919091,0.7487216194127706,0.74739543903418393,0.73674482411381792]

{"sheet":"расчет прямых ТЗР","index":9,"n_rows":112,"n_cols":21,"rows_kept":112,"cut":false,"hidden":false,"merged":[[2,18,3,18],[2,2,2,13],[25,0,25,1],[46,0,46,1],[68,0,68,1],[4,0,4,1],[47,0,47,1],[90,0,90,1],[91,0,91,1],[2,14,2,17],[2,0,3,0],[2,1,3,1],[69,0,69,1]]}
["РАСЧЕТ СУММЫ ЗАКУПКИ ТОВАРА И ТЗР"]
[]
["№ п/п","Наименование","по месяцам",null,null,null,null,null,null,null,null,null,null,null,"по кварталам",null,null,null,"Сумма"]
[null,null,"январь","февраль","март","апрель","май","июнь","июль","август","сентябрь","октябрь","ноябрь","декабрь",1,2,3,4,null,null,1]
["ВЫРУЧКА",null,{"$f":"SUM(C6:C25)","v":979240},{"$f":"SUM(D6:D25)","v":784220},{"$f":"SUM(E6:E25)","v":739220},{"$f":"SUM(F6:F25)","v":750020},{"$f":"SUM(G6:G25)","v":723020},{"$f":"SUM(H6:H25)","v":741020},{"$f":"SUM(I6:I25)","v":741020},{"$f":"SUM(J6:J25)","v":741020},{"$f":"SUM(K6:K25)","v":723020},{"$f":"SUM(L6:L25)","v":750020},{"$f":"SUM(M6:M25)","v":1114140},{"$f":"SUM(N6:N25)","v":2014260},{"$f":"SUM(O6:O25)","v":2502680},{"$f":"SUM(P6:P25)","v":2214060},2205060,3878420,{"$f":"SUM(S6:S25)","v":10800220},null,{"$f":"U4+1","v":2}]
[1,{"$f":"'Исходные данные'!B15","v":"Шаурма"},{"$f":"'Исходные данные'!H57*'Исходные данные'!$D15","v":495040},{"$f":"'Исходные данные'!I57*'Исходные данные'!$D15","v":300020},{"$f":"'Исходные данные'!J57*'Исходные данные'!$D15","v":300020},{"$f":"'Исходные данные'!K57*'Исходные данные'!$D15","v":300020},{"$f":"'Исходные данные'!L57*'Исходные данные'!$D15","v":300020},{"$f":"'Исходные данные'!M57*'Исходные данные'!$D15","v":300020},{"$f":"'Исходные данные'!N57*'Исходные данные'!$D15","v":300020},{"$f":"'Исходные данные'!O57*'Исходные данные'!$D15","v":300020},{"$f":"'Исходные данные'!P57*'Исходные данные'!$D15","v":300020},{"$f":"'Исходные данные'!Q57*'Исходные данные'!$D15","v":300020},{"$f":"'Исходные данные'!R57*'Исходные данные'!$D15","v":674940},{"$f":"'Исходные данные'!S57*'Исходные данные'!$D15","v":1530060},{"$f":"SUM(C6:E6)","v":1095080},{"$f":"SUM(F6:H6)","v":900060},{"$f":"SUM(I6:K6)","v":900060},{"$f":"SUM(L6:N6)","v":2505020},{"$f":"SUM(C6:N6)","v":5400220},null,{"$f":"U5+1","v":3}]
[{"$f":"A6+1","v":2},{"$f":"'Исходные данные'!B16","v":"Кофе"},{"$f":"'Исходные данные'!H58*'Исходные данные'!$D16","v":270000},{"$f":"'Исходные данные'!I58*'Исходные данные'!$D16","v":270000},{"$f":"'Исходные данные'!J58*'Исходные данные'!$D16","v":225000},{"$f":"'Исходные данные'!K58*'Исходные данные'!$D16","v":225000},{"$f":"'Исходные данные'!L58*'Исходные данные'!$D16","v":198000},{"$f":"'Исходные данные'!M58*'Исходные данные'!$D16","v":198000},{"$f":"'Исходные данные'!N58*'Исходные данные'!$D16","v":198000},{"$f":"'Исходные данные'!O58*'Исходные данные'!$D16","v":198000},{"$f":"'Исходные данные'!P58*'Исходные данные'!$D16","v":198000},{"$f":"'Исходные данные'!Q58*'Исходные данные'!$D16","v":225000},{"$f":"'Исходные данные'!R58*'Исходные данные'!$D16","v":225000},{"$f":"'Исходные данные'!S58*'Исходные данные'!$D16","v":270000},{"$f":"SUM(C7:E7)","v":765000},{"$f":"SUM(F7:H7)","v":621000},{"$f":"SUM(I7:K7)","v":594000},{"$f":"SUM(L7:N7)","v":720000},2700000,null,4]
[{"$f":"A7+1","v":3},{"$f":"'Исходные данные'!B17","v":"Хот-дог"},{"$f":"'Исходные данные'!H59*'Исходные данные'!$D17","v":90000},{"$f":"'Исходные данные'!I59*'Исходные данные'!$D17","v":90000},{"$f":"'Исходные данные'!J59*'Исходные данные'!$D17","v":90000},{"$f":"'Исходные данные'!K59*'Исходные данные'!$D17","v":90000},{"$f":"'Исходные данные'!L59*'Исходные данные'!$D17","v":90000},{"$f":"'Исходные данные'!M59*'Исходные данные'!$D17","v":90000},{"$f":"'Исходные данные'!N59*'Исходные данные'!$D17","v":90000},{"$f":"'Исходные данные'!O59*'Исходные данные'!$D17","v":90000},{"$f":"'Исходные данные'!P59*'Исходные данные'!$D17","v":90000},{"$f":"'Исходные данные'!Q59*'Исходные данные'!$D17","v":90000},{"$f":"'Исходные данные'!R59*'Исходные данные'!$D17","v":90000},{"$f":"'Исходные данные'!S59*'Исходные данные'!$D17","v":90000},270000,270000,270000,270000,1080000,null,5]
[4,{"$f":"'Исходные данные'!B18","v":"Газированный напиток"},{"$f":"'Исходные данные'!H60*'Исходные данные'!$D18","v":79200},{"$f":"'Исходные данные'!I60*'Исходные данные'!$D18","v":79200},{"$f":"'Исходные данные'!J60*'Исходные данные'!$D18","v":79200},{"$f":"'Исходные данные'!K60*'Исходные данные'!$D18","v":90000},{"$f":"'Исходные данные'!L60*'Исходные данные'!$D18","v":90000},{"$f":"'Исходные данные'!M60*'Исходные данные'!$D18","v":108000},{"$f":"'Исходные данные'!N60*'Исходные данные'!$D18","v":108000},{"$f":"'Исходные данные'!O60*'Исходные данные'!$D18","v":108000},{"$f":"'Исходные данные'!P60*'Исходные данные'!$D18","v":90000},{"$f":"'Исходные данные'!Q60*'Исходные данные'!$D18","v":90000},{"$f":"'Исходные данные'!R60*'Исходные данные'!$D18","v":79200},{"$f":"'Исходные данные'!S60*'Исходные данные'!$D18","v":79200},237600,288000,306000,248400,1080000,null,6]
[5,{"$f":"'Исходные данные'!B19","v":"Чай"},{"$f":"'Исходные данные'!H61*'Исходные данные'!$D19","v":45000},{"$f":"'Исходные данные'!I61*'Исходные данные'!$D19","v":45000},{"$f":"'Исходные данные'!J61*'Исходные данные'!$D19","v":45000},{"$f":"'Исходные данные'!K61*'Исходные данные'!$D19","v":45000},{"$f":"'Исходные данные'!L61*'Исходные данные'!$D19","v":45000},{"$f":"'Исходные данные'!M61*'Исходные данные'!$D19","v":45000},{"$f":"'Исходные данные'!N61*'Исходные данные'!$D19","v":45000},{"$f":"'Исходные данные'!O61*'Исходные данные'!$D19","v":45000},{"$f":"'Исходные данные'!P61*'Исходные данные'!$D19","v":45000},{"$f":"'Исходные данные'!Q61*'Исходные данные'!$D19","v":45000},{"$f":"'Исходные данные'!R61*'Исходные данные'!$D19","v":45000},{"$f":"'Исходные данные'!S61*'Исходные данные'!$D19","v":45000},135000,135000,135000,135000,540000,null,7]
[6,{"$f":"'Исходные данные'!B20","v":0},{"$f":"'Исходные данные'!H62*'Исходные данные'!$D20","v":0},{"$f":"'Исходные данные'!I62*'Исходные данные'!$D20","v":0},{"$f":"'Исходные данные'!J62*'Исходные данные'!$D20","v":0},{"$f":"'Исходные данные'!K62*'Исходные данные'!$D20","v":0},{"$f":"'Исходные данные'!L62*'Исходные данные'!$D20","v":0},{"$f":"'Исходные данные'!M62*'Исходные данные'!$D20","v":0},{"$f":"'Исходные данные'!N62*'Исходные данные'!$D20","v":0},{"$f":"'Исходные данные'!O62*'Исходные данные'!$D20","v":0},{"$f":"'Исходные данные'!P62*'Исходные данные'!$D20","v":0},{"$f":"'Исходные данные'!Q62*'Исходные данные'!$D20","v":0},{"$f":"'Исходные данные'!R62*'Исходные данные'!$D20","v":0},{"$f":"'Исходные данные'!S62*'Исходные данные'!$D20","v":0},0,0,0,0,0,null,8]
[7,{"$f":"'Исходные данные'!B21","v":0},{"$f":"'Исходные данные'!H63*'Исходные данные'!$D21","v":0},{"$f":"'Исходные данные'!I63*'Исходные данные'!$D21","v":0},{"$f":"'Исходные данные'!J63*'Исходные данные'!$D21","v":0},{"$f":"'Исходные данные'!K63*'Исходные данные'!$D21","v":0},{"$f":"'Исходные данные'!L63*'Исходные данные'!$D21","v":0},{"$f":"'Исходные данные'!M63*'Исходные данные'!$D21","v":0},{"$f":"'Исходные данные'!N63*'Исходные данные'!$D21","v":0},{"$f":"'Исходные данные'!O63*'Исходные данные'!$D21","v":0},{"$f":"'Исходные данные'!P63*'Исходные данные'!$D21","v":0},{"$f":"'Исходные данные'!Q63*'Исходные данные'!$D21","v":0},{"$f":"'Исходные данные'!R63*'Исходные данные'!$D21","v":0},{"$f":"'Исходные данные'!S63*'Исходные данные'!$D21","v":0},0,0,0,0,0,null,9]
[8,{"$f":"'Исходные данные'!B22","v":0},{"$f":"'Исходные данные'!H64*'Исходные данные'!$D22","v":0},{"$f":"'Исходные данные'!I64*'Исходные данные'!$D22","v":0},{"$f":"'Исходные данные'!J64*'Исходные данные'!$D22","v":0},{"$f":"'Исходные данные'!K64*'Исходные данные'!$D22","v":0},{"$f":"'Исходные данные'!L64*'Исходные данные'!$D22","v":0},{"$f":"'Исходные данные'!M64*'Исходные данные'!$D22","v":0},{"$f":"'Исходные данные'!N64*'Исходные данные'!$D22","v":0},{"$f":"'Исходные данные'!O64*'Исходные данные'!$D22","v":0},{"$f":"'Исходные данные'!P64*'Исходные данные'!$D22","v":0},{"$f":"'Исходные данные'!Q64*'Исходные данные'!$D22","v":0},{"$f":"'Исходные данные'!R64*'Исходные данные'!$D22","v":0},{"$f":"'Исходные данные'!S64*'Исходные данные'!$D22","v":0},0,0,0,0,0,null,10]
[9,{"$f":"'Исходные данные'!B23","v":0},{"$f":"'Исходные данные'!H65*'Исходные данные'!$D23","v":0},{"$f":"'Исходные данные'!I65*'Исходные данные'!$D23","v":0},{"$f":"'Исходные данные'!J65*'Исходные данные'!$D23","v":0},{"$f":"'Исходные данные'!K65*'Исходные данные'!$D23","v":0},{"$f":"'Исходные данные'!L65*'Исходные данные'!$D23","v":0},{"$f":"'Исходные данные'!M65*'Исходные данные'!$D23","v":0},{"$f":"'Исходные данные'!N65*'Исходные данные'!$D23","v":0},{"$f":"'Исходные данные'!O65*'Исходные данные'!$D23","v":0},{"$f":"'Исходные данные'!P65*'Исходные данные'!$D23","v":0},{"$f":"'Исходные данные'!Q65*'Исходные данные'!$D23","v":0},{"$f":"'Исходные данные'!R65*'Исходные данные'!$D23","v":0},{"$f":"'Исходные данные'!S65*'Исходные данные'!$D23","v":0},0,0,0,0,0,null,11]
[10,{"$f":"'Исходные данные'!B24","v":0},{"$f":"'Исходные данные'!H66*'Исходные данные'!$D24","v":0},{"$f":"'Исходные данные'!I66*'Исходные данные'!$D24","v":0},{"$f":"'Исходные данные'!J66*'Исходные данные'!$D24","v":0},{"$f":"'Исходные данные'!K66*'Исходные данные'!$D24","v":0},{"$f":"'Исходные данные'!L66*'Исходные данные'!$D24","v":0},{"$f":"'Исходные данные'!M66*'Исходные данные'!$D24","v":0},{"$f":"'Исходные данные'!N66*'Исходные данные'!$D24","v":0},{"$f":"'Исходные данные'!O66*'Исходные данные'!$D24","v":0},{"$f":"'Исходные данные'!P66*'Исходные данные'!$D24","v":0},{"$f":"'Исходные данные'!Q66*'Исходные данные'!$D24","v":0},{"$f":"'Исходные данные'!R66*'Исходные данные'!$D24","v":0},{"$f":"'Исходные данные'!S66*'Исходные данные'!$D24","v":0},0,0,0,0,0,null,12]
[11,{"$f":"'Исходные данные'!B25","v":0},{"$f":"'Исходные данные'!H67*'Исходные данные'!$D25","v":0},{"$f":"'Исходные данные'!I67*'Исходные данные'!$D25","v":0},{"$f":"'Исходные данные'!J67*'Исходные данные'!$D25","v":0},{"$f":"'Исходные данные'!K67*'Исходные данные'!$D25","v":0},{"$f":"'Исходные данные'!L67*'Исходные данные'!$D25","v":0},{"$f":"'Исходные данные'!M67*'Исходные данные'!$D25","v":0},{"$f":"'Исходные данные'!N67*'Исходные данные'!$D25","v":0},{"$f":"'Исходные данные'!O67*'Исходные данные'!$D25","v":0},{"$f":"'Исходные данные'!P67*'Исходные данные'!$D25","v":0},{"$f":"'Исходные данные'!Q67*'Исходные данные'!$D25","v":0},{"$f":"'Исходные данные'!R67*'Исходные данные'!$D25","v":0},{"$f":"'Исходные данные'!S67*'Исходные данные'!$D25","v":0},0,0,0,0,0,null,13]
[12,{"$f":"'Исходные данные'!B26","v":0},{"$f":"'Исходные данные'!H68*'Исходные данные'!$D26","v":0},{"$f":"'Исходные данные'!I68*'Исходные данные'!$D26","v":0},{"$f":"'Исходные данные'!J68*'Исходные данные'!$D26","v":0},{"$f":"'Исходные данные'!K68*'Исходные данные'!$D26","v":0},{"$f":"'Исходные данные'!L68*'Исходные данные'!$D26","v":0},{"$f":"'Исходные данные'!M68*'Исходные данные'!$D26","v":0},{"$f":"'Исходные данные'!N68*'Исходные данные'!$D26","v":0},{"$f":"'Исходные данные'!O68*'Исходные данные'!$D26","v":0},{"$f":"'Исходные данные'!P68*'Исходные данные'!$D26","v":0},{"$f":"'Исходные данные'!Q68*'Исходные данные'!$D26","v":0},{"$f":"'Исходные данные'!R68*'Исходные данные'!$D26","v":0},{"$f":"'Исходные данные'!S68*'Исходные данные'!$D26","v":0},0,0,0,0,0,null,14]
[13,{"$f":"'Исходные данные'!B27","v":0},{"$f":"'Исходные данные'!H69*'Исходные данные'!$D27","v":0},{"$f":"'Исходные данные'!I69*'Исходные данные'!$D27","v":0},{"$f":"'Исходные данные'!J69*'Исходные данные'!$D27","v":0},{"$f":"'Исходные данные'!K69*'Исходные данные'!$D27","v":0},{"$f":"'Исходные данные'!L69*'Исходные данные'!$D27","v":0},{"$f":"'Исходные данные'!M69*'Исходные данные'!$D27","v":0},{"$f":"'Исходные данные'!N69*'Исходные данные'!$D27","v":0},{"$f":"'Исходные данные'!O69*'Исходные данные'!$D27","v":0},{"$f":"'Исходные данные'!P69*'Исходные данные'!$D27","v":0},{"$f":"'Исходные данные'!Q69*'Исходные данные'!$D27","v":0},{"$f":"'Исходные данные'!R69*'Исходные данные'!$D27","v":0},{"$f":"'Исходные данные'!S69*'Исходные данные'!$D27","v":0},0,0,0,0,0,null,15]
[14,{"$f":"'Исходные данные'!B28","v":0},{"$f":"'Исходные данные'!H70*'Исходные данные'!$D28","v":0},{"$f":"'Исходные данные'!I70*'Исходные данные'!$D28","v":0},{"$f":"'Исходные данные'!J70*'Исходные данные'!$D28","v":0},{"$f":"'Исходные данные'!K70*'Исходные данные'!$D28","v":0},{"$f":"'Исходные данные'!L70*'Исходные данные'!$D28","v":0},{"$f":"'Исходные данные'!M70*'Исходные данные'!$D28","v":0},{"$f":"'Исходные данные'!N70*'Исходные данные'!$D28","v":0},{"$f":"'Исходные данные'!O70*'Исходные данные'!$D28","v":0},{"$f":"'Исходные данные'!P70*'Исходные данные'!$D28","v":0},{"$f":"'Исходные данные'!Q70*'Исходные данные'!$D28","v":0},{"$f":"'Исходные данные'!R70*'Исходные данные'!$D28","v":0},{"$f":"'Исходные данные'!S70*'Исходные данные'!$D28","v":0},0,0,0,0,0,null,16]
[15,{"$f":"'Исходные данные'!B29","v":0},{"$f":"'Исходные данные'!H71*'Исходные данные'!$D29","v":0},{"$f":"'Исходные данные'!I71*'Исходные данные'!$D29","v":0},{"$f":"'Исходные данные'!J71*'Исходные данные'!$D29","v":0},{"$f":"'Исходные данные'!K71*'Исходные данные'!$D29","v":0},{"$f":"'Исходные данные'!L71*'Исходные данные'!$D29","v":0},{"$f":"'Исходные данные'!M71*'Исходные данные'!$D29","v":0},{"$f":"'Исходные данные'!N71*'Исходные данные'!$D29","v":0},{"$f":"'Исходные данные'!O71*'Исходные данные'!$D29","v":0},{"$f":"'Исходные данные'!P71*'Исходные данные'!$D29","v":0},{"$f":"'Исходные данные'!Q71*'Исходные данные'!$D29","v":0},{"$f":"'Исходные данные'!R71*'Исходные данные'!$D29","v":0},{"$f":"'Исходные данные'!S71*'Исходные данные'!$D29","v":0},0,0,0,0,0,null,17]
[16,{"$f":"'Исходные данные'!B30","v":0},{"$f":"'Исходные данные'!H72*'Исходные данные'!$D30","v":0},{"$f":"'Исходные данные'!I72*'Исходные данные'!$D30","v":0},{"$f":"'Исходные данные'!J72*'Исходные данные'!$D30","v":0},{"$f":"'Исходные данные'!K72*'Исходные данные'!$D30","v":0},{"$f":"'Исходные данные'!L72*'Исходные данные'!$D30","v":0},{"$f":"'Исходные данные'!M72*'Исходные данные'!$D30","v":0},{"$f":"'Исходные данные'!N72*'Исходные данные'!$D30","v":0},{"$f":"'Исходные данные'!O72*'Исходные данные'!$D30","v":0},{"$f":"'Исходные данные'!P72*'Исходные данные'!$D30","v":0},{"$f":"'Исходные данные'!Q72*'Исходные данные'!$D30","v":0},{"$f":"'Исходные данные'!R72*'Исходные данные'!$D30","v":0},{"$f":"'Исходные данные'!S72*'Исходные данные'!$D30","v":0},0,0,0,0,0,null,18]
[17,{"$f":"'Исходные данные'!B31","v":0},{"$f":"'Исходные данные'!H73*'Исходные данные'!$D31","v":0},{"$f":"'Исходные данные'!I73*'Исходные данные'!$D31","v":0},{"$f":"'Исходные данные'!J73*'Исходные данные'!$D31","v":0},{"$f":"'Исходные данные'!K73*'Исходные данные'!$D31","v":0},{"$f":"'Исходные данные'!L73*'Исходные данные'!$D31","v":0},{"$f":"'Исходные данные'!M73*'Исходные данные'!$D31","v":0},{"$f":"'Исходные данные'!N73*'Исходные данные'!$D31","v":0},{"$f":"'Исходные данные'!O73*'Исходные данные'!$D31","v":0},{"$f":"'Исходные данные'!P73*'Исходные данные'!$D31","v":0},{"$f":"'Исходные данные'!Q73*'Исходные данные'!$D31","v":0},{"$f":"'Исходные данные'!R73*'Исходные данные'!$D31","v":0},{"$f":"'Исходные данные'!S73*'Исходные данные'!$D31","v":0},0,0,0,0,0,null,19]
[18,{"$f":"'Исходные данные'!B32","v":0},{"$f":"'Исходные данные'!H74*'Исходные данные'!$D32","v":0},{"$f":"'Исходные данные'!I74*'Исходные данные'!$D32","v":0},{"$f":"'Исходные данные'!J74*'Исходные данные'!$D32","v":0},{"$f":"'Исходные данные'!K74*'Исходные данные'!$D32","v":0},{"$f":"'Исходные данные'!L74*'Исходные данные'!$D32","v":0},{"$f":"'Исходные данные'!M74*'Исходные данные'!$D32","v":0},{"$f":"'Исходные данные'!N74*'Исходные данные'!$D32","v":0},{"$f":"'Исходные данные'!O74*'Исходные данные'!$D32","v":0},{"$f":"'Исходные данные'!P74*'Исходные данные'!$D32","v":0},{"$f":"'Исходные данные'!Q74*'Исходные данные'!$D32","v":0},{"$f":"'Исходные данные'!R74*'Исходные данные'!$D32","v":0},{"$f":"'Исходные данные'!S74*'Исходные данные'!$D32","v":0},0,0,0,0,0,null,20]
[19,{"$f":"'Исходные данные'!B33","v":0},{"$f":"'Исходные данные'!H75*'Исходные данные'!$D33","v":0},{"$f":"'Исходные данные'!I75*'Исходные данные'!$D33","v":0},{"$f":"'Исходные данные'!J75*'Исходные данные'!$D33","v":0},{"$f":"'Исходные данные'!K75*'Исходные данные'!$D33","v":0},{"$f":"'Исходные данные'!L75*'Исходные данные'!$D33","v":0},{"$f":"'Исходные данные'!M75*'Исходные данные'!$D33","v":0},{"$f":"'Исходные данные'!N75*'Исходные данные'!$D33","v":0},{"$f":"'Исходные данные'!O75*'Исходные данные'!$D33","v":0},{"$f":"'Исходные данные'!P75*'Исходные данные'!$D33","v":0},{"$f":"'Исходные данные'!Q75*'Исходные данные'!$D33","v":0},{"$f":"'Исходные данные'!R75*'Исходные данные'!$D33","v":0},{"$f":"'Исходные данные'!S75*'Исходные данные'!$D33","v":0},0,0,0,0,0,null,21]
[20,{"$f":"'Исходные данные'!B34","v":0},{"$f":"'Исходные данные'!H76*'Исходные данные'!$D34","v":0},{"$f":"'Исходные данные'!I76*'Исходные данные'!$D34","v":0},{"$f":"'Исходные данные'!J76*'Исходные данные'!$D34","v":0},{"$f":"'Исходные данные'!K76*'Исходные данные'!$D34","v":0},{"$f":"'Исходные данные'!L76*'Исходные данные'!$D34","v":0},{"$f":"'Исходные данные'!M76*'Исходные данные'!$D34","v":0},{"$f":"'Исходные данные'!N76*'Исходные данные'!$D34","v":0},{"$f":"'Исходные данные'!O76*'Исходные данные'!$D34","v":0},{"$f":"'Исходные данные'!P76*'Исходные данные'!$D34","v":0},{"$f":"'Исходные данные'!Q76*'Исходные данные'!$D34","v":0},{"$f":"'Исходные данные'!R76*'Исходные данные'!$D34","v":0},{"$f":"'Исходные данные'!S76*'Исходные данные'!$D34","v":0},0,0,0,0,0,null,22]
["ПРОДАЖА В ЦЕНЕ ЗАКУПКИ",null,{"$f":"SUM(C27:C46)","v":483695},386185,365935,373135,360985,372985,372985,372985,360985,373135,553395,1001205,{"$f":"SUM(O27:O46)","v":1235815},{"$f":"SUM(P27:P46)","v":1107105},1106955,1927735,{"$f":"SUM(S27:S46)","v":5377610},null,23]
[1,{"$f":"'Исходные данные'!B15","v":"Шаурма"},{"$f":"'Исходные данные'!H57*'Исходные данные'!$F15","v":247520},{"$f":"'Исходные данные'!I57*'Исходные данные'!$F15","v":150010},{"$f":"'Исходные данные'!J57*'Исходные данные'!$F15","v":150010},{"$f":"'Исходные данные'!K57*'Исходные данные'!$F15","v":150010},{"$f":"'Исходные данные'!L57*'Исходные данные'!$F15","v":150010},{"$f":"'Исходные данные'!M57*'Исходные данные'!$F15","v":150010},{"$f":"'Исходные данные'!N57*'Исходные данные'!$F15","v":150010},{"$f":"'Исходные данные'!O57*'Исходные данные'!$F15","v":150010},{"$f":"'Исходные данные'!P57*'Исходные данные'!$F15","v":150010},{"$f":"'Исходные данные'!Q57*'Исходные данные'!$F15","v":150010},{"$f":"'Исходные данные'!R57*'Исходные данные'!$F15","v":337470},{"$f":"'Исходные данные'!S57*'Исходные данные'!$F15","v":765030},{"$f":"SUM(C27:E27)","v":547540},{"$f":"SUM(F27:H27)","v":450030},{"$f":"SUM(I27:K27)","v":450030},{"$f":"SUM(L27:N27)","v":1252510},{"$f":"SUM(C27:N27)","v":2700110},null,24]
[{"$f":"A27+1","v":2},{"$f":"'Исходные данные'!B16","v":"Кофе"},{"$f":"'Исходные данные'!H58*'Исходные данные'!$F16","v":121500},{"$f":"'Исходные данные'!I58*'Исходные данные'!$F16","v":121500},{"$f":"'Исходные данные'!J58*'Исходные данные'!$F16","v":101250},{"$f":"'Исходные данные'!K58*'Исходные данные'!$F16","v":101250},{"$f":"'Исходные данные'!L58*'Исходные данные'!$F16","v":89100},{"$f":"'Исходные данные'!M58*'Исходные данные'!$F16","v":89100},{"$f":"'Исходные данные'!N58*'Исходные данные'!$F16","v":89100},{"$f":"'Исходные данные'!O58*'Исходные данные'!$F16","v":89100},{"$f":"'Исходные данные'!P58*'Исходные данные'!$F16","v":89100},{"$f":"'Исходные данные'!Q58*'Исходные данные'!$F16","v":101250},{"$f":"'Исходные данные'!R58*'Исходные данные'!$F16","v":101250},{"$f":"'Исходные данные'!S58*'Исходные данные'!$F16","v":121500},{"$f":"SUM(C28:E28)","v":344250},{"$f":"SUM(F28:H28)","v":279450},{"$f":"SUM(I28:K28)","v":267300},{"$f":"SUM(L28:N28)","v":324000},1215000,null,25]
[{"$f":"A28+1","v":3},{"$f":"'Исходные данные'!B17","v":"Хот-дог"},{"$f":"'Исходные данные'!H59*'Исходные данные'!$F17","v":45000},{"$f":"'Исходные данные'!I59*'Исходные данные'!$F17","v":45000},{"$f":"'Исходные данные'!J59*'Исходные данные'!$F17","v":45000},{"$f":"'Исходные данные'!K59*'Исходные данные'!$F17","v":45000},{"$f":"'Исходные данные'!L59*'Исходные данные'!$F17","v":45000},{"$f":"'Исходные данные'!M59*'Исходные данные'!$F17","v":45000},{"$f":"'Исходные данные'!N59*'Исходные данные'!$F17","v":45000},{"$f":"'Исходные данные'!O59*'Исходные данные'!$F17","v":45000},{"$f":"'Исходные данные'!P59*'Исходные данные'!$F17","v":45000},{"$f":"'Исходные данные'!Q59*'Исходные данные'!$F17","v":45000},{"$f":"'Исходные данные'!R59*'Исходные данные'!$F17","v":45000},{"$f":"'Исходные данные'!S59*'Исходные данные'!$F17","v":45000},135000,135000,135000,135000,540000,null,26]
[4,{"$f":"'Исходные данные'!B18","v":"Газированный напиток"},{"$f":"'Исходные данные'!H60*'Исходные данные'!$F18","v":52800},{"$f":"'Исходные данные'!I60*'Исходные данные'!$F18","v":52800},{"$f":"'Исходные данные'!J60*'Исходные данные'!$F18","v":52800},{"$f":"'Исходные данные'!K60*'Исходные данные'!$F18","v":60000},{"$f":"'Исходные данные'!L60*'Исходные данные'!$F18","v":60000},{"$f":"'Исходные данные'!M60*'Исходные данные'!$F18","v":72000},{"$f":"'Исходные данные'!N60*'Исходные данные'!$F18","v":72000},{"$f":"'Исходные данные'!O60*'Исходные данные'!$F18","v":72000},{"$f":"'Исходные данные'!P60*'Исходные данные'!$F18","v":60000},{"$f":"'Исходные данные'!Q60*'Исходные данные'!$F18","v":60000},{"$f":"'Исходные данные'!R60*'Исходные данные'!$F18","v":52800},{"$f":"'Исходные данные'!S60*'Исходные данные'!$F18","v":52800},158400,192000,204000,165600,720000,null,27]
[5,{"$f":"'Исходные данные'!B19","v":"Чай"},{"$f":"'Исходные данные'!H61*'Исходные данные'!$F19","v":16875},{"$f":"'Исходные данные'!I61*'Исходные данные'!$F19","v":16875},{"$f":"'Исходные данные'!J61*'Исходные данные'!$F19","v":16875},{"$f":"'Исходные данные'!K61*'Исходные данные'!$F19","v":16875},{"$f":"'Исходные данные'!L61*'Исходные данные'!$F19","v":16875},{"$f":"'Исходные данные'!M61*'Исходные данные'!$F19","v":16875},{"$f":"'Исходные данные'!N61*'Исходные данные'!$F19","v":16875},{"$f":"'Исходные данные'!O61*'Исходные данные'!$F19","v":16875},{"$f":"'Исходные данные'!P61*'Исходные данные'!$F19","v":16875},{"$f":"'Исходные данные'!Q61*'Исходные данные'!$F19","v":16875},{"$f":"'Исходные данные'!R61*'Исходные данные'!$F19","v":16875},{"$f":"'Исходные данные'!S61*'Исходные данные'!$F19","v":16875},50625,50625,50625,50625,202500,null,28]
[6,{"$f":"'Исходные данные'!B20","v":0},{"$f":"'Исходные данные'!H62*'Исходные данные'!$F20","v":0},{"$f":"'Исходные данные'!I62*'Исходные данные'!$F20","v":0},{"$f":"'Исходные данные'!J62*'Исходные данные'!$F20","v":0},{"$f":"'Исходные данные'!K62*'Исходные данные'!$F20","v":0},{"$f":"'Исходные данные'!L62*'Исходные данные'!$F20","v":0},{"$f":"'Исходные данные'!M62*'Исходные данные'!$F20","v":0},{"$f":"'Исходные данные'!N62*'Исходные данные'!$F20","v":0},{"$f":"'Исходные данные'!O62*'Исходные данные'!$F20","v":0},{"$f":"'Исходные данные'!P62*'Исходные данные'!$F20","v":0},{"$f":"'Исходные данные'!Q62*'Исходные данные'!$F20","v":0},{"$f":"'Исходные данные'!R62*'Исходные данные'!$F20","v":0},{"$f":"'Исходные данные'!S62*'Исходные данные'!$F20","v":0},0,0,0,0,0,null,29]
[7,{"$f":"'Исходные данные'!B21","v":0},{"$f":"'Исходные данные'!H63*'Исходные данные'!$F21","v":0},{"$f":"'Исходные данные'!I63*'Исходные данные'!$F21","v":0},{"$f":"'Исходные данные'!J63*'Исходные данные'!$F21","v":0},{"$f":"'Исходные данные'!K63*'Исходные данные'!$F21","v":0},{"$f":"'Исходные данные'!L63*'Исходные данные'!$F21","v":0},{"$f":"'Исходные данные'!M63*'Исходные данные'!$F21","v":0},{"$f":"'Исходные данные'!N63*'Исходные данные'!$F21","v":0},{"$f":"'Исходные данные'!O63*'Исходные данные'!$F21","v":0},{"$f":"'Исходные данные'!P63*'Исходные данные'!$F21","v":0},{"$f":"'Исходные данные'!Q63*'Исходные данные'!$F21","v":0},{"$f":"'Исходные данные'!R63*'Исходные данные'!$F21","v":0},{"$f":"'Исходные данные'!S63*'Исходные данные'!$F21","v":0},0,0,0,0,0,null,30]
[8,{"$f":"'Исходные данные'!B22","v":0},{"$f":"'Исходные данные'!H64*'Исходные данные'!$F22","v":0},{"$f":"'Исходные данные'!I64*'Исходные данные'!$F22","v":0},{"$f":"'Исходные данные'!J64*'Исходные данные'!$F22","v":0},{"$f":"'Исходные данные'!K64*'Исходные данные'!$F22","v":0},{"$f":"'Исходные данные'!L64*'Исходные данные'!$F22","v":0},{"$f":"'Исходные данные'!M64*'Исходные данные'!$F22","v":0},{"$f":"'Исходные данные'!N64*'Исходные данные'!$F22","v":0},{"$f":"'Исходные данные'!O64*'Исходные данные'!$F22","v":0},{"$f":"'Исходные данные'!P64*'Исходные данные'!$F22","v":0},{"$f":"'Исходные данные'!Q64*'Исходные данные'!$F22","v":0},{"$f":"'Исходные данные'!R64*'Исходные данные'!$F22","v":0},{"$f":"'Исходные данные'!S64*'Исходные данные'!$F22","v":0},0,0,0,0,0,null,31]
[9,{"$f":"'Исходные данные'!B23","v":0},{"$f":"'Исходные данные'!H65*'Исходные данные'!$F23","v":0},{"$f":"'Исходные данные'!I65*'Исходные данные'!$F23","v":0},{"$f":"'Исходные данные'!J65*'Исходные данные'!$F23","v":0},{"$f":"'Исходные данные'!K65*'Исходные данные'!$F23","v":0},{"$f":"'Исходные данные'!L65*'Исходные данные'!$F23","v":0},{"$f":"'Исходные данные'!M65*'Исходные данные'!$F23","v":0},{"$f":"'Исходные данные'!N65*'Исходные данные'!$F23","v":0},{"$f":"'Исходные данные'!O65*'Исходные данные'!$F23","v":0},{"$f":"'Исходные данные'!P65*'Исходные данные'!$F23","v":0},{"$f":"'Исходные данные'!Q65*'Исходные данные'!$F23","v":0},{"$f":"'Исходные данные'!R65*'Исходные данные'!$F23","v":0},{"$f":"'Исходные данные'!S65*'Исходные данные'!$F23","v":0},0,0,0,0,0,null,32]
[10,{"$f":"'Исходные данные'!B24","v":0},{"$f":"'Исходные данные'!H66*'Исходные данные'!$F24","v":0},{"$f":"'Исходные данные'!I66*'Исходные данные'!$F24","v":0},{"$f":"'Исходные данные'!J66*'Исходные данные'!$F24","v":0},{"$f":"'Исходные данные'!K66*'Исходные данные'!$F24","v":0},{"$f":"'Исходные данные'!L66*'Исходные данные'!$F24","v":0},{"$f":"'Исходные данные'!M66*'Исходные данные'!$F24","v":0},{"$f":"'Исходные данные'!N66*'Исходные данные'!$F24","v":0},{"$f":"'Исходные данные'!O66*'Исходные данные'!$F24","v":0},{"$f":"'Исходные данные'!P66*'Исходные данные'!$F24","v":0},{"$f":"'Исходные данные'!Q66*'Исходные данные'!$F24","v":0},{"$f":"'Исходные данные'!R66*'Исходные данные'!$F24","v":0},{"$f":"'Исходные данные'!S66*'Исходные данные'!$F24","v":0},0,0,0,0,0,null,33]
[11,{"$f":"'Исходные данные'!B25","v":0},{"$f":"'Исходные данные'!H67*'Исходные данные'!$F25","v":0},{"$f":"'Исходные данные'!I67*'Исходные данные'!$F25","v":0},{"$f":"'Исходные данные'!J67*'Исходные данные'!$F25","v":0},{"$f":"'Исходные данные'!K67*'Исходные данные'!$F25","v":0},{"$f":"'Исходные данные'!L67*'Исходные данные'!$F25","v":0},{"$f":"'Исходные данные'!M67*'Исходные данные'!$F25","v":0},{"$f":"'Исходные данные'!N67*'Исходные данные'!$F25","v":0},{"$f":"'Исходные данные'!O67*'Исходные данные'!$F25","v":0},{"$f":"'Исходные данные'!P67*'Исходные данные'!$F25","v":0},{"$f":"'Исходные данные'!Q67*'Исходные данные'!$F25","v":0},{"$f":"'Исходные данные'!R67*'Исходные данные'!$F25","v":0},{"$f":"'Исходные данные'!S67*'Исходные данные'!$F25","v":0},0,0,0,0,0,null,34]
[12,{"$f":"'Исходные данные'!B26","v":0},{"$f":"'Исходные данные'!H68*'Исходные данные'!$F26","v":0},{"$f":"'Исходные данные'!I68*'Исходные данные'!$F26","v":0},{"$f":"'Исходные данные'!J68*'Исходные данные'!$F26","v":0},{"$f":"'Исходные данные'!K68*'Исходные данные'!$F26","v":0},{"$f":"'Исходные данные'!L68*'Исходные данные'!$F26","v":0},{"$f":"'Исходные данные'!M68*'Исходные данные'!$F26","v":0},{"$f":"'Исходные данные'!N68*'Исходные данные'!$F26","v":0},{"$f":"'Исходные данные'!O68*'Исходные данные'!$F26","v":0},{"$f":"'Исходные данные'!P68*'Исходные данные'!$F26","v":0},{"$f":"'Исходные данные'!Q68*'Исходные данные'!$F26","v":0},{"$f":"'Исходные данные'!R68*'Исходные данные'!$F26","v":0},{"$f":"'Исходные данные'!S68*'Исходные данные'!$F26","v":0},0,0,0,0,0,null,35]
[13,{"$f":"'Исходные данные'!B27","v":0},{"$f":"'Исходные данные'!H69*'Исходные данные'!$F27","v":0},{"$f":"'Исходные данные'!I69*'Исходные данные'!$F27","v":0},{"$f":"'Исходные данные'!J69*'Исходные данные'!$F27","v":0},{"$f":"'Исходные данные'!K69*'Исходные данные'!$F27","v":0},{"$f":"'Исходные данные'!L69*'Исходные данные'!$F27","v":0},{"$f":"'Исходные данные'!M69*'Исходные данные'!$F27","v":0},{"$f":"'Исходные данные'!N69*'Исходные данные'!$F27","v":0},{"$f":"'Исходные данные'!O69*'Исходные данные'!$F27","v":0},{"$f":"'Исходные данные'!P69*'Исходные данные'!$F27","v":0},{"$f":"'Исходные данные'!Q69*'Исходные данные'!$F27","v":0},{"$f":"'Исходные данные'!R69*'Исходные данные'!$F27","v":0},{"$f":"'Исходные данные'!S69*'Исходные данные'!$F27","v":0},0,0,0,0,0,null,36]
[14,{"$f":"'Исходные данные'!B28","v":0},{"$f":"'Исходные данные'!H70*'Исходные данные'!$F28","v":0},{"$f":"'Исходные данные'!I70*'Исходные данные'!$F28","v":0},{"$f":"'Исходные данные'!J70*'Исходные данные'!$F28","v":0},{"$f":"'Исходные данные'!K70*'Исходные данные'!$F28","v":0},{"$f":"'Исходные данные'!L70*'Исходные данные'!$F28","v":0},{"$f":"'Исходные данные'!M70*'Исходные данные'!$F28","v":0},{"$f":"'Исходные данные'!N70*'Исходные данные'!$F28","v":0},{"$f":"'Исходные данные'!O70*'Исходные данные'!$F28","v":0},{"$f":"'Исходные данные'!P70*'Исходные данные'!$F28","v":0},{"$f":"'Исходные данные'!Q70*'Исходные данные'!$F28","v":0},{"$f":"'Исходные данные'!R70*'Исходные данные'!$F28","v":0},{"$f":"'Исходные данные'!S70*'Исходные данные'!$F28","v":0},0,0,0,0,0,null,37]
[15,{"$f":"'Исходные данные'!B29","v":0},{"$f":"'Исходные данные'!H71*'Исходные данные'!$F29","v":0},{"$f":"'Исходные данные'!I71*'Исходные данные'!$F29","v":0},{"$f":"'Исходные данные'!J71*'Исходные данные'!$F29","v":0},{"$f":"'Исходные данные'!K71*'Исходные данные'!$F29","v":0},{"$f":"'Исходные данные'!L71*'Исходные данные'!$F29","v":0},{"$f":"'Исходные данные'!M71*'Исходные данные'!$F29","v":0},{"$f":"'Исходные данные'!N71*'Исходные данные'!$F29","v":0},{"$f":"'Исходные данные'!O71*'Исходные данные'!$F29","v":0},{"$f":"'Исходные данные'!P71*'Исходные данные'!$F29","v":0},{"$f":"'Исходные данные'!Q71*'Исходные данные'!$F29","v":0},{"$f":"'Исходные данные'!R71*'Исходные данные'!$F29","v":0},{"$f":"'Исходные данные'!S71*'Исходные данные'!$F29","v":0},0,0,0,0,0,null,38]
[16,{"$f":"'Исходные данные'!B30","v":0},{"$f":"'Исходные данные'!H72*'Исходные данные'!$F30","v":0},{"$f":"'Исходные данные'!I72*'Исходные данные'!$F30","v":0},{"$f":"'Исходные данные'!J72*'Исходные данные'!$F30","v":0},{"$f":"'Исходные данные'!K72*'Исходные данные'!$F30","v":0},{"$f":"'Исходные данные'!L72*'Исходные данные'!$F30","v":0},{"$f":"'Исходные данные'!M72*'Исходные данные'!$F30","v":0},{"$f":"'Исходные данные'!N72*'Исходные данные'!$F30","v":0},{"$f":"'Исходные данные'!O72*'Исходные данные'!$F30","v":0},{"$f":"'Исходные данные'!P72*'Исходные данные'!$F30","v":0},{"$f":"'Исходные данные'!Q72*'Исходные данные'!$F30","v":0},{"$f":"'Исходные данные'!R72*'Исходные данные'!$F30","v":0},{"$f":"'Исходные данные'!S72*'Исходные данные'!$F30","v":0},0,0,0,0,0,null,39]
[17,{"$f":"'Исходные данные'!B31","v":0},{"$f":"'Исходные данные'!H73*'Исходные данные'!$F31","v":0},{"$f":"'Исходные данные'!I73*'Исходные данные'!$F31","v":0},{"$f":"'Исходные данные'!J73*'Исходные данные'!$F31","v":0},{"$f":"'Исходные данные'!K73*'Исходные данные'!$F31","v":0},{"$f":"'Исходные данные'!L73*'Исходные данные'!$F31","v":0},{"$f":"'Исходные данные'!M73*'Исходные данные'!$F31","v":0},{"$f":"'Исходные данные'!N73*'Исходные данные'!$F31","v":0},{"$f":"'Исходные данные'!O73*'Исходные данные'!$F31","v":0},{"$f":"'Исходные данные'!P73*'Исходные данные'!$F31","v":0},{"$f":"'Исходные данные'!Q73*'Исходные данные'!$F31","v":0},{"$f":"'Исходные данные'!R73*'Исходные данные'!$F31","v":0},{"$f":"'Исходные данные'!S73*'Исходные данные'!$F31","v":0},0,0,0,0,0,null,40]
[18,{"$f":"'Исходные данные'!B32","v":0},{"$f":"'Исходные данные'!H74*'Исходные данные'!$F32","v":0},{"$f":"'Исходные данные'!I74*'Исходные данные'!$F32","v":0},{"$f":"'Исходные данные'!J74*'Исходные данные'!$F32","v":0},{"$f":"'Исходные данные'!K74*'Исходные данные'!$F32","v":0},{"$f":"'Исходные данные'!L74*'Исходные данные'!$F32","v":0},{"$f":"'Исходные данные'!M74*'Исходные данные'!$F32","v":0},{"$f":"'Исходные данные'!N74*'Исходные данные'!$F32","v":0},{"$f":"'Исходные данные'!O74*'Исходные данные'!$F32","v":0},{"$f":"'Исходные данные'!P74*'Исходные данные'!$F32","v":0},{"$f":"'Исходные данные'!Q74*'Исходные данные'!$F32","v":0},{"$f":"'Исходные данные'!R74*'Исходные данные'!$F32","v":0},{"$f":"'Исходные данные'!S74*'Исходные данные'!$F32","v":0},0,0,0,0,0,null,41]
[19,{"$f":"'Исходные данные'!B33","v":0},{"$f":"'Исходные данные'!H75*'Исходные данные'!$F33","v":0},{"$f":"'Исходные данные'!I75*'Исходные данные'!$F33","v":0},{"$f":"'Исходные данные'!J75*'Исходные данные'!$F33","v":0},{"$f":"'Исходные данные'!K75*'Исходные данные'!$F33","v":0},{"$f":"'Исходные данные'!L75*'Исходные данные'!$F33","v":0},{"$f":"'Исходные данные'!M75*'Исходные данные'!$F33","v":0},{"$f":"'Исходные данные'!N75*'Исходные данные'!$F33","v":0},{"$f":"'Исходные данные'!O75*'Исходные данные'!$F33","v":0},{"$f":"'Исходные данные'!P75*'Исходные данные'!$F33","v":0},{"$f":"'Исходные данные'!Q75*'Исходные данные'!$F33","v":0},{"$f":"'Исходные данные'!R75*'Исходные данные'!$F33","v":0},{"$f":"'Исходные данные'!S75*'Исходные данные'!$F33","v":0},0,0,0,0,0,null,42]
[20,{"$f":"'Исходные данные'!B34","v":0},{"$f":"'Исходные данные'!H76*'Исходные данные'!$F34","v":0},{"$f":"'Исходные данные'!I76*'Исходные данные'!$F34","v":0},{"$f":"'Исходные данные'!J76*'Исходные данные'!$F34","v":0},{"$f":"'Исходные данные'!K76*'Исходные данные'!$F34","v":0},{"$f":"'Исходные данные'!L76*'Исходные данные'!$F34","v":0},{"$f":"'Исходные данные'!M76*'Исходные данные'!$F34","v":0},{"$f":"'Исходные данные'!N76*'Исходные данные'!$F34","v":0},{"$f":"'Исходные данные'!O76*'Исходные данные'!$F34","v":0},{"$f":"'Исходные данные'!P76*'Исходные данные'!$F34","v":0},{"$f":"'Исходные данные'!Q76*'Исходные данные'!$F34","v":0},{"$f":"'Исходные данные'!R76*'Исходные данные'!$F34","v":0},{"$f":"'Исходные данные'!S76*'Исходные данные'!$F34","v":0},0,0,0,0,0,null,43]
["ЗАКУПКА ТОВАРА",null,{"$f":"SUM(C49:C68)","v":434940},{"$f":"SUM(D49:D68)","v":376060},{"$f":"SUM(E49:E68)","v":369535},{"$f":"SUM(F49:F68)","v":367060},{"$f":"SUM(G49:G68)","v":366985},{"$f":"SUM(H49:H68)","v":372985},{"$f":"SUM(I49:I68)","v":372985},{"$f":"SUM(J49:J68)","v":366985},{"$f":"SUM(K49:K68)","v":367060},{"$f":"SUM(L49:L68)","v":463265},{"$f":"SUM(M49:M68)","v":777300},{"$f":"SUM(N49:N68)","v":742450},{"$f":"SUM(O49:O68)","v":1180535},{"$f":"SUM(P49:P68)","v":1107030},1107030,1983015,{"$f":"SUM(S49:S68)","v":5377610},null,44]
["ЗАКУПКА ТОВАРА, % от выручки",null,{"$f":"C47/C5","v":0.4441607777460071},{"$f":"D47/D5","v":0.47953380428961262},0.49989854170612269,0.4894002826591291,0.50757240463610964,0.50333999082345959,0.50333999082345959,0.49524304337264852,0.50767613620646734,0.61767019546145441,0.69766815660509451,0.36859690407395274,0.47170832867166396,0.5,0.50204076079562465,0.51129454777976602,0.49791670910407382,null,45]
[1,{"$f":"B27","v":"Шаурма"},{"$f":"(C27+D27)/2","v":198765},150010,150010,150010,150010,150010,150010,150010,150010,243740,551250,{"$f":"(C27+N27)/2","v":506275},{"$f":"SUM(C49:E49)","v":498785},{"$f":"SUM(F49:H49)","v":450030},{"$f":"SUM(I49:K49)","v":450030},{"$f":"SUM(L49:N49)","v":1301265},{"$f":"SUM(C49:N49)","v":2700110},null,46]
[{"$f":"A49+1","v":2},{"$f":"B28","v":"Кофе"},{"$f":"(C28+D28)/2","v":121500},111375,101250,95175,89100,89100,89100,89100,95175,101250,111375,121500,{"$f":"SUM(C50:E50)","v":334125},{"$f":"SUM(F50:H50)","v":273375},{"$f":"SUM(I50:K50)","v":273375},{"$f":"SUM(L50:N50)","v":334125},1215000,null,47]
[{"$f":"A50+1","v":3},"Хот-дог",{"$f":"(C29+D29)/2","v":45000},45000,45000,45000,45000,45000,45000,45000,45000,45000,45000,45000,135000,135000,135000,135000,540000,null,48]
[4,"Газированный напиток",{"$f":"(C30+D30)/2","v":52800},52800,56400,60000,66000,72000,72000,66000,60000,56400,52800,52800,162000,198000,198000,162000,720000,null,49]
[5,"Чай",{"$f":"(C31+D31)/2","v":16875},16875,16875,16875,16875,16875,16875,16875,16875,16875,16875,16875,50625,50625,50625,50625,202500,null,50]
[6,0,{"$f":"(C32+D32)/2","v":0},0,0,0,0,0,0,0,0,0,0,0,0,0,0,0,0,null,51]
[7,0,{"$f":"(C33+D33)/2","v":0},0,0,0,0,0,0,0,0,0,0,0,0,0,0,0,0,null,52]
[8,0,{"$f":"(C34+D34)/2","v":0},0,0,0,0,0,0,0,0,0,0,0,0,0,0,0,0,null,53]
[9,0,{"$f":"(C35+D35)/2","v":0},0,0,0,0,0,0,0,0,0,0,0,0,0,0,0,0,null,54]
[10,0,{"$f":"(C36+D36)/2","v":0},0,0,0,0,0,0,0,0,0,0,0,0,0,0,0,0,null,55]
[11,0,{"$f":"(C37+D37)/2","v":0},0,0,0,0,0,0,0,0,0,0,0,0,0,0,0,0,null,56]
[12,0,{"$f":"(C38+D38)/2","v":0},0,0,0,0,0,0,0,0,0,0,0,0,0,0,0,0,null,57]
[13,0,{"$f":"(C39+D39)/2","v":0},0,0,0,0,0,0,0,0,0,0,0,0,0,0,0,0,null,58]
[14,0,{"$f":"(C40+D40)/2","v":0},0,0,0,0,0,0,0,0,0,0,0,0,0,0,0,0,null,59]
[15,0,{"$f":"(C41+D41)/2","v":0},0,0,0,0,0,0,0,0,0,0,0,0,0,0,0,0,null,60]
[16,0,{"$f":"(C42+D42)/2","v":0},0,0,0,0,0,0,0,0,0,0,0,0,0,0,0,0,null,61]
[17,0,{"$f":"(C43+D43)/2","v":0},0,0,0,0,0,0,0,0,0,0,0,0,0,0,0,0,null,62]
[18,0,{"$f":"(C44+D44)/2","v":0},0,0,0,0,0,0,0,0,0,0,0,0,0,0,0,0,null,63]
[19,0,{"$f":"(C45+D45)/2","v":0},0,0,0,0,0,0,0,0,0,0,0,0,0,0,0,0,null,64]
[20,0,{"$f":"(C46+D46)/2","v":0},0,0,0,0,0,0,0,0,0,0,0,0,0,0,0,0,null,65]
["ТЗР закупленного товара, руб.",null,{"$f":"SUM(C71:C90)","v":7796.7},{"$f":"SUM(D71:D90)","v":6232.8},{"$f":"SUM(E71:E90)","v":6131.55},{"$f":"SUM(F71:F90)","v":6070.8},{"$f":"SUM(G71:G90)","v":6010.05},{"$f":"SUM(H71:H90)","v":6010.05},{"$f":"SUM(I71:I90)","v":6010.05},{"$f":"SUM(J71:J90)","v":6010.05},{"$f":"SUM(K71:K90)","v":6070.8},{"$f":"SUM(L71:L90)","v":8943.4500000000007},{"$f":"SUM(M71:M90)","v":18270},{"$f":"SUM(N71:N90)","v":17022},{"$f":"SUM(O71:O90)","v":20161.05},{"$f":"SUM(P71:P90)","v":18090.900000000001},{"$f":"SUM(Q71:Q90)","v":18090.900000000001},{"$f":"SUM(R71:R90)","v":44235.45},{"$f":"SUM(S71:S90)","v":100578.3},null,66]
["ТЗР закупленного товара, % от выручки",null,{"$f":"C69/C5","v":7.9619909317429835E-3},7.9477697584861388E-3,8.2946213576472506E-3,8.0941841550891975E-3,8.3124256590412435E-3,8.1105098377911525E-3,8.1105098377911525E-3,8.1105098377911525E-3,8.3964482310309538E-3,1.1924282019146156E-2,1.6398298239000485E-2,8.450746179738464E-3,{"$f":"O69/O5","v":8.0557841993383096E-3},{"$f":"P69/P5","v":8.1709167773231089E-3},{"$f":"Q69/Q5","v":8.2042665505700531E-3},{"$f":"R69/R5","v":1.1405533696711547E-2},{"$f":"S69/S5","v":9.3126158541214903E-3},null,{"$f":"U69+1","v":67}]
[1,{"$f":"B49","v":"Шаурма"},{"$f":"C49*'Исходные данные'!$G15","v":5962.95},{"$f":"D49*'Исходные данные'!$G15","v":4500.3},{"$f":"E49*'Исходные данные'!$G15","v":4500.3},{"$f":"F49*'Исходные данные'!$G15","v":4500.3},{"$f":"G49*'Исходные данные'!$G15","v":4500.3},{"$f":"H49*'Исходные данные'!$G15","v":4500.3},{"$f":"I49*'Исходные данные'!$G15","v":4500.3},{"$f":"J49*'Исходные данные'!$G15","v":4500.3},{"$f":"K49*'Исходные данные'!$G15","v":4500.3},{"$f":"L49*'Исходные данные'!$G15","v":7312.2},{"$f":"M49*'Исходные данные'!$G15","v":16537.5},{"$f":"N49*'Исходные данные'!$G15","v":15188.25},{"$f":"SUM(C71:E71)","v":14963.55},{"$f":"SUM(F71:H71)","v":13500.900000000001},{"$f":"SUM(I71:K71)","v":13500.900000000001},{"$f":"SUM(L71:N71)","v":39037.949999999997},{"$f":"SUM(C71:N71)","v":81003.3},null,68]
[{"$f":"A71+1","v":2},{"$f":"B50","v":"Кофе"},{"$f":"C50*'Исходные данные'!$G16","v":1215},{"$f":"D50*'Исходные данные'!$G16","v":1113.75},{"$f":"E50*'Исходные данные'!$G16","v":1012.5},{"$f":"F50*'Исходные данные'!$G16","v":951.75},{"$f":"G50*'Исходные данные'!$G16","v":891},{"$f":"H50*'Исходные данные'!$G16","v":891},{"$f":"I50*'Исходные данные'!$G16","v":891},{"$f":"J50*'Исходные данные'!$G16","v":891},{"$f":"K50*'Исходные данные'!$G16","v":951.75},{"$f":"L50*'Исходные данные'!$G16","v":1012.5},{"$f":"M50*'Исходные данные'!$G16","v":1113.75},{"$f":"N50*'Исходные данные'!$G16","v":1215},{"$f":"SUM(C72:E72)","v":3341.25},{"$f":"SUM(F72:H72)","v":2733.75},{"$f":"SUM(I72:K72)","v":2733.75},{"$f":"SUM(L72:N72)","v":3341.25},12150,null,69]
[{"$f":"A72+1","v":3},"Хот-дог",{"$f":"C51*'Исходные данные'!$G17","v":450},{"$f":"D51*'Исходные данные'!$G17","v":450},{"$f":"E51*'Исходные данные'!$G17","v":450},{"$f":"F51*'Исходные данные'!$G17","v":450},{"$f":"G51*'Исходные данные'!$G17","v":450},{"$f":"H51*'Исходные данные'!$G17","v":450},{"$f":"I51*'Исходные данные'!$G17","v":450},{"$f":"J51*'Исходные данные'!$G17","v":450},{"$f":"K51*'Исходные данные'!$G17","v":450},{"$f":"L51*'Исходные данные'!$G17","v":450},{"$f":"M51*'Исходные данные'!$G17","v":450},{"$f":"N51*'Исходные данные'!$G17","v":450},1350,1350,1350,1350,5400,null,70]
[4,"Газированный напиток",{"$f":"C52*'Исходные данные'!$G18","v":0},{"$f":"D52*'Исходные данные'!$G18","v":0},{"$f":"E52*'Исходные данные'!$G18","v":0},{"$f":"F52*'Исходные данные'!$G18","v":0},{"$f":"G52*'Исходные данные'!$G18","v":0},{"$f":"H52*'Исходные данные'!$G18","v":0},{"$f":"I52*'Исходные данные'!$G18","v":0},{"$f":"J52*'Исходные данные'!$G18","v":0},{"$f":"K52*'Исходные данные'!$G18","v":0},{"$f":"L52*'Исходные данные'!$G18","v":0},{"$f":"M52*'Исходные данные'!$G18","v":0},{"$f":"N52*'Исходные данные'!$G18","v":0},0,0,0,0,0,null,71]
[5,"Чай",{"$f":"C53*'Исходные данные'!$G19","v":168.75},{"$f":"D53*'Исходные данные'!$G19","v":168.75},{"$f":"E53*'Исходные данные'!$G19","v":168.75},{"$f":"F53*'Исходные данные'!$G19","v":168.75},{"$f":"G53*'Исходные данные'!$G19","v":168.75},{"$f":"H53*'Исходные данные'!$G19","v":168.75},{"$f":"I53*'Исходные данные'!$G19","v":168.75},{"$f":"J53*'Исходные данные'!$G19","v":168.75},{"$f":"K53*'Исходные данные'!$G19","v":168.75},{"$f":"L53*'Исходные данные'!$G19","v":168.75},{"$f":"M53*'Исходные данные'!$G19","v":168.75},{"$f":"N53*'Исходные данные'!$G19","v":168.75},506.25,506.25,506.25,506.25,2025,null,72]
[6,0,{"$f":"C54*'Исходные данные'!$G20","v":0},{"$f":"D54*'Исходные данные'!$G20","v":0},{"$f":"E54*'Исходные данные'!$G20","v":0},{"$f":"F54*'Исходные данные'!$G20","v":0},{"$f":"G54*'Исходные данные'!$G20","v":0},{"$f":"H54*'Исходные данные'!$G20","v":0},{"$f":"I54*'Исходные данные'!$G20","v":0},{"$f":"J54*'Исходные данные'!$G20","v":0},{"$f":"K54*'Исходные данные'!$G20","v":0},{"$f":"L54*'Исходные данные'!$G20","v":0},{"$f":"M54*'Исходные данные'!$G20","v":0},{"$f":"N54*'Исходные данные'!$G20","v":0},0,0,0,0,0,null,73]
[7,0,{"$f":"C55*'Исходные данные'!$G21","v":0},{"$f":"D55*'Исходные данные'!$G21","v":0},{"$f":"E55*'Исходные данные'!$G21","v":0},{"$f":"F55*'Исходные данные'!$G21","v":0},{"$f":"G55*'Исходные данные'!$G21","v":0},{"$f":"H55*'Исходные данные'!$G21","v":0},{"$f":"I55*'Исходные данные'!$G21","v":0},{"$f":"J55*'Исходные данные'!$G21","v":0},{"$f":"K55*'Исходные данные'!$G21","v":0},{"$f":"L55*'Исходные данные'!$G21","v":0},{"$f":"M55*'Исходные данные'!$G21","v":0},{"$f":"N55*'Исходные данные'!$G21","v":0},0,0,0,0,0,null,74]
[8,0,{"$f":"C56*'Исходные данные'!$G22","v":0},{"$f":"D56*'Исходные данные'!$G22","v":0},{"$f":"E56*'Исходные данные'!$G22","v":0},{"$f":"F56*'Исходные данные'!$G22","v":0},{"$f":"G56*'Исходные данные'!$G22","v":0},{"$f":"H56*'Исходные данные'!$G22","v":0},{"$f":"I56*'Исходные данные'!$G22","v":0},{"$f":"J56*'Исходные данные'!$G22","v":0},{"$f":"K56*'Исходные данные'!$G22","v":0},{"$f":"L56*'Исходные данные'!$G22","v":0},{"$f":"M56*'Исходные данные'!$G22","v":0},{"$f":"N56*'Исходные данные'!$G22","v":0},0,0,0,0,0,null,75]
[9,0,{"$f":"C57*'Исходные данные'!$G23","v":0},{"$f":"D57*'Исходные данные'!$G23","v":0},{"$f":"E57*'Исходные данные'!$G23","v":0},{"$f":"F57*'Исходные данные'!$G23","v":0},{"$f":"G57*'Исходные данные'!$G23","v":0},{"$f":"H57*'Исходные данные'!$G23","v":0},{"$f":"I57*'Исходные данные'!$G23","v":0},{"$f":"J57*'Исходные данные'!$G23","v":0},{"$f":"K57*'Исходные данные'!$G23","v":0},{"$f":"L57*'Исходные данные'!$G23","v":0},{"$f":"M57*'Исходные данные'!$G23","v":0},{"$f":"N57*'Исходные данные'!$G23","v":0},0,0,0,0,0,null,76]
[10,0,{"$f":"C58*'Исходные данные'!$G24","v":0},{"$f":"D58*'Исходные данные'!$G24","v":0},{"$f":"E58*'Исходные данные'!$G24","v":0},{"$f":"F58*'Исходные данные'!$G24","v":0},{"$f":"G58*'Исходные данные'!$G24","v":0},{"$f":"H58*'Исходные данные'!$G24","v":0},{"$f":"I58*'Исходные данные'!$G24","v":0},{"$f":"J58*'Исходные данные'!$G24","v":0},{"$f":"K58*'Исходные данные'!$G24","v":0},{"$f":"L58*'Исходные данные'!$G24","v":0},{"$f":"M58*'Исходные данные'!$G24","v":0},{"$f":"N58*'Исходные данные'!$G24","v":0},0,0,0,0,0,null,77]
[11,0,{"$f":"C59*'Исходные данные'!$G25","v":0},{"$f":"D59*'Исходные данные'!$G25","v":0},{"$f":"E59*'Исходные данные'!$G25","v":0},{"$f":"F59*'Исходные данные'!$G25","v":0},{"$f":"G59*'Исходные данные'!$G25","v":0},{"$f":"H59*'Исходные данные'!$G25","v":0},{"$f":"I59*'Исходные данные'!$G25","v":0},{"$f":"J59*'Исходные данные'!$G25","v":0},{"$f":"K59*'Исходные данные'!$G25","v":0},{"$f":"L59*'Исходные данные'!$G25","v":0},{"$f":"M59*'Исходные данные'!$G25","v":0},{"$f":"N59*'Исходные данные'!$G25","v":0},0,0,0,0,0,null,78]
[12,0,{"$f":"C60*'Исходные данные'!$G26","v":0},{"$f":"D60*'Исходные данные'!$G26","v":0},{"$f":"E60*'Исходные данные'!$G26","v":0},{"$f":"F60*'Исходные данные'!$G26","v":0},{"$f":"G60*'Исходные данные'!$G26","v":0},{"$f":"H60*'Исходные данные'!$G26","v":0},{"$f":"I60*'Исходные данные'!$G26","v":0},{"$f":"J60*'Исходные данные'!$G26","v":0},{"$f":"K60*'Исходные данные'!$G26","v":0},{"$f":"L60*'Исходные данные'!$G26","v":0},{"$f":"M60*'Исходные данные'!$G26","v":0},{"$f":"N60*'Исходные данные'!$G26","v":0},0,0,0,0,0,null,79]
[13,0,{"$f":"C61*'Исходные данные'!$G27","v":0},{"$f":"D61*'Исходные данные'!$G27","v":0},{"$f":"E61*'Исходные данные'!$G27","v":0},{"$f":"F61*'Исходные данные'!$G27","v":0},{"$f":"G61*'Исходные данные'!$G27","v":0},{"$f":"H61*'Исходные данные'!$G27","v":0},{"$f":"I61*'Исходные данные'!$G27","v":0},{"$f":"J61*'Исходные данные'!$G27","v":0},{"$f":"K61*'Исходные данные'!$G27","v":0},{"$f":"L61*'Исходные данные'!$G27","v":0},{"$f":"M61*'Исходные данные'!$G27","v":0},{"$f":"N61*'Исходные данные'!$G27","v":0},0,0,0,0,0,null,80]
[14,0,{"$f":"C62*'Исходные данные'!$G28","v":0},{"$f":"D62*'Исходные данные'!$G28","v":0},{"$f":"E62*'Исходные данные'!$G28","v":0},{"$f":"F62*'Исходные данные'!$G28","v":0},{"$f":"G62*'Исходные данные'!$G28","v":0},{"$f":"H62*'Исходные данные'!$G28","v":0},{"$f":"I62*'Исходные данные'!$G28","v":0},{"$f":"J62*'Исходные данные'!$G28","v":0},{"$f":"K62*'Исходные данные'!$G28","v":0},{"$f":"L62*'Исходные данные'!$G28","v":0},{"$f":"M62*'Исходные данные'!$G28","v":0},{"$f":"N62*'Исходные данные'!$G28","v":0},0,0,0,0,0,null,81]
[15,0,{"$f":"C63*'Исходные данные'!$G29","v":0},{"$f":"D63*'Исходные данные'!$G29","v":0},{"$f":"E63*'Исходные данные'!$G29","v":0},{"$f":"F63*'Исходные данные'!$G29","v":0},{"$f":"G63*'Исходные данные'!$G29","v":0},{"$f":"H63*'Исходные данные'!$G29","v":0},{"$f":"I63*'Исходные данные'!$G29","v":0},{"$f":"J63*'Исходные данные'!$G29","v":0},{"$f":"K63*'Исходные данные'!$G29","v":0},{"$f":"L63*'Исходные данные'!$G29","v":0},{"$f":"M63*'Исходные данные'!$G29","v":0},{"$f":"N63*'Исходные данные'!$G29","v":0},0,0,0,0,0,null,82]
[16,0,{"$f":"C64*'Исходные данные'!$G30","v":0},{"$f":"D64*'Исходные данные'!$G30","v":0},{"$f":"E64*'Исходные данные'!$G30","v":0},{"$f":"F64*'Исходные данные'!$G30","v":0},{"$f":"G64*'Исходные данные'!$G30","v":0},{"$f":"H64*'Исходные данные'!$G30","v":0},{"$f":"I64*'Исходные данные'!$G30","v":0},{"$f":"J64*'Исходные данные'!$G30","v":0},{"$f":"K64*'Исходные данные'!$G30","v":0},{"$f":"L64*'Исходные данные'!$G30","v":0},{"$f":"M64*'Исходные данные'!$G30","v":0},{"$f":"N64*'Исходные данные'!$G30","v":0},0,0,0,0,0,null,83]
[17,0,{"$f":"C65*'Исходные данные'!$G31","v":0},{"$f":"D65*'Исходные данные'!$G31","v":0},{"$f":"E65*'Исходные данные'!$G31","v":0},{"$f":"F65*'Исходные данные'!$G31","v":0},{"$f":"G65*'Исходные данные'!$G31","v":0},{"$f":"H65*'Исходные данные'!$G31","v":0},{"$f":"I65*'Исходные данные'!$G31","v":0},{"$f":"J65*'Исходные данные'!$G31","v":0},{"$f":"K65*'Исходные данные'!$G31","v":0},{"$f":"L65*'Исходные данные'!$G31","v":0},{"$f":"M65*'Исходные данные'!$G31","v":0},{"$f":"N65*'Исходные данные'!$G31","v":0},0,0,0,0,0,null,84]
[18,0,{"$f":"C66*'Исходные данные'!$G32","v":0},{"$f":"D66*'Исходные данные'!$G32","v":0},{"$f":"E66*'Исходные данные'!$G32","v":0},{"$f":"F66*'Исходные данные'!$G32","v":0},{"$f":"G66*'Исходные данные'!$G32","v":0},{"$f":"H66*'Исходные данные'!$G32","v":0},{"$f":"I66*'Исходные данные'!$G32","v":0},{"$f":"J66*'Исходные данные'!$G32","v":0},{"$f":"K66*'Исходные данные'!$G32","v":0},{"$f":"L66*'Исходные данные'!$G32","v":0},{"$f":"M66*'Исходные данные'!$G32","v":0},{"$f":"N66*'Исходные данные'!$G32","v":0},0,0,0,0,0,null,85]
[19,0,{"$f":"C67*'Исходные данные'!$G33","v":0},{"$f":"D67*'Исходные данные'!$G33","v":0},{"$f":"E67*'Исходные данные'!$G33","v":0},{"$f":"F67*'Исходные данные'!$G33","v":0},{"$f":"G67*'Исходные данные'!$G33","v":0},{"$f":"H67*'Исходные данные'!$G33","v":0},{"$f":"I67*'Исходные данные'!$G33","v":0},{"$f":"J67*'Исходные данные'!$G33","v":0},{"$f":"K67*'Исходные данные'!$G33","v":0},{"$f":"L67*'Исходные данные'!$G33","v":0},{"$f":"M67*'Исходные данные'!$G33","v":0},{"$f":"N67*'Исходные данные'!$G33","v":0},0,0,0,0,0,null,86]
[20,0,{"$f":"C68*'Исходные данные'!$G34","v":0},{"$f":"D68*'Исходные данные'!$G34","v":0},{"$f":"E68*'Исходные данные'!$G34","v":0},{"$f":"F68*'Исходные данные'!$G34","v":0},{"$f":"G68*'Исходные данные'!$G34","v":0},{"$f":"H68*'Исходные данные'!$G34","v":0},{"$f":"I68*'Исходные данные'!$G34","v":0},{"$f":"J68*'Исходные данные'!$G34","v":0},{"$f":"K68*'Исходные данные'!$G34","v":0},{"$f":"L68*'Исходные данные'!$G34","v":0},{"$f":"M68*'Исходные данные'!$G34","v":0},{"$f":"N68*'Исходные данные'!$G34","v":0},0,0,0,0,0,null,87]
["ТЗР проданного товара, руб.",null,{"$f":"SUM(C93:C112)","v":9259.3499999999985},{"$f":"SUM(D93:D112)","v":6334.05},6131.55,6131.55,6010.05,6010.05,6010.05,6010.05,6010.05,6131.55,11755.35,24784.649999999998,21724.95,18151.650000000001,18030.150000000001,42671.55,100578.3,null,88]
["ТЗР проданного товара, % от выручки",null,{"$f":"C91/C5","v":9.4556492790327171E-3},{"$f":"D91/D5","v":8.0768789370329764E-3},8.2946213576472506E-3,8.1751819951467967E-3,8.3124256590412435E-3,8.1105098377911525E-3,8.1105098377911525E-3,8.1105098377911525E-3,8.3124256590412435E-3,8.1751819951467967E-3,1.0551052829985461E-2,1.2304593250126596E-2,8.6806743171320352E-3,8.1983550581285064E-3,8.1767162798291205E-3,1.1002302484001218E-2,9.3126158541214903E-3,null,{"$f":"U91+1","v":89}]
[1,{"$f":"B71","v":"Шаурма"},{"$f":"C27*'Исходные данные'!$G15","v":7425.5999999999995},{"$f":"D27*'Исходные данные'!$G15","v":4500.3},{"$f":"E27*'Исходные данные'!$G15","v":4500.3},{"$f":"F27*'Исходные данные'!$G15","v":4500.3},{"$f":"G27*'Исходные данные'!$G15","v":4500.3},{"$f":"H27*'Исходные данные'!$G15","v":4500.3},{"$f":"I27*'Исходные данные'!$G15","v":4500.3},{"$f":"J27*'Исходные данные'!$G15","v":4500.3},{"$f":"K27*'Исходные данные'!$G15","v":4500.3},{"$f":"L27*'Исходные данные'!$G15","v":4500.3},{"$f":"M27*'Исходные данные'!$G15","v":10124.1},{"$f":"N27*'Исходные данные'!$G15","v":22950.899999999998},{"$f":"SUM(C93:E93)","v":16426.2},{"$f":"SUM(F93:H93)","v":13500.900000000001},{"$f":"SUM(I93:K93)","v":13500.900000000001},{"$f":"SUM(L93:N93)","v":37575.300000000003},{"$f":"SUM(C93:N93)","v":81003.3},null,90]
[{"$f":"A93+1","v":2},{"$f":"B72","v":"Кофе"},{"$f":"C28*'Исходные данные'!$G16","v":1215},{"$f":"D28*'Исходные данные'!$G16","v":1215},{"$f":"E28*'Исходные данные'!$G16","v":1012.5},{"$f":"F28*'Исходные данные'!$G16","v":1012.5},{"$f":"G28*'Исходные данные'!$G16","v":891},{"$f":"H28*'Исходные данные'!$G16","v":891},{"$f":"I28*'Исходные данные'!$G16","v":891},{"$f":"J28*'Исходные данные'!$G16","v":891},{"$f":"K28*'Исходные данные'!$G16","v":891},{"$f":"L28*'Исходные данные'!$G16","v":1012.5},{"$f":"M28*'Исходные данные'!$G16","v":1012.5},{"$f":"N28*'Исходные данные'!$G16","v":1215},3442.5,2794.5,2673,3240,12150,null,91]
[{"$f":"A94+1","v":3},"Хот-дог",{"$f":"C29*'Исходные данные'!$G17","v":450},{"$f":"D29*'Исходные данные'!$G17","v":450},{"$f":"E29*'Исходные данные'!$G17","v":450},{"$f":"F29*'Исходные данные'!$G17","v":450},{"$f":"G29*'Исходные данные'!$G17","v":450},{"$f":"H29*'Исходные данные'!$G17","v":450},{"$f":"I29*'Исходные данные'!$G17","v":450},{"$f":"J29*'Исходные данные'!$G17","v":450},{"$f":"K29*'Исходные данные'!$G17","v":450},{"$f":"L29*'Исходные данные'!$G17","v":450},{"$f":"M29*'Исходные данные'!$G17","v":450},{"$f":"N29*'Исходные данные'!$G17","v":450},1350,1350,1350,1350,5400,null,92]
[4,"Газированный напиток",{"$f":"C30*'Исходные данные'!$G18","v":0},{"$f":"D30*'Исходные данные'!$G18","v":0},{"$f":"E30*'Исходные данные'!$G18","v":0},{"$f":"F30*'Исходные данные'!$G18","v":0},{"$f":"G30*'Исходные данные'!$G18","v":0},{"$f":"H30*'Исходные данные'!$G18","v":0},{"$f":"I30*'Исходные данные'!$G18","v":0},{"$f":"J30*'Исходные данные'!$G18","v":0},{"$f":"K30*'Исходные данные'!$G18","v":0},{"$f":"L30*'Исходные данные'!$G18","v":0},{"$f":"M30*'Исходные данные'!$G18","v":0},{"$f":"N30*'Исходные данные'!$G18","v":0},0,0,0,0,0,null,93]
[5,"Чай",{"$f":"C31*'Исходные данные'!$G19","v":168.75},{"$f":"D31*'Исходные данные'!$G19","v":168.75},{"$f":"E31*'Исходные данные'!$G19","v":168.75},{"$f":"F31*'Исходные данные'!$G19","v":168.75},{"$f":"G31*'Исходные данные'!$G19","v":168.75},{"$f":"H31*'Исходные данные'!$G19","v":168.75},{"$f":"I31*'Исходные данные'!$G19","v":168.75},{"$f":"J31*'Исходные данные'!$G19","v":168.75},{"$f":"K31*'Исходные данные'!$G19","v":168.75},{"$f":"L31*'Исходные данные'!$G19","v":168.75},{"$f":"M31*'Исходные данные'!$G19","v":168.75},{"$f":"N31*'Исходные данные'!$G19","v":168.75},506.25,506.25,506.25,506.25,2025,null,94]
[6,0,{"$f":"C32*'Исходные данные'!$G20","v":0},{"$f":"D32*'Исходные данные'!$G20","v":0},{"$f":"E32*'Исходные данные'!$G20","v":0},{"$f":"F32*'Исходные данные'!$G20","v":0},{"$f":"G32*'Исходные данные'!$G20","v":0},{"$f":"H32*'Исходные данные'!$G20","v":0},{"$f":"I32*'Исходные данные'!$G20","v":0},{"$f":"J32*'Исходные данные'!$G20","v":0},{"$f":"K32*'Исходные данные'!$G20","v":0},{"$f":"L32*'Исходные данные'!$G20","v":0},{"$f":"M32*'Исходные данные'!$G20","v":0},{"$f":"N32*'Исходные данные'!$G20","v":0},0,0,0,0,0,null,95]
[7,0,{"$f":"C33*'Исходные данные'!$G21","v":0},{"$f":"D33*'Исходные данные'!$G21","v":0},{"$f":"E33*'Исходные данные'!$G21","v":0},{"$f":"F33*'Исходные данные'!$G21","v":0},{"$f":"G33*'Исходные данные'!$G21","v":0},{"$f":"H33*'Исходные данные'!$G21","v":0},{"$f":"I33*'Исходные данные'!$G21","v":0},{"$f":"J33*'Исходные данные'!$G21","v":0},{"$f":"K33*'Исходные данные'!$G21","v":0},{"$f":"L33*'Исходные данные'!$G21","v":0},{"$f":"M33*'Исходные данные'!$G21","v":0},{"$f":"N33*'Исходные данные'!$G21","v":0},0,0,0,0,0,null,96]
[8,0,{"$f":"C34*'Исходные данные'!$G22","v":0},{"$f":"D34*'Исходные данные'!$G22","v":0},{"$f":"E34*'Исходные данные'!$G22","v":0},{"$f":"F34*'Исходные данные'!$G22","v":0},{"$f":"G34*'Исходные данные'!$G22","v":0},{"$f":"H34*'Исходные данные'!$G22","v":0},{"$f":"I34*'Исходные данные'!$G22","v":0},{"$f":"J34*'Исходные данные'!$G22","v":0},{"$f":"K34*'Исходные данные'!$G22","v":0},{"$f":"L34*'Исходные данные'!$G22","v":0},{"$f":"M34*'Исходные данные'!$G22","v":0},{"$f":"N34*'Исходные данные'!$G22","v":0},0,0,0,0,0,null,97]
[9,0,{"$f":"C35*'Исходные данные'!$G23","v":0},{"$f":"D35*'Исходные данные'!$G23","v":0},{"$f":"E35*'Исходные данные'!$G23","v":0},{"$f":"F35*'Исходные данные'!$G23","v":0},{"$f":"G35*'Исходные данные'!$G23","v":0},{"$f":"H35*'Исходные данные'!$G23","v":0},{"$f":"I35*'Исходные данные'!$G23","v":0},{"$f":"J35*'Исходные данные'!$G23","v":0},{"$f":"K35*'Исходные данные'!$G23","v":0},{"$f":"L35*'Исходные данные'!$G23","v":0},{"$f":"M35*'Исходные данные'!$G23","v":0},{"$f":"N35*'Исходные данные'!$G23","v":0},0,0,0,0,0,null,98]
[10,0,{"$f":"C36*'Исходные данные'!$G24","v":0},{"$f":"D36*'Исходные данные'!$G24","v":0},{"$f":"E36*'Исходные данные'!$G24","v":0},{"$f":"F36*'Исходные данные'!$G24","v":0},{"$f":"G36*'Исходные данные'!$G24","v":0},{"$f":"H36*'Исходные данные'!$G24","v":0},{"$f":"I36*'Исходные данные'!$G24","v":0},{"$f":"J36*'Исходные данные'!$G24","v":0},{"$f":"K36*'Исходные данные'!$G24","v":0},{"$f":"L36*'Исходные данные'!$G24","v":0},{"$f":"M36*'Исходные данные'!$G24","v":0},{"$f":"N36*'Исходные данные'!$G24","v":0},0,0,0,0,0,null,99]
[11,0,{"$f":"C37*'Исходные данные'!$G25","v":0},{"$f":"D37*'Исходные данные'!$G25","v":0},{"$f":"E37*'Исходные данные'!$G25","v":0},{"$f":"F37*'Исходные данные'!$G25","v":0},{"$f":"G37*'Исходные данные'!$G25","v":0},{"$f":"H37*'Исходные данные'!$G25","v":0},{"$f":"I37*'Исходные данные'!$G25","v":0},{"$f":"J37*'Исходные данные'!$G25","v":0},{"$f":"K37*'Исходные данные'!$G25","v":0},{"$f":"L37*'Исходные данные'!$G25","v":0},{"$f":"M37*'Исходные данные'!$G25","v":0},{"$f":"N37*'Исходные данные'!$G25","v":0},0,0,0,0,0,null,100]
[12,0,{"$f":"C38*'Исходные данные'!$G26","v":0},{"$f":"D38*'Исходные данные'!$G26","v":0},{"$f":"E38*'Исходные данные'!$G26","v":0},{"$f":"F38*'Исходные данные'!$G26","v":0},{"$f":"G38*'Исходные данные'!$G26","v":0},{"$f":"H38*'Исходные данные'!$G26","v":0},{"$f":"I38*'Исходные данные'!$G26","v":0},{"$f":"J38*'Исходные данные'!$G26","v":0},{"$f":"K38*'Исходные данные'!$G26","v":0},{"$f":"L38*'Исходные данные'!$G26","v":0},{"$f":"M38*'Исходные данные'!$G26","v":0},{"$f":"N38*'Исходные данные'!$G26","v":0},0,0,0,0,0,null,101]
[13,0,{"$f":"C39*'Исходные данные'!$G27","v":0},{"$f":"D39*'Исходные данные'!$G27","v":0},{"$f":"E39*'Исходные данные'!$G27","v":0},{"$f":"F39*'Исходные данные'!$G27","v":0},{"$f":"G39*'Исходные данные'!$G27","v":0},{"$f":"H39*'Исходные данные'!$G27","v":0},{"$f":"I39*'Исходные данные'!$G27","v":0},{"$f":"J39*'Исходные данные'!$G27","v":0},{"$f":"K39*'Исходные данные'!$G27","v":0},{"$f":"L39*'Исходные данные'!$G27","v":0},{"$f":"M39*'Исходные данные'!$G27","v":0},{"$f":"N39*'Исходные данные'!$G27","v":0},0,0,0,0,0,null,102]
[14,0,{"$f":"C40*'Исходные данные'!$G28","v":0},{"$f":"D40*'Исходные данные'!$G28","v":0},{"$f":"E40*'Исходные данные'!$G28","v":0},{"$f":"F40*'Исходные данные'!$G28","v":0},{"$f":"G40*'Исходные данные'!$G28","v":0},{"$f":"H40*'Исходные данные'!$G28","v":0},{"$f":"I40*'Исходные данные'!$G28","v":0},{"$f":"J40*'Исходные данные'!$G28","v":0},{"$f":"K40*'Исходные данные'!$G28","v":0},{"$f":"L40*'Исходные данные'!$G28","v":0},{"$f":"M40*'Исходные данные'!$G28","v":0},{"$f":"N40*'Исходные данные'!$G28","v":0},0,0,0,0,0,null,103]
[15,0,{"$f":"C41*'Исходные данные'!$G29","v":0},{"$f":"D41*'Исходные данные'!$G29","v":0},{"$f":"E41*'Исходные данные'!$G29","v":0},{"$f":"F41*'Исходные данные'!$G29","v":0},{"$f":"G41*'Исходные данные'!$G29","v":0},{"$f":"H41*'Исходные данные'!$G29","v":0},{"$f":"I41*'Исходные данные'!$G29","v":0},{"$f":"J41*'Исходные данные'!$G29","v":0},{"$f":"K41*'Исходные данные'!$G29","v":0},{"$f":"L41*'Исходные данные'!$G29","v":0},{"$f":"M41*'Исходные данные'!$G29","v":0},{"$f":"N41*'Исходные данные'!$G29","v":0},0,0,0,0,0,null,104]
[16,0,{"$f":"C42*'Исходные данные'!$G30","v":0},{"$f":"D42*'Исходные данные'!$G30","v":0},{"$f":"E42*'Исходные данные'!$G30","v":0},{"$f":"F42*'Исходные данные'!$G30","v":0},{"$f":"G42*'Исходные данные'!$G30","v":0},{"$f":"H42*'Исходные данные'!$G30","v":0},{"$f":"I42*'Исходные данные'!$G30","v":0},{"$f":"J42*'Исходные данные'!$G30","v":0},{"$f":"K42*'Исходные данные'!$G30","v":0},{"$f":"L42*'Исходные данные'!$G30","v":0},{"$f":"M42*'Исходные данные'!$G30","v":0},{"$f":"N42*'Исходные данные'!$G30","v":0},0,0,0,0,0,null,105]
[17,0,{"$f":"C43*'Исходные данные'!$G31","v":0},{"$f":"D43*'Исходные данные'!$G31","v":0},{"$f":"E43*'Исходные данные'!$G31","v":0},{"$f":"F43*'Исходные данные'!$G31","v":0},{"$f":"G43*'Исходные данные'!$G31","v":0},{"$f":"H43*'Исходные данные'!$G31","v":0},{"$f":"I43*'Исходные данные'!$G31","v":0},{"$f":"J43*'Исходные данные'!$G31","v":0},{"$f":"K43*'Исходные данные'!$G31","v":0},{"$f":"L43*'Исходные данные'!$G31","v":0},{"$f":"M43*'Исходные данные'!$G31","v":0},{"$f":"N43*'Исходные данные'!$G31","v":0},0,0,0,0,0,null,106]
[18,0,{"$f":"C44*'Исходные данные'!$G32","v":0},{"$f":"D44*'Исходные данные'!$G32","v":0},{"$f":"E44*'Исходные данные'!$G32","v":0},{"$f":"F44*'Исходные данные'!$G32","v":0},{"$f":"G44*'Исходные данные'!$G32","v":0},{"$f":"H44*'Исходные данные'!$G32","v":0},{"$f":"I44*'Исходные данные'!$G32","v":0},{"$f":"J44*'Исходные данные'!$G32","v":0},{"$f":"K44*'Исходные данные'!$G32","v":0},{"$f":"L44*'Исходные данные'!$G32","v":0},{"$f":"M44*'Исходные данные'!$G32","v":0},{"$f":"N44*'Исходные данные'!$G32","v":0},0,0,0,0,0,null,107]
[19,0,{"$f":"C45*'Исходные данные'!$G33","v":0},{"$f":"D45*'Исходные данные'!$G33","v":0},{"$f":"E45*'Исходные данные'!$G33","v":0},{"$f":"F45*'Исходные данные'!$G33","v":0},{"$f":"G45*'Исходные данные'!$G33","v":0},{"$f":"H45*'Исходные данные'!$G33","v":0},{"$f":"I45*'Исходные данные'!$G33","v":0},{"$f":"J45*'Исходные данные'!$G33","v":0},{"$f":"K45*'Исходные данные'!$G33","v":0},{"$f":"L45*'Исходные данные'!$G33","v":0},{"$f":"M45*'Исходные данные'!$G33","v":0},{"$f":"N45*'Исходные данные'!$G33","v":0},0,0,0,0,0,null,108]
[20,0,{"$f":"C46*'Исходные данные'!$G34","v":0},{"$f":"D46*'Исходные данные'!$G34","v":0},{"$f":"E46*'Исходные данные'!$G34","v":0},{"$f":"F46*'Исходные данные'!$G34","v":0},{"$f":"G46*'Исходные данные'!$G34","v":0},{"$f":"H46*'Исходные данные'!$G34","v":0},{"$f":"I46*'Исходные данные'!$G34","v":0},{"$f":"J46*'Исходные данные'!$G34","v":0},{"$f":"K46*'Исходные данные'!$G34","v":0},{"$f":"L46*'Исходные данные'!$G34","v":0},{"$f":"M46*'Исходные данные'!$G34","v":0},{"$f":"N46*'Исходные данные'!$G34","v":0},0,0,0,0,0,null,109]

{"sheet":"Спровочник","index":10,"n_rows":112,"n_cols":15,"rows_kept":112,"cut":false,"hidden":false,"merged":[]}
["ТАБЛИЦЫ СПИСКОВ"]
[]
["№ п/п","Сезонность","январь","февраль","март","апрель","май","июнь","июль","август","сентябрь","октябрь","ноябрь","декабрь","проверка (должно быть 12)"]
[1,"Равномерно в течении года",1,1,1,1,1,1,1,1,1,1,1,1,{"$f":"SUM(C4:N4)","v":12}]
[{"$f":"A4+1","v":2},"Равномерно с акцентом на новагодние праздники",1.1000000000000001,{"$f":"6/9","v":0.66666666666666663},{"$f":"6/9","v":0.66666666666666663},0.66666666666666663,0.66666666666666663,0.66666666666666663,0.66666666666666663,0.66666666666666663,0.66666666666666663,0.66666666666666663,1.5,3.4,{"$f":"SUM(C5:N5)","v":12.000000000000002}]
[{"$f":"A5+1","v":3},"Новогодний ассортимент",1,null,null,null,null,null,null,null,null,2,3,6,12]
[4,"Больше зимой чем летом",1.2,1.2,1,1,0.88,0.88,0.88,0.88,0.88,1,1,1.2,12]
[5,"Больше летом чем зимой",0.88,0.88,0.88,1,1,1.2,1.2,1.2,1,1,0.88,0.88,12.000000000000002]
[6,"Зима",4,1,null,null,null,null,null,null,null,null,3,4,12]
[7,"Лето",null,null,null,null,3,4,4,1,null,null,null,null,12]
[8,"Осень",null,null,null,null,null,null,null,3,4,4,1,null,12]
[9,"Весна",null,1,3,4,3,1,null,null,null,null,null,null,12]
[10,"Весна-Осень",null,null,1.5,3,1.5,null,null,null,1.5,3,1.5,null,12]
[11,"Осень-Зима",3,1.5,null,null,null,null,null,null,1,1.5,2,3,12]
[12,"Весна-Лето",null,null,1,1.5,2,3,3,1.5,null,null,null,null,{"$f":"SUM(C15:N15)","v":12}]
[13,"Все без лета",{"$f":"10/7","v":1.4285714285714286},{"$f":"10/7","v":1.4285714285714286},1.4285714285714286,1.4285714285714286,1,null,null,null,1,{"$f":"10/7","v":1.4285714285714286},{"$f":"10/7","v":1.4285714285714286},1.4285714285714286,12]
[14,"Женское нижнее белье",1,1.2,1.2,1,1,1,1,0.8,0.8,0.8,1,1.2,12.000000000000002]
[15,"Все без земы",null,null,1,{"$f":"10/7","v":1.4285714285714286},{"$f":"10/7","v":1.4285714285714286},1.4285714285714286,1.4285714285714286,1.4285714285714286,1.4285714285714286,1.4285714285714286,1,null,12.000000000000002]
[]
["№ п/п","Месяц","Квартал"]
[1,"Январь","1кв"]
[{"$f":"A21+1","v":2},"Февраль","1кв"]
[{"$f":"A22+1","v":3},"Март","1кв"]
[4,"Апрель","2кв"]
[5,"Май","2кв"]
[6,"Июнь","2кв"]
[7,"Июль","3кв"]
[8,"Август","3кв"]
[9,"Сентябрь","3кв"]
[10,"Октябрь","4кв"]
[11,"Ноябрь","4кв"]
[12,"Декабрь","4кв"]
[]
["№ п/п","Год"]
[1,2010]
[{"$f":"A35+1","v":2},2011]
[{"$f":"A36+1","v":3},2012]
[4,2013]
[5,2014]
[6,2015]
[7,2016]
[8,2017]
[9,2018]
[10,2019]
[11,2020]
[12,2021]
[{"$f":"A46+1","v":13},2022]
[14,2023]
[15,2024]
[16,2025]
[17,2026]
[18,2027]
[19,2028]
[20,2029]
[21,2030]
[22,2031]
[23,2032]
[24,2033]
[25,2034]
[26,2035]
[{"$f":"A60+1","v":27},2036]
[28,2037]
[29,2038]
[30,2039]
[31,2040]
[32,2041]
[33,2042]
[34,2043]
[35,2044]
[36,2045]
[37,2046]
[38,2047]
[39,2048]
[40,2049]
[41,2050]
[]
["№ п/п","Квартал","Квартал","Месяц_Год"]
[1,{"$f":"'План продаж'!D9","v":"2кв2021"},{"$f":"REPLACE(B78,2,6,\"\")","v":"2"},{"$f":"REPLACE(B78,1,3,\"\")","v":"2021"}]
[{"$f":"A78+1","v":2},{"$f":"CONCATENATE(C79,\"кв\",D79)","v":"3кв2021"},{"$f":"IF(C78=4,1,C78+1)","v":3},{"$f":"IF(C78=4,D78+1,D78)","v":"2021"}]
[{"$f":"A79+1","v":3},{"$f":"CONCATENATE(C80,\"кв\",D80)","v":"4кв2021"},{"$f":"IF(C79=4,1,C79+1)","v":4},{"$f":"IF(C79=4,D79+1,D79)","v":"2021"}]
[4,"1кв2022",1,2022]
[5,"2кв2022",2,2022]
[6,"3кв2022",3,2022]
[7,"4кв2022",4,2022]
[8,"1кв2023",1,2023]
[9,"2кв2023",2,2023]
[10,"3кв2023",3,2023]
[11,"4кв2023",4,2023]
[12,"1кв2024",1,2024]
[13,"2кв2024",2,2024]
[14,"3кв2024",3,2024]
[15,"4кв2024",4,2024]
[16,"1кв2025",1,2025]
[17,"2кв2025",2,2025]
[18,"3кв2025",3,2025]
[19,"4кв2025",4,2025]
[{"$f":"A96+1","v":20},"1кв2026",1,2026]
[]
[]
["№ п/п","Месяц"]
[1,"за 12 месяцев до старта продаж"]
[{"$f":"A101+1","v":2},"за 11 месяцев до старта продаж"]
[{"$f":"A102+1","v":3},"за 10 месяцев до старта продаж"]
[4,"за 9 месяцев до старта продаж"]
[5,"за 8 месяцев до старта продаж"]
[6,"за 7 месяцев до старта продаж"]
[7,"за 6 месяцев до старта продаж"]
[8,"за 5 месяцев до старта продаж"]
[9,"за 4 месяца до старта продаж"]
[10,"за 3 месяца до старта продаж"]
[11,"за 2 месяца до старта продаж"]
[12,"за 1 месяц до старта продаж"]